{"text_format":"1","workbook":"xlsx","n_sheets":6,"sheets":["CostCalculation","MonteCarlo","EnchantmentcostWeapon","EnchantmentcostChest","EnchantmentcostGlovesBoots","calculation Stuff, dont change "],"not_rendered":{"charts":3,"images":0,"macros":1,"external_links":0,"defined_names":7,"comments":0,"pivot_tables":0},"unopened":[],"bounds":{"document_bytes":16777216,"sheet_cells":100000,"rows_first":2000,"rows_last":500,"rows_between":2000,"halvings":0,"cell_chars":16384,"cell_head_chars":4096},"cells_cut":0,"cells_raw":0,"read":"whole","date_system":"1900"}

{"sheet":"CostCalculation","index":0,"n_rows":58,"n_cols":18,"rows_kept":58,"cut":false,"hidden":false,"merged":[[57,0,57,1],[58,0,58,1],[33,0,33,1],[47,0,47,1],[48,0,48,1],[49,0,49,1],[50,0,50,1],[56,0,56,1],[42,0,42,1],[43,0,43,1],[44,0,44,1],[45,0,45,1],[46,0,46,1],[37,0,37,1],[38,0,38,1],[39,0,39,1],[21,0,21,1],[40,0,40,1],[41,0,41,1],[22,0,22,1],[23,0,23,1],[29,0,29,1],[30,0,30,1],[31,0,31,1],[32,0,32,1],[24,0,24,1],[25,0,25,1],[26,0,26,1],[27,0,27,1],[28,0,28,1],[5,10,7,11],[41,17,42,21],[0,0,0,1],[0,8,3,21],[10,0,10,1],[11,0,11,1],[9,11,9,12],[12,0,12,1],[13,0,13,1],[14,0,14,1],[15,0,15,1],[16,0,16,1],[17,0,17,1],[18,0,18,1],[19,0,19,1],[20,0,20,1],[51,0,51,1],[52,0,52,1],[53,0,53,1],[54,0,54,1],[55,0,55,1]]}
["Simulation",null,null,null,null,"Itemanzahl",null,null,"Beachte: Es ist möglich, bis zu ~350.000 Items zu berechnen, aber 5.000 sind ausreichend für eine ordentliche Berechnung. \nBlaue Zellen sind Dropdowns und grüne Zellen sind veränderbar."]
["Itemart","von","nach",null,null,2000]
["Waffe","Top +6","Top +7",null,2000]
[{"$f":"HLOOKUP(B3,'calculation Stuff, dont change '!A1:AO2,2,FALSE)","v":33},{"$f":"HLOOKUP(C3,'calculation Stuff, dont change '!A1:AO2,2,FALSE)","v":34},{"$f":"VLOOKUP(A6,'calculation Stuff, dont change '!N8:O11,2,FALSE)","v":69978},{"$f":"HLOOKUP(A3,'calculation Stuff, dont change '!N4:P5,2,FALSE)","v":1},{"$f":"F2","v":2000}]
["Item XP"]
["Volle XP",null,null,null,null,null,null,null,null,null,"Ergebnisse"]
["Mögliche XP","%  XP","total XP"]
[{"$f":"HLOOKUP(IF(B4>6,B4+3,B4),EnchantmentcostWeapon!C3:AP28,26,FALSE)-HLOOKUP(IF(A4>6,A4+3,A4),EnchantmentcostWeapon!C3:AP28,26,FALSE)","v":19978},0.5,0]
[null,null,null,null,null,null,null,"Quantil 1","Quantil 2"]
[null,null,"Min","Max","Mittelwert","Durchschnitt","Variante",0.01,0.99,null,null,"Goldwert",null,{"$f":"VLOOKUP(L10,'calculation Stuff, dont change '!J5:K28,2,FALSE)","v":"x"},{"$f":"VLOOKUP(L10,'calculation Stuff, dont change '!J5:L28,3,FALSE)","v":34}]
["Goldkristall",null,{"$f":"MIN(MonteCarlo!$A$3:INDIRECT(\"MonteCarlo!A\"&$E$4+2,TRUE))","v":0},{"$f":"MAX(MonteCarlo!$A$3:INDIRECT(\"MonteCarlo!A\"&$E$4+2,TRUE))","v":0},{"$f":"MEDIAN(MonteCarlo!$A$3:INDIRECT(\"MonteCarlo!A\"&$E$4+2,TRUE))","v":0},{"$f":"AVERAGE(MonteCarlo!$A$3:INDIRECT(\"MonteCarlo!A\"&$E$4+2,TRUE))","v":0},{"$f":"STDEVA(MonteCarlo!$A$3:INDIRECT(\"MonteCarlo!A\"&$E$4+2,TRUE))","v":0},{"$f":"_xlfn.PERCENTILE.INC(MonteCarlo!$A$3:INDIRECT(\"MonteCarlo!A\"&$E$4+2,TRUE),$H$10)","v":0},{"$f":"_xlfn.PERCENTILE.INC(MonteCarlo!$A$3:INDIRECT(\"MonteCarlo!a\"&$E$4+2,TRUE),$I$10)","v":0}]
["Gewöhnliches Holzstück",null,{"$f":"MIN(MonteCarlo!$B$3:INDIRECT(\"MonteCarlo!B\"&$E$4+2,TRUE))","v":0},{"$f":"MAX(MonteCarlo!$B$3:INDIRECT(\"MonteCarlo!B\"&$E$4+2,TRUE))","v":0},{"$f":"MEDIAN(MonteCarlo!$B$3:INDIRECT(\"MonteCarlo!B\"&$E$4+2,TRUE))","v":0},{"$f":"AVERAGE(MonteCarlo!$B$3:INDIRECT(\"MonteCarlo!B\"&$E$4+2,TRUE))","v":0},{"$f":"STDEVA(MonteCarlo!$B$3:INDIRECT(\"MonteCarlo!B\"&$E$4+2,TRUE))","v":0},{"$f":"_xlfn.PERCENTILE.INC(MonteCarlo!$B$3:INDIRECT(\"MonteCarlo!b\"&$E$4+2,TRUE),$H$10)","v":0},{"$f":"_xlfn.PERCENTILE.INC(MonteCarlo!$B$3:INDIRECT(\"MonteCarlo!b\"&$E$4+2,TRUE),$I$10)","v":0}]
["Minderwertige Erzdevaner-Flüssigkeit",null,{"$f":"MIN(MonteCarlo!$C$3:INDIRECT(\"MonteCarlo!C\"&$E$4+2,TRUE))","v":0},{"$f":"MAX(MonteCarlo!$C$3:INDIRECT(\"MonteCarlo!C\"&$E$4+2,TRUE))","v":0},{"$f":"MEDIAN(MonteCarlo!$C$3:INDIRECT(\"MonteCarlo!C\"&$E$4+2,TRUE))","v":0},{"$f":"AVERAGE(MonteCarlo!$C$3:INDIRECT(\"MonteCarlo!C\"&$E$4+2,TRUE))","v":0},{"$f":"STDEVA(MonteCarlo!$C$3:INDIRECT(\"MonteCarlo!C\"&$E$4+2,TRUE))","v":0},{"$f":"_xlfn.PERCENTILE.INC(MonteCarlo!$C$3:INDIRECT(\"MonteCarlo!c\"&$E$4+2,TRUE),$H$10)","v":0},{"$f":"_xlfn.PERCENTILE.INC(MonteCarlo!$C$3:INDIRECT(\"MonteCarlo!c\"&$E$4+2,TRUE),$I$10)","v":0}]
["Gereinigtes Erzdevaner-Erz",null,{"$f":"MIN(MonteCarlo!$D$3:INDIRECT(\"MonteCarlo!D\"&$E$4+2,TRUE))","v":0},{"$f":"MAX(MonteCarlo!$D$3:INDIRECT(\"MonteCarlo!D\"&$E$4+2,TRUE))","v":0},{"$f":"MEDIAN(MonteCarlo!$D$3:INDIRECT(\"MonteCarlo!D\"&$E$4+2,TRUE))","v":0},{"$f":"AVERAGE(MonteCarlo!$D$3:INDIRECT(\"MonteCarlo!D\"&$E$4+2,TRUE))","v":0},{"$f":"STDEVA(MonteCarlo!$D$3:INDIRECT(\"MonteCarlo!D\"&$E$4+2,TRUE))","v":0},{"$f":"_xlfn.PERCENTILE.INC(MonteCarlo!$D$3:INDIRECT(\"MonteCarlo!d\"&$E$4+2,TRUE),$H$10)","v":0},{"$f":"_xlfn.PERCENTILE.INC(MonteCarlo!$D$3:INDIRECT(\"MonteCarlo!d\"&$E$4+2,TRUE),$I$10)","v":0}]
["Normale Erzdevaner-Flüssigkeit",null,{"$f":"MIN(MonteCarlo!$E$3:INDIRECT(\"MonteCarlo!E\"&$E$4+2,TRUE))","v":0},{"$f":"MAX(MonteCarlo!$E$3:INDIRECT(\"MonteCarlo!E\"&$E$4+2,TRUE))","v":0},{"$f":"MEDIAN(MonteCarlo!$E$3:INDIRECT(\"MonteCarlo!E\"&$E$4+2,TRUE))","v":0},{"$f":"AVERAGE(MonteCarlo!$E$3:INDIRECT(\"MonteCarlo!E\"&$E$4+2,TRUE))","v":0},{"$f":"STDEVA(MonteCarlo!$E$3:INDIRECT(\"MonteCarlo!E\"&$E$4+2,TRUE))","v":0},{"$f":"_xlfn.PERCENTILE.INC(MonteCarlo!$E$3:INDIRECT(\"MonteCarlo!e\"&$E$4+2,TRUE),$H$10)","v":0},{"$f":"_xlfn.PERCENTILE.INC(MonteCarlo!$E$3:INDIRECT(\"MonteCarlo!e\"&$E$4+2,TRUE),$I$10)","v":0}]
["Arboreas Goldstück",null,{"$f":"MIN(MonteCarlo!$F$3:INDIRECT(\"MonteCarlo!F\"&$E$4+2,TRUE))","v":0},{"$f":"MAX(MonteCarlo!$F$3:INDIRECT(\"MonteCarlo!F\"&$E$4+2,TRUE))","v":0},{"$f":"MEDIAN(MonteCarlo!$F$3:INDIRECT(\"MonteCarlo!F\"&$E$4+2,TRUE))","v":0},{"$f":"AVERAGE(MonteCarlo!$F$3:INDIRECT(\"MonteCarlo!F\"&$E$4+2,TRUE))","v":0},{"$f":"STDEVA(MonteCarlo!$F$3:INDIRECT(\"MonteCarlo!F\"&$E$4+2,TRUE))","v":0},{"$f":"_xlfn.PERCENTILE.INC(MonteCarlo!$F$3:INDIRECT(\"MonteCarlo!f\"&$E$4+2,TRUE),$H$10)","v":0},{"$f":"_xlfn.PERCENTILE.INC(MonteCarlo!$F$3:INDIRECT(\"MonteCarlo!f\"&$E$4+2,TRUE),$I$10)","v":0}]
["Unbekannte metallische Flüssigkeit",null,{"$f":"MIN(MonteCarlo!$G$3:INDIRECT(\"MonteCarlo!G\"&$E$4+2,TRUE))","v":0},{"$f":"MAX(MonteCarlo!$G$3:INDIRECT(\"MonteCarlo!G\"&$E$4+2,TRUE))","v":0},{"$f":"MEDIAN(MonteCarlo!$G$3:INDIRECT(\"MonteCarlo!G\"&$E$4+2,TRUE))","v":0},{"$f":"AVERAGE(MonteCarlo!$G$3:INDIRECT(\"MonteCarlo!G\"&$E$4+2,TRUE))","v":0},{"$f":"STDEVA(MonteCarlo!$G$3:INDIRECT(\"MonteCarlo!G\"&$E$4+2,TRUE))","v":0},{"$f":"_xlfn.PERCENTILE.INC(MonteCarlo!$G$3:INDIRECT(\"MonteCarlo!G\"&$E$4+2,TRUE),$H$10)","v":0},{"$f":"_xlfn.PERCENTILE.INC(MonteCarlo!$G$3:INDIRECT(\"MonteCarlo!G\"&$E$4+2,TRUE),$I$10)","v":0}]
["Dunkler Unterwerfer",null,{"$f":"MIN(MonteCarlo!$H$3:INDIRECT(\"MonteCarlo!h\"&$E$4+2,TRUE))","v":0},{"$f":"MAX(MonteCarlo!$H$3:INDIRECT(\"MonteCarlo!h\"&$E$4+2,TRUE))","v":0},{"$f":"MEDIAN(MonteCarlo!$H$3:INDIRECT(\"MonteCarlo!h\"&$E$4+2,TRUE))","v":0},{"$f":"AVERAGE(MonteCarlo!$H$3:INDIRECT(\"MonteCarlo!h\"&$E$4+2,TRUE))","v":0},{"$f":"STDEVA(MonteCarlo!$H$3:INDIRECT(\"MonteCarlo!h\"&$E$4+2,TRUE))","v":0},{"$f":"_xlfn.PERCENTILE.INC(MonteCarlo!$H$3:INDIRECT(\"MonteCarlo!H\"&$E$4+2,TRUE),$H$10)","v":0},{"$f":"_xlfn.PERCENTILE.INC(MonteCarlo!$H$3:INDIRECT(\"MonteCarlo!H\"&$E$4+2,TRUE),$I$10)","v":0}]
["Herausragende Erzdevaner-Flüssigkeit",null,{"$f":"MIN(MonteCarlo!I$3:INDIRECT(\"MonteCarlo!i\"&$E$4+2,TRUE))","v":0},{"$f":"MAX(MonteCarlo!I$3:INDIRECT(\"MonteCarlo!i\"&$E$4+2,TRUE))","v":0},{"$f":"MEDIAN(MonteCarlo!H$3:INDIRECT(\"MonteCarlo!i\"&$E$4+2,TRUE))","v":0},{"$f":"AVERAGE(MonteCarlo!I$3:INDIRECT(\"MonteCarlo!i\"&$E$4+2,TRUE))","v":0},{"$f":"STDEVA(MonteCarlo!I$3:INDIRECT(\"MonteCarlo!i\"&$E$4+2,TRUE))","v":0},{"$f":"_xlfn.PERCENTILE.INC(MonteCarlo!$I$3:INDIRECT(\"MonteCarlo!i\"&$E$4+2,TRUE),$H$10)","v":0},{"$f":"_xlfn.PERCENTILE.INC(MonteCarlo!$I$3:INDIRECT(\"MonteCarlo!i\"&$E$4+2,TRUE),$I$10)","v":0}]
["Arboreas Goldbarren",null,{"$f":"MIN(MonteCarlo!$J$3:INDIRECT(\"MonteCarlo!j\"&$E$4+2,TRUE))","v":53},{"$f":"MAX(MonteCarlo!$J$3:INDIRECT(\"MonteCarlo!j\"&$E$4+2,TRUE))","v":795},{"$f":"MEDIAN(MonteCarlo!$J$3:INDIRECT(\"MonteCarlo!j\"&$E$4+2,TRUE))","v":159},{"$f":"AVERAGE(MonteCarlo!$J$3:INDIRECT(\"MonteCarlo!j\"&$E$4+2,TRUE))","v":176.80799999999999},{"$f":"STDEVA(MonteCarlo!$J$3:INDIRECT(\"MonteCarlo!j\"&$E$4+2,TRUE))","v":114.96794314057718},{"$f":"_xlfn.PERCENTILE.INC(MonteCarlo!$J$3:INDIRECT(\"MonteCarlo!j\"&$E$4+2,TRUE),$H$10)","v":53},{"$f":"_xlfn.PERCENTILE.INC(MonteCarlo!$J$3:INDIRECT(\"MonteCarlo!j\"&$E$4+2,TRUE),$I$10)","v":530}]
["Verzauberungsverkzeug des Meisters",null,{"$f":"MIN(MonteCarlo!$K$3:INDIRECT(\"MonteCarlo!k\"&$E$4+2,TRUE))","v":12},{"$f":"MAX(MonteCarlo!$K$3:INDIRECT(\"MonteCarlo!k\"&$E$4+2,TRUE))","v":180},{"$f":"MEDIAN(MonteCarlo!$K$3:INDIRECT(\"MonteCarlo!k\"&$E$4+2,TRUE))","v":36},{"$f":"AVERAGE(MonteCarlo!$K$3:INDIRECT(\"MonteCarlo!k\"&$E$4+2,TRUE))","v":40.031999999999996},{"$f":"STDEVA(MonteCarlo!$K$3:INDIRECT(\"MonteCarlo!k\"&$E$4+2,TRUE))","v":26.030477692206155},{"$f":"_xlfn.PERCENTILE.INC(MonteCarlo!$K$3:INDIRECT(\"MonteCarlo!k\"&$E$4+2,TRUE),$H$10)","v":12},{"$f":"_xlfn.PERCENTILE.INC(MonteCarlo!$K$3:INDIRECT(\"MonteCarlo!k\"&$E$4+2,TRUE),$I$10)","v":120}]
["Blutige Metallstruktur",null,{"$f":"MIN(MonteCarlo!$L$3:INDIRECT(\"MonteCarlo!l\"&$E$4+2,TRUE))","v":9},{"$f":"MAX(MonteCarlo!$L$3:INDIRECT(\"MonteCarlo!l\"&$E$4+2,TRUE))","v":135},{"$f":"MEDIAN(MonteCarlo!$L$3:INDIRECT(\"MonteCarlo!l\"&$E$4+2,TRUE))","v":27},{"$f":"AVERAGE(MonteCarlo!$L$3:INDIRECT(\"MonteCarlo!l\"&$E$4+2,TRUE))","v":30.024000000000001},{"$f":"STDEVA(MonteCarlo!$L$3:INDIRECT(\"MonteCarlo!l\"&$E$4+2,TRUE))","v":19.522858269154614},{"$f":"_xlfn.PERCENTILE.INC(MonteCarlo!$L$3:INDIRECT(\"MonteCarlo!l\"&$E$4+2,TRUE),$H$10)","v":9},{"$f":"_xlfn.PERCENTILE.INC(MonteCarlo!$L$3:INDIRECT(\"MonteCarlo!l\"&$E$4+2,TRUE),$I$10)","v":90}]
["Staub der Stille",null,{"$f":"MIN(MonteCarlo!$M$3:INDIRECT(\"MonteCarlo!m\"&$E$4+2,TRUE))","v":6},{"$f":"MAX(MonteCarlo!$M$3:INDIRECT(\"MonteCarlo!m\"&$E$4+2,TRUE))","v":90},{"$f":"MEDIAN(MonteCarlo!$M$3:INDIRECT(\"MonteCarlo!m\"&$E$4+2,TRUE))","v":18},{"$f":"AVERAGE(MonteCarlo!$M$3:INDIRECT(\"MonteCarlo!m\"&$E$4+2,TRUE))","v":20.015999999999998},{"$f":"STDEVA(MonteCarlo!$M$3:INDIRECT(\"MonteCarlo!m\"&$E$4+2,TRUE))","v":13.015238846103077},{"$f":"_xlfn.PERCENTILE.INC(MonteCarlo!$M$3:INDIRECT(\"MonteCarlo!m\"&$E$4+2,TRUE),$H$10)","v":6},{"$f":"_xlfn.PERCENTILE.INC(MonteCarlo!$M$3:INDIRECT(\"MonteCarlo!m\"&$E$4+2,TRUE),$I$10)","v":60}]
["Rätselhafter Trank",null,{"$f":"MIN(MonteCarlo!$N$3:INDIRECT(\"MonteCarlo!n\"&$E$4+2,TRUE))","v":0},{"$f":"MAX(MonteCarlo!$N$3:INDIRECT(\"MonteCarlo!n\"&$E$4+2,TRUE))","v":0},{"$f":"MEDIAN(MonteCarlo!$N$3:INDIRECT(\"MonteCarlo!n\"&$E$4+2,TRUE))","v":0},{"$f":"AVERAGE(MonteCarlo!$N$3:INDIRECT(\"MonteCarlo!n\"&$E$4+2,TRUE))","v":0},{"$f":"STDEVA(MonteCarlo!$N$3:INDIRECT(\"MonteCarlo!n\"&$E$4+2,TRUE))","v":0},{"$f":"_xlfn.PERCENTILE.INC(MonteCarlo!$N$3:INDIRECT(\"MonteCarlo!n\"&$E$4+2,TRUE),$H$10)","v":0},{"$f":"_xlfn.PERCENTILE.INC(MonteCarlo!$N$3:INDIRECT(\"MonteCarlo!n\"&$E$4+2,TRUE),$I$10)","v":0}]
["Letztes Element",null,{"$f":"MIN(MonteCarlo!$O$3:INDIRECT(\"MonteCarlo!o\"&$E$4+2,TRUE))","v":0},{"$f":"MAX(MonteCarlo!$O$3:INDIRECT(\"MonteCarlo!o\"&$E$4+2,TRUE))","v":0},{"$f":"MEDIAN(MonteCarlo!$O$3:INDIRECT(\"MonteCarlo!o\"&$E$4+2,TRUE))","v":0},{"$f":"AVERAGE(MonteCarlo!$O$3:INDIRECT(\"MonteCarlo!o\"&$E$4+2,TRUE))","v":0},{"$f":"STDEVA(MonteCarlo!$O$3:INDIRECT(\"MonteCarlo!o\"&$E$4+2,TRUE))","v":0},{"$f":"_xlfn.PERCENTILE.INC(MonteCarlo!$O$3:INDIRECT(\"MonteCarlo!o\"&$E$4+2,TRUE),$H$10)","v":0},{"$f":"_xlfn.PERCENTILE.INC(MonteCarlo!$O$3:INDIRECT(\"MonteCarlo!o\"&$E$4+2,TRUE),$I$10)","v":0},null,null,"Graphik 1",null,null,null,null,null,"Graphik 2"]
["Placeholder_2",null,{"$f":"MIN(MonteCarlo!$P$3:INDIRECT(\"MonteCarlo!p\"&$E$4+2,TRUE))","v":0},{"$f":"MAX(MonteCarlo!$P$3:INDIRECT(\"MonteCarlo!p\"&$E$4+2,TRUE))","v":0},{"$f":"MEDIAN(MonteCarlo!$P$3:INDIRECT(\"MonteCarlo!p\"&$E$4+2,TRUE))","v":0},{"$f":"AVERAGE(MonteCarlo!$P$3:INDIRECT(\"MonteCarlo!p\"&$E$4+2,TRUE))","v":0},{"$f":"STDEVA(MonteCarlo!$P$3:INDIRECT(\"MonteCarlo!p\"&$E$4+2,TRUE))","v":0},{"$f":"_xlfn.PERCENTILE.INC(MonteCarlo!$P$3:INDIRECT(\"MonteCarlo!p\"&$E$4+2,TRUE),$H$10)","v":0},{"$f":"_xlfn.PERCENTILE.INC(MonteCarlo!$P$3:INDIRECT(\"MonteCarlo!p\"&$E$4+2,TRUE),$I$10)","v":0}]
["Placeholder_3",null,{"$f":"MIN(MonteCarlo!$Q$3:INDIRECT(\"MonteCarlo!q\"&$E$4+2,TRUE))","v":0},{"$f":"MAX(MonteCarlo!$Q$3:INDIRECT(\"MonteCarlo!q\"&$E$4+2,TRUE))","v":0},{"$f":"MEDIAN(MonteCarlo!$Q$3:INDIRECT(\"MonteCarlo!q\"&$E$4+2,TRUE))","v":0},{"$f":"AVERAGE(MonteCarlo!$Q$3:INDIRECT(\"MonteCarlo!q\"&$E$4+2,TRUE))","v":0},{"$f":"STDEVA(MonteCarlo!$Q$3:INDIRECT(\"MonteCarlo!q\"&$E$4+2,TRUE))","v":0},{"$f":"_xlfn.PERCENTILE.INC(MonteCarlo!$Q$3:INDIRECT(\"MonteCarlo!q\"&$E$4+2,TRUE),$H$10)","v":0},{"$f":"_xlfn.PERCENTILE.INC(MonteCarlo!$Q$3:INDIRECT(\"MonteCarlo!q\"&$E$4+2,TRUE),$I$10)","v":0},null,null,null,null,null,null,null,null,"Graphik 3"]
["Placeholder_4",null,{"$f":"MIN(MonteCarlo!$R$3:INDIRECT(\"MonteCarlo!r\"&$E$4+2,TRUE))","v":0},{"$f":"MAX(MonteCarlo!$R$3:INDIRECT(\"MonteCarlo!r\"&$E$4+2,TRUE))","v":0},{"$f":"MEDIAN(MonteCarlo!$R$3:INDIRECT(\"MonteCarlo!r\"&$E$4+2,TRUE))","v":0},{"$f":"AVERAGE(MonteCarlo!$R$3:INDIRECT(\"MonteCarlo!r\"&$E$4+2,TRUE))","v":0},{"$f":"STDEVA(MonteCarlo!$R$3:INDIRECT(\"MonteCarlo!r\"&$E$4+2,TRUE))","v":0},{"$f":"_xlfn.PERCENTILE.INC(MonteCarlo!$R$3:INDIRECT(\"MonteCarlo!r\"&$E$4+2,TRUE),$H$10)","v":0},{"$f":"_xlfn.PERCENTILE.INC(MonteCarlo!$R$3:INDIRECT(\"MonteCarlo!r\"&$E$4+2,TRUE),$I$10)","v":0}]
["Placeholder_5",null,{"$f":"MIN(MonteCarlo!$S$3:INDIRECT(\"MonteCarlo!s\"&$E$4+2,TRUE))","v":0},{"$f":"MAX(MonteCarlo!$S$3:INDIRECT(\"MonteCarlo!s\"&$E$4+2,TRUE))","v":0},{"$f":"MEDIAN(MonteCarlo!$S$3:INDIRECT(\"MonteCarlo!s\"&$E$4+2,TRUE))","v":0},{"$f":"AVERAGE(MonteCarlo!$S$3:INDIRECT(\"MonteCarlo!s\"&$E$4+2,TRUE))","v":0},{"$f":"STDEVA(MonteCarlo!$S$3:INDIRECT(\"MonteCarlo!s\"&$E$4+2,TRUE))","v":0},{"$f":"_xlfn.PERCENTILE.INC(MonteCarlo!$S$3:INDIRECT(\"MonteCarlo!s\"&$E$4+2,TRUE),$H$10)","v":0},{"$f":"_xlfn.PERCENTILE.INC(MonteCarlo!$S$3:INDIRECT(\"MonteCarlo!s\"&$E$4+2,TRUE),$I$10)","v":0}]
["Smaragd",null,{"$f":"MIN(MonteCarlo!$T$3:INDIRECT(\"MonteCarlo!t\"&$E$4+2,TRUE))","v":0},{"$f":"MAX(MonteCarlo!$T$3:INDIRECT(\"MonteCarlo!t\"&$E$4+2,TRUE))","v":0},{"$f":"MEDIAN(MonteCarlo!$T$3:INDIRECT(\"MonteCarlo!t\"&$E$4+2,TRUE))","v":0},{"$f":"AVERAGE(MonteCarlo!$T$3:INDIRECT(\"MonteCarlo!t\"&$E$4+2,TRUE))","v":0},{"$f":"STDEVA(MonteCarlo!$T$3:INDIRECT(\"MonteCarlo!t\"&$E$4+2,TRUE))","v":0},{"$f":"_xlfn.PERCENTILE.INC(MonteCarlo!$T$3:INDIRECT(\"MonteCarlo!t\"&$E$4+2,TRUE),$H$10)","v":0},{"$f":"_xlfn.PERCENTILE.INC(MonteCarlo!$T$3:INDIRECT(\"MonteCarlo!t\"&$E$4+2,TRUE),$I$10)","v":0}]
["Diamant",null,{"$f":"MIN(MonteCarlo!$U$3:INDIRECT(\"MonteCarlo!u\"&$E$4+2,TRUE))","v":1},{"$f":"MAX(MonteCarlo!$U$3:INDIRECT(\"MonteCarlo!u\"&$E$4+2,TRUE))","v":15},{"$f":"MEDIAN(MonteCarlo!$U$3:INDIRECT(\"MonteCarlo!u\"&$E$4+2,TRUE))","v":3},{"$f":"AVERAGE(MonteCarlo!$U$3:INDIRECT(\"MonteCarlo!u\"&$E$4+2,TRUE))","v":3.3359999999999999},{"$f":"STDEVA(MonteCarlo!$U$3:INDIRECT(\"MonteCarlo!u\"&$E$4+2,TRUE))","v":2.1692064743505126},{"$f":"_xlfn.PERCENTILE.INC(MonteCarlo!$U$3:INDIRECT(\"MonteCarlo!u\"&$E$4+2,TRUE),$H$10)","v":1},{"$f":"_xlfn.PERCENTILE.INC(MonteCarlo!$U$3:INDIRECT(\"MonteCarlo!u\"&$E$4+2,TRUE),$I$10)","v":10}]
["Gold",null,{"$f":"MIN(MonteCarlo!$V$3:INDIRECT(\"MonteCarlo!v\"&$E$4+2,TRUE))","v":6334},{"$f":"MAX(MonteCarlo!$V$3:INDIRECT(\"MonteCarlo!v\"&$E$4+2,TRUE))","v":95010},{"$f":"MEDIAN(MonteCarlo!$V$3:INDIRECT(\"MonteCarlo!v\"&$E$4+2,TRUE))","v":19002},{"$f":"AVERAGE(MonteCarlo!$V$3:INDIRECT(\"MonteCarlo!v\"&$E$4+2,TRUE))","v":21130.223999999998},{"$f":"STDEVA(MonteCarlo!$V$3:INDIRECT(\"MonteCarlo!v\"&$E$4+2,TRUE))","v":13739.753808536147},{"$f":"_xlfn.PERCENTILE.INC(MonteCarlo!$V$3:INDIRECT(\"MonteCarlo!v\"&$E$4+2,TRUE),$H$10)","v":6334},{"$f":"_xlfn.PERCENTILE.INC(MonteCarlo!$V$3:INDIRECT(\"MonteCarlo!v\"&$E$4+2,TRUE),$I$10)","v":63340}]
["Metamorph",null,{"$f":"MIN(MonteCarlo!$W$3:INDIRECT(\"MonteCarlo!w\"&$E$4+2,TRUE))","v":45720},{"$f":"MAX(MonteCarlo!$W$3:INDIRECT(\"MonteCarlo!w\"&$E$4+2,TRUE))","v":685800},{"$f":"MEDIAN(MonteCarlo!$W$3:INDIRECT(\"MonteCarlo!w\"&$E$4+2,TRUE))","v":137160},{"$f":"AVERAGE(MonteCarlo!$W$3:INDIRECT(\"MonteCarlo!w\"&$E$4+2,TRUE))","v":152521.92000000001},{"$f":"STDEVA(MonteCarlo!$W$3:INDIRECT(\"MonteCarlo!w\"&$E$4+2,TRUE))","v":99176.12000730545},{"$f":"_xlfn.PERCENTILE.INC(MonteCarlo!$W$3:INDIRECT(\"MonteCarlo!w\"&$E$4+2,TRUE),$H$10)","v":45720},{"$f":"_xlfn.PERCENTILE.INC(MonteCarlo!$W$3:INDIRECT(\"MonteCarlo!w\"&$E$4+2,TRUE),$I$10)","v":457200}]
["Goldwert",null,{"$f":"MIN(MonteCarlo!$X$3:INDIRECT(\"MonteCarlo!x\"&$E$4+2,TRUE))","v":32683},{"$f":"MAX(MonteCarlo!$X$3:INDIRECT(\"MonteCarlo!x\"&$E$4+2,TRUE))","v":490245},{"$f":"MEDIAN(MonteCarlo!$X$3:INDIRECT(\"MonteCarlo!x\"&$E$4+2,TRUE))","v":98049},{"$f":"AVERAGE(MonteCarlo!$X$3:INDIRECT(\"MonteCarlo!x\"&$E$4+2,TRUE))","v":109030.488},{"$f":"STDEVA(MonteCarlo!$X$3:INDIRECT(\"MonteCarlo!x\"&$E$4+2,TRUE))","v":70896.17520119781},{"$f":"_xlfn.PERCENTILE.INC(MonteCarlo!$X$3:INDIRECT(\"MonteCarlo!x\"&$E$4+2,TRUE),$H$10)","v":32683},{"$f":"_xlfn.PERCENTILE.INC(MonteCarlo!$X$3:INDIRECT(\"MonteCarlo!x\"&$E$4+2,TRUE),$I$10)","v":326830}]
[]
[]
[null,null,"Goldvalue","Metamorphic"]
["Goldkristall",null,15,0,null,null,null,null,null,null,"  s"]
["Gewöhnliches Holzstück",null,0,30]
["Minderwertige Erzdevaner-Flüssigkeit",null,0,30]
["Gereinigtes Erzdevaner-Erz",null,0,90]
["Normale Erzdevaner-Flüssigkeit",null,0,300,null,null,null,null,null,null,null,null,null,null,null,null,null,"Dieses Diagramm braucht eine hohe Anzahl von Simulationen (mind. 50.000) für eine hohe Genauigkeit. "]
["Arboreas Goldstück",null,64,0]
["Unbekannte metallische Flüssigkeit",null,0,300]
["Dunkler Unterwerfer",null,0,600]
["Herausragende Erzdevaner-Flüssigkeit",null,0,3000]
["Arboreas Goldbarren",null,233,0]
["Verzauberungsverkzeug des Meisters",null,0,960]
["Blutige Metallstruktur",null,0,1800]
["Staub der Stille",null,0,3000]
["Rätselhafter Trank",null,0,0]
["Letztes Element",null,0,0]
["Placeholder_2",null,0,0]
["Placeholder_3",null,0,0]
["Placeholder_4",null,0,0]
["Placeholder_5",null,0,0]
["Smaragd",null,1300,0]
["Diamant",null,14000,0]

{"sheet":"MonteCarlo","index":1,"n_rows":2002,"n_cols":24,"rows_kept":2002,"cut":false,"hidden":false,"merged":[[0,23,1,23],[0,19,1,19],[0,20,1,20],[0,21,1,21],[0,5,1,5],[0,11,1,11],[0,12,1,12],[0,13,1,13],[0,22,1,22],[0,6,1,6],[0,8,1,8],[0,9,1,9],[0,10,1,10],[0,7,1,7],[0,16,1,16],[0,17,1,17],[0,18,1,18],[0,14,1,14],[0,15,1,15],[0,0,1,0],[0,1,1,1],[0,2,1,2],[0,3,1,3],[0,4,1,4]]}
["Goldkristall","Gewöhnliches Holzstück","Minderwertige Erzdevaner-Flüssigkeit","Gereinigtes Erzdevaner-Erz","Normale Erzdevaner-Flüssigkeit","Arboreas Goldstück","Unbekannte metallische Flüssigkeit","Dunkler Unterwerfer","Herausragende Erzdevaner-Flüssigkeit","Arboreas Goldbarren","Verzauberungsverkzeug des Meisters","Blutige Metallstruktur","Staub der Stille","Rätselhafter Trank","Letztes Element","Placeholder_2","Placeholder_3","Placeholder_4","Placeholder_5","Smaragd","Diamant","Gold","Metamorph","Goldwert"]
[]
[0,0,0,0,0,0,0,0,0,106,24,18,12,0,0,0,0,0,0,0,2,12668,{"$f":"SUM(A3:U3*(TRANSPOSE(CostCalculation!$D$38:$D$58)))","v":91440},{"$f":"V3+SUM(A3:U3*(TRANSPOSE(CostCalculation!$C$38:$C$58)))","v":65366}]
[0,0,0,0,0,0,0,0,0,159,36,27,18,0,0,0,0,0,0,0,3,19002,{"$f":"SUM(A4:U4*(TRANSPOSE(CostCalculation!$D$38:$D$58)))","v":137160},{"$f":"V4+SUM(A4:U4*(TRANSPOSE(CostCalculation!$C$38:$C$58)))","v":98049}]
[0,0,0,0,0,0,0,0,0,106,24,18,12,0,0,0,0,0,0,0,2,12668,{"$f":"SUM(A5:U5*(TRANSPOSE(CostCalculation!$D$38:$D$58)))","v":91440},{"$f":"V5+SUM(A5:U5*(TRANSPOSE(CostCalculation!$C$38:$C$58)))","v":65366}]
[0,0,0,0,0,0,0,0,0,212,48,36,24,0,0,0,0,0,0,0,4,25336,{"$f":"SUM(A6:U6*(TRANSPOSE(CostCalculation!$D$38:$D$58)))","v":182880},{"$f":"V6+SUM(A6:U6*(TRANSPOSE(CostCalculation!$C$38:$C$58)))","v":130732}]
[0,0,0,0,0,0,0,0,0,212,48,36,24,0,0,0,0,0,0,0,4,25336,{"$f":"SUM(A7:U7*(TRANSPOSE(CostCalculation!$D$38:$D$58)))","v":182880},{"$f":"V7+SUM(A7:U7*(TRANSPOSE(CostCalculation!$C$38:$C$58)))","v":130732}]
[0,0,0,0,0,0,0,0,0,53,12,9,6,0,0,0,0,0,0,0,1,6334,{"$f":"SUM(A8:U8*(TRANSPOSE(CostCalculation!$D$38:$D$58)))","v":45720},{"$f":"V8+SUM(A8:U8*(TRANSPOSE(CostCalculation!$C$38:$C$58)))","v":32683}]
[0,0,0,0,0,0,0,0,0,530,120,90,60,0,0,0,0,0,0,0,10,63340,{"$f":"SUM(A9:U9*(TRANSPOSE(CostCalculation!$D$38:$D$58)))","v":457200},{"$f":"V9+SUM(A9:U9*(TRANSPOSE(CostCalculation!$C$38:$C$58)))","v":326830}]
[0,0,0,0,0,0,0,0,0,53,12,9,6,0,0,0,0,0,0,0,1,6334,{"$f":"SUM(A10:U10*(TRANSPOSE(CostCalculation!$D$38:$D$58)))","v":45720},{"$f":"V10+SUM(A10:U10*(TRANSPOSE(CostCalculation!$C$38:$C$58)))","v":32683}]
[0,0,0,0,0,0,0,0,0,53,12,9,6,0,0,0,0,0,0,0,1,6334,{"$f":"SUM(A11:U11*(TRANSPOSE(CostCalculation!$D$38:$D$58)))","v":45720},{"$f":"V11+SUM(A11:U11*(TRANSPOSE(CostCalculation!$C$38:$C$58)))","v":32683}]
[0,0,0,0,0,0,0,0,0,106,24,18,12,0,0,0,0,0,0,0,2,12668,{"$f":"SUM(A12:U12*(TRANSPOSE(CostCalculation!$D$38:$D$58)))","v":91440},{"$f":"V12+SUM(A12:U12*(TRANSPOSE(CostCalculation!$C$38:$C$58)))","v":65366}]
[0,0,0,0,0,0,0,0,0,424,96,72,48,0,0,0,0,0,0,0,8,50672,{"$f":"SUM(A13:U13*(TRANSPOSE(CostCalculation!$D$38:$D$58)))","v":365760},{"$f":"V13+SUM(A13:U13*(TRANSPOSE(CostCalculation!$C$38:$C$58)))","v":261464}]
[0,0,0,0,0,0,0,0,0,159,36,27,18,0,0,0,0,0,0,0,3,19002,{"$f":"SUM(A14:U14*(TRANSPOSE(CostCalculation!$D$38:$D$58)))","v":137160},{"$f":"V14+SUM(A14:U14*(TRANSPOSE(CostCalculation!$C$38:$C$58)))","v":98049}]
[0,0,0,0,0,0,0,0,0,53,12,9,6,0,0,0,0,0,0,0,1,6334,{"$f":"SUM(A15:U15*(TRANSPOSE(CostCalculation!$D$38:$D$58)))","v":45720},{"$f":"V15+SUM(A15:U15*(TRANSPOSE(CostCalculation!$C$38:$C$58)))","v":32683}]
[0,0,0,0,0,0,0,0,0,53,12,9,6,0,0,0,0,0,0,0,1,6334,{"$f":"SUM(A16:U16*(TRANSPOSE(CostCalculation!$D$38:$D$58)))","v":45720},{"$f":"V16+SUM(A16:U16*(TRANSPOSE(CostCalculation!$C$38:$C$58)))","v":32683}]
[0,0,0,0,0,0,0,0,0,212,48,36,24,0,0,0,0,0,0,0,4,25336,{"$f":"SUM(A17:U17*(TRANSPOSE(CostCalculation!$D$38:$D$58)))","v":182880},{"$f":"V17+SUM(A17:U17*(TRANSPOSE(CostCalculation!$C$38:$C$58)))","v":130732}]
[0,0,0,0,0,0,0,0,0,53,12,9,6,0,0,0,0,0,0,0,1,6334,{"$f":"SUM(A18:U18*(TRANSPOSE(CostCalculation!$D$38:$D$58)))","v":45720},{"$f":"V18+SUM(A18:U18*(TRANSPOSE(CostCalculation!$C$38:$C$58)))","v":32683}]
[0,0,0,0,0,0,0,0,0,53,12,9,6,0,0,0,0,0,0,0,1,6334,{"$f":"SUM(A19:U19*(TRANSPOSE(CostCalculation!$D$38:$D$58)))","v":45720},{"$f":"V19+SUM(A19:U19*(TRANSPOSE(CostCalculation!$C$38:$C$58)))","v":32683}]
[0,0,0,0,0,0,0,0,0,424,96,72,48,0,0,0,0,0,0,0,8,50672,{"$f":"SUM(A20:U20*(TRANSPOSE(CostCalculation!$D$38:$D$58)))","v":365760},{"$f":"V20+SUM(A20:U20*(TRANSPOSE(CostCalculation!$C$38:$C$58)))","v":261464}]
[0,0,0,0,0,0,0,0,0,53,12,9,6,0,0,0,0,0,0,0,1,6334,{"$f":"SUM(A21:U21*(TRANSPOSE(CostCalculation!$D$38:$D$58)))","v":45720},{"$f":"V21+SUM(A21:U21*(TRANSPOSE(CostCalculation!$C$38:$C$58)))","v":32683}]
[0,0,0,0,0,0,0,0,0,212,48,36,24,0,0,0,0,0,0,0,4,25336,{"$f":"SUM(A22:U22*(TRANSPOSE(CostCalculation!$D$38:$D$58)))","v":182880},{"$f":"V22+SUM(A22:U22*(TRANSPOSE(CostCalculation!$C$38:$C$58)))","v":130732}]
[0,0,0,0,0,0,0,0,0,159,36,27,18,0,0,0,0,0,0,0,3,19002,{"$f":"SUM(A23:U23*(TRANSPOSE(CostCalculation!$D$38:$D$58)))","v":137160},{"$f":"V23+SUM(A23:U23*(TRANSPOSE(CostCalculation!$C$38:$C$58)))","v":98049}]
[0,0,0,0,0,0,0,0,0,53,12,9,6,0,0,0,0,0,0,0,1,6334,{"$f":"SUM(A24:U24*(TRANSPOSE(CostCalculation!$D$38:$D$58)))","v":45720},{"$f":"V24+SUM(A24:U24*(TRANSPOSE(CostCalculation!$C$38:$C$58)))","v":32683}]
[0,0,0,0,0,0,0,0,0,424,96,72,48,0,0,0,0,0,0,0,8,50672,{"$f":"SUM(A25:U25*(TRANSPOSE(CostCalculation!$D$38:$D$58)))","v":365760},{"$f":"V25+SUM(A25:U25*(TRANSPOSE(CostCalculation!$C$38:$C$58)))","v":261464}]
[0,0,0,0,0,0,0,0,0,106,24,18,12,0,0,0,0,0,0,0,2,12668,{"$f":"SUM(A26:U26*(TRANSPOSE(CostCalculation!$D$38:$D$58)))","v":91440},{"$f":"V26+SUM(A26:U26*(TRANSPOSE(CostCalculation!$C$38:$C$58)))","v":65366}]
[0,0,0,0,0,0,0,0,0,159,36,27,18,0,0,0,0,0,0,0,3,19002,{"$f":"SUM(A27:U27*(TRANSPOSE(CostCalculation!$D$38:$D$58)))","v":137160},{"$f":"V27+SUM(A27:U27*(TRANSPOSE(CostCalculation!$C$38:$C$58)))","v":98049}]
[0,0,0,0,0,0,0,0,0,212,48,36,24,0,0,0,0,0,0,0,4,25336,{"$f":"SUM(A28:U28*(TRANSPOSE(CostCalculation!$D$38:$D$58)))","v":182880},{"$f":"V28+SUM(A28:U28*(TRANSPOSE(CostCalculation!$C$38:$C$58)))","v":130732}]
[0,0,0,0,0,0,0,0,0,106,24,18,12,0,0,0,0,0,0,0,2,12668,{"$f":"SUM(A29:U29*(TRANSPOSE(CostCalculation!$D$38:$D$58)))","v":91440},{"$f":"V29+SUM(A29:U29*(TRANSPOSE(CostCalculation!$C$38:$C$58)))","v":65366}]
[0,0,0,0,0,0,0,0,0,106,24,18,12,0,0,0,0,0,0,0,2,12668,{"$f":"SUM(A30:U30*(TRANSPOSE(CostCalculation!$D$38:$D$58)))","v":91440},{"$f":"V30+SUM(A30:U30*(TRANSPOSE(CostCalculation!$C$38:$C$58)))","v":65366}]
[0,0,0,0,0,0,0,0,0,212,48,36,24,0,0,0,0,0,0,0,4,25336,{"$f":"SUM(A31:U31*(TRANSPOSE(CostCalculation!$D$38:$D$58)))","v":182880},{"$f":"V31+SUM(A31:U31*(TRANSPOSE(CostCalculation!$C$38:$C$58)))","v":130732}]
[0,0,0,0,0,0,0,0,0,212,48,36,24,0,0,0,0,0,0,0,4,25336,{"$f":"SUM(A32:U32*(TRANSPOSE(CostCalculation!$D$38:$D$58)))","v":182880},{"$f":"V32+SUM(A32:U32*(TRANSPOSE(CostCalculation!$C$38:$C$58)))","v":130732}]
[0,0,0,0,0,0,0,0,0,53,12,9,6,0,0,0,0,0,0,0,1,6334,{"$f":"SUM(A33:U33*(TRANSPOSE(CostCalculation!$D$38:$D$58)))","v":45720},{"$f":"V33+SUM(A33:U33*(TRANSPOSE(CostCalculation!$C$38:$C$58)))","v":32683}]
[0,0,0,0,0,0,0,0,0,53,12,9,6,0,0,0,0,0,0,0,1,6334,{"$f":"SUM(A34:U34*(TRANSPOSE(CostCalculation!$D$38:$D$58)))","v":45720},{"$f":"V34+SUM(A34:U34*(TRANSPOSE(CostCalculation!$C$38:$C$58)))","v":32683}]
[0,0,0,0,0,0,0,0,0,106,24,18,12,0,0,0,0,0,0,0,2,12668,{"$f":"SUM(A35:U35*(TRANSPOSE(CostCalculation!$D$38:$D$58)))","v":91440},{"$f":"V35+SUM(A35:U35*(TRANSPOSE(CostCalculation!$C$38:$C$58)))","v":65366}]
[0,0,0,0,0,0,0,0,0,53,12,9,6,0,0,0,0,0,0,0,1,6334,{"$f":"SUM(A36:U36*(TRANSPOSE(CostCalculation!$D$38:$D$58)))","v":45720},{"$f":"V36+SUM(A36:U36*(TRANSPOSE(CostCalculation!$C$38:$C$58)))","v":32683}]
[0,0,0,0,0,0,0,0,0,53,12,9,6,0,0,0,0,0,0,0,1,6334,{"$f":"SUM(A37:U37*(TRANSPOSE(CostCalculation!$D$38:$D$58)))","v":45720},{"$f":"V37+SUM(A37:U37*(TRANSPOSE(CostCalculation!$C$38:$C$58)))","v":32683}]
[0,0,0,0,0,0,0,0,0,265,60,45,30,0,0,0,0,0,0,0,5,31670,{"$f":"SUM(A38:U38*(TRANSPOSE(CostCalculation!$D$38:$D$58)))","v":228600},{"$f":"V38+SUM(A38:U38*(TRANSPOSE(CostCalculation!$C$38:$C$58)))","v":163415}]
[0,0,0,0,0,0,0,0,0,106,24,18,12,0,0,0,0,0,0,0,2,12668,{"$f":"SUM(A39:U39*(TRANSPOSE(CostCalculation!$D$38:$D$58)))","v":91440},{"$f":"V39+SUM(A39:U39*(TRANSPOSE(CostCalculation!$C$38:$C$58)))","v":65366}]
[0,0,0,0,0,0,0,0,0,53,12,9,6,0,0,0,0,0,0,0,1,6334,{"$f":"SUM(A40:U40*(TRANSPOSE(CostCalculation!$D$38:$D$58)))","v":45720},{"$f":"V40+SUM(A40:U40*(TRANSPOSE(CostCalculation!$C$38:$C$58)))","v":32683}]
[0,0,0,0,0,0,0,0,0,265,60,45,30,0,0,0,0,0,0,0,5,31670,{"$f":"SUM(A41:U41*(TRANSPOSE(CostCalculation!$D$38:$D$58)))","v":228600},{"$f":"V41+SUM(A41:U41*(TRANSPOSE(CostCalculation!$C$38:$C$58)))","v":163415}]
[0,0,0,0,0,0,0,0,0,159,36,27,18,0,0,0,0,0,0,0,3,19002,{"$f":"SUM(A42:U42*(TRANSPOSE(CostCalculation!$D$38:$D$58)))","v":137160},{"$f":"V42+SUM(A42:U42*(TRANSPOSE(CostCalculation!$C$38:$C$58)))","v":98049}]
[0,0,0,0,0,0,0,0,0,318,72,54,36,0,0,0,0,0,0,0,6,38004,{"$f":"SUM(A43:U43*(TRANSPOSE(CostCalculation!$D$38:$D$58)))","v":274320},{"$f":"V43+SUM(A43:U43*(TRANSPOSE(CostCalculation!$C$38:$C$58)))","v":196098}]
[0,0,0,0,0,0,0,0,0,53,12,9,6,0,0,0,0,0,0,0,1,6334,{"$f":"SUM(A44:U44*(TRANSPOSE(CostCalculation!$D$38:$D$58)))","v":45720},{"$f":"V44+SUM(A44:U44*(TRANSPOSE(CostCalculation!$C$38:$C$58)))","v":32683}]
[0,0,0,0,0,0,0,0,0,106,24,18,12,0,0,0,0,0,0,0,2,12668,{"$f":"SUM(A45:U45*(TRANSPOSE(CostCalculation!$D$38:$D$58)))","v":91440},{"$f":"V45+SUM(A45:U45*(TRANSPOSE(CostCalculation!$C$38:$C$58)))","v":65366}]
[0,0,0,0,0,0,0,0,0,530,120,90,60,0,0,0,0,0,0,0,10,63340,{"$f":"SUM(A46:U46*(TRANSPOSE(CostCalculation!$D$38:$D$58)))","v":457200},{"$f":"V46+SUM(A46:U46*(TRANSPOSE(CostCalculation!$C$38:$C$58)))","v":326830}]
[0,0,0,0,0,0,0,0,0,106,24,18,12,0,0,0,0,0,0,0,2,12668,{"$f":"SUM(A47:U47*(TRANSPOSE(CostCalculation!$D$38:$D$58)))","v":91440},{"$f":"V47+SUM(A47:U47*(TRANSPOSE(CostCalculation!$C$38:$C$58)))","v":65366}]
[0,0,0,0,0,0,0,0,0,371,84,63,42,0,0,0,0,0,0,0,7,44338,{"$f":"SUM(A48:U48*(TRANSPOSE(CostCalculation!$D$38:$D$58)))","v":320040},{"$f":"V48+SUM(A48:U48*(TRANSPOSE(CostCalculation!$C$38:$C$58)))","v":228781}]
[0,0,0,0,0,0,0,0,0,318,72,54,36,0,0,0,0,0,0,0,6,38004,{"$f":"SUM(A49:U49*(TRANSPOSE(CostCalculation!$D$38:$D$58)))","v":274320},{"$f":"V49+SUM(A49:U49*(TRANSPOSE(CostCalculation!$C$38:$C$58)))","v":196098}]
[0,0,0,0,0,0,0,0,0,53,12,9,6,0,0,0,0,0,0,0,1,6334,{"$f":"SUM(A50:U50*(TRANSPOSE(CostCalculation!$D$38:$D$58)))","v":45720},{"$f":"V50+SUM(A50:U50*(TRANSPOSE(CostCalculation!$C$38:$C$58)))","v":32683}]
[0,0,0,0,0,0,0,0,0,212,48,36,24,0,0,0,0,0,0,0,4,25336,{"$f":"SUM(A51:U51*(TRANSPOSE(CostCalculation!$D$38:$D$58)))","v":182880},{"$f":"V51+SUM(A51:U51*(TRANSPOSE(CostCalculation!$C$38:$C$58)))","v":130732}]
[0,0,0,0,0,0,0,0,0,424,96,72,48,0,0,0,0,0,0,0,8,50672,{"$f":"SUM(A52:U52*(TRANSPOSE(CostCalculation!$D$38:$D$58)))","v":365760},{"$f":"V52+SUM(A52:U52*(TRANSPOSE(CostCalculation!$C$38:$C$58)))","v":261464}]
[0,0,0,0,0,0,0,0,0,212,48,36,24,0,0,0,0,0,0,0,4,25336,{"$f":"SUM(A53:U53*(TRANSPOSE(CostCalculation!$D$38:$D$58)))","v":182880},{"$f":"V53+SUM(A53:U53*(TRANSPOSE(CostCalculation!$C$38:$C$58)))","v":130732}]
[0,0,0,0,0,0,0,0,0,212,48,36,24,0,0,0,0,0,0,0,4,25336,{"$f":"SUM(A54:U54*(TRANSPOSE(CostCalculation!$D$38:$D$58)))","v":182880},{"$f":"V54+SUM(A54:U54*(TRANSPOSE(CostCalculation!$C$38:$C$58)))","v":130732}]
[0,0,0,0,0,0,0,0,0,212,48,36,24,0,0,0,0,0,0,0,4,25336,{"$f":"SUM(A55:U55*(TRANSPOSE(CostCalculation!$D$38:$D$58)))","v":182880},{"$f":"V55+SUM(A55:U55*(TRANSPOSE(CostCalculation!$C$38:$C$58)))","v":130732}]
[0,0,0,0,0,0,0,0,0,53,12,9,6,0,0,0,0,0,0,0,1,6334,{"$f":"SUM(A56:U56*(TRANSPOSE(CostCalculation!$D$38:$D$58)))","v":45720},{"$f":"V56+SUM(A56:U56*(TRANSPOSE(CostCalculation!$C$38:$C$58)))","v":32683}]
[0,0,0,0,0,0,0,0,0,53,12,9,6,0,0,0,0,0,0,0,1,6334,{"$f":"SUM(A57:U57*(TRANSPOSE(CostCalculation!$D$38:$D$58)))","v":45720},{"$f":"V57+SUM(A57:U57*(TRANSPOSE(CostCalculation!$C$38:$C$58)))","v":32683}]
[0,0,0,0,0,0,0,0,0,159,36,27,18,0,0,0,0,0,0,0,3,19002,{"$f":"SUM(A58:U58*(TRANSPOSE(CostCalculation!$D$38:$D$58)))","v":137160},{"$f":"V58+SUM(A58:U58*(TRANSPOSE(CostCalculation!$C$38:$C$58)))","v":98049}]
[0,0,0,0,0,0,0,0,0,212,48,36,24,0,0,0,0,0,0,0,4,25336,{"$f":"SUM(A59:U59*(TRANSPOSE(CostCalculation!$D$38:$D$58)))","v":182880},{"$f":"V59+SUM(A59:U59*(TRANSPOSE(CostCalculation!$C$38:$C$58)))","v":130732}]
[0,0,0,0,0,0,0,0,0,318,72,54,36,0,0,0,0,0,0,0,6,38004,{"$f":"SUM(A60:U60*(TRANSPOSE(CostCalculation!$D$38:$D$58)))","v":274320},{"$f":"V60+SUM(A60:U60*(TRANSPOSE(CostCalculation!$C$38:$C$58)))","v":196098}]
[0,0,0,0,0,0,0,0,0,318,72,54,36,0,0,0,0,0,0,0,6,38004,{"$f":"SUM(A61:U61*(TRANSPOSE(CostCalculation!$D$38:$D$58)))","v":274320},{"$f":"V61+SUM(A61:U61*(TRANSPOSE(CostCalculation!$C$38:$C$58)))","v":196098}]
[0,0,0,0,0,0,0,0,0,106,24,18,12,0,0,0,0,0,0,0,2,12668,{"$f":"SUM(A62:U62*(TRANSPOSE(CostCalculation!$D$38:$D$58)))","v":91440},{"$f":"V62+SUM(A62:U62*(TRANSPOSE(CostCalculation!$C$38:$C$58)))","v":65366}]
[0,0,0,0,0,0,0,0,0,159,36,27,18,0,0,0,0,0,0,0,3,19002,{"$f":"SUM(A63:U63*(TRANSPOSE(CostCalculation!$D$38:$D$58)))","v":137160},{"$f":"V63+SUM(A63:U63*(TRANSPOSE(CostCalculation!$C$38:$C$58)))","v":98049}]
[0,0,0,0,0,0,0,0,0,159,36,27,18,0,0,0,0,0,0,0,3,19002,{"$f":"SUM(A64:U64*(TRANSPOSE(CostCalculation!$D$38:$D$58)))","v":137160},{"$f":"V64+SUM(A64:U64*(TRANSPOSE(CostCalculation!$C$38:$C$58)))","v":98049}]
[0,0,0,0,0,0,0,0,0,106,24,18,12,0,0,0,0,0,0,0,2,12668,{"$f":"SUM(A65:U65*(TRANSPOSE(CostCalculation!$D$38:$D$58)))","v":91440},{"$f":"V65+SUM(A65:U65*(TRANSPOSE(CostCalculation!$C$38:$C$58)))","v":65366}]
[0,0,0,0,0,0,0,0,0,212,48,36,24,0,0,0,0,0,0,0,4,25336,{"$f":"SUM(A66:U66*(TRANSPOSE(CostCalculation!$D$38:$D$58)))","v":182880},{"$f":"V66+SUM(A66:U66*(TRANSPOSE(CostCalculation!$C$38:$C$58)))","v":130732}]
[0,0,0,0,0,0,0,0,0,106,24,18,12,0,0,0,0,0,0,0,2,12668,{"$f":"SUM(A67:U67*(TRANSPOSE(CostCalculation!$D$38:$D$58)))","v":91440},{"$f":"V67+SUM(A67:U67*(TRANSPOSE(CostCalculation!$C$38:$C$58)))","v":65366}]
[0,0,0,0,0,0,0,0,0,265,60,45,30,0,0,0,0,0,0,0,5,31670,{"$f":"SUM(A68:U68*(TRANSPOSE(CostCalculation!$D$38:$D$58)))","v":228600},{"$f":"V68+SUM(A68:U68*(TRANSPOSE(CostCalculation!$C$38:$C$58)))","v":163415}]
[0,0,0,0,0,0,0,0,0,265,60,45,30,0,0,0,0,0,0,0,5,31670,{"$f":"SUM(A69:U69*(TRANSPOSE(CostCalculation!$D$38:$D$58)))","v":228600},{"$f":"V69+SUM(A69:U69*(TRANSPOSE(CostCalculation!$C$38:$C$58)))","v":163415}]
[0,0,0,0,0,0,0,0,0,106,24,18,12,0,0,0,0,0,0,0,2,12668,{"$f":"SUM(A70:U70*(TRANSPOSE(CostCalculation!$D$38:$D$58)))","v":91440},{"$f":"V70+SUM(A70:U70*(TRANSPOSE(CostCalculation!$C$38:$C$58)))","v":65366}]
[0,0,0,0,0,0,0,0,0,371,84,63,42,0,0,0,0,0,0,0,7,44338,{"$f":"SUM(A71:U71*(TRANSPOSE(CostCalculation!$D$38:$D$58)))","v":320040},{"$f":"V71+SUM(A71:U71*(TRANSPOSE(CostCalculation!$C$38:$C$58)))","v":228781}]
[0,0,0,0,0,0,0,0,0,159,36,27,18,0,0,0,0,0,0,0,3,19002,{"$f":"SUM(A72:U72*(TRANSPOSE(CostCalculation!$D$38:$D$58)))","v":137160},{"$f":"V72+SUM(A72:U72*(TRANSPOSE(CostCalculation!$C$38:$C$58)))","v":98049}]
[0,0,0,0,0,0,0,0,0,53,12,9,6,0,0,0,0,0,0,0,1,6334,{"$f":"SUM(A73:U73*(TRANSPOSE(CostCalculation!$D$38:$D$58)))","v":45720},{"$f":"V73+SUM(A73:U73*(TRANSPOSE(CostCalculation!$C$38:$C$58)))","v":32683}]
[0,0,0,0,0,0,0,0,0,212,48,36,24,0,0,0,0,0,0,0,4,25336,{"$f":"SUM(A74:U74*(TRANSPOSE(CostCalculation!$D$38:$D$58)))","v":182880},{"$f":"V74+SUM(A74:U74*(TRANSPOSE(CostCalculation!$C$38:$C$58)))","v":130732}]
[0,0,0,0,0,0,0,0,0,53,12,9,6,0,0,0,0,0,0,0,1,6334,{"$f":"SUM(A75:U75*(TRANSPOSE(CostCalculation!$D$38:$D$58)))","v":45720},{"$f":"V75+SUM(A75:U75*(TRANSPOSE(CostCalculation!$C$38:$C$58)))","v":32683}]
[0,0,0,0,0,0,0,0,0,212,48,36,24,0,0,0,0,0,0,0,4,25336,{"$f":"SUM(A76:U76*(TRANSPOSE(CostCalculation!$D$38:$D$58)))","v":182880},{"$f":"V76+SUM(A76:U76*(TRANSPOSE(CostCalculation!$C$38:$C$58)))","v":130732}]
[0,0,0,0,0,0,0,0,0,212,48,36,24,0,0,0,0,0,0,0,4,25336,{"$f":"SUM(A77:U77*(TRANSPOSE(CostCalculation!$D$38:$D$58)))","v":182880},{"$f":"V77+SUM(A77:U77*(TRANSPOSE(CostCalculation!$C$38:$C$58)))","v":130732}]
[0,0,0,0,0,0,0,0,0,53,12,9,6,0,0,0,0,0,0,0,1,6334,{"$f":"SUM(A78:U78*(TRANSPOSE(CostCalculation!$D$38:$D$58)))","v":45720},{"$f":"V78+SUM(A78:U78*(TRANSPOSE(CostCalculation!$C$38:$C$58)))","v":32683}]
[0,0,0,0,0,0,0,0,0,106,24,18,12,0,0,0,0,0,0,0,2,12668,{"$f":"SUM(A79:U79*(TRANSPOSE(CostCalculation!$D$38:$D$58)))","v":91440},{"$f":"V79+SUM(A79:U79*(TRANSPOSE(CostCalculation!$C$38:$C$58)))","v":65366}]
[0,0,0,0,0,0,0,0,0,106,24,18,12,0,0,0,0,0,0,0,2,12668,{"$f":"SUM(A80:U80*(TRANSPOSE(CostCalculation!$D$38:$D$58)))","v":91440},{"$f":"V80+SUM(A80:U80*(TRANSPOSE(CostCalculation!$C$38:$C$58)))","v":65366}]
[0,0,0,0,0,0,0,0,0,159,36,27,18,0,0,0,0,0,0,0,3,19002,{"$f":"SUM(A81:U81*(TRANSPOSE(CostCalculation!$D$38:$D$58)))","v":137160},{"$f":"V81+SUM(A81:U81*(TRANSPOSE(CostCalculation!$C$38:$C$58)))","v":98049}]
[0,0,0,0,0,0,0,0,0,371,84,63,42,0,0,0,0,0,0,0,7,44338,{"$f":"SUM(A82:U82*(TRANSPOSE(CostCalculation!$D$38:$D$58)))","v":320040},{"$f":"V82+SUM(A82:U82*(TRANSPOSE(CostCalculation!$C$38:$C$58)))","v":228781}]
[0,0,0,0,0,0,0,0,0,106,24,18,12,0,0,0,0,0,0,0,2,12668,{"$f":"SUM(A83:U83*(TRANSPOSE(CostCalculation!$D$38:$D$58)))","v":91440},{"$f":"V83+SUM(A83:U83*(TRANSPOSE(CostCalculation!$C$38:$C$58)))","v":65366}]
[0,0,0,0,0,0,0,0,0,106,24,18,12,0,0,0,0,0,0,0,2,12668,{"$f":"SUM(A84:U84*(TRANSPOSE(CostCalculation!$D$38:$D$58)))","v":91440},{"$f":"V84+SUM(A84:U84*(TRANSPOSE(CostCalculation!$C$38:$C$58)))","v":65366}]
[0,0,0,0,0,0,0,0,0,53,12,9,6,0,0,0,0,0,0,0,1,6334,{"$f":"SUM(A85:U85*(TRANSPOSE(CostCalculation!$D$38:$D$58)))","v":45720},{"$f":"V85+SUM(A85:U85*(TRANSPOSE(CostCalculation!$C$38:$C$58)))","v":32683}]
[0,0,0,0,0,0,0,0,0,53,12,9,6,0,0,0,0,0,0,0,1,6334,{"$f":"SUM(A86:U86*(TRANSPOSE(CostCalculation!$D$38:$D$58)))","v":45720},{"$f":"V86+SUM(A86:U86*(TRANSPOSE(CostCalculation!$C$38:$C$58)))","v":32683}]
[0,0,0,0,0,0,0,0,0,477,108,81,54,0,0,0,0,0,0,0,9,57006,{"$f":"SUM(A87:U87*(TRANSPOSE(CostCalculation!$D$38:$D$58)))","v":411480},{"$f":"V87+SUM(A87:U87*(TRANSPOSE(CostCalculation!$C$38:$C$58)))","v":294147}]
[0,0,0,0,0,0,0,0,0,159,36,27,18,0,0,0,0,0,0,0,3,19002,{"$f":"SUM(A88:U88*(TRANSPOSE(CostCalculation!$D$38:$D$58)))","v":137160},{"$f":"V88+SUM(A88:U88*(TRANSPOSE(CostCalculation!$C$38:$C$58)))","v":98049}]
[0,0,0,0,0,0,0,0,0,53,12,9,6,0,0,0,0,0,0,0,1,6334,{"$f":"SUM(A89:U89*(TRANSPOSE(CostCalculation!$D$38:$D$58)))","v":45720},{"$f":"V89+SUM(A89:U89*(TRANSPOSE(CostCalculation!$C$38:$C$58)))","v":32683}]
[0,0,0,0,0,0,0,0,0,159,36,27,18,0,0,0,0,0,0,0,3,19002,{"$f":"SUM(A90:U90*(TRANSPOSE(CostCalculation!$D$38:$D$58)))","v":137160},{"$f":"V90+SUM(A90:U90*(TRANSPOSE(CostCalculation!$C$38:$C$58)))","v":98049}]
[0,0,0,0,0,0,0,0,0,106,24,18,12,0,0,0,0,0,0,0,2,12668,{"$f":"SUM(A91:U91*(TRANSPOSE(CostCalculation!$D$38:$D$58)))","v":91440},{"$f":"V91+SUM(A91:U91*(TRANSPOSE(CostCalculation!$C$38:$C$58)))","v":65366}]
[0,0,0,0,0,0,0,0,0,159,36,27,18,0,0,0,0,0,0,0,3,19002,{"$f":"SUM(A92:U92*(TRANSPOSE(CostCalculation!$D$38:$D$58)))","v":137160},{"$f":"V92+SUM(A92:U92*(TRANSPOSE(CostCalculation!$C$38:$C$58)))","v":98049}]
[0,0,0,0,0,0,0,0,0,159,36,27,18,0,0,0,0,0,0,0,3,19002,{"$f":"SUM(A93:U93*(TRANSPOSE(CostCalculation!$D$38:$D$58)))","v":137160},{"$f":"V93+SUM(A93:U93*(TRANSPOSE(CostCalculation!$C$38:$C$58)))","v":98049}]
[0,0,0,0,0,0,0,0,0,159,36,27,18,0,0,0,0,0,0,0,3,19002,{"$f":"SUM(A94:U94*(TRANSPOSE(CostCalculation!$D$38:$D$58)))","v":137160},{"$f":"V94+SUM(A94:U94*(TRANSPOSE(CostCalculation!$C$38:$C$58)))","v":98049}]
[0,0,0,0,0,0,0,0,0,212,48,36,24,0,0,0,0,0,0,0,4,25336,{"$f":"SUM(A95:U95*(TRANSPOSE(CostCalculation!$D$38:$D$58)))","v":182880},{"$f":"V95+SUM(A95:U95*(TRANSPOSE(CostCalculation!$C$38:$C$58)))","v":130732}]
[0,0,0,0,0,0,0,0,0,159,36,27,18,0,0,0,0,0,0,0,3,19002,{"$f":"SUM(A96:U96*(TRANSPOSE(CostCalculation!$D$38:$D$58)))","v":137160},{"$f":"V96+SUM(A96:U96*(TRANSPOSE(CostCalculation!$C$38:$C$58)))","v":98049}]
[0,0,0,0,0,0,0,0,0,212,48,36,24,0,0,0,0,0,0,0,4,25336,{"$f":"SUM(A97:U97*(TRANSPOSE(CostCalculation!$D$38:$D$58)))","v":182880},{"$f":"V97+SUM(A97:U97*(TRANSPOSE(CostCalculation!$C$38:$C$58)))","v":130732}]
[0,0,0,0,0,0,0,0,0,424,96,72,48,0,0,0,0,0,0,0,8,50672,{"$f":"SUM(A98:U98*(TRANSPOSE(CostCalculation!$D$38:$D$58)))","v":365760},{"$f":"V98+SUM(A98:U98*(TRANSPOSE(CostCalculation!$C$38:$C$58)))","v":261464}]
[0,0,0,0,0,0,0,0,0,265,60,45,30,0,0,0,0,0,0,0,5,31670,{"$f":"SUM(A99:U99*(TRANSPOSE(CostCalculation!$D$38:$D$58)))","v":228600},{"$f":"V99+SUM(A99:U99*(TRANSPOSE(CostCalculation!$C$38:$C$58)))","v":163415}]
[0,0,0,0,0,0,0,0,0,53,12,9,6,0,0,0,0,0,0,0,1,6334,{"$f":"SUM(A100:U100*(TRANSPOSE(CostCalculation!$D$38:$D$58)))","v":45720},{"$f":"V100+SUM(A100:U100*(TRANSPOSE(CostCalculation!$C$38:$C$58)))","v":32683}]
[0,0,0,0,0,0,0,0,0,371,84,63,42,0,0,0,0,0,0,0,7,44338,{"$f":"SUM(A101:U101*(TRANSPOSE(CostCalculation!$D$38:$D$58)))","v":320040},{"$f":"V101+SUM(A101:U101*(TRANSPOSE(CostCalculation!$C$38:$C$58)))","v":228781}]
[0,0,0,0,0,0,0,0,0,159,36,27,18,0,0,0,0,0,0,0,3,19002,{"$f":"SUM(A102:U102*(TRANSPOSE(CostCalculation!$D$38:$D$58)))","v":137160},{"$f":"V102+SUM(A102:U102*(TRANSPOSE(CostCalculation!$C$38:$C$58)))","v":98049}]
[0,0,0,0,0,0,0,0,0,212,48,36,24,0,0,0,0,0,0,0,4,25336,{"$f":"SUM(A103:U103*(TRANSPOSE(CostCalculation!$D$38:$D$58)))","v":182880},{"$f":"V103+SUM(A103:U103*(TRANSPOSE(CostCalculation!$C$38:$C$58)))","v":130732}]
[0,0,0,0,0,0,0,0,0,159,36,27,18,0,0,0,0,0,0,0,3,19002,{"$f":"SUM(A104:U104*(TRANSPOSE(CostCalculation!$D$38:$D$58)))","v":137160},{"$f":"V104+SUM(A104:U104*(TRANSPOSE(CostCalculation!$C$38:$C$58)))","v":98049}]
[0,0,0,0,0,0,0,0,0,318,72,54,36,0,0,0,0,0,0,0,6,38004,{"$f":"SUM(A105:U105*(TRANSPOSE(CostCalculation!$D$38:$D$58)))","v":274320},{"$f":"V105+SUM(A105:U105*(TRANSPOSE(CostCalculation!$C$38:$C$58)))","v":196098}]
[0,0,0,0,0,0,0,0,0,159,36,27,18,0,0,0,0,0,0,0,3,19002,{"$f":"SUM(A106:U106*(TRANSPOSE(CostCalculation!$D$38:$D$58)))","v":137160},{"$f":"V106+SUM(A106:U106*(TRANSPOSE(CostCalculation!$C$38:$C$58)))","v":98049}]
[0,0,0,0,0,0,0,0,0,265,60,45,30,0,0,0,0,0,0,0,5,31670,{"$f":"SUM(A107:U107*(TRANSPOSE(CostCalculation!$D$38:$D$58)))","v":228600},{"$f":"V107+SUM(A107:U107*(TRANSPOSE(CostCalculation!$C$38:$C$58)))","v":163415}]
[0,0,0,0,0,0,0,0,0,106,24,18,12,0,0,0,0,0,0,0,2,12668,{"$f":"SUM(A108:U108*(TRANSPOSE(CostCalculation!$D$38:$D$58)))","v":91440},{"$f":"V108+SUM(A108:U108*(TRANSPOSE(CostCalculation!$C$38:$C$58)))","v":65366}]
[0,0,0,0,0,0,0,0,0,159,36,27,18,0,0,0,0,0,0,0,3,19002,{"$f":"SUM(A109:U109*(TRANSPOSE(CostCalculation!$D$38:$D$58)))","v":137160},{"$f":"V109+SUM(A109:U109*(TRANSPOSE(CostCalculation!$C$38:$C$58)))","v":98049}]
[0,0,0,0,0,0,0,0,0,318,72,54,36,0,0,0,0,0,0,0,6,38004,{"$f":"SUM(A110:U110*(TRANSPOSE(CostCalculation!$D$38:$D$58)))","v":274320},{"$f":"V110+SUM(A110:U110*(TRANSPOSE(CostCalculation!$C$38:$C$58)))","v":196098}]
[0,0,0,0,0,0,0,0,0,53,12,9,6,0,0,0,0,0,0,0,1,6334,{"$f":"SUM(A111:U111*(TRANSPOSE(CostCalculation!$D$38:$D$58)))","v":45720},{"$f":"V111+SUM(A111:U111*(TRANSPOSE(CostCalculation!$C$38:$C$58)))","v":32683}]
[0,0,0,0,0,0,0,0,0,106,24,18,12,0,0,0,0,0,0,0,2,12668,{"$f":"SUM(A112:U112*(TRANSPOSE(CostCalculation!$D$38:$D$58)))","v":91440},{"$f":"V112+SUM(A112:U112*(TRANSPOSE(CostCalculation!$C$38:$C$58)))","v":65366}]
[0,0,0,0,0,0,0,0,0,159,36,27,18,0,0,0,0,0,0,0,3,19002,{"$f":"SUM(A113:U113*(TRANSPOSE(CostCalculation!$D$38:$D$58)))","v":137160},{"$f":"V113+SUM(A113:U113*(TRANSPOSE(CostCalculation!$C$38:$C$58)))","v":98049}]
[0,0,0,0,0,0,0,0,0,159,36,27,18,0,0,0,0,0,0,0,3,19002,{"$f":"SUM(A114:U114*(TRANSPOSE(CostCalculation!$D$38:$D$58)))","v":137160},{"$f":"V114+SUM(A114:U114*(TRANSPOSE(CostCalculation!$C$38:$C$58)))","v":98049}]
[0,0,0,0,0,0,0,0,0,318,72,54,36,0,0,0,0,0,0,0,6,38004,{"$f":"SUM(A115:U115*(TRANSPOSE(CostCalculation!$D$38:$D$58)))","v":274320},{"$f":"V115+SUM(A115:U115*(TRANSPOSE(CostCalculation!$C$38:$C$58)))","v":196098}]
[0,0,0,0,0,0,0,0,0,53,12,9,6,0,0,0,0,0,0,0,1,6334,{"$f":"SUM(A116:U116*(TRANSPOSE(CostCalculation!$D$38:$D$58)))","v":45720},{"$f":"V116+SUM(A116:U116*(TRANSPOSE(CostCalculation!$C$38:$C$58)))","v":32683}]
[0,0,0,0,0,0,0,0,0,159,36,27,18,0,0,0,0,0,0,0,3,19002,{"$f":"SUM(A117:U117*(TRANSPOSE(CostCalculation!$D$38:$D$58)))","v":137160},{"$f":"V117+SUM(A117:U117*(TRANSPOSE(CostCalculation!$C$38:$C$58)))","v":98049}]
[0,0,0,0,0,0,0,0,0,106,24,18,12,0,0,0,0,0,0,0,2,12668,{"$f":"SUM(A118:U118*(TRANSPOSE(CostCalculation!$D$38:$D$58)))","v":91440},{"$f":"V118+SUM(A118:U118*(TRANSPOSE(CostCalculation!$C$38:$C$58)))","v":65366}]
[0,0,0,0,0,0,0,0,0,106,24,18,12,0,0,0,0,0,0,0,2,12668,{"$f":"SUM(A119:U119*(TRANSPOSE(CostCalculation!$D$38:$D$58)))","v":91440},{"$f":"V119+SUM(A119:U119*(TRANSPOSE(CostCalculation!$C$38:$C$58)))","v":65366}]
[0,0,0,0,0,0,0,0,0,53,12,9,6,0,0,0,0,0,0,0,1,6334,{"$f":"SUM(A120:U120*(TRANSPOSE(CostCalculation!$D$38:$D$58)))","v":45720},{"$f":"V120+SUM(A120:U120*(TRANSPOSE(CostCalculation!$C$38:$C$58)))","v":32683}]
[0,0,0,0,0,0,0,0,0,477,108,81,54,0,0,0,0,0,0,0,9,57006,{"$f":"SUM(A121:U121*(TRANSPOSE(CostCalculation!$D$38:$D$58)))","v":411480},{"$f":"V121+SUM(A121:U121*(TRANSPOSE(CostCalculation!$C$38:$C$58)))","v":294147}]
[0,0,0,0,0,0,0,0,0,265,60,45,30,0,0,0,0,0,0,0,5,31670,{"$f":"SUM(A122:U122*(TRANSPOSE(CostCalculation!$D$38:$D$58)))","v":228600},{"$f":"V122+SUM(A122:U122*(TRANSPOSE(CostCalculation!$C$38:$C$58)))","v":163415}]
[0,0,0,0,0,0,0,0,0,371,84,63,42,0,0,0,0,0,0,0,7,44338,{"$f":"SUM(A123:U123*(TRANSPOSE(CostCalculation!$D$38:$D$58)))","v":320040},{"$f":"V123+SUM(A123:U123*(TRANSPOSE(CostCalculation!$C$38:$C$58)))","v":228781}]
[0,0,0,0,0,0,0,0,0,318,72,54,36,0,0,0,0,0,0,0,6,38004,{"$f":"SUM(A124:U124*(TRANSPOSE(CostCalculation!$D$38:$D$58)))","v":274320},{"$f":"V124+SUM(A124:U124*(TRANSPOSE(CostCalculation!$C$38:$C$58)))","v":196098}]
[0,0,0,0,0,0,0,0,0,212,48,36,24,0,0,0,0,0,0,0,4,25336,{"$f":"SUM(A125:U125*(TRANSPOSE(CostCalculation!$D$38:$D$58)))","v":182880},{"$f":"V125+SUM(A125:U125*(TRANSPOSE(CostCalculation!$C$38:$C$58)))","v":130732}]
[0,0,0,0,0,0,0,0,0,318,72,54,36,0,0,0,0,0,0,0,6,38004,{"$f":"SUM(A126:U126*(TRANSPOSE(CostCalculation!$D$38:$D$58)))","v":274320},{"$f":"V126+SUM(A126:U126*(TRANSPOSE(CostCalculation!$C$38:$C$58)))","v":196098}]
[0,0,0,0,0,0,0,0,0,795,180,135,90,0,0,0,0,0,0,0,15,95010,{"$f":"SUM(A127:U127*(TRANSPOSE(CostCalculation!$D$38:$D$58)))","v":685800},{"$f":"V127+SUM(A127:U127*(TRANSPOSE(CostCalculation!$C$38:$C$58)))","v":490245}]
[0,0,0,0,0,0,0,0,0,159,36,27,18,0,0,0,0,0,0,0,3,19002,{"$f":"SUM(A128:U128*(TRANSPOSE(CostCalculation!$D$38:$D$58)))","v":137160},{"$f":"V128+SUM(A128:U128*(TRANSPOSE(CostCalculation!$C$38:$C$58)))","v":98049}]
[0,0,0,0,0,0,0,0,0,106,24,18,12,0,0,0,0,0,0,0,2,12668,{"$f":"SUM(A129:U129*(TRANSPOSE(CostCalculation!$D$38:$D$58)))","v":91440},{"$f":"V129+SUM(A129:U129*(TRANSPOSE(CostCalculation!$C$38:$C$58)))","v":65366}]
[0,0,0,0,0,0,0,0,0,159,36,27,18,0,0,0,0,0,0,0,3,19002,{"$f":"SUM(A130:U130*(TRANSPOSE(CostCalculation!$D$38:$D$58)))","v":137160},{"$f":"V130+SUM(A130:U130*(TRANSPOSE(CostCalculation!$C$38:$C$58)))","v":98049}]
[0,0,0,0,0,0,0,0,0,53,12,9,6,0,0,0,0,0,0,0,1,6334,{"$f":"SUM(A131:U131*(TRANSPOSE(CostCalculation!$D$38:$D$58)))","v":45720},{"$f":"V131+SUM(A131:U131*(TRANSPOSE(CostCalculation!$C$38:$C$58)))","v":32683}]
[0,0,0,0,0,0,0,0,0,371,84,63,42,0,0,0,0,0,0,0,7,44338,{"$f":"SUM(A132:U132*(TRANSPOSE(CostCalculation!$D$38:$D$58)))","v":320040},{"$f":"V132+SUM(A132:U132*(TRANSPOSE(CostCalculation!$C$38:$C$58)))","v":228781}]
[0,0,0,0,0,0,0,0,0,265,60,45,30,0,0,0,0,0,0,0,5,31670,{"$f":"SUM(A133:U133*(TRANSPOSE(CostCalculation!$D$38:$D$58)))","v":228600},{"$f":"V133+SUM(A133:U133*(TRANSPOSE(CostCalculation!$C$38:$C$58)))","v":163415}]
[0,0,0,0,0,0,0,0,0,106,24,18,12,0,0,0,0,0,0,0,2,12668,{"$f":"SUM(A134:U134*(TRANSPOSE(CostCalculation!$D$38:$D$58)))","v":91440},{"$f":"V134+SUM(A134:U134*(TRANSPOSE(CostCalculation!$C$38:$C$58)))","v":65366}]
[0,0,0,0,0,0,0,0,0,159,36,27,18,0,0,0,0,0,0,0,3,19002,{"$f":"SUM(A135:U135*(TRANSPOSE(CostCalculation!$D$38:$D$58)))","v":137160},{"$f":"V135+SUM(A135:U135*(TRANSPOSE(CostCalculation!$C$38:$C$58)))","v":98049}]
[0,0,0,0,0,0,0,0,0,212,48,36,24,0,0,0,0,0,0,0,4,25336,{"$f":"SUM(A136:U136*(TRANSPOSE(CostCalculation!$D$38:$D$58)))","v":182880},{"$f":"V136+SUM(A136:U136*(TRANSPOSE(CostCalculation!$C$38:$C$58)))","v":130732}]
[0,0,0,0,0,0,0,0,0,318,72,54,36,0,0,0,0,0,0,0,6,38004,{"$f":"SUM(A137:U137*(TRANSPOSE(CostCalculation!$D$38:$D$58)))","v":274320},{"$f":"V137+SUM(A137:U137*(TRANSPOSE(CostCalculation!$C$38:$C$58)))","v":196098}]
[0,0,0,0,0,0,0,0,0,106,24,18,12,0,0,0,0,0,0,0,2,12668,{"$f":"SUM(A138:U138*(TRANSPOSE(CostCalculation!$D$38:$D$58)))","v":91440},{"$f":"V138+SUM(A138:U138*(TRANSPOSE(CostCalculation!$C$38:$C$58)))","v":65366}]
[0,0,0,0,0,0,0,0,0,53,12,9,6,0,0,0,0,0,0,0,1,6334,{"$f":"SUM(A139:U139*(TRANSPOSE(CostCalculation!$D$38:$D$58)))","v":45720},{"$f":"V139+SUM(A139:U139*(TRANSPOSE(CostCalculation!$C$38:$C$58)))","v":32683}]
[0,0,0,0,0,0,0,0,0,159,36,27,18,0,0,0,0,0,0,0,3,19002,{"$f":"SUM(A140:U140*(TRANSPOSE(CostCalculation!$D$38:$D$58)))","v":137160},{"$f":"V140+SUM(A140:U140*(TRANSPOSE(CostCalculation!$C$38:$C$58)))","v":98049}]
[0,0,0,0,0,0,0,0,0,371,84,63,42,0,0,0,0,0,0,0,7,44338,{"$f":"SUM(A141:U141*(TRANSPOSE(CostCalculation!$D$38:$D$58)))","v":320040},{"$f":"V141+SUM(A141:U141*(TRANSPOSE(CostCalculation!$C$38:$C$58)))","v":228781}]
[0,0,0,0,0,0,0,0,0,106,24,18,12,0,0,0,0,0,0,0,2,12668,{"$f":"SUM(A142:U142*(TRANSPOSE(CostCalculation!$D$38:$D$58)))","v":91440},{"$f":"V142+SUM(A142:U142*(TRANSPOSE(CostCalculation!$C$38:$C$58)))","v":65366}]
[0,0,0,0,0,0,0,0,0,159,36,27,18,0,0,0,0,0,0,0,3,19002,{"$f":"SUM(A143:U143*(TRANSPOSE(CostCalculation!$D$38:$D$58)))","v":137160},{"$f":"V143+SUM(A143:U143*(TRANSPOSE(CostCalculation!$C$38:$C$58)))","v":98049}]
[0,0,0,0,0,0,0,0,0,159,36,27,18,0,0,0,0,0,0,0,3,19002,{"$f":"SUM(A144:U144*(TRANSPOSE(CostCalculation!$D$38:$D$58)))","v":137160},{"$f":"V144+SUM(A144:U144*(TRANSPOSE(CostCalculation!$C$38:$C$58)))","v":98049}]
[0,0,0,0,0,0,0,0,0,159,36,27,18,0,0,0,0,0,0,0,3,19002,{"$f":"SUM(A145:U145*(TRANSPOSE(CostCalculation!$D$38:$D$58)))","v":137160},{"$f":"V145+SUM(A145:U145*(TRANSPOSE(CostCalculation!$C$38:$C$58)))","v":98049}]
[0,0,0,0,0,0,0,0,0,265,60,45,30,0,0,0,0,0,0,0,5,31670,{"$f":"SUM(A146:U146*(TRANSPOSE(CostCalculation!$D$38:$D$58)))","v":228600},{"$f":"V146+SUM(A146:U146*(TRANSPOSE(CostCalculation!$C$38:$C$58)))","v":163415}]
[0,0,0,0,0,0,0,0,0,212,48,36,24,0,0,0,0,0,0,0,4,25336,{"$f":"SUM(A147:U147*(TRANSPOSE(CostCalculation!$D$38:$D$58)))","v":182880},{"$f":"V147+SUM(A147:U147*(TRANSPOSE(CostCalculation!$C$38:$C$58)))","v":130732}]
[0,0,0,0,0,0,0,0,0,371,84,63,42,0,0,0,0,0,0,0,7,44338,{"$f":"SUM(A148:U148*(TRANSPOSE(CostCalculation!$D$38:$D$58)))","v":320040},{"$f":"V148+SUM(A148:U148*(TRANSPOSE(CostCalculation!$C$38:$C$58)))","v":228781}]
[0,0,0,0,0,0,0,0,0,106,24,18,12,0,0,0,0,0,0,0,2,12668,{"$f":"SUM(A149:U149*(TRANSPOSE(CostCalculation!$D$38:$D$58)))","v":91440},{"$f":"V149+SUM(A149:U149*(TRANSPOSE(CostCalculation!$C$38:$C$58)))","v":65366}]
[0,0,0,0,0,0,0,0,0,265,60,45,30,0,0,0,0,0,0,0,5,31670,{"$f":"SUM(A150:U150*(TRANSPOSE(CostCalculation!$D$38:$D$58)))","v":228600},{"$f":"V150+SUM(A150:U150*(TRANSPOSE(CostCalculation!$C$38:$C$58)))","v":163415}]
[0,0,0,0,0,0,0,0,0,53,12,9,6,0,0,0,0,0,0,0,1,6334,{"$f":"SUM(A151:U151*(TRANSPOSE(CostCalculation!$D$38:$D$58)))","v":45720},{"$f":"V151+SUM(A151:U151*(TRANSPOSE(CostCalculation!$C$38:$C$58)))","v":32683}]
[0,0,0,0,0,0,0,0,0,371,84,63,42,0,0,0,0,0,0,0,7,44338,{"$f":"SUM(A152:U152*(TRANSPOSE(CostCalculation!$D$38:$D$58)))","v":320040},{"$f":"V152+SUM(A152:U152*(TRANSPOSE(CostCalculation!$C$38:$C$58)))","v":228781}]
[0,0,0,0,0,0,0,0,0,159,36,27,18,0,0,0,0,0,0,0,3,19002,{"$f":"SUM(A153:U153*(TRANSPOSE(CostCalculation!$D$38:$D$58)))","v":137160},{"$f":"V153+SUM(A153:U153*(TRANSPOSE(CostCalculation!$C$38:$C$58)))","v":98049}]
[0,0,0,0,0,0,0,0,0,212,48,36,24,0,0,0,0,0,0,0,4,25336,{"$f":"SUM(A154:U154*(TRANSPOSE(CostCalculation!$D$38:$D$58)))","v":182880},{"$f":"V154+SUM(A154:U154*(TRANSPOSE(CostCalculation!$C$38:$C$58)))","v":130732}]
[0,0,0,0,0,0,0,0,0,53,12,9,6,0,0,0,0,0,0,0,1,6334,{"$f":"SUM(A155:U155*(TRANSPOSE(CostCalculation!$D$38:$D$58)))","v":45720},{"$f":"V155+SUM(A155:U155*(TRANSPOSE(CostCalculation!$C$38:$C$58)))","v":32683}]
[0,0,0,0,0,0,0,0,0,106,24,18,12,0,0,0,0,0,0,0,2,12668,{"$f":"SUM(A156:U156*(TRANSPOSE(CostCalculation!$D$38:$D$58)))","v":91440},{"$f":"V156+SUM(A156:U156*(TRANSPOSE(CostCalculation!$C$38:$C$58)))","v":65366}]
[0,0,0,0,0,0,0,0,0,212,48,36,24,0,0,0,0,0,0,0,4,25336,{"$f":"SUM(A157:U157*(TRANSPOSE(CostCalculation!$D$38:$D$58)))","v":182880},{"$f":"V157+SUM(A157:U157*(TRANSPOSE(CostCalculation!$C$38:$C$58)))","v":130732}]
[0,0,0,0,0,0,0,0,0,106,24,18,12,0,0,0,0,0,0,0,2,12668,{"$f":"SUM(A158:U158*(TRANSPOSE(CostCalculation!$D$38:$D$58)))","v":91440},{"$f":"V158+SUM(A158:U158*(TRANSPOSE(CostCalculation!$C$38:$C$58)))","v":65366}]
[0,0,0,0,0,0,0,0,0,265,60,45,30,0,0,0,0,0,0,0,5,31670,{"$f":"SUM(A159:U159*(TRANSPOSE(CostCalculation!$D$38:$D$58)))","v":228600},{"$f":"V159+SUM(A159:U159*(TRANSPOSE(CostCalculation!$C$38:$C$58)))","v":163415}]
[0,0,0,0,0,0,0,0,0,371,84,63,42,0,0,0,0,0,0,0,7,44338,{"$f":"SUM(A160:U160*(TRANSPOSE(CostCalculation!$D$38:$D$58)))","v":320040},{"$f":"V160+SUM(A160:U160*(TRANSPOSE(CostCalculation!$C$38:$C$58)))","v":228781}]
[0,0,0,0,0,0,0,0,0,477,108,81,54,0,0,0,0,0,0,0,9,57006,{"$f":"SUM(A161:U161*(TRANSPOSE(CostCalculation!$D$38:$D$58)))","v":411480},{"$f":"V161+SUM(A161:U161*(TRANSPOSE(CostCalculation!$C$38:$C$58)))","v":294147}]
[0,0,0,0,0,0,0,0,0,212,48,36,24,0,0,0,0,0,0,0,4,25336,{"$f":"SUM(A162:U162*(TRANSPOSE(CostCalculation!$D$38:$D$58)))","v":182880},{"$f":"V162+SUM(A162:U162*(TRANSPOSE(CostCalculation!$C$38:$C$58)))","v":130732}]
[0,0,0,0,0,0,0,0,0,53,12,9,6,0,0,0,0,0,0,0,1,6334,{"$f":"SUM(A163:U163*(TRANSPOSE(CostCalculation!$D$38:$D$58)))","v":45720},{"$f":"V163+SUM(A163:U163*(TRANSPOSE(CostCalculation!$C$38:$C$58)))","v":32683}]
[0,0,0,0,0,0,0,0,0,212,48,36,24,0,0,0,0,0,0,0,4,25336,{"$f":"SUM(A164:U164*(TRANSPOSE(CostCalculation!$D$38:$D$58)))","v":182880},{"$f":"V164+SUM(A164:U164*(TRANSPOSE(CostCalculation!$C$38:$C$58)))","v":130732}]
[0,0,0,0,0,0,0,0,0,265,60,45,30,0,0,0,0,0,0,0,5,31670,{"$f":"SUM(A165:U165*(TRANSPOSE(CostCalculation!$D$38:$D$58)))","v":228600},{"$f":"V165+SUM(A165:U165*(TRANSPOSE(CostCalculation!$C$38:$C$58)))","v":163415}]
[0,0,0,0,0,0,0,0,0,159,36,27,18,0,0,0,0,0,0,0,3,19002,{"$f":"SUM(A166:U166*(TRANSPOSE(CostCalculation!$D$38:$D$58)))","v":137160},{"$f":"V166+SUM(A166:U166*(TRANSPOSE(CostCalculation!$C$38:$C$58)))","v":98049}]
[0,0,0,0,0,0,0,0,0,265,60,45,30,0,0,0,0,0,0,0,5,31670,{"$f":"SUM(A167:U167*(TRANSPOSE(CostCalculation!$D$38:$D$58)))","v":228600},{"$f":"V167+SUM(A167:U167*(TRANSPOSE(CostCalculation!$C$38:$C$58)))","v":163415}]
[0,0,0,0,0,0,0,0,0,212,48,36,24,0,0,0,0,0,0,0,4,25336,{"$f":"SUM(A168:U168*(TRANSPOSE(CostCalculation!$D$38:$D$58)))","v":182880},{"$f":"V168+SUM(A168:U168*(TRANSPOSE(CostCalculation!$C$38:$C$58)))","v":130732}]
[0,0,0,0,0,0,0,0,0,424,96,72,48,0,0,0,0,0,0,0,8,50672,{"$f":"SUM(A169:U169*(TRANSPOSE(CostCalculation!$D$38:$D$58)))","v":365760},{"$f":"V169+SUM(A169:U169*(TRANSPOSE(CostCalculation!$C$38:$C$58)))","v":261464}]
[0,0,0,0,0,0,0,0,0,159,36,27,18,0,0,0,0,0,0,0,3,19002,{"$f":"SUM(A170:U170*(TRANSPOSE(CostCalculation!$D$38:$D$58)))","v":137160},{"$f":"V170+SUM(A170:U170*(TRANSPOSE(CostCalculation!$C$38:$C$58)))","v":98049}]
[0,0,0,0,0,0,0,0,0,265,60,45,30,0,0,0,0,0,0,0,5,31670,{"$f":"SUM(A171:U171*(TRANSPOSE(CostCalculation!$D$38:$D$58)))","v":228600},{"$f":"V171+SUM(A171:U171*(TRANSPOSE(CostCalculation!$C$38:$C$58)))","v":163415}]
[0,0,0,0,0,0,0,0,0,53,12,9,6,0,0,0,0,0,0,0,1,6334,{"$f":"SUM(A172:U172*(TRANSPOSE(CostCalculation!$D$38:$D$58)))","v":45720},{"$f":"V172+SUM(A172:U172*(TRANSPOSE(CostCalculation!$C$38:$C$58)))","v":32683}]
[0,0,0,0,0,0,0,0,0,106,24,18,12,0,0,0,0,0,0,0,2,12668,{"$f":"SUM(A173:U173*(TRANSPOSE(CostCalculation!$D$38:$D$58)))","v":91440},{"$f":"V173+SUM(A173:U173*(TRANSPOSE(CostCalculation!$C$38:$C$58)))","v":65366}]
[0,0,0,0,0,0,0,0,0,106,24,18,12,0,0,0,0,0,0,0,2,12668,{"$f":"SUM(A174:U174*(TRANSPOSE(CostCalculation!$D$38:$D$58)))","v":91440},{"$f":"V174+SUM(A174:U174*(TRANSPOSE(CostCalculation!$C$38:$C$58)))","v":65366}]
[0,0,0,0,0,0,0,0,0,53,12,9,6,0,0,0,0,0,0,0,1,6334,{"$f":"SUM(A175:U175*(TRANSPOSE(CostCalculation!$D$38:$D$58)))","v":45720},{"$f":"V175+SUM(A175:U175*(TRANSPOSE(CostCalculation!$C$38:$C$58)))","v":32683}]
[0,0,0,0,0,0,0,0,0,212,48,36,24,0,0,0,0,0,0,0,4,25336,{"$f":"SUM(A176:U176*(TRANSPOSE(CostCalculation!$D$38:$D$58)))","v":182880},{"$f":"V176+SUM(A176:U176*(TRANSPOSE(CostCalculation!$C$38:$C$58)))","v":130732}]
[0,0,0,0,0,0,0,0,0,159,36,27,18,0,0,0,0,0,0,0,3,19002,{"$f":"SUM(A177:U177*(TRANSPOSE(CostCalculation!$D$38:$D$58)))","v":137160},{"$f":"V177+SUM(A177:U177*(TRANSPOSE(CostCalculation!$C$38:$C$58)))","v":98049}]
[0,0,0,0,0,0,0,0,0,371,84,63,42,0,0,0,0,0,0,0,7,44338,{"$f":"SUM(A178:U178*(TRANSPOSE(CostCalculation!$D$38:$D$58)))","v":320040},{"$f":"V178+SUM(A178:U178*(TRANSPOSE(CostCalculation!$C$38:$C$58)))","v":228781}]
[0,0,0,0,0,0,0,0,0,106,24,18,12,0,0,0,0,0,0,0,2,12668,{"$f":"SUM(A179:U179*(TRANSPOSE(CostCalculation!$D$38:$D$58)))","v":91440},{"$f":"V179+SUM(A179:U179*(TRANSPOSE(CostCalculation!$C$38:$C$58)))","v":65366}]
[0,0,0,0,0,0,0,0,0,159,36,27,18,0,0,0,0,0,0,0,3,19002,{"$f":"SUM(A180:U180*(TRANSPOSE(CostCalculation!$D$38:$D$58)))","v":137160},{"$f":"V180+SUM(A180:U180*(TRANSPOSE(CostCalculation!$C$38:$C$58)))","v":98049}]
[0,0,0,0,0,0,0,0,0,53,12,9,6,0,0,0,0,0,0,0,1,6334,{"$f":"SUM(A181:U181*(TRANSPOSE(CostCalculation!$D$38:$D$58)))","v":45720},{"$f":"V181+SUM(A181:U181*(TRANSPOSE(CostCalculation!$C$38:$C$58)))","v":32683}]
[0,0,0,0,0,0,0,0,0,318,72,54,36,0,0,0,0,0,0,0,6,38004,{"$f":"SUM(A182:U182*(TRANSPOSE(CostCalculation!$D$38:$D$58)))","v":274320},{"$f":"V182+SUM(A182:U182*(TRANSPOSE(CostCalculation!$C$38:$C$58)))","v":196098}]
[0,0,0,0,0,0,0,0,0,53,12,9,6,0,0,0,0,0,0,0,1,6334,{"$f":"SUM(A183:U183*(TRANSPOSE(CostCalculation!$D$38:$D$58)))","v":45720},{"$f":"V183+SUM(A183:U183*(TRANSPOSE(CostCalculation!$C$38:$C$58)))","v":32683}]
[0,0,0,0,0,0,0,0,0,106,24,18,12,0,0,0,0,0,0,0,2,12668,{"$f":"SUM(A184:U184*(TRANSPOSE(CostCalculation!$D$38:$D$58)))","v":91440},{"$f":"V184+SUM(A184:U184*(TRANSPOSE(CostCalculation!$C$38:$C$58)))","v":65366}]
[0,0,0,0,0,0,0,0,0,212,48,36,24,0,0,0,0,0,0,0,4,25336,{"$f":"SUM(A185:U185*(TRANSPOSE(CostCalculation!$D$38:$D$58)))","v":182880},{"$f":"V185+SUM(A185:U185*(TRANSPOSE(CostCalculation!$C$38:$C$58)))","v":130732}]
[0,0,0,0,0,0,0,0,0,318,72,54,36,0,0,0,0,0,0,0,6,38004,{"$f":"SUM(A186:U186*(TRANSPOSE(CostCalculation!$D$38:$D$58)))","v":274320},{"$f":"V186+SUM(A186:U186*(TRANSPOSE(CostCalculation!$C$38:$C$58)))","v":196098}]
[0,0,0,0,0,0,0,0,0,159,36,27,18,0,0,0,0,0,0,0,3,19002,{"$f":"SUM(A187:U187*(TRANSPOSE(CostCalculation!$D$38:$D$58)))","v":137160},{"$f":"V187+SUM(A187:U187*(TRANSPOSE(CostCalculation!$C$38:$C$58)))","v":98049}]
[0,0,0,0,0,0,0,0,0,265,60,45,30,0,0,0,0,0,0,0,5,31670,{"$f":"SUM(A188:U188*(TRANSPOSE(CostCalculation!$D$38:$D$58)))","v":228600},{"$f":"V188+SUM(A188:U188*(TRANSPOSE(CostCalculation!$C$38:$C$58)))","v":163415}]
[0,0,0,0,0,0,0,0,0,53,12,9,6,0,0,0,0,0,0,0,1,6334,{"$f":"SUM(A189:U189*(TRANSPOSE(CostCalculation!$D$38:$D$58)))","v":45720},{"$f":"V189+SUM(A189:U189*(TRANSPOSE(CostCalculation!$C$38:$C$58)))","v":32683}]
[0,0,0,0,0,0,0,0,0,318,72,54,36,0,0,0,0,0,0,0,6,38004,{"$f":"SUM(A190:U190*(TRANSPOSE(CostCalculation!$D$38:$D$58)))","v":274320},{"$f":"V190+SUM(A190:U190*(TRANSPOSE(CostCalculation!$C$38:$C$58)))","v":196098}]
[0,0,0,0,0,0,0,0,0,477,108,81,54,0,0,0,0,0,0,0,9,57006,{"$f":"SUM(A191:U191*(TRANSPOSE(CostCalculation!$D$38:$D$58)))","v":411480},{"$f":"V191+SUM(A191:U191*(TRANSPOSE(CostCalculation!$C$38:$C$58)))","v":294147}]
[0,0,0,0,0,0,0,0,0,212,48,36,24,0,0,0,0,0,0,0,4,25336,{"$f":"SUM(A192:U192*(TRANSPOSE(CostCalculation!$D$38:$D$58)))","v":182880},{"$f":"V192+SUM(A192:U192*(TRANSPOSE(CostCalculation!$C$38:$C$58)))","v":130732}]
[0,0,0,0,0,0,0,0,0,159,36,27,18,0,0,0,0,0,0,0,3,19002,{"$f":"SUM(A193:U193*(TRANSPOSE(CostCalculation!$D$38:$D$58)))","v":137160},{"$f":"V193+SUM(A193:U193*(TRANSPOSE(CostCalculation!$C$38:$C$58)))","v":98049}]
[0,0,0,0,0,0,0,0,0,53,12,9,6,0,0,0,0,0,0,0,1,6334,{"$f":"SUM(A194:U194*(TRANSPOSE(CostCalculation!$D$38:$D$58)))","v":45720},{"$f":"V194+SUM(A194:U194*(TRANSPOSE(CostCalculation!$C$38:$C$58)))","v":32683}]
[0,0,0,0,0,0,0,0,0,159,36,27,18,0,0,0,0,0,0,0,3,19002,{"$f":"SUM(A195:U195*(TRANSPOSE(CostCalculation!$D$38:$D$58)))","v":137160},{"$f":"V195+SUM(A195:U195*(TRANSPOSE(CostCalculation!$C$38:$C$58)))","v":98049}]
[0,0,0,0,0,0,0,0,0,159,36,27,18,0,0,0,0,0,0,0,3,19002,{"$f":"SUM(A196:U196*(TRANSPOSE(CostCalculation!$D$38:$D$58)))","v":137160},{"$f":"V196+SUM(A196:U196*(TRANSPOSE(CostCalculation!$C$38:$C$58)))","v":98049}]
[0,0,0,0,0,0,0,0,0,53,12,9,6,0,0,0,0,0,0,0,1,6334,{"$f":"SUM(A197:U197*(TRANSPOSE(CostCalculation!$D$38:$D$58)))","v":45720},{"$f":"V197+SUM(A197:U197*(TRANSPOSE(CostCalculation!$C$38:$C$58)))","v":32683}]
[0,0,0,0,0,0,0,0,0,53,12,9,6,0,0,0,0,0,0,0,1,6334,{"$f":"SUM(A198:U198*(TRANSPOSE(CostCalculation!$D$38:$D$58)))","v":45720},{"$f":"V198+SUM(A198:U198*(TRANSPOSE(CostCalculation!$C$38:$C$58)))","v":32683}]
[0,0,0,0,0,0,0,0,0,106,24,18,12,0,0,0,0,0,0,0,2,12668,{"$f":"SUM(A199:U199*(TRANSPOSE(CostCalculation!$D$38:$D$58)))","v":91440},{"$f":"V199+SUM(A199:U199*(TRANSPOSE(CostCalculation!$C$38:$C$58)))","v":65366}]
[0,0,0,0,0,0,0,0,0,106,24,18,12,0,0,0,0,0,0,0,2,12668,{"$f":"SUM(A200:U200*(TRANSPOSE(CostCalculation!$D$38:$D$58)))","v":91440},{"$f":"V200+SUM(A200:U200*(TRANSPOSE(CostCalculation!$C$38:$C$58)))","v":65366}]
[0,0,0,0,0,0,0,0,0,53,12,9,6,0,0,0,0,0,0,0,1,6334,{"$f":"SUM(A201:U201*(TRANSPOSE(CostCalculation!$D$38:$D$58)))","v":45720},{"$f":"V201+SUM(A201:U201*(TRANSPOSE(CostCalculation!$C$38:$C$58)))","v":32683}]
[0,0,0,0,0,0,0,0,0,212,48,36,24,0,0,0,0,0,0,0,4,25336,{"$f":"SUM(A202:U202*(TRANSPOSE(CostCalculation!$D$38:$D$58)))","v":182880},{"$f":"V202+SUM(A202:U202*(TRANSPOSE(CostCalculation!$C$38:$C$58)))","v":130732}]
[0,0,0,0,0,0,0,0,0,159,36,27,18,0,0,0,0,0,0,0,3,19002,{"$f":"SUM(A203:U203*(TRANSPOSE(CostCalculation!$D$38:$D$58)))","v":137160},{"$f":"V203+SUM(A203:U203*(TRANSPOSE(CostCalculation!$C$38:$C$58)))","v":98049}]
[0,0,0,0,0,0,0,0,0,159,36,27,18,0,0,0,0,0,0,0,3,19002,{"$f":"SUM(A204:U204*(TRANSPOSE(CostCalculation!$D$38:$D$58)))","v":137160},{"$f":"V204+SUM(A204:U204*(TRANSPOSE(CostCalculation!$C$38:$C$58)))","v":98049}]
[0,0,0,0,0,0,0,0,0,106,24,18,12,0,0,0,0,0,0,0,2,12668,{"$f":"SUM(A205:U205*(TRANSPOSE(CostCalculation!$D$38:$D$58)))","v":91440},{"$f":"V205+SUM(A205:U205*(TRANSPOSE(CostCalculation!$C$38:$C$58)))","v":65366}]
[0,0,0,0,0,0,0,0,0,265,60,45,30,0,0,0,0,0,0,0,5,31670,{"$f":"SUM(A206:U206*(TRANSPOSE(CostCalculation!$D$38:$D$58)))","v":228600},{"$f":"V206+SUM(A206:U206*(TRANSPOSE(CostCalculation!$C$38:$C$58)))","v":163415}]
[0,0,0,0,0,0,0,0,0,159,36,27,18,0,0,0,0,0,0,0,3,19002,{"$f":"SUM(A207:U207*(TRANSPOSE(CostCalculation!$D$38:$D$58)))","v":137160},{"$f":"V207+SUM(A207:U207*(TRANSPOSE(CostCalculation!$C$38:$C$58)))","v":98049}]
[0,0,0,0,0,0,0,0,0,159,36,27,18,0,0,0,0,0,0,0,3,19002,{"$f":"SUM(A208:U208*(TRANSPOSE(CostCalculation!$D$38:$D$58)))","v":137160},{"$f":"V208+SUM(A208:U208*(TRANSPOSE(CostCalculation!$C$38:$C$58)))","v":98049}]
[0,0,0,0,0,0,0,0,0,53,12,9,6,0,0,0,0,0,0,0,1,6334,{"$f":"SUM(A209:U209*(TRANSPOSE(CostCalculation!$D$38:$D$58)))","v":45720},{"$f":"V209+SUM(A209:U209*(TRANSPOSE(CostCalculation!$C$38:$C$58)))","v":32683}]
[0,0,0,0,0,0,0,0,0,159,36,27,18,0,0,0,0,0,0,0,3,19002,{"$f":"SUM(A210:U210*(TRANSPOSE(CostCalculation!$D$38:$D$58)))","v":137160},{"$f":"V210+SUM(A210:U210*(TRANSPOSE(CostCalculation!$C$38:$C$58)))","v":98049}]
[0,0,0,0,0,0,0,0,0,159,36,27,18,0,0,0,0,0,0,0,3,19002,{"$f":"SUM(A211:U211*(TRANSPOSE(CostCalculation!$D$38:$D$58)))","v":137160},{"$f":"V211+SUM(A211:U211*(TRANSPOSE(CostCalculation!$C$38:$C$58)))","v":98049}]
[0,0,0,0,0,0,0,0,0,159,36,27,18,0,0,0,0,0,0,0,3,19002,{"$f":"SUM(A212:U212*(TRANSPOSE(CostCalculation!$D$38:$D$58)))","v":137160},{"$f":"V212+SUM(A212:U212*(TRANSPOSE(CostCalculation!$C$38:$C$58)))","v":98049}]
[0,0,0,0,0,0,0,0,0,265,60,45,30,0,0,0,0,0,0,0,5,31670,{"$f":"SUM(A213:U213*(TRANSPOSE(CostCalculation!$D$38:$D$58)))","v":228600},{"$f":"V213+SUM(A213:U213*(TRANSPOSE(CostCalculation!$C$38:$C$58)))","v":163415}]
[0,0,0,0,0,0,0,0,0,106,24,18,12,0,0,0,0,0,0,0,2,12668,{"$f":"SUM(A214:U214*(TRANSPOSE(CostCalculation!$D$38:$D$58)))","v":91440},{"$f":"V214+SUM(A214:U214*(TRANSPOSE(CostCalculation!$C$38:$C$58)))","v":65366}]
[0,0,0,0,0,0,0,0,0,159,36,27,18,0,0,0,0,0,0,0,3,19002,{"$f":"SUM(A215:U215*(TRANSPOSE(CostCalculation!$D$38:$D$58)))","v":137160},{"$f":"V215+SUM(A215:U215*(TRANSPOSE(CostCalculation!$C$38:$C$58)))","v":98049}]
[0,0,0,0,0,0,0,0,0,106,24,18,12,0,0,0,0,0,0,0,2,12668,{"$f":"SUM(A216:U216*(TRANSPOSE(CostCalculation!$D$38:$D$58)))","v":91440},{"$f":"V216+SUM(A216:U216*(TRANSPOSE(CostCalculation!$C$38:$C$58)))","v":65366}]
[0,0,0,0,0,0,0,0,0,53,12,9,6,0,0,0,0,0,0,0,1,6334,{"$f":"SUM(A217:U217*(TRANSPOSE(CostCalculation!$D$38:$D$58)))","v":45720},{"$f":"V217+SUM(A217:U217*(TRANSPOSE(CostCalculation!$C$38:$C$58)))","v":32683}]
[0,0,0,0,0,0,0,0,0,212,48,36,24,0,0,0,0,0,0,0,4,25336,{"$f":"SUM(A218:U218*(TRANSPOSE(CostCalculation!$D$38:$D$58)))","v":182880},{"$f":"V218+SUM(A218:U218*(TRANSPOSE(CostCalculation!$C$38:$C$58)))","v":130732}]
[0,0,0,0,0,0,0,0,0,212,48,36,24,0,0,0,0,0,0,0,4,25336,{"$f":"SUM(A219:U219*(TRANSPOSE(CostCalculation!$D$38:$D$58)))","v":182880},{"$f":"V219+SUM(A219:U219*(TRANSPOSE(CostCalculation!$C$38:$C$58)))","v":130732}]
[0,0,0,0,0,0,0,0,0,212,48,36,24,0,0,0,0,0,0,0,4,25336,{"$f":"SUM(A220:U220*(TRANSPOSE(CostCalculation!$D$38:$D$58)))","v":182880},{"$f":"V220+SUM(A220:U220*(TRANSPOSE(CostCalculation!$C$38:$C$58)))","v":130732}]
[0,0,0,0,0,0,0,0,0,318,72,54,36,0,0,0,0,0,0,0,6,38004,{"$f":"SUM(A221:U221*(TRANSPOSE(CostCalculation!$D$38:$D$58)))","v":274320},{"$f":"V221+SUM(A221:U221*(TRANSPOSE(CostCalculation!$C$38:$C$58)))","v":196098}]
[0,0,0,0,0,0,0,0,0,159,36,27,18,0,0,0,0,0,0,0,3,19002,{"$f":"SUM(A222:U222*(TRANSPOSE(CostCalculation!$D$38:$D$58)))","v":137160},{"$f":"V222+SUM(A222:U222*(TRANSPOSE(CostCalculation!$C$38:$C$58)))","v":98049}]
[0,0,0,0,0,0,0,0,0,265,60,45,30,0,0,0,0,0,0,0,5,31670,{"$f":"SUM(A223:U223*(TRANSPOSE(CostCalculation!$D$38:$D$58)))","v":228600},{"$f":"V223+SUM(A223:U223*(TRANSPOSE(CostCalculation!$C$38:$C$58)))","v":163415}]
[0,0,0,0,0,0,0,0,0,106,24,18,12,0,0,0,0,0,0,0,2,12668,{"$f":"SUM(A224:U224*(TRANSPOSE(CostCalculation!$D$38:$D$58)))","v":91440},{"$f":"V224+SUM(A224:U224*(TRANSPOSE(CostCalculation!$C$38:$C$58)))","v":65366}]
[0,0,0,0,0,0,0,0,0,212,48,36,24,0,0,0,0,0,0,0,4,25336,{"$f":"SUM(A225:U225*(TRANSPOSE(CostCalculation!$D$38:$D$58)))","v":182880},{"$f":"V225+SUM(A225:U225*(TRANSPOSE(CostCalculation!$C$38:$C$58)))","v":130732}]
[0,0,0,0,0,0,0,0,0,53,12,9,6,0,0,0,0,0,0,0,1,6334,{"$f":"SUM(A226:U226*(TRANSPOSE(CostCalculation!$D$38:$D$58)))","v":45720},{"$f":"V226+SUM(A226:U226*(TRANSPOSE(CostCalculation!$C$38:$C$58)))","v":32683}]
[0,0,0,0,0,0,0,0,0,159,36,27,18,0,0,0,0,0,0,0,3,19002,{"$f":"SUM(A227:U227*(TRANSPOSE(CostCalculation!$D$38:$D$58)))","v":137160},{"$f":"V227+SUM(A227:U227*(TRANSPOSE(CostCalculation!$C$38:$C$58)))","v":98049}]
[0,0,0,0,0,0,0,0,0,265,60,45,30,0,0,0,0,0,0,0,5,31670,{"$f":"SUM(A228:U228*(TRANSPOSE(CostCalculation!$D$38:$D$58)))","v":228600},{"$f":"V228+SUM(A228:U228*(TRANSPOSE(CostCalculation!$C$38:$C$58)))","v":163415}]
[0,0,0,0,0,0,0,0,0,106,24,18,12,0,0,0,0,0,0,0,2,12668,{"$f":"SUM(A229:U229*(TRANSPOSE(CostCalculation!$D$38:$D$58)))","v":91440},{"$f":"V229+SUM(A229:U229*(TRANSPOSE(CostCalculation!$C$38:$C$58)))","v":65366}]
[0,0,0,0,0,0,0,0,0,106,24,18,12,0,0,0,0,0,0,0,2,12668,{"$f":"SUM(A230:U230*(TRANSPOSE(CostCalculation!$D$38:$D$58)))","v":91440},{"$f":"V230+SUM(A230:U230*(TRANSPOSE(CostCalculation!$C$38:$C$58)))","v":65366}]
[0,0,0,0,0,0,0,0,0,106,24,18,12,0,0,0,0,0,0,0,2,12668,{"$f":"SUM(A231:U231*(TRANSPOSE(CostCalculation!$D$38:$D$58)))","v":91440},{"$f":"V231+SUM(A231:U231*(TRANSPOSE(CostCalculation!$C$38:$C$58)))","v":65366}]
[0,0,0,0,0,0,0,0,0,53,12,9,6,0,0,0,0,0,0,0,1,6334,{"$f":"SUM(A232:U232*(TRANSPOSE(CostCalculation!$D$38:$D$58)))","v":45720},{"$f":"V232+SUM(A232:U232*(TRANSPOSE(CostCalculation!$C$38:$C$58)))","v":32683}]
[0,0,0,0,0,0,0,0,0,318,72,54,36,0,0,0,0,0,0,0,6,38004,{"$f":"SUM(A233:U233*(TRANSPOSE(CostCalculation!$D$38:$D$58)))","v":274320},{"$f":"V233+SUM(A233:U233*(TRANSPOSE(CostCalculation!$C$38:$C$58)))","v":196098}]
[0,0,0,0,0,0,0,0,0,53,12,9,6,0,0,0,0,0,0,0,1,6334,{"$f":"SUM(A234:U234*(TRANSPOSE(CostCalculation!$D$38:$D$58)))","v":45720},{"$f":"V234+SUM(A234:U234*(TRANSPOSE(CostCalculation!$C$38:$C$58)))","v":32683}]
[0,0,0,0,0,0,0,0,0,265,60,45,30,0,0,0,0,0,0,0,5,31670,{"$f":"SUM(A235:U235*(TRANSPOSE(CostCalculation!$D$38:$D$58)))","v":228600},{"$f":"V235+SUM(A235:U235*(TRANSPOSE(CostCalculation!$C$38:$C$58)))","v":163415}]
[0,0,0,0,0,0,0,0,0,53,12,9,6,0,0,0,0,0,0,0,1,6334,{"$f":"SUM(A236:U236*(TRANSPOSE(CostCalculation!$D$38:$D$58)))","v":45720},{"$f":"V236+SUM(A236:U236*(TRANSPOSE(CostCalculation!$C$38:$C$58)))","v":32683}]
[0,0,0,0,0,0,0,0,0,371,84,63,42,0,0,0,0,0,0,0,7,44338,{"$f":"SUM(A237:U237*(TRANSPOSE(CostCalculation!$D$38:$D$58)))","v":320040},{"$f":"V237+SUM(A237:U237*(TRANSPOSE(CostCalculation!$C$38:$C$58)))","v":228781}]
[0,0,0,0,0,0,0,0,0,371,84,63,42,0,0,0,0,0,0,0,7,44338,{"$f":"SUM(A238:U238*(TRANSPOSE(CostCalculation!$D$38:$D$58)))","v":320040},{"$f":"V238+SUM(A238:U238*(TRANSPOSE(CostCalculation!$C$38:$C$58)))","v":228781}]
[0,0,0,0,0,0,0,0,0,53,12,9,6,0,0,0,0,0,0,0,1,6334,{"$f":"SUM(A239:U239*(TRANSPOSE(CostCalculation!$D$38:$D$58)))","v":45720},{"$f":"V239+SUM(A239:U239*(TRANSPOSE(CostCalculation!$C$38:$C$58)))","v":32683}]
[0,0,0,0,0,0,0,0,0,212,48,36,24,0,0,0,0,0,0,0,4,25336,{"$f":"SUM(A240:U240*(TRANSPOSE(CostCalculation!$D$38:$D$58)))","v":182880},{"$f":"V240+SUM(A240:U240*(TRANSPOSE(CostCalculation!$C$38:$C$58)))","v":130732}]
[0,0,0,0,0,0,0,0,0,159,36,27,18,0,0,0,0,0,0,0,3,19002,{"$f":"SUM(A241:U241*(TRANSPOSE(CostCalculation!$D$38:$D$58)))","v":137160},{"$f":"V241+SUM(A241:U241*(TRANSPOSE(CostCalculation!$C$38:$C$58)))","v":98049}]
[0,0,0,0,0,0,0,0,0,318,72,54,36,0,0,0,0,0,0,0,6,38004,{"$f":"SUM(A242:U242*(TRANSPOSE(CostCalculation!$D$38:$D$58)))","v":274320},{"$f":"V242+SUM(A242:U242*(TRANSPOSE(CostCalculation!$C$38:$C$58)))","v":196098}]
[0,0,0,0,0,0,0,0,0,318,72,54,36,0,0,0,0,0,0,0,6,38004,{"$f":"SUM(A243:U243*(TRANSPOSE(CostCalculation!$D$38:$D$58)))","v":274320},{"$f":"V243+SUM(A243:U243*(TRANSPOSE(CostCalculation!$C$38:$C$58)))","v":196098}]
[0,0,0,0,0,0,0,0,0,265,60,45,30,0,0,0,0,0,0,0,5,31670,{"$f":"SUM(A244:U244*(TRANSPOSE(CostCalculation!$D$38:$D$58)))","v":228600},{"$f":"V244+SUM(A244:U244*(TRANSPOSE(CostCalculation!$C$38:$C$58)))","v":163415}]
[0,0,0,0,0,0,0,0,0,424,96,72,48,0,0,0,0,0,0,0,8,50672,{"$f":"SUM(A245:U245*(TRANSPOSE(CostCalculation!$D$38:$D$58)))","v":365760},{"$f":"V245+SUM(A245:U245*(TRANSPOSE(CostCalculation!$C$38:$C$58)))","v":261464}]
[0,0,0,0,0,0,0,0,0,106,24,18,12,0,0,0,0,0,0,0,2,12668,{"$f":"SUM(A246:U246*(TRANSPOSE(CostCalculation!$D$38:$D$58)))","v":91440},{"$f":"V246+SUM(A246:U246*(TRANSPOSE(CostCalculation!$C$38:$C$58)))","v":65366}]
[0,0,0,0,0,0,0,0,0,159,36,27,18,0,0,0,0,0,0,0,3,19002,{"$f":"SUM(A247:U247*(TRANSPOSE(CostCalculation!$D$38:$D$58)))","v":137160},{"$f":"V247+SUM(A247:U247*(TRANSPOSE(CostCalculation!$C$38:$C$58)))","v":98049}]
[0,0,0,0,0,0,0,0,0,106,24,18,12,0,0,0,0,0,0,0,2,12668,{"$f":"SUM(A248:U248*(TRANSPOSE(CostCalculation!$D$38:$D$58)))","v":91440},{"$f":"V248+SUM(A248:U248*(TRANSPOSE(CostCalculation!$C$38:$C$58)))","v":65366}]
[0,0,0,0,0,0,0,0,0,265,60,45,30,0,0,0,0,0,0,0,5,31670,{"$f":"SUM(A249:U249*(TRANSPOSE(CostCalculation!$D$38:$D$58)))","v":228600},{"$f":"V249+SUM(A249:U249*(TRANSPOSE(CostCalculation!$C$38:$C$58)))","v":163415}]
[0,0,0,0,0,0,0,0,0,159,36,27,18,0,0,0,0,0,0,0,3,19002,{"$f":"SUM(A250:U250*(TRANSPOSE(CostCalculation!$D$38:$D$58)))","v":137160},{"$f":"V250+SUM(A250:U250*(TRANSPOSE(CostCalculation!$C$38:$C$58)))","v":98049}]
[0,0,0,0,0,0,0,0,0,106,24,18,12,0,0,0,0,0,0,0,2,12668,{"$f":"SUM(A251:U251*(TRANSPOSE(CostCalculation!$D$38:$D$58)))","v":91440},{"$f":"V251+SUM(A251:U251*(TRANSPOSE(CostCalculation!$C$38:$C$58)))","v":65366}]
[0,0,0,0,0,0,0,0,0,106,24,18,12,0,0,0,0,0,0,0,2,12668,{"$f":"SUM(A252:U252*(TRANSPOSE(CostCalculation!$D$38:$D$58)))","v":91440},{"$f":"V252+SUM(A252:U252*(TRANSPOSE(CostCalculation!$C$38:$C$58)))","v":65366}]
[0,0,0,0,0,0,0,0,0,159,36,27,18,0,0,0,0,0,0,0,3,19002,{"$f":"SUM(A253:U253*(TRANSPOSE(CostCalculation!$D$38:$D$58)))","v":137160},{"$f":"V253+SUM(A253:U253*(TRANSPOSE(CostCalculation!$C$38:$C$58)))","v":98049}]
[0,0,0,0,0,0,0,0,0,53,12,9,6,0,0,0,0,0,0,0,1,6334,{"$f":"SUM(A254:U254*(TRANSPOSE(CostCalculation!$D$38:$D$58)))","v":45720},{"$f":"V254+SUM(A254:U254*(TRANSPOSE(CostCalculation!$C$38:$C$58)))","v":32683}]
[0,0,0,0,0,0,0,0,0,106,24,18,12,0,0,0,0,0,0,0,2,12668,{"$f":"SUM(A255:U255*(TRANSPOSE(CostCalculation!$D$38:$D$58)))","v":91440},{"$f":"V255+SUM(A255:U255*(TRANSPOSE(CostCalculation!$C$38:$C$58)))","v":65366}]
[0,0,0,0,0,0,0,0,0,371,84,63,42,0,0,0,0,0,0,0,7,44338,{"$f":"SUM(A256:U256*(TRANSPOSE(CostCalculation!$D$38:$D$58)))","v":320040},{"$f":"V256+SUM(A256:U256*(TRANSPOSE(CostCalculation!$C$38:$C$58)))","v":228781}]
[0,0,0,0,0,0,0,0,0,106,24,18,12,0,0,0,0,0,0,0,2,12668,{"$f":"SUM(A257:U257*(TRANSPOSE(CostCalculation!$D$38:$D$58)))","v":91440},{"$f":"V257+SUM(A257:U257*(TRANSPOSE(CostCalculation!$C$38:$C$58)))","v":65366}]
[0,0,0,0,0,0,0,0,0,106,24,18,12,0,0,0,0,0,0,0,2,12668,{"$f":"SUM(A258:U258*(TRANSPOSE(CostCalculation!$D$38:$D$58)))","v":91440},{"$f":"V258+SUM(A258:U258*(TRANSPOSE(CostCalculation!$C$38:$C$58)))","v":65366}]
[0,0,0,0,0,0,0,0,0,530,120,90,60,0,0,0,0,0,0,0,10,63340,{"$f":"SUM(A259:U259*(TRANSPOSE(CostCalculation!$D$38:$D$58)))","v":457200},{"$f":"V259+SUM(A259:U259*(TRANSPOSE(CostCalculation!$C$38:$C$58)))","v":326830}]
[0,0,0,0,0,0,0,0,0,159,36,27,18,0,0,0,0,0,0,0,3,19002,{"$f":"SUM(A260:U260*(TRANSPOSE(CostCalculation!$D$38:$D$58)))","v":137160},{"$f":"V260+SUM(A260:U260*(TRANSPOSE(CostCalculation!$C$38:$C$58)))","v":98049}]
[0,0,0,0,0,0,0,0,0,159,36,27,18,0,0,0,0,0,0,0,3,19002,{"$f":"SUM(A261:U261*(TRANSPOSE(CostCalculation!$D$38:$D$58)))","v":137160},{"$f":"V261+SUM(A261:U261*(TRANSPOSE(CostCalculation!$C$38:$C$58)))","v":98049}]
[0,0,0,0,0,0,0,0,0,212,48,36,24,0,0,0,0,0,0,0,4,25336,{"$f":"SUM(A262:U262*(TRANSPOSE(CostCalculation!$D$38:$D$58)))","v":182880},{"$f":"V262+SUM(A262:U262*(TRANSPOSE(CostCalculation!$C$38:$C$58)))","v":130732}]
[0,0,0,0,0,0,0,0,0,53,12,9,6,0,0,0,0,0,0,0,1,6334,{"$f":"SUM(A263:U263*(TRANSPOSE(CostCalculation!$D$38:$D$58)))","v":45720},{"$f":"V263+SUM(A263:U263*(TRANSPOSE(CostCalculation!$C$38:$C$58)))","v":32683}]
[0,0,0,0,0,0,0,0,0,53,12,9,6,0,0,0,0,0,0,0,1,6334,{"$f":"SUM(A264:U264*(TRANSPOSE(CostCalculation!$D$38:$D$58)))","v":45720},{"$f":"V264+SUM(A264:U264*(TRANSPOSE(CostCalculation!$C$38:$C$58)))","v":32683}]
[0,0,0,0,0,0,0,0,0,106,24,18,12,0,0,0,0,0,0,0,2,12668,{"$f":"SUM(A265:U265*(TRANSPOSE(CostCalculation!$D$38:$D$58)))","v":91440},{"$f":"V265+SUM(A265:U265*(TRANSPOSE(CostCalculation!$C$38:$C$58)))","v":65366}]
[0,0,0,0,0,0,0,0,0,159,36,27,18,0,0,0,0,0,0,0,3,19002,{"$f":"SUM(A266:U266*(TRANSPOSE(CostCalculation!$D$38:$D$58)))","v":137160},{"$f":"V266+SUM(A266:U266*(TRANSPOSE(CostCalculation!$C$38:$C$58)))","v":98049}]
[0,0,0,0,0,0,0,0,0,106,24,18,12,0,0,0,0,0,0,0,2,12668,{"$f":"SUM(A267:U267*(TRANSPOSE(CostCalculation!$D$38:$D$58)))","v":91440},{"$f":"V267+SUM(A267:U267*(TRANSPOSE(CostCalculation!$C$38:$C$58)))","v":65366}]
[0,0,0,0,0,0,0,0,0,212,48,36,24,0,0,0,0,0,0,0,4,25336,{"$f":"SUM(A268:U268*(TRANSPOSE(CostCalculation!$D$38:$D$58)))","v":182880},{"$f":"V268+SUM(A268:U268*(TRANSPOSE(CostCalculation!$C$38:$C$58)))","v":130732}]
[0,0,0,0,0,0,0,0,0,212,48,36,24,0,0,0,0,0,0,0,4,25336,{"$f":"SUM(A269:U269*(TRANSPOSE(CostCalculation!$D$38:$D$58)))","v":182880},{"$f":"V269+SUM(A269:U269*(TRANSPOSE(CostCalculation!$C$38:$C$58)))","v":130732}]
[0,0,0,0,0,0,0,0,0,159,36,27,18,0,0,0,0,0,0,0,3,19002,{"$f":"SUM(A270:U270*(TRANSPOSE(CostCalculation!$D$38:$D$58)))","v":137160},{"$f":"V270+SUM(A270:U270*(TRANSPOSE(CostCalculation!$C$38:$C$58)))","v":98049}]
[0,0,0,0,0,0,0,0,0,53,12,9,6,0,0,0,0,0,0,0,1,6334,{"$f":"SUM(A271:U271*(TRANSPOSE(CostCalculation!$D$38:$D$58)))","v":45720},{"$f":"V271+SUM(A271:U271*(TRANSPOSE(CostCalculation!$C$38:$C$58)))","v":32683}]
[0,0,0,0,0,0,0,0,0,318,72,54,36,0,0,0,0,0,0,0,6,38004,{"$f":"SUM(A272:U272*(TRANSPOSE(CostCalculation!$D$38:$D$58)))","v":274320},{"$f":"V272+SUM(A272:U272*(TRANSPOSE(CostCalculation!$C$38:$C$58)))","v":196098}]
[0,0,0,0,0,0,0,0,0,106,24,18,12,0,0,0,0,0,0,0,2,12668,{"$f":"SUM(A273:U273*(TRANSPOSE(CostCalculation!$D$38:$D$58)))","v":91440},{"$f":"V273+SUM(A273:U273*(TRANSPOSE(CostCalculation!$C$38:$C$58)))","v":65366}]
[0,0,0,0,0,0,0,0,0,212,48,36,24,0,0,0,0,0,0,0,4,25336,{"$f":"SUM(A274:U274*(TRANSPOSE(CostCalculation!$D$38:$D$58)))","v":182880},{"$f":"V274+SUM(A274:U274*(TRANSPOSE(CostCalculation!$C$38:$C$58)))","v":130732}]
[0,0,0,0,0,0,0,0,0,318,72,54,36,0,0,0,0,0,0,0,6,38004,{"$f":"SUM(A275:U275*(TRANSPOSE(CostCalculation!$D$38:$D$58)))","v":274320},{"$f":"V275+SUM(A275:U275*(TRANSPOSE(CostCalculation!$C$38:$C$58)))","v":196098}]
[0,0,0,0,0,0,0,0,0,265,60,45,30,0,0,0,0,0,0,0,5,31670,{"$f":"SUM(A276:U276*(TRANSPOSE(CostCalculation!$D$38:$D$58)))","v":228600},{"$f":"V276+SUM(A276:U276*(TRANSPOSE(CostCalculation!$C$38:$C$58)))","v":163415}]
[0,0,0,0,0,0,0,0,0,371,84,63,42,0,0,0,0,0,0,0,7,44338,{"$f":"SUM(A277:U277*(TRANSPOSE(CostCalculation!$D$38:$D$58)))","v":320040},{"$f":"V277+SUM(A277:U277*(TRANSPOSE(CostCalculation!$C$38:$C$58)))","v":228781}]
[0,0,0,0,0,0,0,0,0,159,36,27,18,0,0,0,0,0,0,0,3,19002,{"$f":"SUM(A278:U278*(TRANSPOSE(CostCalculation!$D$38:$D$58)))","v":137160},{"$f":"V278+SUM(A278:U278*(TRANSPOSE(CostCalculation!$C$38:$C$58)))","v":98049}]
[0,0,0,0,0,0,0,0,0,53,12,9,6,0,0,0,0,0,0,0,1,6334,{"$f":"SUM(A279:U279*(TRANSPOSE(CostCalculation!$D$38:$D$58)))","v":45720},{"$f":"V279+SUM(A279:U279*(TRANSPOSE(CostCalculation!$C$38:$C$58)))","v":32683}]
[0,0,0,0,0,0,0,0,0,159,36,27,18,0,0,0,0,0,0,0,3,19002,{"$f":"SUM(A280:U280*(TRANSPOSE(CostCalculation!$D$38:$D$58)))","v":137160},{"$f":"V280+SUM(A280:U280*(TRANSPOSE(CostCalculation!$C$38:$C$58)))","v":98049}]
[0,0,0,0,0,0,0,0,0,159,36,27,18,0,0,0,0,0,0,0,3,19002,{"$f":"SUM(A281:U281*(TRANSPOSE(CostCalculation!$D$38:$D$58)))","v":137160},{"$f":"V281+SUM(A281:U281*(TRANSPOSE(CostCalculation!$C$38:$C$58)))","v":98049}]
[0,0,0,0,0,0,0,0,0,53,12,9,6,0,0,0,0,0,0,0,1,6334,{"$f":"SUM(A282:U282*(TRANSPOSE(CostCalculation!$D$38:$D$58)))","v":45720},{"$f":"V282+SUM(A282:U282*(TRANSPOSE(CostCalculation!$C$38:$C$58)))","v":32683}]
[0,0,0,0,0,0,0,0,0,265,60,45,30,0,0,0,0,0,0,0,5,31670,{"$f":"SUM(A283:U283*(TRANSPOSE(CostCalculation!$D$38:$D$58)))","v":228600},{"$f":"V283+SUM(A283:U283*(TRANSPOSE(CostCalculation!$C$38:$C$58)))","v":163415}]
[0,0,0,0,0,0,0,0,0,212,48,36,24,0,0,0,0,0,0,0,4,25336,{"$f":"SUM(A284:U284*(TRANSPOSE(CostCalculation!$D$38:$D$58)))","v":182880},{"$f":"V284+SUM(A284:U284*(TRANSPOSE(CostCalculation!$C$38:$C$58)))","v":130732}]
[0,0,0,0,0,0,0,0,0,159,36,27,18,0,0,0,0,0,0,0,3,19002,{"$f":"SUM(A285:U285*(TRANSPOSE(CostCalculation!$D$38:$D$58)))","v":137160},{"$f":"V285+SUM(A285:U285*(TRANSPOSE(CostCalculation!$C$38:$C$58)))","v":98049}]
[0,0,0,0,0,0,0,0,0,212,48,36,24,0,0,0,0,0,0,0,4,25336,{"$f":"SUM(A286:U286*(TRANSPOSE(CostCalculation!$D$38:$D$58)))","v":182880},{"$f":"V286+SUM(A286:U286*(TRANSPOSE(CostCalculation!$C$38:$C$58)))","v":130732}]
[0,0,0,0,0,0,0,0,0,159,36,27,18,0,0,0,0,0,0,0,3,19002,{"$f":"SUM(A287:U287*(TRANSPOSE(CostCalculation!$D$38:$D$58)))","v":137160},{"$f":"V287+SUM(A287:U287*(TRANSPOSE(CostCalculation!$C$38:$C$58)))","v":98049}]
[0,0,0,0,0,0,0,0,0,318,72,54,36,0,0,0,0,0,0,0,6,38004,{"$f":"SUM(A288:U288*(TRANSPOSE(CostCalculation!$D$38:$D$58)))","v":274320},{"$f":"V288+SUM(A288:U288*(TRANSPOSE(CostCalculation!$C$38:$C$58)))","v":196098}]
[0,0,0,0,0,0,0,0,0,159,36,27,18,0,0,0,0,0,0,0,3,19002,{"$f":"SUM(A289:U289*(TRANSPOSE(CostCalculation!$D$38:$D$58)))","v":137160},{"$f":"V289+SUM(A289:U289*(TRANSPOSE(CostCalculation!$C$38:$C$58)))","v":98049}]
[0,0,0,0,0,0,0,0,0,53,12,9,6,0,0,0,0,0,0,0,1,6334,{"$f":"SUM(A290:U290*(TRANSPOSE(CostCalculation!$D$38:$D$58)))","v":45720},{"$f":"V290+SUM(A290:U290*(TRANSPOSE(CostCalculation!$C$38:$C$58)))","v":32683}]
[0,0,0,0,0,0,0,0,0,106,24,18,12,0,0,0,0,0,0,0,2,12668,{"$f":"SUM(A291:U291*(TRANSPOSE(CostCalculation!$D$38:$D$58)))","v":91440},{"$f":"V291+SUM(A291:U291*(TRANSPOSE(CostCalculation!$C$38:$C$58)))","v":65366}]
[0,0,0,0,0,0,0,0,0,53,12,9,6,0,0,0,0,0,0,0,1,6334,{"$f":"SUM(A292:U292*(TRANSPOSE(CostCalculation!$D$38:$D$58)))","v":45720},{"$f":"V292+SUM(A292:U292*(TRANSPOSE(CostCalculation!$C$38:$C$58)))","v":32683}]
[0,0,0,0,0,0,0,0,0,106,24,18,12,0,0,0,0,0,0,0,2,12668,{"$f":"SUM(A293:U293*(TRANSPOSE(CostCalculation!$D$38:$D$58)))","v":91440},{"$f":"V293+SUM(A293:U293*(TRANSPOSE(CostCalculation!$C$38:$C$58)))","v":65366}]
[0,0,0,0,0,0,0,0,0,159,36,27,18,0,0,0,0,0,0,0,3,19002,{"$f":"SUM(A294:U294*(TRANSPOSE(CostCalculation!$D$38:$D$58)))","v":137160},{"$f":"V294+SUM(A294:U294*(TRANSPOSE(CostCalculation!$C$38:$C$58)))","v":98049}]
[0,0,0,0,0,0,0,0,0,106,24,18,12,0,0,0,0,0,0,0,2,12668,{"$f":"SUM(A295:U295*(TRANSPOSE(CostCalculation!$D$38:$D$58)))","v":91440},{"$f":"V295+SUM(A295:U295*(TRANSPOSE(CostCalculation!$C$38:$C$58)))","v":65366}]
[0,0,0,0,0,0,0,0,0,371,84,63,42,0,0,0,0,0,0,0,7,44338,{"$f":"SUM(A296:U296*(TRANSPOSE(CostCalculation!$D$38:$D$58)))","v":320040},{"$f":"V296+SUM(A296:U296*(TRANSPOSE(CostCalculation!$C$38:$C$58)))","v":228781}]
[0,0,0,0,0,0,0,0,0,106,24,18,12,0,0,0,0,0,0,0,2,12668,{"$f":"SUM(A297:U297*(TRANSPOSE(CostCalculation!$D$38:$D$58)))","v":91440},{"$f":"V297+SUM(A297:U297*(TRANSPOSE(CostCalculation!$C$38:$C$58)))","v":65366}]
[0,0,0,0,0,0,0,0,0,106,24,18,12,0,0,0,0,0,0,0,2,12668,{"$f":"SUM(A298:U298*(TRANSPOSE(CostCalculation!$D$38:$D$58)))","v":91440},{"$f":"V298+SUM(A298:U298*(TRANSPOSE(CostCalculation!$C$38:$C$58)))","v":65366}]
[0,0,0,0,0,0,0,0,0,159,36,27,18,0,0,0,0,0,0,0,3,19002,{"$f":"SUM(A299:U299*(TRANSPOSE(CostCalculation!$D$38:$D$58)))","v":137160},{"$f":"V299+SUM(A299:U299*(TRANSPOSE(CostCalculation!$C$38:$C$58)))","v":98049}]
[0,0,0,0,0,0,0,0,0,318,72,54,36,0,0,0,0,0,0,0,6,38004,{"$f":"SUM(A300:U300*(TRANSPOSE(CostCalculation!$D$38:$D$58)))","v":274320},{"$f":"V300+SUM(A300:U300*(TRANSPOSE(CostCalculation!$C$38:$C$58)))","v":196098}]
[0,0,0,0,0,0,0,0,0,265,60,45,30,0,0,0,0,0,0,0,5,31670,{"$f":"SUM(A301:U301*(TRANSPOSE(CostCalculation!$D$38:$D$58)))","v":228600},{"$f":"V301+SUM(A301:U301*(TRANSPOSE(CostCalculation!$C$38:$C$58)))","v":163415}]
[0,0,0,0,0,0,0,0,0,212,48,36,24,0,0,0,0,0,0,0,4,25336,{"$f":"SUM(A302:U302*(TRANSPOSE(CostCalculation!$D$38:$D$58)))","v":182880},{"$f":"V302+SUM(A302:U302*(TRANSPOSE(CostCalculation!$C$38:$C$58)))","v":130732}]
[0,0,0,0,0,0,0,0,0,53,12,9,6,0,0,0,0,0,0,0,1,6334,{"$f":"SUM(A303:U303*(TRANSPOSE(CostCalculation!$D$38:$D$58)))","v":45720},{"$f":"V303+SUM(A303:U303*(TRANSPOSE(CostCalculation!$C$38:$C$58)))","v":32683}]
[0,0,0,0,0,0,0,0,0,424,96,72,48,0,0,0,0,0,0,0,8,50672,{"$f":"SUM(A304:U304*(TRANSPOSE(CostCalculation!$D$38:$D$58)))","v":365760},{"$f":"V304+SUM(A304:U304*(TRANSPOSE(CostCalculation!$C$38:$C$58)))","v":261464}]
[0,0,0,0,0,0,0,0,0,159,36,27,18,0,0,0,0,0,0,0,3,19002,{"$f":"SUM(A305:U305*(TRANSPOSE(CostCalculation!$D$38:$D$58)))","v":137160},{"$f":"V305+SUM(A305:U305*(TRANSPOSE(CostCalculation!$C$38:$C$58)))","v":98049}]
[0,0,0,0,0,0,0,0,0,106,24,18,12,0,0,0,0,0,0,0,2,12668,{"$f":"SUM(A306:U306*(TRANSPOSE(CostCalculation!$D$38:$D$58)))","v":91440},{"$f":"V306+SUM(A306:U306*(TRANSPOSE(CostCalculation!$C$38:$C$58)))","v":65366}]
[0,0,0,0,0,0,0,0,0,53,12,9,6,0,0,0,0,0,0,0,1,6334,{"$f":"SUM(A307:U307*(TRANSPOSE(CostCalculation!$D$38:$D$58)))","v":45720},{"$f":"V307+SUM(A307:U307*(TRANSPOSE(CostCalculation!$C$38:$C$58)))","v":32683}]
[0,0,0,0,0,0,0,0,0,212,48,36,24,0,0,0,0,0,0,0,4,25336,{"$f":"SUM(A308:U308*(TRANSPOSE(CostCalculation!$D$38:$D$58)))","v":182880},{"$f":"V308+SUM(A308:U308*(TRANSPOSE(CostCalculation!$C$38:$C$58)))","v":130732}]
[0,0,0,0,0,0,0,0,0,53,12,9,6,0,0,0,0,0,0,0,1,6334,{"$f":"SUM(A309:U309*(TRANSPOSE(CostCalculation!$D$38:$D$58)))","v":45720},{"$f":"V309+SUM(A309:U309*(TRANSPOSE(CostCalculation!$C$38:$C$58)))","v":32683}]
[0,0,0,0,0,0,0,0,0,53,12,9,6,0,0,0,0,0,0,0,1,6334,{"$f":"SUM(A310:U310*(TRANSPOSE(CostCalculation!$D$38:$D$58)))","v":45720},{"$f":"V310+SUM(A310:U310*(TRANSPOSE(CostCalculation!$C$38:$C$58)))","v":32683}]
[0,0,0,0,0,0,0,0,0,106,24,18,12,0,0,0,0,0,0,0,2,12668,{"$f":"SUM(A311:U311*(TRANSPOSE(CostCalculation!$D$38:$D$58)))","v":91440},{"$f":"V311+SUM(A311:U311*(TRANSPOSE(CostCalculation!$C$38:$C$58)))","v":65366}]
[0,0,0,0,0,0,0,0,0,53,12,9,6,0,0,0,0,0,0,0,1,6334,{"$f":"SUM(A312:U312*(TRANSPOSE(CostCalculation!$D$38:$D$58)))","v":45720},{"$f":"V312+SUM(A312:U312*(TRANSPOSE(CostCalculation!$C$38:$C$58)))","v":32683}]
[0,0,0,0,0,0,0,0,0,53,12,9,6,0,0,0,0,0,0,0,1,6334,{"$f":"SUM(A313:U313*(TRANSPOSE(CostCalculation!$D$38:$D$58)))","v":45720},{"$f":"V313+SUM(A313:U313*(TRANSPOSE(CostCalculation!$C$38:$C$58)))","v":32683}]
[0,0,0,0,0,0,0,0,0,159,36,27,18,0,0,0,0,0,0,0,3,19002,{"$f":"SUM(A314:U314*(TRANSPOSE(CostCalculation!$D$38:$D$58)))","v":137160},{"$f":"V314+SUM(A314:U314*(TRANSPOSE(CostCalculation!$C$38:$C$58)))","v":98049}]
[0,0,0,0,0,0,0,0,0,318,72,54,36,0,0,0,0,0,0,0,6,38004,{"$f":"SUM(A315:U315*(TRANSPOSE(CostCalculation!$D$38:$D$58)))","v":274320},{"$f":"V315+SUM(A315:U315*(TRANSPOSE(CostCalculation!$C$38:$C$58)))","v":196098}]
[0,0,0,0,0,0,0,0,0,53,12,9,6,0,0,0,0,0,0,0,1,6334,{"$f":"SUM(A316:U316*(TRANSPOSE(CostCalculation!$D$38:$D$58)))","v":45720},{"$f":"V316+SUM(A316:U316*(TRANSPOSE(CostCalculation!$C$38:$C$58)))","v":32683}]
[0,0,0,0,0,0,0,0,0,53,12,9,6,0,0,0,0,0,0,0,1,6334,{"$f":"SUM(A317:U317*(TRANSPOSE(CostCalculation!$D$38:$D$58)))","v":45720},{"$f":"V317+SUM(A317:U317*(TRANSPOSE(CostCalculation!$C$38:$C$58)))","v":32683}]
[0,0,0,0,0,0,0,0,0,106,24,18,12,0,0,0,0,0,0,0,2,12668,{"$f":"SUM(A318:U318*(TRANSPOSE(CostCalculation!$D$38:$D$58)))","v":91440},{"$f":"V318+SUM(A318:U318*(TRANSPOSE(CostCalculation!$C$38:$C$58)))","v":65366}]
[0,0,0,0,0,0,0,0,0,159,36,27,18,0,0,0,0,0,0,0,3,19002,{"$f":"SUM(A319:U319*(TRANSPOSE(CostCalculation!$D$38:$D$58)))","v":137160},{"$f":"V319+SUM(A319:U319*(TRANSPOSE(CostCalculation!$C$38:$C$58)))","v":98049}]
[0,0,0,0,0,0,0,0,0,530,120,90,60,0,0,0,0,0,0,0,10,63340,{"$f":"SUM(A320:U320*(TRANSPOSE(CostCalculation!$D$38:$D$58)))","v":457200},{"$f":"V320+SUM(A320:U320*(TRANSPOSE(CostCalculation!$C$38:$C$58)))","v":326830}]
[0,0,0,0,0,0,0,0,0,265,60,45,30,0,0,0,0,0,0,0,5,31670,{"$f":"SUM(A321:U321*(TRANSPOSE(CostCalculation!$D$38:$D$58)))","v":228600},{"$f":"V321+SUM(A321:U321*(TRANSPOSE(CostCalculation!$C$38:$C$58)))","v":163415}]
[0,0,0,0,0,0,0,0,0,318,72,54,36,0,0,0,0,0,0,0,6,38004,{"$f":"SUM(A322:U322*(TRANSPOSE(CostCalculation!$D$38:$D$58)))","v":274320},{"$f":"V322+SUM(A322:U322*(TRANSPOSE(CostCalculation!$C$38:$C$58)))","v":196098}]
[0,0,0,0,0,0,0,0,0,159,36,27,18,0,0,0,0,0,0,0,3,19002,{"$f":"SUM(A323:U323*(TRANSPOSE(CostCalculation!$D$38:$D$58)))","v":137160},{"$f":"V323+SUM(A323:U323*(TRANSPOSE(CostCalculation!$C$38:$C$58)))","v":98049}]
[0,0,0,0,0,0,0,0,0,159,36,27,18,0,0,0,0,0,0,0,3,19002,{"$f":"SUM(A324:U324*(TRANSPOSE(CostCalculation!$D$38:$D$58)))","v":137160},{"$f":"V324+SUM(A324:U324*(TRANSPOSE(CostCalculation!$C$38:$C$58)))","v":98049}]
[0,0,0,0,0,0,0,0,0,318,72,54,36,0,0,0,0,0,0,0,6,38004,{"$f":"SUM(A325:U325*(TRANSPOSE(CostCalculation!$D$38:$D$58)))","v":274320},{"$f":"V325+SUM(A325:U325*(TRANSPOSE(CostCalculation!$C$38:$C$58)))","v":196098}]
[0,0,0,0,0,0,0,0,0,212,48,36,24,0,0,0,0,0,0,0,4,25336,{"$f":"SUM(A326:U326*(TRANSPOSE(CostCalculation!$D$38:$D$58)))","v":182880},{"$f":"V326+SUM(A326:U326*(TRANSPOSE(CostCalculation!$C$38:$C$58)))","v":130732}]
[0,0,0,0,0,0,0,0,0,106,24,18,12,0,0,0,0,0,0,0,2,12668,{"$f":"SUM(A327:U327*(TRANSPOSE(CostCalculation!$D$38:$D$58)))","v":91440},{"$f":"V327+SUM(A327:U327*(TRANSPOSE(CostCalculation!$C$38:$C$58)))","v":65366}]
[0,0,0,0,0,0,0,0,0,53,12,9,6,0,0,0,0,0,0,0,1,6334,{"$f":"SUM(A328:U328*(TRANSPOSE(CostCalculation!$D$38:$D$58)))","v":45720},{"$f":"V328+SUM(A328:U328*(TRANSPOSE(CostCalculation!$C$38:$C$58)))","v":32683}]
[0,0,0,0,0,0,0,0,0,159,36,27,18,0,0,0,0,0,0,0,3,19002,{"$f":"SUM(A329:U329*(TRANSPOSE(CostCalculation!$D$38:$D$58)))","v":137160},{"$f":"V329+SUM(A329:U329*(TRANSPOSE(CostCalculation!$C$38:$C$58)))","v":98049}]
[0,0,0,0,0,0,0,0,0,265,60,45,30,0,0,0,0,0,0,0,5,31670,{"$f":"SUM(A330:U330*(TRANSPOSE(CostCalculation!$D$38:$D$58)))","v":228600},{"$f":"V330+SUM(A330:U330*(TRANSPOSE(CostCalculation!$C$38:$C$58)))","v":163415}]
[0,0,0,0,0,0,0,0,0,53,12,9,6,0,0,0,0,0,0,0,1,6334,{"$f":"SUM(A331:U331*(TRANSPOSE(CostCalculation!$D$38:$D$58)))","v":45720},{"$f":"V331+SUM(A331:U331*(TRANSPOSE(CostCalculation!$C$38:$C$58)))","v":32683}]
[0,0,0,0,0,0,0,0,0,212,48,36,24,0,0,0,0,0,0,0,4,25336,{"$f":"SUM(A332:U332*(TRANSPOSE(CostCalculation!$D$38:$D$58)))","v":182880},{"$f":"V332+SUM(A332:U332*(TRANSPOSE(CostCalculation!$C$38:$C$58)))","v":130732}]
[0,0,0,0,0,0,0,0,0,212,48,36,24,0,0,0,0,0,0,0,4,25336,{"$f":"SUM(A333:U333*(TRANSPOSE(CostCalculation!$D$38:$D$58)))","v":182880},{"$f":"V333+SUM(A333:U333*(TRANSPOSE(CostCalculation!$C$38:$C$58)))","v":130732}]
[0,0,0,0,0,0,0,0,0,53,12,9,6,0,0,0,0,0,0,0,1,6334,{"$f":"SUM(A334:U334*(TRANSPOSE(CostCalculation!$D$38:$D$58)))","v":45720},{"$f":"V334+SUM(A334:U334*(TRANSPOSE(CostCalculation!$C$38:$C$58)))","v":32683}]
[0,0,0,0,0,0,0,0,0,265,60,45,30,0,0,0,0,0,0,0,5,31670,{"$f":"SUM(A335:U335*(TRANSPOSE(CostCalculation!$D$38:$D$58)))","v":228600},{"$f":"V335+SUM(A335:U335*(TRANSPOSE(CostCalculation!$C$38:$C$58)))","v":163415}]
[0,0,0,0,0,0,0,0,0,159,36,27,18,0,0,0,0,0,0,0,3,19002,{"$f":"SUM(A336:U336*(TRANSPOSE(CostCalculation!$D$38:$D$58)))","v":137160},{"$f":"V336+SUM(A336:U336*(TRANSPOSE(CostCalculation!$C$38:$C$58)))","v":98049}]
[0,0,0,0,0,0,0,0,0,265,60,45,30,0,0,0,0,0,0,0,5,31670,{"$f":"SUM(A337:U337*(TRANSPOSE(CostCalculation!$D$38:$D$58)))","v":228600},{"$f":"V337+SUM(A337:U337*(TRANSPOSE(CostCalculation!$C$38:$C$58)))","v":163415}]
[0,0,0,0,0,0,0,0,0,53,12,9,6,0,0,0,0,0,0,0,1,6334,{"$f":"SUM(A338:U338*(TRANSPOSE(CostCalculation!$D$38:$D$58)))","v":45720},{"$f":"V338+SUM(A338:U338*(TRANSPOSE(CostCalculation!$C$38:$C$58)))","v":32683}]
[0,0,0,0,0,0,0,0,0,106,24,18,12,0,0,0,0,0,0,0,2,12668,{"$f":"SUM(A339:U339*(TRANSPOSE(CostCalculation!$D$38:$D$58)))","v":91440},{"$f":"V339+SUM(A339:U339*(TRANSPOSE(CostCalculation!$C$38:$C$58)))","v":65366}]
[0,0,0,0,0,0,0,0,0,212,48,36,24,0,0,0,0,0,0,0,4,25336,{"$f":"SUM(A340:U340*(TRANSPOSE(CostCalculation!$D$38:$D$58)))","v":182880},{"$f":"V340+SUM(A340:U340*(TRANSPOSE(CostCalculation!$C$38:$C$58)))","v":130732}]
[0,0,0,0,0,0,0,0,0,159,36,27,18,0,0,0,0,0,0,0,3,19002,{"$f":"SUM(A341:U341*(TRANSPOSE(CostCalculation!$D$38:$D$58)))","v":137160},{"$f":"V341+SUM(A341:U341*(TRANSPOSE(CostCalculation!$C$38:$C$58)))","v":98049}]
[0,0,0,0,0,0,0,0,0,53,12,9,6,0,0,0,0,0,0,0,1,6334,{"$f":"SUM(A342:U342*(TRANSPOSE(CostCalculation!$D$38:$D$58)))","v":45720},{"$f":"V342+SUM(A342:U342*(TRANSPOSE(CostCalculation!$C$38:$C$58)))","v":32683}]
[0,0,0,0,0,0,0,0,0,106,24,18,12,0,0,0,0,0,0,0,2,12668,{"$f":"SUM(A343:U343*(TRANSPOSE(CostCalculation!$D$38:$D$58)))","v":91440},{"$f":"V343+SUM(A343:U343*(TRANSPOSE(CostCalculation!$C$38:$C$58)))","v":65366}]
[0,0,0,0,0,0,0,0,0,53,12,9,6,0,0,0,0,0,0,0,1,6334,{"$f":"SUM(A344:U344*(TRANSPOSE(CostCalculation!$D$38:$D$58)))","v":45720},{"$f":"V344+SUM(A344:U344*(TRANSPOSE(CostCalculation!$C$38:$C$58)))","v":32683}]
[0,0,0,0,0,0,0,0,0,159,36,27,18,0,0,0,0,0,0,0,3,19002,{"$f":"SUM(A345:U345*(TRANSPOSE(CostCalculation!$D$38:$D$58)))","v":137160},{"$f":"V345+SUM(A345:U345*(TRANSPOSE(CostCalculation!$C$38:$C$58)))","v":98049}]
[0,0,0,0,0,0,0,0,0,212,48,36,24,0,0,0,0,0,0,0,4,25336,{"$f":"SUM(A346:U346*(TRANSPOSE(CostCalculation!$D$38:$D$58)))","v":182880},{"$f":"V346+SUM(A346:U346*(TRANSPOSE(CostCalculation!$C$38:$C$58)))","v":130732}]
[0,0,0,0,0,0,0,0,0,53,12,9,6,0,0,0,0,0,0,0,1,6334,{"$f":"SUM(A347:U347*(TRANSPOSE(CostCalculation!$D$38:$D$58)))","v":45720},{"$f":"V347+SUM(A347:U347*(TRANSPOSE(CostCalculation!$C$38:$C$58)))","v":32683}]
[0,0,0,0,0,0,0,0,0,265,60,45,30,0,0,0,0,0,0,0,5,31670,{"$f":"SUM(A348:U348*(TRANSPOSE(CostCalculation!$D$38:$D$58)))","v":228600},{"$f":"V348+SUM(A348:U348*(TRANSPOSE(CostCalculation!$C$38:$C$58)))","v":163415}]
[0,0,0,0,0,0,0,0,0,265,60,45,30,0,0,0,0,0,0,0,5,31670,{"$f":"SUM(A349:U349*(TRANSPOSE(CostCalculation!$D$38:$D$58)))","v":228600},{"$f":"V349+SUM(A349:U349*(TRANSPOSE(CostCalculation!$C$38:$C$58)))","v":163415}]
[0,0,0,0,0,0,0,0,0,265,60,45,30,0,0,0,0,0,0,0,5,31670,{"$f":"SUM(A350:U350*(TRANSPOSE(CostCalculation!$D$38:$D$58)))","v":228600},{"$f":"V350+SUM(A350:U350*(TRANSPOSE(CostCalculation!$C$38:$C$58)))","v":163415}]
[0,0,0,0,0,0,0,0,0,212,48,36,24,0,0,0,0,0,0,0,4,25336,{"$f":"SUM(A351:U351*(TRANSPOSE(CostCalculation!$D$38:$D$58)))","v":182880},{"$f":"V351+SUM(A351:U351*(TRANSPOSE(CostCalculation!$C$38:$C$58)))","v":130732}]
[0,0,0,0,0,0,0,0,0,636,144,108,72,0,0,0,0,0,0,0,12,76008,{"$f":"SUM(A352:U352*(TRANSPOSE(CostCalculation!$D$38:$D$58)))","v":548640},{"$f":"V352+SUM(A352:U352*(TRANSPOSE(CostCalculation!$C$38:$C$58)))","v":392196}]
[0,0,0,0,0,0,0,0,0,106,24,18,12,0,0,0,0,0,0,0,2,12668,{"$f":"SUM(A353:U353*(TRANSPOSE(CostCalculation!$D$38:$D$58)))","v":91440},{"$f":"V353+SUM(A353:U353*(TRANSPOSE(CostCalculation!$C$38:$C$58)))","v":65366}]
[0,0,0,0,0,0,0,0,0,53,12,9,6,0,0,0,0,0,0,0,1,6334,{"$f":"SUM(A354:U354*(TRANSPOSE(CostCalculation!$D$38:$D$58)))","v":45720},{"$f":"V354+SUM(A354:U354*(TRANSPOSE(CostCalculation!$C$38:$C$58)))","v":32683}]
[0,0,0,0,0,0,0,0,0,212,48,36,24,0,0,0,0,0,0,0,4,25336,{"$f":"SUM(A355:U355*(TRANSPOSE(CostCalculation!$D$38:$D$58)))","v":182880},{"$f":"V355+SUM(A355:U355*(TRANSPOSE(CostCalculation!$C$38:$C$58)))","v":130732}]
[0,0,0,0,0,0,0,0,0,106,24,18,12,0,0,0,0,0,0,0,2,12668,{"$f":"SUM(A356:U356*(TRANSPOSE(CostCalculation!$D$38:$D$58)))","v":91440},{"$f":"V356+SUM(A356:U356*(TRANSPOSE(CostCalculation!$C$38:$C$58)))","v":65366}]
[0,0,0,0,0,0,0,0,0,159,36,27,18,0,0,0,0,0,0,0,3,19002,{"$f":"SUM(A357:U357*(TRANSPOSE(CostCalculation!$D$38:$D$58)))","v":137160},{"$f":"V357+SUM(A357:U357*(TRANSPOSE(CostCalculation!$C$38:$C$58)))","v":98049}]
[0,0,0,0,0,0,0,0,0,53,12,9,6,0,0,0,0,0,0,0,1,6334,{"$f":"SUM(A358:U358*(TRANSPOSE(CostCalculation!$D$38:$D$58)))","v":45720},{"$f":"V358+SUM(A358:U358*(TRANSPOSE(CostCalculation!$C$38:$C$58)))","v":32683}]
[0,0,0,0,0,0,0,0,0,106,24,18,12,0,0,0,0,0,0,0,2,12668,{"$f":"SUM(A359:U359*(TRANSPOSE(CostCalculation!$D$38:$D$58)))","v":91440},{"$f":"V359+SUM(A359:U359*(TRANSPOSE(CostCalculation!$C$38:$C$58)))","v":65366}]
[0,0,0,0,0,0,0,0,0,159,36,27,18,0,0,0,0,0,0,0,3,19002,{"$f":"SUM(A360:U360*(TRANSPOSE(CostCalculation!$D$38:$D$58)))","v":137160},{"$f":"V360+SUM(A360:U360*(TRANSPOSE(CostCalculation!$C$38:$C$58)))","v":98049}]
[0,0,0,0,0,0,0,0,0,371,84,63,42,0,0,0,0,0,0,0,7,44338,{"$f":"SUM(A361:U361*(TRANSPOSE(CostCalculation!$D$38:$D$58)))","v":320040},{"$f":"V361+SUM(A361:U361*(TRANSPOSE(CostCalculation!$C$38:$C$58)))","v":228781}]
[0,0,0,0,0,0,0,0,0,159,36,27,18,0,0,0,0,0,0,0,3,19002,{"$f":"SUM(A362:U362*(TRANSPOSE(CostCalculation!$D$38:$D$58)))","v":137160},{"$f":"V362+SUM(A362:U362*(TRANSPOSE(CostCalculation!$C$38:$C$58)))","v":98049}]
[0,0,0,0,0,0,0,0,0,212,48,36,24,0,0,0,0,0,0,0,4,25336,{"$f":"SUM(A363:U363*(TRANSPOSE(CostCalculation!$D$38:$D$58)))","v":182880},{"$f":"V363+SUM(A363:U363*(TRANSPOSE(CostCalculation!$C$38:$C$58)))","v":130732}]
[0,0,0,0,0,0,0,0,0,106,24,18,12,0,0,0,0,0,0,0,2,12668,{"$f":"SUM(A364:U364*(TRANSPOSE(CostCalculation!$D$38:$D$58)))","v":91440},{"$f":"V364+SUM(A364:U364*(TRANSPOSE(CostCalculation!$C$38:$C$58)))","v":65366}]
[0,0,0,0,0,0,0,0,0,212,48,36,24,0,0,0,0,0,0,0,4,25336,{"$f":"SUM(A365:U365*(TRANSPOSE(CostCalculation!$D$38:$D$58)))","v":182880},{"$f":"V365+SUM(A365:U365*(TRANSPOSE(CostCalculation!$C$38:$C$58)))","v":130732}]
[0,0,0,0,0,0,0,0,0,53,12,9,6,0,0,0,0,0,0,0,1,6334,{"$f":"SUM(A366:U366*(TRANSPOSE(CostCalculation!$D$38:$D$58)))","v":45720},{"$f":"V366+SUM(A366:U366*(TRANSPOSE(CostCalculation!$C$38:$C$58)))","v":32683}]
[0,0,0,0,0,0,0,0,0,318,72,54,36,0,0,0,0,0,0,0,6,38004,{"$f":"SUM(A367:U367*(TRANSPOSE(CostCalculation!$D$38:$D$58)))","v":274320},{"$f":"V367+SUM(A367:U367*(TRANSPOSE(CostCalculation!$C$38:$C$58)))","v":196098}]
[0,0,0,0,0,0,0,0,0,106,24,18,12,0,0,0,0,0,0,0,2,12668,{"$f":"SUM(A368:U368*(TRANSPOSE(CostCalculation!$D$38:$D$58)))","v":91440},{"$f":"V368+SUM(A368:U368*(TRANSPOSE(CostCalculation!$C$38:$C$58)))","v":65366}]
[0,0,0,0,0,0,0,0,0,53,12,9,6,0,0,0,0,0,0,0,1,6334,{"$f":"SUM(A369:U369*(TRANSPOSE(CostCalculation!$D$38:$D$58)))","v":45720},{"$f":"V369+SUM(A369:U369*(TRANSPOSE(CostCalculation!$C$38:$C$58)))","v":32683}]
[0,0,0,0,0,0,0,0,0,265,60,45,30,0,0,0,0,0,0,0,5,31670,{"$f":"SUM(A370:U370*(TRANSPOSE(CostCalculation!$D$38:$D$58)))","v":228600},{"$f":"V370+SUM(A370:U370*(TRANSPOSE(CostCalculation!$C$38:$C$58)))","v":163415}]
[0,0,0,0,0,0,0,0,0,53,12,9,6,0,0,0,0,0,0,0,1,6334,{"$f":"SUM(A371:U371*(TRANSPOSE(CostCalculation!$D$38:$D$58)))","v":45720},{"$f":"V371+SUM(A371:U371*(TRANSPOSE(CostCalculation!$C$38:$C$58)))","v":32683}]
[0,0,0,0,0,0,0,0,0,318,72,54,36,0,0,0,0,0,0,0,6,38004,{"$f":"SUM(A372:U372*(TRANSPOSE(CostCalculation!$D$38:$D$58)))","v":274320},{"$f":"V372+SUM(A372:U372*(TRANSPOSE(CostCalculation!$C$38:$C$58)))","v":196098}]
[0,0,0,0,0,0,0,0,0,53,12,9,6,0,0,0,0,0,0,0,1,6334,{"$f":"SUM(A373:U373*(TRANSPOSE(CostCalculation!$D$38:$D$58)))","v":45720},{"$f":"V373+SUM(A373:U373*(TRANSPOSE(CostCalculation!$C$38:$C$58)))","v":32683}]
[0,0,0,0,0,0,0,0,0,106,24,18,12,0,0,0,0,0,0,0,2,12668,{"$f":"SUM(A374:U374*(TRANSPOSE(CostCalculation!$D$38:$D$58)))","v":91440},{"$f":"V374+SUM(A374:U374*(TRANSPOSE(CostCalculation!$C$38:$C$58)))","v":65366}]
[0,0,0,0,0,0,0,0,0,106,24,18,12,0,0,0,0,0,0,0,2,12668,{"$f":"SUM(A375:U375*(TRANSPOSE(CostCalculation!$D$38:$D$58)))","v":91440},{"$f":"V375+SUM(A375:U375*(TRANSPOSE(CostCalculation!$C$38:$C$58)))","v":65366}]
[0,0,0,0,0,0,0,0,0,53,12,9,6,0,0,0,0,0,0,0,1,6334,{"$f":"SUM(A376:U376*(TRANSPOSE(CostCalculation!$D$38:$D$58)))","v":45720},{"$f":"V376+SUM(A376:U376*(TRANSPOSE(CostCalculation!$C$38:$C$58)))","v":32683}]
[0,0,0,0,0,0,0,0,0,106,24,18,12,0,0,0,0,0,0,0,2,12668,{"$f":"SUM(A377:U377*(TRANSPOSE(CostCalculation!$D$38:$D$58)))","v":91440},{"$f":"V377+SUM(A377:U377*(TRANSPOSE(CostCalculation!$C$38:$C$58)))","v":65366}]
[0,0,0,0,0,0,0,0,0,265,60,45,30,0,0,0,0,0,0,0,5,31670,{"$f":"SUM(A378:U378*(TRANSPOSE(CostCalculation!$D$38:$D$58)))","v":228600},{"$f":"V378+SUM(A378:U378*(TRANSPOSE(CostCalculation!$C$38:$C$58)))","v":163415}]
[0,0,0,0,0,0,0,0,0,53,12,9,6,0,0,0,0,0,0,0,1,6334,{"$f":"SUM(A379:U379*(TRANSPOSE(CostCalculation!$D$38:$D$58)))","v":45720},{"$f":"V379+SUM(A379:U379*(TRANSPOSE(CostCalculation!$C$38:$C$58)))","v":32683}]
[0,0,0,0,0,0,0,0,0,371,84,63,42,0,0,0,0,0,0,0,7,44338,{"$f":"SUM(A380:U380*(TRANSPOSE(CostCalculation!$D$38:$D$58)))","v":320040},{"$f":"V380+SUM(A380:U380*(TRANSPOSE(CostCalculation!$C$38:$C$58)))","v":228781}]
[0,0,0,0,0,0,0,0,0,159,36,27,18,0,0,0,0,0,0,0,3,19002,{"$f":"SUM(A381:U381*(TRANSPOSE(CostCalculation!$D$38:$D$58)))","v":137160},{"$f":"V381+SUM(A381:U381*(TRANSPOSE(CostCalculation!$C$38:$C$58)))","v":98049}]
[0,0,0,0,0,0,0,0,0,106,24,18,12,0,0,0,0,0,0,0,2,12668,{"$f":"SUM(A382:U382*(TRANSPOSE(CostCalculation!$D$38:$D$58)))","v":91440},{"$f":"V382+SUM(A382:U382*(TRANSPOSE(CostCalculation!$C$38:$C$58)))","v":65366}]
[0,0,0,0,0,0,0,0,0,265,60,45,30,0,0,0,0,0,0,0,5,31670,{"$f":"SUM(A383:U383*(TRANSPOSE(CostCalculation!$D$38:$D$58)))","v":228600},{"$f":"V383+SUM(A383:U383*(TRANSPOSE(CostCalculation!$C$38:$C$58)))","v":163415}]
[0,0,0,0,0,0,0,0,0,212,48,36,24,0,0,0,0,0,0,0,4,25336,{"$f":"SUM(A384:U384*(TRANSPOSE(CostCalculation!$D$38:$D$58)))","v":182880},{"$f":"V384+SUM(A384:U384*(TRANSPOSE(CostCalculation!$C$38:$C$58)))","v":130732}]
[0,0,0,0,0,0,0,0,0,159,36,27,18,0,0,0,0,0,0,0,3,19002,{"$f":"SUM(A385:U385*(TRANSPOSE(CostCalculation!$D$38:$D$58)))","v":137160},{"$f":"V385+SUM(A385:U385*(TRANSPOSE(CostCalculation!$C$38:$C$58)))","v":98049}]
[0,0,0,0,0,0,0,0,0,159,36,27,18,0,0,0,0,0,0,0,3,19002,{"$f":"SUM(A386:U386*(TRANSPOSE(CostCalculation!$D$38:$D$58)))","v":137160},{"$f":"V386+SUM(A386:U386*(TRANSPOSE(CostCalculation!$C$38:$C$58)))","v":98049}]
[0,0,0,0,0,0,0,0,0,212,48,36,24,0,0,0,0,0,0,0,4,25336,{"$f":"SUM(A387:U387*(TRANSPOSE(CostCalculation!$D$38:$D$58)))","v":182880},{"$f":"V387+SUM(A387:U387*(TRANSPOSE(CostCalculation!$C$38:$C$58)))","v":130732}]
[0,0,0,0,0,0,0,0,0,106,24,18,12,0,0,0,0,0,0,0,2,12668,{"$f":"SUM(A388:U388*(TRANSPOSE(CostCalculation!$D$38:$D$58)))","v":91440},{"$f":"V388+SUM(A388:U388*(TRANSPOSE(CostCalculation!$C$38:$C$58)))","v":65366}]
[0,0,0,0,0,0,0,0,0,265,60,45,30,0,0,0,0,0,0,0,5,31670,{"$f":"SUM(A389:U389*(TRANSPOSE(CostCalculation!$D$38:$D$58)))","v":228600},{"$f":"V389+SUM(A389:U389*(TRANSPOSE(CostCalculation!$C$38:$C$58)))","v":163415}]
[0,0,0,0,0,0,0,0,0,371,84,63,42,0,0,0,0,0,0,0,7,44338,{"$f":"SUM(A390:U390*(TRANSPOSE(CostCalculation!$D$38:$D$58)))","v":320040},{"$f":"V390+SUM(A390:U390*(TRANSPOSE(CostCalculation!$C$38:$C$58)))","v":228781}]
[0,0,0,0,0,0,0,0,0,53,12,9,6,0,0,0,0,0,0,0,1,6334,{"$f":"SUM(A391:U391*(TRANSPOSE(CostCalculation!$D$38:$D$58)))","v":45720},{"$f":"V391+SUM(A391:U391*(TRANSPOSE(CostCalculation!$C$38:$C$58)))","v":32683}]
[0,0,0,0,0,0,0,0,0,318,72,54,36,0,0,0,0,0,0,0,6,38004,{"$f":"SUM(A392:U392*(TRANSPOSE(CostCalculation!$D$38:$D$58)))","v":274320},{"$f":"V392+SUM(A392:U392*(TRANSPOSE(CostCalculation!$C$38:$C$58)))","v":196098}]
[0,0,0,0,0,0,0,0,0,106,24,18,12,0,0,0,0,0,0,0,2,12668,{"$f":"SUM(A393:U393*(TRANSPOSE(CostCalculation!$D$38:$D$58)))","v":91440},{"$f":"V393+SUM(A393:U393*(TRANSPOSE(CostCalculation!$C$38:$C$58)))","v":65366}]
[0,0,0,0,0,0,0,0,0,53,12,9,6,0,0,0,0,0,0,0,1,6334,{"$f":"SUM(A394:U394*(TRANSPOSE(CostCalculation!$D$38:$D$58)))","v":45720},{"$f":"V394+SUM(A394:U394*(TRANSPOSE(CostCalculation!$C$38:$C$58)))","v":32683}]
[0,0,0,0,0,0,0,0,0,265,60,45,30,0,0,0,0,0,0,0,5,31670,{"$f":"SUM(A395:U395*(TRANSPOSE(CostCalculation!$D$38:$D$58)))","v":228600},{"$f":"V395+SUM(A395:U395*(TRANSPOSE(CostCalculation!$C$38:$C$58)))","v":163415}]
[0,0,0,0,0,0,0,0,0,53,12,9,6,0,0,0,0,0,0,0,1,6334,{"$f":"SUM(A396:U396*(TRANSPOSE(CostCalculation!$D$38:$D$58)))","v":45720},{"$f":"V396+SUM(A396:U396*(TRANSPOSE(CostCalculation!$C$38:$C$58)))","v":32683}]
[0,0,0,0,0,0,0,0,0,53,12,9,6,0,0,0,0,0,0,0,1,6334,{"$f":"SUM(A397:U397*(TRANSPOSE(CostCalculation!$D$38:$D$58)))","v":45720},{"$f":"V397+SUM(A397:U397*(TRANSPOSE(CostCalculation!$C$38:$C$58)))","v":32683}]
[0,0,0,0,0,0,0,0,0,159,36,27,18,0,0,0,0,0,0,0,3,19002,{"$f":"SUM(A398:U398*(TRANSPOSE(CostCalculation!$D$38:$D$58)))","v":137160},{"$f":"V398+SUM(A398:U398*(TRANSPOSE(CostCalculation!$C$38:$C$58)))","v":98049}]
[0,0,0,0,0,0,0,0,0,159,36,27,18,0,0,0,0,0,0,0,3,19002,{"$f":"SUM(A399:U399*(TRANSPOSE(CostCalculation!$D$38:$D$58)))","v":137160},{"$f":"V399+SUM(A399:U399*(TRANSPOSE(CostCalculation!$C$38:$C$58)))","v":98049}]
[0,0,0,0,0,0,0,0,0,53,12,9,6,0,0,0,0,0,0,0,1,6334,{"$f":"SUM(A400:U400*(TRANSPOSE(CostCalculation!$D$38:$D$58)))","v":45720},{"$f":"V400+SUM(A400:U400*(TRANSPOSE(CostCalculation!$C$38:$C$58)))","v":32683}]
[0,0,0,0,0,0,0,0,0,53,12,9,6,0,0,0,0,0,0,0,1,6334,{"$f":"SUM(A401:U401*(TRANSPOSE(CostCalculation!$D$38:$D$58)))","v":45720},{"$f":"V401+SUM(A401:U401*(TRANSPOSE(CostCalculation!$C$38:$C$58)))","v":32683}]
[0,0,0,0,0,0,0,0,0,212,48,36,24,0,0,0,0,0,0,0,4,25336,{"$f":"SUM(A402:U402*(TRANSPOSE(CostCalculation!$D$38:$D$58)))","v":182880},{"$f":"V402+SUM(A402:U402*(TRANSPOSE(CostCalculation!$C$38:$C$58)))","v":130732}]
[0,0,0,0,0,0,0,0,0,265,60,45,30,0,0,0,0,0,0,0,5,31670,{"$f":"SUM(A403:U403*(TRANSPOSE(CostCalculation!$D$38:$D$58)))","v":228600},{"$f":"V403+SUM(A403:U403*(TRANSPOSE(CostCalculation!$C$38:$C$58)))","v":163415}]
[0,0,0,0,0,0,0,0,0,212,48,36,24,0,0,0,0,0,0,0,4,25336,{"$f":"SUM(A404:U404*(TRANSPOSE(CostCalculation!$D$38:$D$58)))","v":182880},{"$f":"V404+SUM(A404:U404*(TRANSPOSE(CostCalculation!$C$38:$C$58)))","v":130732}]
[0,0,0,0,0,0,0,0,0,159,36,27,18,0,0,0,0,0,0,0,3,19002,{"$f":"SUM(A405:U405*(TRANSPOSE(CostCalculation!$D$38:$D$58)))","v":137160},{"$f":"V405+SUM(A405:U405*(TRANSPOSE(CostCalculation!$C$38:$C$58)))","v":98049}]
[0,0,0,0,0,0,0,0,0,318,72,54,36,0,0,0,0,0,0,0,6,38004,{"$f":"SUM(A406:U406*(TRANSPOSE(CostCalculation!$D$38:$D$58)))","v":274320},{"$f":"V406+SUM(A406:U406*(TRANSPOSE(CostCalculation!$C$38:$C$58)))","v":196098}]
[0,0,0,0,0,0,0,0,0,106,24,18,12,0,0,0,0,0,0,0,2,12668,{"$f":"SUM(A407:U407*(TRANSPOSE(CostCalculation!$D$38:$D$58)))","v":91440},{"$f":"V407+SUM(A407:U407*(TRANSPOSE(CostCalculation!$C$38:$C$58)))","v":65366}]
[0,0,0,0,0,0,0,0,0,371,84,63,42,0,0,0,0,0,0,0,7,44338,{"$f":"SUM(A408:U408*(TRANSPOSE(CostCalculation!$D$38:$D$58)))","v":320040},{"$f":"V408+SUM(A408:U408*(TRANSPOSE(CostCalculation!$C$38:$C$58)))","v":228781}]
[0,0,0,0,0,0,0,0,0,265,60,45,30,0,0,0,0,0,0,0,5,31670,{"$f":"SUM(A409:U409*(TRANSPOSE(CostCalculation!$D$38:$D$58)))","v":228600},{"$f":"V409+SUM(A409:U409*(TRANSPOSE(CostCalculation!$C$38:$C$58)))","v":163415}]
[0,0,0,0,0,0,0,0,0,106,24,18,12,0,0,0,0,0,0,0,2,12668,{"$f":"SUM(A410:U410*(TRANSPOSE(CostCalculation!$D$38:$D$58)))","v":91440},{"$f":"V410+SUM(A410:U410*(TRANSPOSE(CostCalculation!$C$38:$C$58)))","v":65366}]
[0,0,0,0,0,0,0,0,0,159,36,27,18,0,0,0,0,0,0,0,3,19002,{"$f":"SUM(A411:U411*(TRANSPOSE(CostCalculation!$D$38:$D$58)))","v":137160},{"$f":"V411+SUM(A411:U411*(TRANSPOSE(CostCalculation!$C$38:$C$58)))","v":98049}]
[0,0,0,0,0,0,0,0,0,265,60,45,30,0,0,0,0,0,0,0,5,31670,{"$f":"SUM(A412:U412*(TRANSPOSE(CostCalculation!$D$38:$D$58)))","v":228600},{"$f":"V412+SUM(A412:U412*(TRANSPOSE(CostCalculation!$C$38:$C$58)))","v":163415}]
[0,0,0,0,0,0,0,0,0,53,12,9,6,0,0,0,0,0,0,0,1,6334,{"$f":"SUM(A413:U413*(TRANSPOSE(CostCalculation!$D$38:$D$58)))","v":45720},{"$f":"V413+SUM(A413:U413*(TRANSPOSE(CostCalculation!$C$38:$C$58)))","v":32683}]
[0,0,0,0,0,0,0,0,0,159,36,27,18,0,0,0,0,0,0,0,3,19002,{"$f":"SUM(A414:U414*(TRANSPOSE(CostCalculation!$D$38:$D$58)))","v":137160},{"$f":"V414+SUM(A414:U414*(TRANSPOSE(CostCalculation!$C$38:$C$58)))","v":98049}]
[0,0,0,0,0,0,0,0,0,583,132,99,66,0,0,0,0,0,0,0,11,69674,{"$f":"SUM(A415:U415*(TRANSPOSE(CostCalculation!$D$38:$D$58)))","v":502920},{"$f":"V415+SUM(A415:U415*(TRANSPOSE(CostCalculation!$C$38:$C$58)))","v":359513}]
[0,0,0,0,0,0,0,0,0,159,36,27,18,0,0,0,0,0,0,0,3,19002,{"$f":"SUM(A416:U416*(TRANSPOSE(CostCalculation!$D$38:$D$58)))","v":137160},{"$f":"V416+SUM(A416:U416*(TRANSPOSE(CostCalculation!$C$38:$C$58)))","v":98049}]
[0,0,0,0,0,0,0,0,0,212,48,36,24,0,0,0,0,0,0,0,4,25336,{"$f":"SUM(A417:U417*(TRANSPOSE(CostCalculation!$D$38:$D$58)))","v":182880},{"$f":"V417+SUM(A417:U417*(TRANSPOSE(CostCalculation!$C$38:$C$58)))","v":130732}]
[0,0,0,0,0,0,0,0,0,106,24,18,12,0,0,0,0,0,0,0,2,12668,{"$f":"SUM(A418:U418*(TRANSPOSE(CostCalculation!$D$38:$D$58)))","v":91440},{"$f":"V418+SUM(A418:U418*(TRANSPOSE(CostCalculation!$C$38:$C$58)))","v":65366}]
[0,0,0,0,0,0,0,0,0,53,12,9,6,0,0,0,0,0,0,0,1,6334,{"$f":"SUM(A419:U419*(TRANSPOSE(CostCalculation!$D$38:$D$58)))","v":45720},{"$f":"V419+SUM(A419:U419*(TRANSPOSE(CostCalculation!$C$38:$C$58)))","v":32683}]
[0,0,0,0,0,0,0,0,0,53,12,9,6,0,0,0,0,0,0,0,1,6334,{"$f":"SUM(A420:U420*(TRANSPOSE(CostCalculation!$D$38:$D$58)))","v":45720},{"$f":"V420+SUM(A420:U420*(TRANSPOSE(CostCalculation!$C$38:$C$58)))","v":32683}]
[0,0,0,0,0,0,0,0,0,265,60,45,30,0,0,0,0,0,0,0,5,31670,{"$f":"SUM(A421:U421*(TRANSPOSE(CostCalculation!$D$38:$D$58)))","v":228600},{"$f":"V421+SUM(A421:U421*(TRANSPOSE(CostCalculation!$C$38:$C$58)))","v":163415}]
[0,0,0,0,0,0,0,0,0,318,72,54,36,0,0,0,0,0,0,0,6,38004,{"$f":"SUM(A422:U422*(TRANSPOSE(CostCalculation!$D$38:$D$58)))","v":274320},{"$f":"V422+SUM(A422:U422*(TRANSPOSE(CostCalculation!$C$38:$C$58)))","v":196098}]
[0,0,0,0,0,0,0,0,0,530,120,90,60,0,0,0,0,0,0,0,10,63340,{"$f":"SUM(A423:U423*(TRANSPOSE(CostCalculation!$D$38:$D$58)))","v":457200},{"$f":"V423+SUM(A423:U423*(TRANSPOSE(CostCalculation!$C$38:$C$58)))","v":326830}]
[0,0,0,0,0,0,0,0,0,318,72,54,36,0,0,0,0,0,0,0,6,38004,{"$f":"SUM(A424:U424*(TRANSPOSE(CostCalculation!$D$38:$D$58)))","v":274320},{"$f":"V424+SUM(A424:U424*(TRANSPOSE(CostCalculation!$C$38:$C$58)))","v":196098}]
[0,0,0,0,0,0,0,0,0,212,48,36,24,0,0,0,0,0,0,0,4,25336,{"$f":"SUM(A425:U425*(TRANSPOSE(CostCalculation!$D$38:$D$58)))","v":182880},{"$f":"V425+SUM(A425:U425*(TRANSPOSE(CostCalculation!$C$38:$C$58)))","v":130732}]
[0,0,0,0,0,0,0,0,0,265,60,45,30,0,0,0,0,0,0,0,5,31670,{"$f":"SUM(A426:U426*(TRANSPOSE(CostCalculation!$D$38:$D$58)))","v":228600},{"$f":"V426+SUM(A426:U426*(TRANSPOSE(CostCalculation!$C$38:$C$58)))","v":163415}]
[0,0,0,0,0,0,0,0,0,53,12,9,6,0,0,0,0,0,0,0,1,6334,{"$f":"SUM(A427:U427*(TRANSPOSE(CostCalculation!$D$38:$D$58)))","v":45720},{"$f":"V427+SUM(A427:U427*(TRANSPOSE(CostCalculation!$C$38:$C$58)))","v":32683}]
[0,0,0,0,0,0,0,0,0,53,12,9,6,0,0,0,0,0,0,0,1,6334,{"$f":"SUM(A428:U428*(TRANSPOSE(CostCalculation!$D$38:$D$58)))","v":45720},{"$f":"V428+SUM(A428:U428*(TRANSPOSE(CostCalculation!$C$38:$C$58)))","v":32683}]
[0,0,0,0,0,0,0,0,0,106,24,18,12,0,0,0,0,0,0,0,2,12668,{"$f":"SUM(A429:U429*(TRANSPOSE(CostCalculation!$D$38:$D$58)))","v":91440},{"$f":"V429+SUM(A429:U429*(TRANSPOSE(CostCalculation!$C$38:$C$58)))","v":65366}]
[0,0,0,0,0,0,0,0,0,106,24,18,12,0,0,0,0,0,0,0,2,12668,{"$f":"SUM(A430:U430*(TRANSPOSE(CostCalculation!$D$38:$D$58)))","v":91440},{"$f":"V430+SUM(A430:U430*(TRANSPOSE(CostCalculation!$C$38:$C$58)))","v":65366}]
[0,0,0,0,0,0,0,0,0,318,72,54,36,0,0,0,0,0,0,0,6,38004,{"$f":"SUM(A431:U431*(TRANSPOSE(CostCalculation!$D$38:$D$58)))","v":274320},{"$f":"V431+SUM(A431:U431*(TRANSPOSE(CostCalculation!$C$38:$C$58)))","v":196098}]
[0,0,0,0,0,0,0,0,0,265,60,45,30,0,0,0,0,0,0,0,5,31670,{"$f":"SUM(A432:U432*(TRANSPOSE(CostCalculation!$D$38:$D$58)))","v":228600},{"$f":"V432+SUM(A432:U432*(TRANSPOSE(CostCalculation!$C$38:$C$58)))","v":163415}]
[0,0,0,0,0,0,0,0,0,477,108,81,54,0,0,0,0,0,0,0,9,57006,{"$f":"SUM(A433:U433*(TRANSPOSE(CostCalculation!$D$38:$D$58)))","v":411480},{"$f":"V433+SUM(A433:U433*(TRANSPOSE(CostCalculation!$C$38:$C$58)))","v":294147}]
[0,0,0,0,0,0,0,0,0,53,12,9,6,0,0,0,0,0,0,0,1,6334,{"$f":"SUM(A434:U434*(TRANSPOSE(CostCalculation!$D$38:$D$58)))","v":45720},{"$f":"V434+SUM(A434:U434*(TRANSPOSE(CostCalculation!$C$38:$C$58)))","v":32683}]
[0,0,0,0,0,0,0,0,0,53,12,9,6,0,0,0,0,0,0,0,1,6334,{"$f":"SUM(A435:U435*(TRANSPOSE(CostCalculation!$D$38:$D$58)))","v":45720},{"$f":"V435+SUM(A435:U435*(TRANSPOSE(CostCalculation!$C$38:$C$58)))","v":32683}]
[0,0,0,0,0,0,0,0,0,53,12,9,6,0,0,0,0,0,0,0,1,6334,{"$f":"SUM(A436:U436*(TRANSPOSE(CostCalculation!$D$38:$D$58)))","v":45720},{"$f":"V436+SUM(A436:U436*(TRANSPOSE(CostCalculation!$C$38:$C$58)))","v":32683}]
[0,0,0,0,0,0,0,0,0,212,48,36,24,0,0,0,0,0,0,0,4,25336,{"$f":"SUM(A437:U437*(TRANSPOSE(CostCalculation!$D$38:$D$58)))","v":182880},{"$f":"V437+SUM(A437:U437*(TRANSPOSE(CostCalculation!$C$38:$C$58)))","v":130732}]
[0,0,0,0,0,0,0,0,0,159,36,27,18,0,0,0,0,0,0,0,3,19002,{"$f":"SUM(A438:U438*(TRANSPOSE(CostCalculation!$D$38:$D$58)))","v":137160},{"$f":"V438+SUM(A438:U438*(TRANSPOSE(CostCalculation!$C$38:$C$58)))","v":98049}]
[0,0,0,0,0,0,0,0,0,106,24,18,12,0,0,0,0,0,0,0,2,12668,{"$f":"SUM(A439:U439*(TRANSPOSE(CostCalculation!$D$38:$D$58)))","v":91440},{"$f":"V439+SUM(A439:U439*(TRANSPOSE(CostCalculation!$C$38:$C$58)))","v":65366}]
[0,0,0,0,0,0,0,0,0,53,12,9,6,0,0,0,0,0,0,0,1,6334,{"$f":"SUM(A440:U440*(TRANSPOSE(CostCalculation!$D$38:$D$58)))","v":45720},{"$f":"V440+SUM(A440:U440*(TRANSPOSE(CostCalculation!$C$38:$C$58)))","v":32683}]
[0,0,0,0,0,0,0,0,0,106,24,18,12,0,0,0,0,0,0,0,2,12668,{"$f":"SUM(A441:U441*(TRANSPOSE(CostCalculation!$D$38:$D$58)))","v":91440},{"$f":"V441+SUM(A441:U441*(TRANSPOSE(CostCalculation!$C$38:$C$58)))","v":65366}]
[0,0,0,0,0,0,0,0,0,265,60,45,30,0,0,0,0,0,0,0,5,31670,{"$f":"SUM(A442:U442*(TRANSPOSE(CostCalculation!$D$38:$D$58)))","v":228600},{"$f":"V442+SUM(A442:U442*(TRANSPOSE(CostCalculation!$C$38:$C$58)))","v":163415}]
[0,0,0,0,0,0,0,0,0,265,60,45,30,0,0,0,0,0,0,0,5,31670,{"$f":"SUM(A443:U443*(TRANSPOSE(CostCalculation!$D$38:$D$58)))","v":228600},{"$f":"V443+SUM(A443:U443*(TRANSPOSE(CostCalculation!$C$38:$C$58)))","v":163415}]
[0,0,0,0,0,0,0,0,0,212,48,36,24,0,0,0,0,0,0,0,4,25336,{"$f":"SUM(A444:U444*(TRANSPOSE(CostCalculation!$D$38:$D$58)))","v":182880},{"$f":"V444+SUM(A444:U444*(TRANSPOSE(CostCalculation!$C$38:$C$58)))","v":130732}]
[0,0,0,0,0,0,0,0,0,106,24,18,12,0,0,0,0,0,0,0,2,12668,{"$f":"SUM(A445:U445*(TRANSPOSE(CostCalculation!$D$38:$D$58)))","v":91440},{"$f":"V445+SUM(A445:U445*(TRANSPOSE(CostCalculation!$C$38:$C$58)))","v":65366}]
[0,0,0,0,0,0,0,0,0,212,48,36,24,0,0,0,0,0,0,0,4,25336,{"$f":"SUM(A446:U446*(TRANSPOSE(CostCalculation!$D$38:$D$58)))","v":182880},{"$f":"V446+SUM(A446:U446*(TRANSPOSE(CostCalculation!$C$38:$C$58)))","v":130732}]
[0,0,0,0,0,0,0,0,0,159,36,27,18,0,0,0,0,0,0,0,3,19002,{"$f":"SUM(A447:U447*(TRANSPOSE(CostCalculation!$D$38:$D$58)))","v":137160},{"$f":"V447+SUM(A447:U447*(TRANSPOSE(CostCalculation!$C$38:$C$58)))","v":98049}]
[0,0,0,0,0,0,0,0,0,159,36,27,18,0,0,0,0,0,0,0,3,19002,{"$f":"SUM(A448:U448*(TRANSPOSE(CostCalculation!$D$38:$D$58)))","v":137160},{"$f":"V448+SUM(A448:U448*(TRANSPOSE(CostCalculation!$C$38:$C$58)))","v":98049}]
[0,0,0,0,0,0,0,0,0,106,24,18,12,0,0,0,0,0,0,0,2,12668,{"$f":"SUM(A449:U449*(TRANSPOSE(CostCalculation!$D$38:$D$58)))","v":91440},{"$f":"V449+SUM(A449:U449*(TRANSPOSE(CostCalculation!$C$38:$C$58)))","v":65366}]
[0,0,0,0,0,0,0,0,0,424,96,72,48,0,0,0,0,0,0,0,8,50672,{"$f":"SUM(A450:U450*(TRANSPOSE(CostCalculation!$D$38:$D$58)))","v":365760},{"$f":"V450+SUM(A450:U450*(TRANSPOSE(CostCalculation!$C$38:$C$58)))","v":261464}]
[0,0,0,0,0,0,0,0,0,159,36,27,18,0,0,0,0,0,0,0,3,19002,{"$f":"SUM(A451:U451*(TRANSPOSE(CostCalculation!$D$38:$D$58)))","v":137160},{"$f":"V451+SUM(A451:U451*(TRANSPOSE(CostCalculation!$C$38:$C$58)))","v":98049}]
[0,0,0,0,0,0,0,0,0,265,60,45,30,0,0,0,0,0,0,0,5,31670,{"$f":"SUM(A452:U452*(TRANSPOSE(CostCalculation!$D$38:$D$58)))","v":228600},{"$f":"V452+SUM(A452:U452*(TRANSPOSE(CostCalculation!$C$38:$C$58)))","v":163415}]
[0,0,0,0,0,0,0,0,0,53,12,9,6,0,0,0,0,0,0,0,1,6334,{"$f":"SUM(A453:U453*(TRANSPOSE(CostCalculation!$D$38:$D$58)))","v":45720},{"$f":"V453+SUM(A453:U453*(TRANSPOSE(CostCalculation!$C$38:$C$58)))","v":32683}]
[0,0,0,0,0,0,0,0,0,53,12,9,6,0,0,0,0,0,0,0,1,6334,{"$f":"SUM(A454:U454*(TRANSPOSE(CostCalculation!$D$38:$D$58)))","v":45720},{"$f":"V454+SUM(A454:U454*(TRANSPOSE(CostCalculation!$C$38:$C$58)))","v":32683}]
[0,0,0,0,0,0,0,0,0,53,12,9,6,0,0,0,0,0,0,0,1,6334,{"$f":"SUM(A455:U455*(TRANSPOSE(CostCalculation!$D$38:$D$58)))","v":45720},{"$f":"V455+SUM(A455:U455*(TRANSPOSE(CostCalculation!$C$38:$C$58)))","v":32683}]
[0,0,0,0,0,0,0,0,0,53,12,9,6,0,0,0,0,0,0,0,1,6334,{"$f":"SUM(A456:U456*(TRANSPOSE(CostCalculation!$D$38:$D$58)))","v":45720},{"$f":"V456+SUM(A456:U456*(TRANSPOSE(CostCalculation!$C$38:$C$58)))","v":32683}]
[0,0,0,0,0,0,0,0,0,159,36,27,18,0,0,0,0,0,0,0,3,19002,{"$f":"SUM(A457:U457*(TRANSPOSE(CostCalculation!$D$38:$D$58)))","v":137160},{"$f":"V457+SUM(A457:U457*(TRANSPOSE(CostCalculation!$C$38:$C$58)))","v":98049}]
[0,0,0,0,0,0,0,0,0,53,12,9,6,0,0,0,0,0,0,0,1,6334,{"$f":"SUM(A458:U458*(TRANSPOSE(CostCalculation!$D$38:$D$58)))","v":45720},{"$f":"V458+SUM(A458:U458*(TRANSPOSE(CostCalculation!$C$38:$C$58)))","v":32683}]
[0,0,0,0,0,0,0,0,0,53,12,9,6,0,0,0,0,0,0,0,1,6334,{"$f":"SUM(A459:U459*(TRANSPOSE(CostCalculation!$D$38:$D$58)))","v":45720},{"$f":"V459+SUM(A459:U459*(TRANSPOSE(CostCalculation!$C$38:$C$58)))","v":32683}]
[0,0,0,0,0,0,0,0,0,265,60,45,30,0,0,0,0,0,0,0,5,31670,{"$f":"SUM(A460:U460*(TRANSPOSE(CostCalculation!$D$38:$D$58)))","v":228600},{"$f":"V460+SUM(A460:U460*(TRANSPOSE(CostCalculation!$C$38:$C$58)))","v":163415}]
[0,0,0,0,0,0,0,0,0,265,60,45,30,0,0,0,0,0,0,0,5,31670,{"$f":"SUM(A461:U461*(TRANSPOSE(CostCalculation!$D$38:$D$58)))","v":228600},{"$f":"V461+SUM(A461:U461*(TRANSPOSE(CostCalculation!$C$38:$C$58)))","v":163415}]
[0,0,0,0,0,0,0,0,0,106,24,18,12,0,0,0,0,0,0,0,2,12668,{"$f":"SUM(A462:U462*(TRANSPOSE(CostCalculation!$D$38:$D$58)))","v":91440},{"$f":"V462+SUM(A462:U462*(TRANSPOSE(CostCalculation!$C$38:$C$58)))","v":65366}]
[0,0,0,0,0,0,0,0,0,477,108,81,54,0,0,0,0,0,0,0,9,57006,{"$f":"SUM(A463:U463*(TRANSPOSE(CostCalculation!$D$38:$D$58)))","v":411480},{"$f":"V463+SUM(A463:U463*(TRANSPOSE(CostCalculation!$C$38:$C$58)))","v":294147}]
[0,0,0,0,0,0,0,0,0,212,48,36,24,0,0,0,0,0,0,0,4,25336,{"$f":"SUM(A464:U464*(TRANSPOSE(CostCalculation!$D$38:$D$58)))","v":182880},{"$f":"V464+SUM(A464:U464*(TRANSPOSE(CostCalculation!$C$38:$C$58)))","v":130732}]
[0,0,0,0,0,0,0,0,0,106,24,18,12,0,0,0,0,0,0,0,2,12668,{"$f":"SUM(A465:U465*(TRANSPOSE(CostCalculation!$D$38:$D$58)))","v":91440},{"$f":"V465+SUM(A465:U465*(TRANSPOSE(CostCalculation!$C$38:$C$58)))","v":65366}]
[0,0,0,0,0,0,0,0,0,318,72,54,36,0,0,0,0,0,0,0,6,38004,{"$f":"SUM(A466:U466*(TRANSPOSE(CostCalculation!$D$38:$D$58)))","v":274320},{"$f":"V466+SUM(A466:U466*(TRANSPOSE(CostCalculation!$C$38:$C$58)))","v":196098}]
[0,0,0,0,0,0,0,0,0,318,72,54,36,0,0,0,0,0,0,0,6,38004,{"$f":"SUM(A467:U467*(TRANSPOSE(CostCalculation!$D$38:$D$58)))","v":274320},{"$f":"V467+SUM(A467:U467*(TRANSPOSE(CostCalculation!$C$38:$C$58)))","v":196098}]
[0,0,0,0,0,0,0,0,0,212,48,36,24,0,0,0,0,0,0,0,4,25336,{"$f":"SUM(A468:U468*(TRANSPOSE(CostCalculation!$D$38:$D$58)))","v":182880},{"$f":"V468+SUM(A468:U468*(TRANSPOSE(CostCalculation!$C$38:$C$58)))","v":130732}]
[0,0,0,0,0,0,0,0,0,159,36,27,18,0,0,0,0,0,0,0,3,19002,{"$f":"SUM(A469:U469*(TRANSPOSE(CostCalculation!$D$38:$D$58)))","v":137160},{"$f":"V469+SUM(A469:U469*(TRANSPOSE(CostCalculation!$C$38:$C$58)))","v":98049}]
[0,0,0,0,0,0,0,0,0,106,24,18,12,0,0,0,0,0,0,0,2,12668,{"$f":"SUM(A470:U470*(TRANSPOSE(CostCalculation!$D$38:$D$58)))","v":91440},{"$f":"V470+SUM(A470:U470*(TRANSPOSE(CostCalculation!$C$38:$C$58)))","v":65366}]
[0,0,0,0,0,0,0,0,0,212,48,36,24,0,0,0,0,0,0,0,4,25336,{"$f":"SUM(A471:U471*(TRANSPOSE(CostCalculation!$D$38:$D$58)))","v":182880},{"$f":"V471+SUM(A471:U471*(TRANSPOSE(CostCalculation!$C$38:$C$58)))","v":130732}]
[0,0,0,0,0,0,0,0,0,212,48,36,24,0,0,0,0,0,0,0,4,25336,{"$f":"SUM(A472:U472*(TRANSPOSE(CostCalculation!$D$38:$D$58)))","v":182880},{"$f":"V472+SUM(A472:U472*(TRANSPOSE(CostCalculation!$C$38:$C$58)))","v":130732}]
[0,0,0,0,0,0,0,0,0,53,12,9,6,0,0,0,0,0,0,0,1,6334,{"$f":"SUM(A473:U473*(TRANSPOSE(CostCalculation!$D$38:$D$58)))","v":45720},{"$f":"V473+SUM(A473:U473*(TRANSPOSE(CostCalculation!$C$38:$C$58)))","v":32683}]
[0,0,0,0,0,0,0,0,0,212,48,36,24,0,0,0,0,0,0,0,4,25336,{"$f":"SUM(A474:U474*(TRANSPOSE(CostCalculation!$D$38:$D$58)))","v":182880},{"$f":"V474+SUM(A474:U474*(TRANSPOSE(CostCalculation!$C$38:$C$58)))","v":130732}]
[0,0,0,0,0,0,0,0,0,212,48,36,24,0,0,0,0,0,0,0,4,25336,{"$f":"SUM(A475:U475*(TRANSPOSE(CostCalculation!$D$38:$D$58)))","v":182880},{"$f":"V475+SUM(A475:U475*(TRANSPOSE(CostCalculation!$C$38:$C$58)))","v":130732}]
[0,0,0,0,0,0,0,0,0,159,36,27,18,0,0,0,0,0,0,0,3,19002,{"$f":"SUM(A476:U476*(TRANSPOSE(CostCalculation!$D$38:$D$58)))","v":137160},{"$f":"V476+SUM(A476:U476*(TRANSPOSE(CostCalculation!$C$38:$C$58)))","v":98049}]
[0,0,0,0,0,0,0,0,0,53,12,9,6,0,0,0,0,0,0,0,1,6334,{"$f":"SUM(A477:U477*(TRANSPOSE(CostCalculation!$D$38:$D$58)))","v":45720},{"$f":"V477+SUM(A477:U477*(TRANSPOSE(CostCalculation!$C$38:$C$58)))","v":32683}]
[0,0,0,0,0,0,0,0,0,159,36,27,18,0,0,0,0,0,0,0,3,19002,{"$f":"SUM(A478:U478*(TRANSPOSE(CostCalculation!$D$38:$D$58)))","v":137160},{"$f":"V478+SUM(A478:U478*(TRANSPOSE(CostCalculation!$C$38:$C$58)))","v":98049}]
[0,0,0,0,0,0,0,0,0,106,24,18,12,0,0,0,0,0,0,0,2,12668,{"$f":"SUM(A479:U479*(TRANSPOSE(CostCalculation!$D$38:$D$58)))","v":91440},{"$f":"V479+SUM(A479:U479*(TRANSPOSE(CostCalculation!$C$38:$C$58)))","v":65366}]
[0,0,0,0,0,0,0,0,0,106,24,18,12,0,0,0,0,0,0,0,2,12668,{"$f":"SUM(A480:U480*(TRANSPOSE(CostCalculation!$D$38:$D$58)))","v":91440},{"$f":"V480+SUM(A480:U480*(TRANSPOSE(CostCalculation!$C$38:$C$58)))","v":65366}]
[0,0,0,0,0,0,0,0,0,159,36,27,18,0,0,0,0,0,0,0,3,19002,{"$f":"SUM(A481:U481*(TRANSPOSE(CostCalculation!$D$38:$D$58)))","v":137160},{"$f":"V481+SUM(A481:U481*(TRANSPOSE(CostCalculation!$C$38:$C$58)))","v":98049}]
[0,0,0,0,0,0,0,0,0,53,12,9,6,0,0,0,0,0,0,0,1,6334,{"$f":"SUM(A482:U482*(TRANSPOSE(CostCalculation!$D$38:$D$58)))","v":45720},{"$f":"V482+SUM(A482:U482*(TRANSPOSE(CostCalculation!$C$38:$C$58)))","v":32683}]
[0,0,0,0,0,0,0,0,0,106,24,18,12,0,0,0,0,0,0,0,2,12668,{"$f":"SUM(A483:U483*(TRANSPOSE(CostCalculation!$D$38:$D$58)))","v":91440},{"$f":"V483+SUM(A483:U483*(TRANSPOSE(CostCalculation!$C$38:$C$58)))","v":65366}]
[0,0,0,0,0,0,0,0,0,159,36,27,18,0,0,0,0,0,0,0,3,19002,{"$f":"SUM(A484:U484*(TRANSPOSE(CostCalculation!$D$38:$D$58)))","v":137160},{"$f":"V484+SUM(A484:U484*(TRANSPOSE(CostCalculation!$C$38:$C$58)))","v":98049}]
[0,0,0,0,0,0,0,0,0,265,60,45,30,0,0,0,0,0,0,0,5,31670,{"$f":"SUM(A485:U485*(TRANSPOSE(CostCalculation!$D$38:$D$58)))","v":228600},{"$f":"V485+SUM(A485:U485*(TRANSPOSE(CostCalculation!$C$38:$C$58)))","v":163415}]
[0,0,0,0,0,0,0,0,0,106,24,18,12,0,0,0,0,0,0,0,2,12668,{"$f":"SUM(A486:U486*(TRANSPOSE(CostCalculation!$D$38:$D$58)))","v":91440},{"$f":"V486+SUM(A486:U486*(TRANSPOSE(CostCalculation!$C$38:$C$58)))","v":65366}]
[0,0,0,0,0,0,0,0,0,106,24,18,12,0,0,0,0,0,0,0,2,12668,{"$f":"SUM(A487:U487*(TRANSPOSE(CostCalculation!$D$38:$D$58)))","v":91440},{"$f":"V487+SUM(A487:U487*(TRANSPOSE(CostCalculation!$C$38:$C$58)))","v":65366}]
[0,0,0,0,0,0,0,0,0,159,36,27,18,0,0,0,0,0,0,0,3,19002,{"$f":"SUM(A488:U488*(TRANSPOSE(CostCalculation!$D$38:$D$58)))","v":137160},{"$f":"V488+SUM(A488:U488*(TRANSPOSE(CostCalculation!$C$38:$C$58)))","v":98049}]
[0,0,0,0,0,0,0,0,0,53,12,9,6,0,0,0,0,0,0,0,1,6334,{"$f":"SUM(A489:U489*(TRANSPOSE(CostCalculation!$D$38:$D$58)))","v":45720},{"$f":"V489+SUM(A489:U489*(TRANSPOSE(CostCalculation!$C$38:$C$58)))","v":32683}]
[0,0,0,0,0,0,0,0,0,212,48,36,24,0,0,0,0,0,0,0,4,25336,{"$f":"SUM(A490:U490*(TRANSPOSE(CostCalculation!$D$38:$D$58)))","v":182880},{"$f":"V490+SUM(A490:U490*(TRANSPOSE(CostCalculation!$C$38:$C$58)))","v":130732}]
[0,0,0,0,0,0,0,0,0,106,24,18,12,0,0,0,0,0,0,0,2,12668,{"$f":"SUM(A491:U491*(TRANSPOSE(CostCalculation!$D$38:$D$58)))","v":91440},{"$f":"V491+SUM(A491:U491*(TRANSPOSE(CostCalculation!$C$38:$C$58)))","v":65366}]
[0,0,0,0,0,0,0,0,0,53,12,9,6,0,0,0,0,0,0,0,1,6334,{"$f":"SUM(A492:U492*(TRANSPOSE(CostCalculation!$D$38:$D$58)))","v":45720},{"$f":"V492+SUM(A492:U492*(TRANSPOSE(CostCalculation!$C$38:$C$58)))","v":32683}]
[0,0,0,0,0,0,0,0,0,212,48,36,24,0,0,0,0,0,0,0,4,25336,{"$f":"SUM(A493:U493*(TRANSPOSE(CostCalculation!$D$38:$D$58)))","v":182880},{"$f":"V493+SUM(A493:U493*(TRANSPOSE(CostCalculation!$C$38:$C$58)))","v":130732}]
[0,0,0,0,0,0,0,0,0,212,48,36,24,0,0,0,0,0,0,0,4,25336,{"$f":"SUM(A494:U494*(TRANSPOSE(CostCalculation!$D$38:$D$58)))","v":182880},{"$f":"V494+SUM(A494:U494*(TRANSPOSE(CostCalculation!$C$38:$C$58)))","v":130732}]
[0,0,0,0,0,0,0,0,0,530,120,90,60,0,0,0,0,0,0,0,10,63340,{"$f":"SUM(A495:U495*(TRANSPOSE(CostCalculation!$D$38:$D$58)))","v":457200},{"$f":"V495+SUM(A495:U495*(TRANSPOSE(CostCalculation!$C$38:$C$58)))","v":326830}]
[0,0,0,0,0,0,0,0,0,212,48,36,24,0,0,0,0,0,0,0,4,25336,{"$f":"SUM(A496:U496*(TRANSPOSE(CostCalculation!$D$38:$D$58)))","v":182880},{"$f":"V496+SUM(A496:U496*(TRANSPOSE(CostCalculation!$C$38:$C$58)))","v":130732}]
[0,0,0,0,0,0,0,0,0,53,12,9,6,0,0,0,0,0,0,0,1,6334,{"$f":"SUM(A497:U497*(TRANSPOSE(CostCalculation!$D$38:$D$58)))","v":45720},{"$f":"V497+SUM(A497:U497*(TRANSPOSE(CostCalculation!$C$38:$C$58)))","v":32683}]
[0,0,0,0,0,0,0,0,0,53,12,9,6,0,0,0,0,0,0,0,1,6334,{"$f":"SUM(A498:U498*(TRANSPOSE(CostCalculation!$D$38:$D$58)))","v":45720},{"$f":"V498+SUM(A498:U498*(TRANSPOSE(CostCalculation!$C$38:$C$58)))","v":32683}]
[0,0,0,0,0,0,0,0,0,106,24,18,12,0,0,0,0,0,0,0,2,12668,{"$f":"SUM(A499:U499*(TRANSPOSE(CostCalculation!$D$38:$D$58)))","v":91440},{"$f":"V499+SUM(A499:U499*(TRANSPOSE(CostCalculation!$C$38:$C$58)))","v":65366}]
[0,0,0,0,0,0,0,0,0,106,24,18,12,0,0,0,0,0,0,0,2,12668,{"$f":"SUM(A500:U500*(TRANSPOSE(CostCalculation!$D$38:$D$58)))","v":91440},{"$f":"V500+SUM(A500:U500*(TRANSPOSE(CostCalculation!$C$38:$C$58)))","v":65366}]
[0,0,0,0,0,0,0,0,0,212,48,36,24,0,0,0,0,0,0,0,4,25336,{"$f":"SUM(A501:U501*(TRANSPOSE(CostCalculation!$D$38:$D$58)))","v":182880},{"$f":"V501+SUM(A501:U501*(TRANSPOSE(CostCalculation!$C$38:$C$58)))","v":130732}]
[0,0,0,0,0,0,0,0,0,159,36,27,18,0,0,0,0,0,0,0,3,19002,{"$f":"SUM(A502:U502*(TRANSPOSE(CostCalculation!$D$38:$D$58)))","v":137160},{"$f":"V502+SUM(A502:U502*(TRANSPOSE(CostCalculation!$C$38:$C$58)))","v":98049}]
[0,0,0,0,0,0,0,0,0,53,12,9,6,0,0,0,0,0,0,0,1,6334,{"$f":"SUM(A503:U503*(TRANSPOSE(CostCalculation!$D$38:$D$58)))","v":45720},{"$f":"V503+SUM(A503:U503*(TRANSPOSE(CostCalculation!$C$38:$C$58)))","v":32683}]
[0,0,0,0,0,0,0,0,0,53,12,9,6,0,0,0,0,0,0,0,1,6334,{"$f":"SUM(A504:U504*(TRANSPOSE(CostCalculation!$D$38:$D$58)))","v":45720},{"$f":"V504+SUM(A504:U504*(TRANSPOSE(CostCalculation!$C$38:$C$58)))","v":32683}]
[0,0,0,0,0,0,0,0,0,371,84,63,42,0,0,0,0,0,0,0,7,44338,{"$f":"SUM(A505:U505*(TRANSPOSE(CostCalculation!$D$38:$D$58)))","v":320040},{"$f":"V505+SUM(A505:U505*(TRANSPOSE(CostCalculation!$C$38:$C$58)))","v":228781}]
[0,0,0,0,0,0,0,0,0,159,36,27,18,0,0,0,0,0,0,0,3,19002,{"$f":"SUM(A506:U506*(TRANSPOSE(CostCalculation!$D$38:$D$58)))","v":137160},{"$f":"V506+SUM(A506:U506*(TRANSPOSE(CostCalculation!$C$38:$C$58)))","v":98049}]
[0,0,0,0,0,0,0,0,0,159,36,27,18,0,0,0,0,0,0,0,3,19002,{"$f":"SUM(A507:U507*(TRANSPOSE(CostCalculation!$D$38:$D$58)))","v":137160},{"$f":"V507+SUM(A507:U507*(TRANSPOSE(CostCalculation!$C$38:$C$58)))","v":98049}]
[0,0,0,0,0,0,0,0,0,371,84,63,42,0,0,0,0,0,0,0,7,44338,{"$f":"SUM(A508:U508*(TRANSPOSE(CostCalculation!$D$38:$D$58)))","v":320040},{"$f":"V508+SUM(A508:U508*(TRANSPOSE(CostCalculation!$C$38:$C$58)))","v":228781}]
[0,0,0,0,0,0,0,0,0,159,36,27,18,0,0,0,0,0,0,0,3,19002,{"$f":"SUM(A509:U509*(TRANSPOSE(CostCalculation!$D$38:$D$58)))","v":137160},{"$f":"V509+SUM(A509:U509*(TRANSPOSE(CostCalculation!$C$38:$C$58)))","v":98049}]
[0,0,0,0,0,0,0,0,0,106,24,18,12,0,0,0,0,0,0,0,2,12668,{"$f":"SUM(A510:U510*(TRANSPOSE(CostCalculation!$D$38:$D$58)))","v":91440},{"$f":"V510+SUM(A510:U510*(TRANSPOSE(CostCalculation!$C$38:$C$58)))","v":65366}]
[0,0,0,0,0,0,0,0,0,159,36,27,18,0,0,0,0,0,0,0,3,19002,{"$f":"SUM(A511:U511*(TRANSPOSE(CostCalculation!$D$38:$D$58)))","v":137160},{"$f":"V511+SUM(A511:U511*(TRANSPOSE(CostCalculation!$C$38:$C$58)))","v":98049}]
[0,0,0,0,0,0,0,0,0,159,36,27,18,0,0,0,0,0,0,0,3,19002,{"$f":"SUM(A512:U512*(TRANSPOSE(CostCalculation!$D$38:$D$58)))","v":137160},{"$f":"V512+SUM(A512:U512*(TRANSPOSE(CostCalculation!$C$38:$C$58)))","v":98049}]
[0,0,0,0,0,0,0,0,0,53,12,9,6,0,0,0,0,0,0,0,1,6334,{"$f":"SUM(A513:U513*(TRANSPOSE(CostCalculation!$D$38:$D$58)))","v":45720},{"$f":"V513+SUM(A513:U513*(TRANSPOSE(CostCalculation!$C$38:$C$58)))","v":32683}]
[0,0,0,0,0,0,0,0,0,53,12,9,6,0,0,0,0,0,0,0,1,6334,{"$f":"SUM(A514:U514*(TRANSPOSE(CostCalculation!$D$38:$D$58)))","v":45720},{"$f":"V514+SUM(A514:U514*(TRANSPOSE(CostCalculation!$C$38:$C$58)))","v":32683}]
[0,0,0,0,0,0,0,0,0,106,24,18,12,0,0,0,0,0,0,0,2,12668,{"$f":"SUM(A515:U515*(TRANSPOSE(CostCalculation!$D$38:$D$58)))","v":91440},{"$f":"V515+SUM(A515:U515*(TRANSPOSE(CostCalculation!$C$38:$C$58)))","v":65366}]
[0,0,0,0,0,0,0,0,0,159,36,27,18,0,0,0,0,0,0,0,3,19002,{"$f":"SUM(A516:U516*(TRANSPOSE(CostCalculation!$D$38:$D$58)))","v":137160},{"$f":"V516+SUM(A516:U516*(TRANSPOSE(CostCalculation!$C$38:$C$58)))","v":98049}]
[0,0,0,0,0,0,0,0,0,106,24,18,12,0,0,0,0,0,0,0,2,12668,{"$f":"SUM(A517:U517*(TRANSPOSE(CostCalculation!$D$38:$D$58)))","v":91440},{"$f":"V517+SUM(A517:U517*(TRANSPOSE(CostCalculation!$C$38:$C$58)))","v":65366}]
[0,0,0,0,0,0,0,0,0,371,84,63,42,0,0,0,0,0,0,0,7,44338,{"$f":"SUM(A518:U518*(TRANSPOSE(CostCalculation!$D$38:$D$58)))","v":320040},{"$f":"V518+SUM(A518:U518*(TRANSPOSE(CostCalculation!$C$38:$C$58)))","v":228781}]
[0,0,0,0,0,0,0,0,0,265,60,45,30,0,0,0,0,0,0,0,5,31670,{"$f":"SUM(A519:U519*(TRANSPOSE(CostCalculation!$D$38:$D$58)))","v":228600},{"$f":"V519+SUM(A519:U519*(TRANSPOSE(CostCalculation!$C$38:$C$58)))","v":163415}]
[0,0,0,0,0,0,0,0,0,212,48,36,24,0,0,0,0,0,0,0,4,25336,{"$f":"SUM(A520:U520*(TRANSPOSE(CostCalculation!$D$38:$D$58)))","v":182880},{"$f":"V520+SUM(A520:U520*(TRANSPOSE(CostCalculation!$C$38:$C$58)))","v":130732}]
[0,0,0,0,0,0,0,0,0,477,108,81,54,0,0,0,0,0,0,0,9,57006,{"$f":"SUM(A521:U521*(TRANSPOSE(CostCalculation!$D$38:$D$58)))","v":411480},{"$f":"V521+SUM(A521:U521*(TRANSPOSE(CostCalculation!$C$38:$C$58)))","v":294147}]
[0,0,0,0,0,0,0,0,0,318,72,54,36,0,0,0,0,0,0,0,6,38004,{"$f":"SUM(A522:U522*(TRANSPOSE(CostCalculation!$D$38:$D$58)))","v":274320},{"$f":"V522+SUM(A522:U522*(TRANSPOSE(CostCalculation!$C$38:$C$58)))","v":196098}]
[0,0,0,0,0,0,0,0,0,159,36,27,18,0,0,0,0,0,0,0,3,19002,{"$f":"SUM(A523:U523*(TRANSPOSE(CostCalculation!$D$38:$D$58)))","v":137160},{"$f":"V523+SUM(A523:U523*(TRANSPOSE(CostCalculation!$C$38:$C$58)))","v":98049}]
[0,0,0,0,0,0,0,0,0,159,36,27,18,0,0,0,0,0,0,0,3,19002,{"$f":"SUM(A524:U524*(TRANSPOSE(CostCalculation!$D$38:$D$58)))","v":137160},{"$f":"V524+SUM(A524:U524*(TRANSPOSE(CostCalculation!$C$38:$C$58)))","v":98049}]
[0,0,0,0,0,0,0,0,0,106,24,18,12,0,0,0,0,0,0,0,2,12668,{"$f":"SUM(A525:U525*(TRANSPOSE(CostCalculation!$D$38:$D$58)))","v":91440},{"$f":"V525+SUM(A525:U525*(TRANSPOSE(CostCalculation!$C$38:$C$58)))","v":65366}]
[0,0,0,0,0,0,0,0,0,53,12,9,6,0,0,0,0,0,0,0,1,6334,{"$f":"SUM(A526:U526*(TRANSPOSE(CostCalculation!$D$38:$D$58)))","v":45720},{"$f":"V526+SUM(A526:U526*(TRANSPOSE(CostCalculation!$C$38:$C$58)))","v":32683}]
[0,0,0,0,0,0,0,0,0,424,96,72,48,0,0,0,0,0,0,0,8,50672,{"$f":"SUM(A527:U527*(TRANSPOSE(CostCalculation!$D$38:$D$58)))","v":365760},{"$f":"V527+SUM(A527:U527*(TRANSPOSE(CostCalculation!$C$38:$C$58)))","v":261464}]
[0,0,0,0,0,0,0,0,0,159,36,27,18,0,0,0,0,0,0,0,3,19002,{"$f":"SUM(A528:U528*(TRANSPOSE(CostCalculation!$D$38:$D$58)))","v":137160},{"$f":"V528+SUM(A528:U528*(TRANSPOSE(CostCalculation!$C$38:$C$58)))","v":98049}]
[0,0,0,0,0,0,0,0,0,371,84,63,42,0,0,0,0,0,0,0,7,44338,{"$f":"SUM(A529:U529*(TRANSPOSE(CostCalculation!$D$38:$D$58)))","v":320040},{"$f":"V529+SUM(A529:U529*(TRANSPOSE(CostCalculation!$C$38:$C$58)))","v":228781}]
[0,0,0,0,0,0,0,0,0,212,48,36,24,0,0,0,0,0,0,0,4,25336,{"$f":"SUM(A530:U530*(TRANSPOSE(CostCalculation!$D$38:$D$58)))","v":182880},{"$f":"V530+SUM(A530:U530*(TRANSPOSE(CostCalculation!$C$38:$C$58)))","v":130732}]
[0,0,0,0,0,0,0,0,0,106,24,18,12,0,0,0,0,0,0,0,2,12668,{"$f":"SUM(A531:U531*(TRANSPOSE(CostCalculation!$D$38:$D$58)))","v":91440},{"$f":"V531+SUM(A531:U531*(TRANSPOSE(CostCalculation!$C$38:$C$58)))","v":65366}]
[0,0,0,0,0,0,0,0,0,159,36,27,18,0,0,0,0,0,0,0,3,19002,{"$f":"SUM(A532:U532*(TRANSPOSE(CostCalculation!$D$38:$D$58)))","v":137160},{"$f":"V532+SUM(A532:U532*(TRANSPOSE(CostCalculation!$C$38:$C$58)))","v":98049}]
[0,0,0,0,0,0,0,0,0,106,24,18,12,0,0,0,0,0,0,0,2,12668,{"$f":"SUM(A533:U533*(TRANSPOSE(CostCalculation!$D$38:$D$58)))","v":91440},{"$f":"V533+SUM(A533:U533*(TRANSPOSE(CostCalculation!$C$38:$C$58)))","v":65366}]
[0,0,0,0,0,0,0,0,0,212,48,36,24,0,0,0,0,0,0,0,4,25336,{"$f":"SUM(A534:U534*(TRANSPOSE(CostCalculation!$D$38:$D$58)))","v":182880},{"$f":"V534+SUM(A534:U534*(TRANSPOSE(CostCalculation!$C$38:$C$58)))","v":130732}]
[0,0,0,0,0,0,0,0,0,53,12,9,6,0,0,0,0,0,0,0,1,6334,{"$f":"SUM(A535:U535*(TRANSPOSE(CostCalculation!$D$38:$D$58)))","v":45720},{"$f":"V535+SUM(A535:U535*(TRANSPOSE(CostCalculation!$C$38:$C$58)))","v":32683}]
[0,0,0,0,0,0,0,0,0,53,12,9,6,0,0,0,0,0,0,0,1,6334,{"$f":"SUM(A536:U536*(TRANSPOSE(CostCalculation!$D$38:$D$58)))","v":45720},{"$f":"V536+SUM(A536:U536*(TRANSPOSE(CostCalculation!$C$38:$C$58)))","v":32683}]
[0,0,0,0,0,0,0,0,0,106,24,18,12,0,0,0,0,0,0,0,2,12668,{"$f":"SUM(A537:U537*(TRANSPOSE(CostCalculation!$D$38:$D$58)))","v":91440},{"$f":"V537+SUM(A537:U537*(TRANSPOSE(CostCalculation!$C$38:$C$58)))","v":65366}]
[0,0,0,0,0,0,0,0,0,159,36,27,18,0,0,0,0,0,0,0,3,19002,{"$f":"SUM(A538:U538*(TRANSPOSE(CostCalculation!$D$38:$D$58)))","v":137160},{"$f":"V538+SUM(A538:U538*(TRANSPOSE(CostCalculation!$C$38:$C$58)))","v":98049}]
[0,0,0,0,0,0,0,0,0,106,24,18,12,0,0,0,0,0,0,0,2,12668,{"$f":"SUM(A539:U539*(TRANSPOSE(CostCalculation!$D$38:$D$58)))","v":91440},{"$f":"V539+SUM(A539:U539*(TRANSPOSE(CostCalculation!$C$38:$C$58)))","v":65366}]
[0,0,0,0,0,0,0,0,0,318,72,54,36,0,0,0,0,0,0,0,6,38004,{"$f":"SUM(A540:U540*(TRANSPOSE(CostCalculation!$D$38:$D$58)))","v":274320},{"$f":"V540+SUM(A540:U540*(TRANSPOSE(CostCalculation!$C$38:$C$58)))","v":196098}]
[0,0,0,0,0,0,0,0,0,371,84,63,42,0,0,0,0,0,0,0,7,44338,{"$f":"SUM(A541:U541*(TRANSPOSE(CostCalculation!$D$38:$D$58)))","v":320040},{"$f":"V541+SUM(A541:U541*(TRANSPOSE(CostCalculation!$C$38:$C$58)))","v":228781}]
[0,0,0,0,0,0,0,0,0,265,60,45,30,0,0,0,0,0,0,0,5,31670,{"$f":"SUM(A542:U542*(TRANSPOSE(CostCalculation!$D$38:$D$58)))","v":228600},{"$f":"V542+SUM(A542:U542*(TRANSPOSE(CostCalculation!$C$38:$C$58)))","v":163415}]
[0,0,0,0,0,0,0,0,0,106,24,18,12,0,0,0,0,0,0,0,2,12668,{"$f":"SUM(A543:U543*(TRANSPOSE(CostCalculation!$D$38:$D$58)))","v":91440},{"$f":"V543+SUM(A543:U543*(TRANSPOSE(CostCalculation!$C$38:$C$58)))","v":65366}]
[0,0,0,0,0,0,0,0,0,53,12,9,6,0,0,0,0,0,0,0,1,6334,{"$f":"SUM(A544:U544*(TRANSPOSE(CostCalculation!$D$38:$D$58)))","v":45720},{"$f":"V544+SUM(A544:U544*(TRANSPOSE(CostCalculation!$C$38:$C$58)))","v":32683}]
[0,0,0,0,0,0,0,0,0,212,48,36,24,0,0,0,0,0,0,0,4,25336,{"$f":"SUM(A545:U545*(TRANSPOSE(CostCalculation!$D$38:$D$58)))","v":182880},{"$f":"V545+SUM(A545:U545*(TRANSPOSE(CostCalculation!$C$38:$C$58)))","v":130732}]
[0,0,0,0,0,0,0,0,0,106,24,18,12,0,0,0,0,0,0,0,2,12668,{"$f":"SUM(A546:U546*(TRANSPOSE(CostCalculation!$D$38:$D$58)))","v":91440},{"$f":"V546+SUM(A546:U546*(TRANSPOSE(CostCalculation!$C$38:$C$58)))","v":65366}]
[0,0,0,0,0,0,0,0,0,53,12,9,6,0,0,0,0,0,0,0,1,6334,{"$f":"SUM(A547:U547*(TRANSPOSE(CostCalculation!$D$38:$D$58)))","v":45720},{"$f":"V547+SUM(A547:U547*(TRANSPOSE(CostCalculation!$C$38:$C$58)))","v":32683}]
[0,0,0,0,0,0,0,0,0,424,96,72,48,0,0,0,0,0,0,0,8,50672,{"$f":"SUM(A548:U548*(TRANSPOSE(CostCalculation!$D$38:$D$58)))","v":365760},{"$f":"V548+SUM(A548:U548*(TRANSPOSE(CostCalculation!$C$38:$C$58)))","v":261464}]
[0,0,0,0,0,0,0,0,0,53,12,9,6,0,0,0,0,0,0,0,1,6334,{"$f":"SUM(A549:U549*(TRANSPOSE(CostCalculation!$D$38:$D$58)))","v":45720},{"$f":"V549+SUM(A549:U549*(TRANSPOSE(CostCalculation!$C$38:$C$58)))","v":32683}]
[0,0,0,0,0,0,0,0,0,159,36,27,18,0,0,0,0,0,0,0,3,19002,{"$f":"SUM(A550:U550*(TRANSPOSE(CostCalculation!$D$38:$D$58)))","v":137160},{"$f":"V550+SUM(A550:U550*(TRANSPOSE(CostCalculation!$C$38:$C$58)))","v":98049}]
[0,0,0,0,0,0,0,0,0,265,60,45,30,0,0,0,0,0,0,0,5,31670,{"$f":"SUM(A551:U551*(TRANSPOSE(CostCalculation!$D$38:$D$58)))","v":228600},{"$f":"V551+SUM(A551:U551*(TRANSPOSE(CostCalculation!$C$38:$C$58)))","v":163415}]
[0,0,0,0,0,0,0,0,0,106,24,18,12,0,0,0,0,0,0,0,2,12668,{"$f":"SUM(A552:U552*(TRANSPOSE(CostCalculation!$D$38:$D$58)))","v":91440},{"$f":"V552+SUM(A552:U552*(TRANSPOSE(CostCalculation!$C$38:$C$58)))","v":65366}]
[0,0,0,0,0,0,0,0,0,53,12,9,6,0,0,0,0,0,0,0,1,6334,{"$f":"SUM(A553:U553*(TRANSPOSE(CostCalculation!$D$38:$D$58)))","v":45720},{"$f":"V553+SUM(A553:U553*(TRANSPOSE(CostCalculation!$C$38:$C$58)))","v":32683}]
[0,0,0,0,0,0,0,0,0,53,12,9,6,0,0,0,0,0,0,0,1,6334,{"$f":"SUM(A554:U554*(TRANSPOSE(CostCalculation!$D$38:$D$58)))","v":45720},{"$f":"V554+SUM(A554:U554*(TRANSPOSE(CostCalculation!$C$38:$C$58)))","v":32683}]
[0,0,0,0,0,0,0,0,0,106,24,18,12,0,0,0,0,0,0,0,2,12668,{"$f":"SUM(A555:U555*(TRANSPOSE(CostCalculation!$D$38:$D$58)))","v":91440},{"$f":"V555+SUM(A555:U555*(TRANSPOSE(CostCalculation!$C$38:$C$58)))","v":65366}]
[0,0,0,0,0,0,0,0,0,530,120,90,60,0,0,0,0,0,0,0,10,63340,{"$f":"SUM(A556:U556*(TRANSPOSE(CostCalculation!$D$38:$D$58)))","v":457200},{"$f":"V556+SUM(A556:U556*(TRANSPOSE(CostCalculation!$C$38:$C$58)))","v":326830}]
[0,0,0,0,0,0,0,0,0,106,24,18,12,0,0,0,0,0,0,0,2,12668,{"$f":"SUM(A557:U557*(TRANSPOSE(CostCalculation!$D$38:$D$58)))","v":91440},{"$f":"V557+SUM(A557:U557*(TRANSPOSE(CostCalculation!$C$38:$C$58)))","v":65366}]
[0,0,0,0,0,0,0,0,0,53,12,9,6,0,0,0,0,0,0,0,1,6334,{"$f":"SUM(A558:U558*(TRANSPOSE(CostCalculation!$D$38:$D$58)))","v":45720},{"$f":"V558+SUM(A558:U558*(TRANSPOSE(CostCalculation!$C$38:$C$58)))","v":32683}]
[0,0,0,0,0,0,0,0,0,530,120,90,60,0,0,0,0,0,0,0,10,63340,{"$f":"SUM(A559:U559*(TRANSPOSE(CostCalculation!$D$38:$D$58)))","v":457200},{"$f":"V559+SUM(A559:U559*(TRANSPOSE(CostCalculation!$C$38:$C$58)))","v":326830}]
[0,0,0,0,0,0,0,0,0,53,12,9,6,0,0,0,0,0,0,0,1,6334,{"$f":"SUM(A560:U560*(TRANSPOSE(CostCalculation!$D$38:$D$58)))","v":45720},{"$f":"V560+SUM(A560:U560*(TRANSPOSE(CostCalculation!$C$38:$C$58)))","v":32683}]
[0,0,0,0,0,0,0,0,0,371,84,63,42,0,0,0,0,0,0,0,7,44338,{"$f":"SUM(A561:U561*(TRANSPOSE(CostCalculation!$D$38:$D$58)))","v":320040},{"$f":"V561+SUM(A561:U561*(TRANSPOSE(CostCalculation!$C$38:$C$58)))","v":228781}]
[0,0,0,0,0,0,0,0,0,212,48,36,24,0,0,0,0,0,0,0,4,25336,{"$f":"SUM(A562:U562*(TRANSPOSE(CostCalculation!$D$38:$D$58)))","v":182880},{"$f":"V562+SUM(A562:U562*(TRANSPOSE(CostCalculation!$C$38:$C$58)))","v":130732}]
[0,0,0,0,0,0,0,0,0,106,24,18,12,0,0,0,0,0,0,0,2,12668,{"$f":"SUM(A563:U563*(TRANSPOSE(CostCalculation!$D$38:$D$58)))","v":91440},{"$f":"V563+SUM(A563:U563*(TRANSPOSE(CostCalculation!$C$38:$C$58)))","v":65366}]
[0,0,0,0,0,0,0,0,0,53,12,9,6,0,0,0,0,0,0,0,1,6334,{"$f":"SUM(A564:U564*(TRANSPOSE(CostCalculation!$D$38:$D$58)))","v":45720},{"$f":"V564+SUM(A564:U564*(TRANSPOSE(CostCalculation!$C$38:$C$58)))","v":32683}]
[0,0,0,0,0,0,0,0,0,424,96,72,48,0,0,0,0,0,0,0,8,50672,{"$f":"SUM(A565:U565*(TRANSPOSE(CostCalculation!$D$38:$D$58)))","v":365760},{"$f":"V565+SUM(A565:U565*(TRANSPOSE(CostCalculation!$C$38:$C$58)))","v":261464}]
[0,0,0,0,0,0,0,0,0,424,96,72,48,0,0,0,0,0,0,0,8,50672,{"$f":"SUM(A566:U566*(TRANSPOSE(CostCalculation!$D$38:$D$58)))","v":365760},{"$f":"V566+SUM(A566:U566*(TRANSPOSE(CostCalculation!$C$38:$C$58)))","v":261464}]
[0,0,0,0,0,0,0,0,0,106,24,18,12,0,0,0,0,0,0,0,2,12668,{"$f":"SUM(A567:U567*(TRANSPOSE(CostCalculation!$D$38:$D$58)))","v":91440},{"$f":"V567+SUM(A567:U567*(TRANSPOSE(CostCalculation!$C$38:$C$58)))","v":65366}]
[0,0,0,0,0,0,0,0,0,212,48,36,24,0,0,0,0,0,0,0,4,25336,{"$f":"SUM(A568:U568*(TRANSPOSE(CostCalculation!$D$38:$D$58)))","v":182880},{"$f":"V568+SUM(A568:U568*(TRANSPOSE(CostCalculation!$C$38:$C$58)))","v":130732}]
[0,0,0,0,0,0,0,0,0,159,36,27,18,0,0,0,0,0,0,0,3,19002,{"$f":"SUM(A569:U569*(TRANSPOSE(CostCalculation!$D$38:$D$58)))","v":137160},{"$f":"V569+SUM(A569:U569*(TRANSPOSE(CostCalculation!$C$38:$C$58)))","v":98049}]
[0,0,0,0,0,0,0,0,0,159,36,27,18,0,0,0,0,0,0,0,3,19002,{"$f":"SUM(A570:U570*(TRANSPOSE(CostCalculation!$D$38:$D$58)))","v":137160},{"$f":"V570+SUM(A570:U570*(TRANSPOSE(CostCalculation!$C$38:$C$58)))","v":98049}]
[0,0,0,0,0,0,0,0,0,106,24,18,12,0,0,0,0,0,0,0,2,12668,{"$f":"SUM(A571:U571*(TRANSPOSE(CostCalculation!$D$38:$D$58)))","v":91440},{"$f":"V571+SUM(A571:U571*(TRANSPOSE(CostCalculation!$C$38:$C$58)))","v":65366}]
[0,0,0,0,0,0,0,0,0,159,36,27,18,0,0,0,0,0,0,0,3,19002,{"$f":"SUM(A572:U572*(TRANSPOSE(CostCalculation!$D$38:$D$58)))","v":137160},{"$f":"V572+SUM(A572:U572*(TRANSPOSE(CostCalculation!$C$38:$C$58)))","v":98049}]
[0,0,0,0,0,0,0,0,0,212,48,36,24,0,0,0,0,0,0,0,4,25336,{"$f":"SUM(A573:U573*(TRANSPOSE(CostCalculation!$D$38:$D$58)))","v":182880},{"$f":"V573+SUM(A573:U573*(TRANSPOSE(CostCalculation!$C$38:$C$58)))","v":130732}]
[0,0,0,0,0,0,0,0,0,371,84,63,42,0,0,0,0,0,0,0,7,44338,{"$f":"SUM(A574:U574*(TRANSPOSE(CostCalculation!$D$38:$D$58)))","v":320040},{"$f":"V574+SUM(A574:U574*(TRANSPOSE(CostCalculation!$C$38:$C$58)))","v":228781}]
[0,0,0,0,0,0,0,0,0,159,36,27,18,0,0,0,0,0,0,0,3,19002,{"$f":"SUM(A575:U575*(TRANSPOSE(CostCalculation!$D$38:$D$58)))","v":137160},{"$f":"V575+SUM(A575:U575*(TRANSPOSE(CostCalculation!$C$38:$C$58)))","v":98049}]
[0,0,0,0,0,0,0,0,0,106,24,18,12,0,0,0,0,0,0,0,2,12668,{"$f":"SUM(A576:U576*(TRANSPOSE(CostCalculation!$D$38:$D$58)))","v":91440},{"$f":"V576+SUM(A576:U576*(TRANSPOSE(CostCalculation!$C$38:$C$58)))","v":65366}]
[0,0,0,0,0,0,0,0,0,53,12,9,6,0,0,0,0,0,0,0,1,6334,{"$f":"SUM(A577:U577*(TRANSPOSE(CostCalculation!$D$38:$D$58)))","v":45720},{"$f":"V577+SUM(A577:U577*(TRANSPOSE(CostCalculation!$C$38:$C$58)))","v":32683}]
[0,0,0,0,0,0,0,0,0,106,24,18,12,0,0,0,0,0,0,0,2,12668,{"$f":"SUM(A578:U578*(TRANSPOSE(CostCalculation!$D$38:$D$58)))","v":91440},{"$f":"V578+SUM(A578:U578*(TRANSPOSE(CostCalculation!$C$38:$C$58)))","v":65366}]
[0,0,0,0,0,0,0,0,0,106,24,18,12,0,0,0,0,0,0,0,2,12668,{"$f":"SUM(A579:U579*(TRANSPOSE(CostCalculation!$D$38:$D$58)))","v":91440},{"$f":"V579+SUM(A579:U579*(TRANSPOSE(CostCalculation!$C$38:$C$58)))","v":65366}]
[0,0,0,0,0,0,0,0,0,53,12,9,6,0,0,0,0,0,0,0,1,6334,{"$f":"SUM(A580:U580*(TRANSPOSE(CostCalculation!$D$38:$D$58)))","v":45720},{"$f":"V580+SUM(A580:U580*(TRANSPOSE(CostCalculation!$C$38:$C$58)))","v":32683}]
[0,0,0,0,0,0,0,0,0,159,36,27,18,0,0,0,0,0,0,0,3,19002,{"$f":"SUM(A581:U581*(TRANSPOSE(CostCalculation!$D$38:$D$58)))","v":137160},{"$f":"V581+SUM(A581:U581*(TRANSPOSE(CostCalculation!$C$38:$C$58)))","v":98049}]
[0,0,0,0,0,0,0,0,0,53,12,9,6,0,0,0,0,0,0,0,1,6334,{"$f":"SUM(A582:U582*(TRANSPOSE(CostCalculation!$D$38:$D$58)))","v":45720},{"$f":"V582+SUM(A582:U582*(TRANSPOSE(CostCalculation!$C$38:$C$58)))","v":32683}]
[0,0,0,0,0,0,0,0,0,106,24,18,12,0,0,0,0,0,0,0,2,12668,{"$f":"SUM(A583:U583*(TRANSPOSE(CostCalculation!$D$38:$D$58)))","v":91440},{"$f":"V583+SUM(A583:U583*(TRANSPOSE(CostCalculation!$C$38:$C$58)))","v":65366}]
[0,0,0,0,0,0,0,0,0,106,24,18,12,0,0,0,0,0,0,0,2,12668,{"$f":"SUM(A584:U584*(TRANSPOSE(CostCalculation!$D$38:$D$58)))","v":91440},{"$f":"V584+SUM(A584:U584*(TRANSPOSE(CostCalculation!$C$38:$C$58)))","v":65366}]
[0,0,0,0,0,0,0,0,0,106,24,18,12,0,0,0,0,0,0,0,2,12668,{"$f":"SUM(A585:U585*(TRANSPOSE(CostCalculation!$D$38:$D$58)))","v":91440},{"$f":"V585+SUM(A585:U585*(TRANSPOSE(CostCalculation!$C$38:$C$58)))","v":65366}]
[0,0,0,0,0,0,0,0,0,265,60,45,30,0,0,0,0,0,0,0,5,31670,{"$f":"SUM(A586:U586*(TRANSPOSE(CostCalculation!$D$38:$D$58)))","v":228600},{"$f":"V586+SUM(A586:U586*(TRANSPOSE(CostCalculation!$C$38:$C$58)))","v":163415}]
[0,0,0,0,0,0,0,0,0,53,12,9,6,0,0,0,0,0,0,0,1,6334,{"$f":"SUM(A587:U587*(TRANSPOSE(CostCalculation!$D$38:$D$58)))","v":45720},{"$f":"V587+SUM(A587:U587*(TRANSPOSE(CostCalculation!$C$38:$C$58)))","v":32683}]
[0,0,0,0,0,0,0,0,0,371,84,63,42,0,0,0,0,0,0,0,7,44338,{"$f":"SUM(A588:U588*(TRANSPOSE(CostCalculation!$D$38:$D$58)))","v":320040},{"$f":"V588+SUM(A588:U588*(TRANSPOSE(CostCalculation!$C$38:$C$58)))","v":228781}]
[0,0,0,0,0,0,0,0,0,265,60,45,30,0,0,0,0,0,0,0,5,31670,{"$f":"SUM(A589:U589*(TRANSPOSE(CostCalculation!$D$38:$D$58)))","v":228600},{"$f":"V589+SUM(A589:U589*(TRANSPOSE(CostCalculation!$C$38:$C$58)))","v":163415}]
[0,0,0,0,0,0,0,0,0,53,12,9,6,0,0,0,0,0,0,0,1,6334,{"$f":"SUM(A590:U590*(TRANSPOSE(CostCalculation!$D$38:$D$58)))","v":45720},{"$f":"V590+SUM(A590:U590*(TRANSPOSE(CostCalculation!$C$38:$C$58)))","v":32683}]
[0,0,0,0,0,0,0,0,0,53,12,9,6,0,0,0,0,0,0,0,1,6334,{"$f":"SUM(A591:U591*(TRANSPOSE(CostCalculation!$D$38:$D$58)))","v":45720},{"$f":"V591+SUM(A591:U591*(TRANSPOSE(CostCalculation!$C$38:$C$58)))","v":32683}]
[0,0,0,0,0,0,0,0,0,265,60,45,30,0,0,0,0,0,0,0,5,31670,{"$f":"SUM(A592:U592*(TRANSPOSE(CostCalculation!$D$38:$D$58)))","v":228600},{"$f":"V592+SUM(A592:U592*(TRANSPOSE(CostCalculation!$C$38:$C$58)))","v":163415}]
[0,0,0,0,0,0,0,0,0,265,60,45,30,0,0,0,0,0,0,0,5,31670,{"$f":"SUM(A593:U593*(TRANSPOSE(CostCalculation!$D$38:$D$58)))","v":228600},{"$f":"V593+SUM(A593:U593*(TRANSPOSE(CostCalculation!$C$38:$C$58)))","v":163415}]
[0,0,0,0,0,0,0,0,0,265,60,45,30,0,0,0,0,0,0,0,5,31670,{"$f":"SUM(A594:U594*(TRANSPOSE(CostCalculation!$D$38:$D$58)))","v":228600},{"$f":"V594+SUM(A594:U594*(TRANSPOSE(CostCalculation!$C$38:$C$58)))","v":163415}]
[0,0,0,0,0,0,0,0,0,53,12,9,6,0,0,0,0,0,0,0,1,6334,{"$f":"SUM(A595:U595*(TRANSPOSE(CostCalculation!$D$38:$D$58)))","v":45720},{"$f":"V595+SUM(A595:U595*(TRANSPOSE(CostCalculation!$C$38:$C$58)))","v":32683}]
[0,0,0,0,0,0,0,0,0,265,60,45,30,0,0,0,0,0,0,0,5,31670,{"$f":"SUM(A596:U596*(TRANSPOSE(CostCalculation!$D$38:$D$58)))","v":228600},{"$f":"V596+SUM(A596:U596*(TRANSPOSE(CostCalculation!$C$38:$C$58)))","v":163415}]
[0,0,0,0,0,0,0,0,0,265,60,45,30,0,0,0,0,0,0,0,5,31670,{"$f":"SUM(A597:U597*(TRANSPOSE(CostCalculation!$D$38:$D$58)))","v":228600},{"$f":"V597+SUM(A597:U597*(TRANSPOSE(CostCalculation!$C$38:$C$58)))","v":163415}]
[0,0,0,0,0,0,0,0,0,106,24,18,12,0,0,0,0,0,0,0,2,12668,{"$f":"SUM(A598:U598*(TRANSPOSE(CostCalculation!$D$38:$D$58)))","v":91440},{"$f":"V598+SUM(A598:U598*(TRANSPOSE(CostCalculation!$C$38:$C$58)))","v":65366}]
[0,0,0,0,0,0,0,0,0,106,24,18,12,0,0,0,0,0,0,0,2,12668,{"$f":"SUM(A599:U599*(TRANSPOSE(CostCalculation!$D$38:$D$58)))","v":91440},{"$f":"V599+SUM(A599:U599*(TRANSPOSE(CostCalculation!$C$38:$C$58)))","v":65366}]
[0,0,0,0,0,0,0,0,0,53,12,9,6,0,0,0,0,0,0,0,1,6334,{"$f":"SUM(A600:U600*(TRANSPOSE(CostCalculation!$D$38:$D$58)))","v":45720},{"$f":"V600+SUM(A600:U600*(TRANSPOSE(CostCalculation!$C$38:$C$58)))","v":32683}]
[0,0,0,0,0,0,0,0,0,106,24,18,12,0,0,0,0,0,0,0,2,12668,{"$f":"SUM(A601:U601*(TRANSPOSE(CostCalculation!$D$38:$D$58)))","v":91440},{"$f":"V601+SUM(A601:U601*(TRANSPOSE(CostCalculation!$C$38:$C$58)))","v":65366}]
[0,0,0,0,0,0,0,0,0,212,48,36,24,0,0,0,0,0,0,0,4,25336,{"$f":"SUM(A602:U602*(TRANSPOSE(CostCalculation!$D$38:$D$58)))","v":182880},{"$f":"V602+SUM(A602:U602*(TRANSPOSE(CostCalculation!$C$38:$C$58)))","v":130732}]
[0,0,0,0,0,0,0,0,0,53,12,9,6,0,0,0,0,0,0,0,1,6334,{"$f":"SUM(A603:U603*(TRANSPOSE(CostCalculation!$D$38:$D$58)))","v":45720},{"$f":"V603+SUM(A603:U603*(TRANSPOSE(CostCalculation!$C$38:$C$58)))","v":32683}]
[0,0,0,0,0,0,0,0,0,106,24,18,12,0,0,0,0,0,0,0,2,12668,{"$f":"SUM(A604:U604*(TRANSPOSE(CostCalculation!$D$38:$D$58)))","v":91440},{"$f":"V604+SUM(A604:U604*(TRANSPOSE(CostCalculation!$C$38:$C$58)))","v":65366}]
[0,0,0,0,0,0,0,0,0,53,12,9,6,0,0,0,0,0,0,0,1,6334,{"$f":"SUM(A605:U605*(TRANSPOSE(CostCalculation!$D$38:$D$58)))","v":45720},{"$f":"V605+SUM(A605:U605*(TRANSPOSE(CostCalculation!$C$38:$C$58)))","v":32683}]
[0,0,0,0,0,0,0,0,0,265,60,45,30,0,0,0,0,0,0,0,5,31670,{"$f":"SUM(A606:U606*(TRANSPOSE(CostCalculation!$D$38:$D$58)))","v":228600},{"$f":"V606+SUM(A606:U606*(TRANSPOSE(CostCalculation!$C$38:$C$58)))","v":163415}]
[0,0,0,0,0,0,0,0,0,212,48,36,24,0,0,0,0,0,0,0,4,25336,{"$f":"SUM(A607:U607*(TRANSPOSE(CostCalculation!$D$38:$D$58)))","v":182880},{"$f":"V607+SUM(A607:U607*(TRANSPOSE(CostCalculation!$C$38:$C$58)))","v":130732}]
[0,0,0,0,0,0,0,0,0,159,36,27,18,0,0,0,0,0,0,0,3,19002,{"$f":"SUM(A608:U608*(TRANSPOSE(CostCalculation!$D$38:$D$58)))","v":137160},{"$f":"V608+SUM(A608:U608*(TRANSPOSE(CostCalculation!$C$38:$C$58)))","v":98049}]
[0,0,0,0,0,0,0,0,0,212,48,36,24,0,0,0,0,0,0,0,4,25336,{"$f":"SUM(A609:U609*(TRANSPOSE(CostCalculation!$D$38:$D$58)))","v":182880},{"$f":"V609+SUM(A609:U609*(TRANSPOSE(CostCalculation!$C$38:$C$58)))","v":130732}]
[0,0,0,0,0,0,0,0,0,265,60,45,30,0,0,0,0,0,0,0,5,31670,{"$f":"SUM(A610:U610*(TRANSPOSE(CostCalculation!$D$38:$D$58)))","v":228600},{"$f":"V610+SUM(A610:U610*(TRANSPOSE(CostCalculation!$C$38:$C$58)))","v":163415}]
[0,0,0,0,0,0,0,0,0,106,24,18,12,0,0,0,0,0,0,0,2,12668,{"$f":"SUM(A611:U611*(TRANSPOSE(CostCalculation!$D$38:$D$58)))","v":91440},{"$f":"V611+SUM(A611:U611*(TRANSPOSE(CostCalculation!$C$38:$C$58)))","v":65366}]
[0,0,0,0,0,0,0,0,0,106,24,18,12,0,0,0,0,0,0,0,2,12668,{"$f":"SUM(A612:U612*(TRANSPOSE(CostCalculation!$D$38:$D$58)))","v":91440},{"$f":"V612+SUM(A612:U612*(TRANSPOSE(CostCalculation!$C$38:$C$58)))","v":65366}]
[0,0,0,0,0,0,0,0,0,318,72,54,36,0,0,0,0,0,0,0,6,38004,{"$f":"SUM(A613:U613*(TRANSPOSE(CostCalculation!$D$38:$D$58)))","v":274320},{"$f":"V613+SUM(A613:U613*(TRANSPOSE(CostCalculation!$C$38:$C$58)))","v":196098}]
[0,0,0,0,0,0,0,0,0,371,84,63,42,0,0,0,0,0,0,0,7,44338,{"$f":"SUM(A614:U614*(TRANSPOSE(CostCalculation!$D$38:$D$58)))","v":320040},{"$f":"V614+SUM(A614:U614*(TRANSPOSE(CostCalculation!$C$38:$C$58)))","v":228781}]
[0,0,0,0,0,0,0,0,0,106,24,18,12,0,0,0,0,0,0,0,2,12668,{"$f":"SUM(A615:U615*(TRANSPOSE(CostCalculation!$D$38:$D$58)))","v":91440},{"$f":"V615+SUM(A615:U615*(TRANSPOSE(CostCalculation!$C$38:$C$58)))","v":65366}]
[0,0,0,0,0,0,0,0,0,53,12,9,6,0,0,0,0,0,0,0,1,6334,{"$f":"SUM(A616:U616*(TRANSPOSE(CostCalculation!$D$38:$D$58)))","v":45720},{"$f":"V616+SUM(A616:U616*(TRANSPOSE(CostCalculation!$C$38:$C$58)))","v":32683}]
[0,0,0,0,0,0,0,0,0,106,24,18,12,0,0,0,0,0,0,0,2,12668,{"$f":"SUM(A617:U617*(TRANSPOSE(CostCalculation!$D$38:$D$58)))","v":91440},{"$f":"V617+SUM(A617:U617*(TRANSPOSE(CostCalculation!$C$38:$C$58)))","v":65366}]
[0,0,0,0,0,0,0,0,0,159,36,27,18,0,0,0,0,0,0,0,3,19002,{"$f":"SUM(A618:U618*(TRANSPOSE(CostCalculation!$D$38:$D$58)))","v":137160},{"$f":"V618+SUM(A618:U618*(TRANSPOSE(CostCalculation!$C$38:$C$58)))","v":98049}]
[0,0,0,0,0,0,0,0,0,265,60,45,30,0,0,0,0,0,0,0,5,31670,{"$f":"SUM(A619:U619*(TRANSPOSE(CostCalculation!$D$38:$D$58)))","v":228600},{"$f":"V619+SUM(A619:U619*(TRANSPOSE(CostCalculation!$C$38:$C$58)))","v":163415}]
[0,0,0,0,0,0,0,0,0,159,36,27,18,0,0,0,0,0,0,0,3,19002,{"$f":"SUM(A620:U620*(TRANSPOSE(CostCalculation!$D$38:$D$58)))","v":137160},{"$f":"V620+SUM(A620:U620*(TRANSPOSE(CostCalculation!$C$38:$C$58)))","v":98049}]
[0,0,0,0,0,0,0,0,0,53,12,9,6,0,0,0,0,0,0,0,1,6334,{"$f":"SUM(A621:U621*(TRANSPOSE(CostCalculation!$D$38:$D$58)))","v":45720},{"$f":"V621+SUM(A621:U621*(TRANSPOSE(CostCalculation!$C$38:$C$58)))","v":32683}]
[0,0,0,0,0,0,0,0,0,53,12,9,6,0,0,0,0,0,0,0,1,6334,{"$f":"SUM(A622:U622*(TRANSPOSE(CostCalculation!$D$38:$D$58)))","v":45720},{"$f":"V622+SUM(A622:U622*(TRANSPOSE(CostCalculation!$C$38:$C$58)))","v":32683}]
[0,0,0,0,0,0,0,0,0,212,48,36,24,0,0,0,0,0,0,0,4,25336,{"$f":"SUM(A623:U623*(TRANSPOSE(CostCalculation!$D$38:$D$58)))","v":182880},{"$f":"V623+SUM(A623:U623*(TRANSPOSE(CostCalculation!$C$38:$C$58)))","v":130732}]
[0,0,0,0,0,0,0,0,0,159,36,27,18,0,0,0,0,0,0,0,3,19002,{"$f":"SUM(A624:U624*(TRANSPOSE(CostCalculation!$D$38:$D$58)))","v":137160},{"$f":"V624+SUM(A624:U624*(TRANSPOSE(CostCalculation!$C$38:$C$58)))","v":98049}]
[0,0,0,0,0,0,0,0,0,159,36,27,18,0,0,0,0,0,0,0,3,19002,{"$f":"SUM(A625:U625*(TRANSPOSE(CostCalculation!$D$38:$D$58)))","v":137160},{"$f":"V625+SUM(A625:U625*(TRANSPOSE(CostCalculation!$C$38:$C$58)))","v":98049}]
[0,0,0,0,0,0,0,0,0,106,24,18,12,0,0,0,0,0,0,0,2,12668,{"$f":"SUM(A626:U626*(TRANSPOSE(CostCalculation!$D$38:$D$58)))","v":91440},{"$f":"V626+SUM(A626:U626*(TRANSPOSE(CostCalculation!$C$38:$C$58)))","v":65366}]
[0,0,0,0,0,0,0,0,0,424,96,72,48,0,0,0,0,0,0,0,8,50672,{"$f":"SUM(A627:U627*(TRANSPOSE(CostCalculation!$D$38:$D$58)))","v":365760},{"$f":"V627+SUM(A627:U627*(TRANSPOSE(CostCalculation!$C$38:$C$58)))","v":261464}]
[0,0,0,0,0,0,0,0,0,106,24,18,12,0,0,0,0,0,0,0,2,12668,{"$f":"SUM(A628:U628*(TRANSPOSE(CostCalculation!$D$38:$D$58)))","v":91440},{"$f":"V628+SUM(A628:U628*(TRANSPOSE(CostCalculation!$C$38:$C$58)))","v":65366}]
[0,0,0,0,0,0,0,0,0,53,12,9,6,0,0,0,0,0,0,0,1,6334,{"$f":"SUM(A629:U629*(TRANSPOSE(CostCalculation!$D$38:$D$58)))","v":45720},{"$f":"V629+SUM(A629:U629*(TRANSPOSE(CostCalculation!$C$38:$C$58)))","v":32683}]
[0,0,0,0,0,0,0,0,0,212,48,36,24,0,0,0,0,0,0,0,4,25336,{"$f":"SUM(A630:U630*(TRANSPOSE(CostCalculation!$D$38:$D$58)))","v":182880},{"$f":"V630+SUM(A630:U630*(TRANSPOSE(CostCalculation!$C$38:$C$58)))","v":130732}]
[0,0,0,0,0,0,0,0,0,318,72,54,36,0,0,0,0,0,0,0,6,38004,{"$f":"SUM(A631:U631*(TRANSPOSE(CostCalculation!$D$38:$D$58)))","v":274320},{"$f":"V631+SUM(A631:U631*(TRANSPOSE(CostCalculation!$C$38:$C$58)))","v":196098}]
[0,0,0,0,0,0,0,0,0,159,36,27,18,0,0,0,0,0,0,0,3,19002,{"$f":"SUM(A632:U632*(TRANSPOSE(CostCalculation!$D$38:$D$58)))","v":137160},{"$f":"V632+SUM(A632:U632*(TRANSPOSE(CostCalculation!$C$38:$C$58)))","v":98049}]
[0,0,0,0,0,0,0,0,0,53,12,9,6,0,0,0,0,0,0,0,1,6334,{"$f":"SUM(A633:U633*(TRANSPOSE(CostCalculation!$D$38:$D$58)))","v":45720},{"$f":"V633+SUM(A633:U633*(TRANSPOSE(CostCalculation!$C$38:$C$58)))","v":32683}]
[0,0,0,0,0,0,0,0,0,212,48,36,24,0,0,0,0,0,0,0,4,25336,{"$f":"SUM(A634:U634*(TRANSPOSE(CostCalculation!$D$38:$D$58)))","v":182880},{"$f":"V634+SUM(A634:U634*(TRANSPOSE(CostCalculation!$C$38:$C$58)))","v":130732}]
[0,0,0,0,0,0,0,0,0,159,36,27,18,0,0,0,0,0,0,0,3,19002,{"$f":"SUM(A635:U635*(TRANSPOSE(CostCalculation!$D$38:$D$58)))","v":137160},{"$f":"V635+SUM(A635:U635*(TRANSPOSE(CostCalculation!$C$38:$C$58)))","v":98049}]
[0,0,0,0,0,0,0,0,0,106,24,18,12,0,0,0,0,0,0,0,2,12668,{"$f":"SUM(A636:U636*(TRANSPOSE(CostCalculation!$D$38:$D$58)))","v":91440},{"$f":"V636+SUM(A636:U636*(TRANSPOSE(CostCalculation!$C$38:$C$58)))","v":65366}]
[0,0,0,0,0,0,0,0,0,159,36,27,18,0,0,0,0,0,0,0,3,19002,{"$f":"SUM(A637:U637*(TRANSPOSE(CostCalculation!$D$38:$D$58)))","v":137160},{"$f":"V637+SUM(A637:U637*(TRANSPOSE(CostCalculation!$C$38:$C$58)))","v":98049}]
[0,0,0,0,0,0,0,0,0,106,24,18,12,0,0,0,0,0,0,0,2,12668,{"$f":"SUM(A638:U638*(TRANSPOSE(CostCalculation!$D$38:$D$58)))","v":91440},{"$f":"V638+SUM(A638:U638*(TRANSPOSE(CostCalculation!$C$38:$C$58)))","v":65366}]
[0,0,0,0,0,0,0,0,0,159,36,27,18,0,0,0,0,0,0,0,3,19002,{"$f":"SUM(A639:U639*(TRANSPOSE(CostCalculation!$D$38:$D$58)))","v":137160},{"$f":"V639+SUM(A639:U639*(TRANSPOSE(CostCalculation!$C$38:$C$58)))","v":98049}]
[0,0,0,0,0,0,0,0,0,265,60,45,30,0,0,0,0,0,0,0,5,31670,{"$f":"SUM(A640:U640*(TRANSPOSE(CostCalculation!$D$38:$D$58)))","v":228600},{"$f":"V640+SUM(A640:U640*(TRANSPOSE(CostCalculation!$C$38:$C$58)))","v":163415}]
[0,0,0,0,0,0,0,0,0,212,48,36,24,0,0,0,0,0,0,0,4,25336,{"$f":"SUM(A641:U641*(TRANSPOSE(CostCalculation!$D$38:$D$58)))","v":182880},{"$f":"V641+SUM(A641:U641*(TRANSPOSE(CostCalculation!$C$38:$C$58)))","v":130732}]
[0,0,0,0,0,0,0,0,0,371,84,63,42,0,0,0,0,0,0,0,7,44338,{"$f":"SUM(A642:U642*(TRANSPOSE(CostCalculation!$D$38:$D$58)))","v":320040},{"$f":"V642+SUM(A642:U642*(TRANSPOSE(CostCalculation!$C$38:$C$58)))","v":228781}]
[0,0,0,0,0,0,0,0,0,53,12,9,6,0,0,0,0,0,0,0,1,6334,{"$f":"SUM(A643:U643*(TRANSPOSE(CostCalculation!$D$38:$D$58)))","v":45720},{"$f":"V643+SUM(A643:U643*(TRANSPOSE(CostCalculation!$C$38:$C$58)))","v":32683}]
[0,0,0,0,0,0,0,0,0,212,48,36,24,0,0,0,0,0,0,0,4,25336,{"$f":"SUM(A644:U644*(TRANSPOSE(CostCalculation!$D$38:$D$58)))","v":182880},{"$f":"V644+SUM(A644:U644*(TRANSPOSE(CostCalculation!$C$38:$C$58)))","v":130732}]
[0,0,0,0,0,0,0,0,0,106,24,18,12,0,0,0,0,0,0,0,2,12668,{"$f":"SUM(A645:U645*(TRANSPOSE(CostCalculation!$D$38:$D$58)))","v":91440},{"$f":"V645+SUM(A645:U645*(TRANSPOSE(CostCalculation!$C$38:$C$58)))","v":65366}]
[0,0,0,0,0,0,0,0,0,212,48,36,24,0,0,0,0,0,0,0,4,25336,{"$f":"SUM(A646:U646*(TRANSPOSE(CostCalculation!$D$38:$D$58)))","v":182880},{"$f":"V646+SUM(A646:U646*(TRANSPOSE(CostCalculation!$C$38:$C$58)))","v":130732}]
[0,0,0,0,0,0,0,0,0,53,12,9,6,0,0,0,0,0,0,0,1,6334,{"$f":"SUM(A647:U647*(TRANSPOSE(CostCalculation!$D$38:$D$58)))","v":45720},{"$f":"V647+SUM(A647:U647*(TRANSPOSE(CostCalculation!$C$38:$C$58)))","v":32683}]
[0,0,0,0,0,0,0,0,0,212,48,36,24,0,0,0,0,0,0,0,4,25336,{"$f":"SUM(A648:U648*(TRANSPOSE(CostCalculation!$D$38:$D$58)))","v":182880},{"$f":"V648+SUM(A648:U648*(TRANSPOSE(CostCalculation!$C$38:$C$58)))","v":130732}]
[0,0,0,0,0,0,0,0,0,53,12,9,6,0,0,0,0,0,0,0,1,6334,{"$f":"SUM(A649:U649*(TRANSPOSE(CostCalculation!$D$38:$D$58)))","v":45720},{"$f":"V649+SUM(A649:U649*(TRANSPOSE(CostCalculation!$C$38:$C$58)))","v":32683}]
[0,0,0,0,0,0,0,0,0,265,60,45,30,0,0,0,0,0,0,0,5,31670,{"$f":"SUM(A650:U650*(TRANSPOSE(CostCalculation!$D$38:$D$58)))","v":228600},{"$f":"V650+SUM(A650:U650*(TRANSPOSE(CostCalculation!$C$38:$C$58)))","v":163415}]
[0,0,0,0,0,0,0,0,0,212,48,36,24,0,0,0,0,0,0,0,4,25336,{"$f":"SUM(A651:U651*(TRANSPOSE(CostCalculation!$D$38:$D$58)))","v":182880},{"$f":"V651+SUM(A651:U651*(TRANSPOSE(CostCalculation!$C$38:$C$58)))","v":130732}]
[0,0,0,0,0,0,0,0,0,371,84,63,42,0,0,0,0,0,0,0,7,44338,{"$f":"SUM(A652:U652*(TRANSPOSE(CostCalculation!$D$38:$D$58)))","v":320040},{"$f":"V652+SUM(A652:U652*(TRANSPOSE(CostCalculation!$C$38:$C$58)))","v":228781}]
[0,0,0,0,0,0,0,0,0,159,36,27,18,0,0,0,0,0,0,0,3,19002,{"$f":"SUM(A653:U653*(TRANSPOSE(CostCalculation!$D$38:$D$58)))","v":137160},{"$f":"V653+SUM(A653:U653*(TRANSPOSE(CostCalculation!$C$38:$C$58)))","v":98049}]
[0,0,0,0,0,0,0,0,0,159,36,27,18,0,0,0,0,0,0,0,3,19002,{"$f":"SUM(A654:U654*(TRANSPOSE(CostCalculation!$D$38:$D$58)))","v":137160},{"$f":"V654+SUM(A654:U654*(TRANSPOSE(CostCalculation!$C$38:$C$58)))","v":98049}]
[0,0,0,0,0,0,0,0,0,106,24,18,12,0,0,0,0,0,0,0,2,12668,{"$f":"SUM(A655:U655*(TRANSPOSE(CostCalculation!$D$38:$D$58)))","v":91440},{"$f":"V655+SUM(A655:U655*(TRANSPOSE(CostCalculation!$C$38:$C$58)))","v":65366}]
[0,0,0,0,0,0,0,0,0,477,108,81,54,0,0,0,0,0,0,0,9,57006,{"$f":"SUM(A656:U656*(TRANSPOSE(CostCalculation!$D$38:$D$58)))","v":411480},{"$f":"V656+SUM(A656:U656*(TRANSPOSE(CostCalculation!$C$38:$C$58)))","v":294147}]
[0,0,0,0,0,0,0,0,0,212,48,36,24,0,0,0,0,0,0,0,4,25336,{"$f":"SUM(A657:U657*(TRANSPOSE(CostCalculation!$D$38:$D$58)))","v":182880},{"$f":"V657+SUM(A657:U657*(TRANSPOSE(CostCalculation!$C$38:$C$58)))","v":130732}]
[0,0,0,0,0,0,0,0,0,318,72,54,36,0,0,0,0,0,0,0,6,38004,{"$f":"SUM(A658:U658*(TRANSPOSE(CostCalculation!$D$38:$D$58)))","v":274320},{"$f":"V658+SUM(A658:U658*(TRANSPOSE(CostCalculation!$C$38:$C$58)))","v":196098}]
[0,0,0,0,0,0,0,0,0,212,48,36,24,0,0,0,0,0,0,0,4,25336,{"$f":"SUM(A659:U659*(TRANSPOSE(CostCalculation!$D$38:$D$58)))","v":182880},{"$f":"V659+SUM(A659:U659*(TRANSPOSE(CostCalculation!$C$38:$C$58)))","v":130732}]
[0,0,0,0,0,0,0,0,0,53,12,9,6,0,0,0,0,0,0,0,1,6334,{"$f":"SUM(A660:U660*(TRANSPOSE(CostCalculation!$D$38:$D$58)))","v":45720},{"$f":"V660+SUM(A660:U660*(TRANSPOSE(CostCalculation!$C$38:$C$58)))","v":32683}]
[0,0,0,0,0,0,0,0,0,106,24,18,12,0,0,0,0,0,0,0,2,12668,{"$f":"SUM(A661:U661*(TRANSPOSE(CostCalculation!$D$38:$D$58)))","v":91440},{"$f":"V661+SUM(A661:U661*(TRANSPOSE(CostCalculation!$C$38:$C$58)))","v":65366}]
[0,0,0,0,0,0,0,0,0,53,12,9,6,0,0,0,0,0,0,0,1,6334,{"$f":"SUM(A662:U662*(TRANSPOSE(CostCalculation!$D$38:$D$58)))","v":45720},{"$f":"V662+SUM(A662:U662*(TRANSPOSE(CostCalculation!$C$38:$C$58)))","v":32683}]
[0,0,0,0,0,0,0,0,0,53,12,9,6,0,0,0,0,0,0,0,1,6334,{"$f":"SUM(A663:U663*(TRANSPOSE(CostCalculation!$D$38:$D$58)))","v":45720},{"$f":"V663+SUM(A663:U663*(TRANSPOSE(CostCalculation!$C$38:$C$58)))","v":32683}]
[0,0,0,0,0,0,0,0,0,159,36,27,18,0,0,0,0,0,0,0,3,19002,{"$f":"SUM(A664:U664*(TRANSPOSE(CostCalculation!$D$38:$D$58)))","v":137160},{"$f":"V664+SUM(A664:U664*(TRANSPOSE(CostCalculation!$C$38:$C$58)))","v":98049}]
[0,0,0,0,0,0,0,0,0,106,24,18,12,0,0,0,0,0,0,0,2,12668,{"$f":"SUM(A665:U665*(TRANSPOSE(CostCalculation!$D$38:$D$58)))","v":91440},{"$f":"V665+SUM(A665:U665*(TRANSPOSE(CostCalculation!$C$38:$C$58)))","v":65366}]
[0,0,0,0,0,0,0,0,0,265,60,45,30,0,0,0,0,0,0,0,5,31670,{"$f":"SUM(A666:U666*(TRANSPOSE(CostCalculation!$D$38:$D$58)))","v":228600},{"$f":"V666+SUM(A666:U666*(TRANSPOSE(CostCalculation!$C$38:$C$58)))","v":163415}]
[0,0,0,0,0,0,0,0,0,53,12,9,6,0,0,0,0,0,0,0,1,6334,{"$f":"SUM(A667:U667*(TRANSPOSE(CostCalculation!$D$38:$D$58)))","v":45720},{"$f":"V667+SUM(A667:U667*(TRANSPOSE(CostCalculation!$C$38:$C$58)))","v":32683}]
[0,0,0,0,0,0,0,0,0,212,48,36,24,0,0,0,0,0,0,0,4,25336,{"$f":"SUM(A668:U668*(TRANSPOSE(CostCalculation!$D$38:$D$58)))","v":182880},{"$f":"V668+SUM(A668:U668*(TRANSPOSE(CostCalculation!$C$38:$C$58)))","v":130732}]
[0,0,0,0,0,0,0,0,0,106,24,18,12,0,0,0,0,0,0,0,2,12668,{"$f":"SUM(A669:U669*(TRANSPOSE(CostCalculation!$D$38:$D$58)))","v":91440},{"$f":"V669+SUM(A669:U669*(TRANSPOSE(CostCalculation!$C$38:$C$58)))","v":65366}]
[0,0,0,0,0,0,0,0,0,106,24,18,12,0,0,0,0,0,0,0,2,12668,{"$f":"SUM(A670:U670*(TRANSPOSE(CostCalculation!$D$38:$D$58)))","v":91440},{"$f":"V670+SUM(A670:U670*(TRANSPOSE(CostCalculation!$C$38:$C$58)))","v":65366}]
[0,0,0,0,0,0,0,0,0,53,12,9,6,0,0,0,0,0,0,0,1,6334,{"$f":"SUM(A671:U671*(TRANSPOSE(CostCalculation!$D$38:$D$58)))","v":45720},{"$f":"V671+SUM(A671:U671*(TRANSPOSE(CostCalculation!$C$38:$C$58)))","v":32683}]
[0,0,0,0,0,0,0,0,0,106,24,18,12,0,0,0,0,0,0,0,2,12668,{"$f":"SUM(A672:U672*(TRANSPOSE(CostCalculation!$D$38:$D$58)))","v":91440},{"$f":"V672+SUM(A672:U672*(TRANSPOSE(CostCalculation!$C$38:$C$58)))","v":65366}]
[0,0,0,0,0,0,0,0,0,106,24,18,12,0,0,0,0,0,0,0,2,12668,{"$f":"SUM(A673:U673*(TRANSPOSE(CostCalculation!$D$38:$D$58)))","v":91440},{"$f":"V673+SUM(A673:U673*(TRANSPOSE(CostCalculation!$C$38:$C$58)))","v":65366}]
[0,0,0,0,0,0,0,0,0,53,12,9,6,0,0,0,0,0,0,0,1,6334,{"$f":"SUM(A674:U674*(TRANSPOSE(CostCalculation!$D$38:$D$58)))","v":45720},{"$f":"V674+SUM(A674:U674*(TRANSPOSE(CostCalculation!$C$38:$C$58)))","v":32683}]
[0,0,0,0,0,0,0,0,0,265,60,45,30,0,0,0,0,0,0,0,5,31670,{"$f":"SUM(A675:U675*(TRANSPOSE(CostCalculation!$D$38:$D$58)))","v":228600},{"$f":"V675+SUM(A675:U675*(TRANSPOSE(CostCalculation!$C$38:$C$58)))","v":163415}]
[0,0,0,0,0,0,0,0,0,159,36,27,18,0,0,0,0,0,0,0,3,19002,{"$f":"SUM(A676:U676*(TRANSPOSE(CostCalculation!$D$38:$D$58)))","v":137160},{"$f":"V676+SUM(A676:U676*(TRANSPOSE(CostCalculation!$C$38:$C$58)))","v":98049}]
[0,0,0,0,0,0,0,0,0,159,36,27,18,0,0,0,0,0,0,0,3,19002,{"$f":"SUM(A677:U677*(TRANSPOSE(CostCalculation!$D$38:$D$58)))","v":137160},{"$f":"V677+SUM(A677:U677*(TRANSPOSE(CostCalculation!$C$38:$C$58)))","v":98049}]
[0,0,0,0,0,0,0,0,0,106,24,18,12,0,0,0,0,0,0,0,2,12668,{"$f":"SUM(A678:U678*(TRANSPOSE(CostCalculation!$D$38:$D$58)))","v":91440},{"$f":"V678+SUM(A678:U678*(TRANSPOSE(CostCalculation!$C$38:$C$58)))","v":65366}]
[0,0,0,0,0,0,0,0,0,212,48,36,24,0,0,0,0,0,0,0,4,25336,{"$f":"SUM(A679:U679*(TRANSPOSE(CostCalculation!$D$38:$D$58)))","v":182880},{"$f":"V679+SUM(A679:U679*(TRANSPOSE(CostCalculation!$C$38:$C$58)))","v":130732}]
[0,0,0,0,0,0,0,0,0,159,36,27,18,0,0,0,0,0,0,0,3,19002,{"$f":"SUM(A680:U680*(TRANSPOSE(CostCalculation!$D$38:$D$58)))","v":137160},{"$f":"V680+SUM(A680:U680*(TRANSPOSE(CostCalculation!$C$38:$C$58)))","v":98049}]
[0,0,0,0,0,0,0,0,0,212,48,36,24,0,0,0,0,0,0,0,4,25336,{"$f":"SUM(A681:U681*(TRANSPOSE(CostCalculation!$D$38:$D$58)))","v":182880},{"$f":"V681+SUM(A681:U681*(TRANSPOSE(CostCalculation!$C$38:$C$58)))","v":130732}]
[0,0,0,0,0,0,0,0,0,53,12,9,6,0,0,0,0,0,0,0,1,6334,{"$f":"SUM(A682:U682*(TRANSPOSE(CostCalculation!$D$38:$D$58)))","v":45720},{"$f":"V682+SUM(A682:U682*(TRANSPOSE(CostCalculation!$C$38:$C$58)))","v":32683}]
[0,0,0,0,0,0,0,0,0,159,36,27,18,0,0,0,0,0,0,0,3,19002,{"$f":"SUM(A683:U683*(TRANSPOSE(CostCalculation!$D$38:$D$58)))","v":137160},{"$f":"V683+SUM(A683:U683*(TRANSPOSE(CostCalculation!$C$38:$C$58)))","v":98049}]
[0,0,0,0,0,0,0,0,0,106,24,18,12,0,0,0,0,0,0,0,2,12668,{"$f":"SUM(A684:U684*(TRANSPOSE(CostCalculation!$D$38:$D$58)))","v":91440},{"$f":"V684+SUM(A684:U684*(TRANSPOSE(CostCalculation!$C$38:$C$58)))","v":65366}]
[0,0,0,0,0,0,0,0,0,159,36,27,18,0,0,0,0,0,0,0,3,19002,{"$f":"SUM(A685:U685*(TRANSPOSE(CostCalculation!$D$38:$D$58)))","v":137160},{"$f":"V685+SUM(A685:U685*(TRANSPOSE(CostCalculation!$C$38:$C$58)))","v":98049}]
[0,0,0,0,0,0,0,0,0,477,108,81,54,0,0,0,0,0,0,0,9,57006,{"$f":"SUM(A686:U686*(TRANSPOSE(CostCalculation!$D$38:$D$58)))","v":411480},{"$f":"V686+SUM(A686:U686*(TRANSPOSE(CostCalculation!$C$38:$C$58)))","v":294147}]
[0,0,0,0,0,0,0,0,0,212,48,36,24,0,0,0,0,0,0,0,4,25336,{"$f":"SUM(A687:U687*(TRANSPOSE(CostCalculation!$D$38:$D$58)))","v":182880},{"$f":"V687+SUM(A687:U687*(TRANSPOSE(CostCalculation!$C$38:$C$58)))","v":130732}]
[0,0,0,0,0,0,0,0,0,318,72,54,36,0,0,0,0,0,0,0,6,38004,{"$f":"SUM(A688:U688*(TRANSPOSE(CostCalculation!$D$38:$D$58)))","v":274320},{"$f":"V688+SUM(A688:U688*(TRANSPOSE(CostCalculation!$C$38:$C$58)))","v":196098}]
[0,0,0,0,0,0,0,0,0,106,24,18,12,0,0,0,0,0,0,0,2,12668,{"$f":"SUM(A689:U689*(TRANSPOSE(CostCalculation!$D$38:$D$58)))","v":91440},{"$f":"V689+SUM(A689:U689*(TRANSPOSE(CostCalculation!$C$38:$C$58)))","v":65366}]
[0,0,0,0,0,0,0,0,0,318,72,54,36,0,0,0,0,0,0,0,6,38004,{"$f":"SUM(A690:U690*(TRANSPOSE(CostCalculation!$D$38:$D$58)))","v":274320},{"$f":"V690+SUM(A690:U690*(TRANSPOSE(CostCalculation!$C$38:$C$58)))","v":196098}]
[0,0,0,0,0,0,0,0,0,265,60,45,30,0,0,0,0,0,0,0,5,31670,{"$f":"SUM(A691:U691*(TRANSPOSE(CostCalculation!$D$38:$D$58)))","v":228600},{"$f":"V691+SUM(A691:U691*(TRANSPOSE(CostCalculation!$C$38:$C$58)))","v":163415}]
[0,0,0,0,0,0,0,0,0,212,48,36,24,0,0,0,0,0,0,0,4,25336,{"$f":"SUM(A692:U692*(TRANSPOSE(CostCalculation!$D$38:$D$58)))","v":182880},{"$f":"V692+SUM(A692:U692*(TRANSPOSE(CostCalculation!$C$38:$C$58)))","v":130732}]
[0,0,0,0,0,0,0,0,0,371,84,63,42,0,0,0,0,0,0,0,7,44338,{"$f":"SUM(A693:U693*(TRANSPOSE(CostCalculation!$D$38:$D$58)))","v":320040},{"$f":"V693+SUM(A693:U693*(TRANSPOSE(CostCalculation!$C$38:$C$58)))","v":228781}]
[0,0,0,0,0,0,0,0,0,106,24,18,12,0,0,0,0,0,0,0,2,12668,{"$f":"SUM(A694:U694*(TRANSPOSE(CostCalculation!$D$38:$D$58)))","v":91440},{"$f":"V694+SUM(A694:U694*(TRANSPOSE(CostCalculation!$C$38:$C$58)))","v":65366}]
[0,0,0,0,0,0,0,0,0,106,24,18,12,0,0,0,0,0,0,0,2,12668,{"$f":"SUM(A695:U695*(TRANSPOSE(CostCalculation!$D$38:$D$58)))","v":91440},{"$f":"V695+SUM(A695:U695*(TRANSPOSE(CostCalculation!$C$38:$C$58)))","v":65366}]
[0,0,0,0,0,0,0,0,0,159,36,27,18,0,0,0,0,0,0,0,3,19002,{"$f":"SUM(A696:U696*(TRANSPOSE(CostCalculation!$D$38:$D$58)))","v":137160},{"$f":"V696+SUM(A696:U696*(TRANSPOSE(CostCalculation!$C$38:$C$58)))","v":98049}]
[0,0,0,0,0,0,0,0,0,159,36,27,18,0,0,0,0,0,0,0,3,19002,{"$f":"SUM(A697:U697*(TRANSPOSE(CostCalculation!$D$38:$D$58)))","v":137160},{"$f":"V697+SUM(A697:U697*(TRANSPOSE(CostCalculation!$C$38:$C$58)))","v":98049}]
[0,0,0,0,0,0,0,0,0,212,48,36,24,0,0,0,0,0,0,0,4,25336,{"$f":"SUM(A698:U698*(TRANSPOSE(CostCalculation!$D$38:$D$58)))","v":182880},{"$f":"V698+SUM(A698:U698*(TRANSPOSE(CostCalculation!$C$38:$C$58)))","v":130732}]
[0,0,0,0,0,0,0,0,0,106,24,18,12,0,0,0,0,0,0,0,2,12668,{"$f":"SUM(A699:U699*(TRANSPOSE(CostCalculation!$D$38:$D$58)))","v":91440},{"$f":"V699+SUM(A699:U699*(TRANSPOSE(CostCalculation!$C$38:$C$58)))","v":65366}]
[0,0,0,0,0,0,0,0,0,265,60,45,30,0,0,0,0,0,0,0,5,31670,{"$f":"SUM(A700:U700*(TRANSPOSE(CostCalculation!$D$38:$D$58)))","v":228600},{"$f":"V700+SUM(A700:U700*(TRANSPOSE(CostCalculation!$C$38:$C$58)))","v":163415}]
[0,0,0,0,0,0,0,0,0,424,96,72,48,0,0,0,0,0,0,0,8,50672,{"$f":"SUM(A701:U701*(TRANSPOSE(CostCalculation!$D$38:$D$58)))","v":365760},{"$f":"V701+SUM(A701:U701*(TRANSPOSE(CostCalculation!$C$38:$C$58)))","v":261464}]
[0,0,0,0,0,0,0,0,0,53,12,9,6,0,0,0,0,0,0,0,1,6334,{"$f":"SUM(A702:U702*(TRANSPOSE(CostCalculation!$D$38:$D$58)))","v":45720},{"$f":"V702+SUM(A702:U702*(TRANSPOSE(CostCalculation!$C$38:$C$58)))","v":32683}]
[0,0,0,0,0,0,0,0,0,424,96,72,48,0,0,0,0,0,0,0,8,50672,{"$f":"SUM(A703:U703*(TRANSPOSE(CostCalculation!$D$38:$D$58)))","v":365760},{"$f":"V703+SUM(A703:U703*(TRANSPOSE(CostCalculation!$C$38:$C$58)))","v":261464}]
[0,0,0,0,0,0,0,0,0,159,36,27,18,0,0,0,0,0,0,0,3,19002,{"$f":"SUM(A704:U704*(TRANSPOSE(CostCalculation!$D$38:$D$58)))","v":137160},{"$f":"V704+SUM(A704:U704*(TRANSPOSE(CostCalculation!$C$38:$C$58)))","v":98049}]
[0,0,0,0,0,0,0,0,0,106,24,18,12,0,0,0,0,0,0,0,2,12668,{"$f":"SUM(A705:U705*(TRANSPOSE(CostCalculation!$D$38:$D$58)))","v":91440},{"$f":"V705+SUM(A705:U705*(TRANSPOSE(CostCalculation!$C$38:$C$58)))","v":65366}]
[0,0,0,0,0,0,0,0,0,106,24,18,12,0,0,0,0,0,0,0,2,12668,{"$f":"SUM(A706:U706*(TRANSPOSE(CostCalculation!$D$38:$D$58)))","v":91440},{"$f":"V706+SUM(A706:U706*(TRANSPOSE(CostCalculation!$C$38:$C$58)))","v":65366}]
[0,0,0,0,0,0,0,0,0,53,12,9,6,0,0,0,0,0,0,0,1,6334,{"$f":"SUM(A707:U707*(TRANSPOSE(CostCalculation!$D$38:$D$58)))","v":45720},{"$f":"V707+SUM(A707:U707*(TRANSPOSE(CostCalculation!$C$38:$C$58)))","v":32683}]
[0,0,0,0,0,0,0,0,0,265,60,45,30,0,0,0,0,0,0,0,5,31670,{"$f":"SUM(A708:U708*(TRANSPOSE(CostCalculation!$D$38:$D$58)))","v":228600},{"$f":"V708+SUM(A708:U708*(TRANSPOSE(CostCalculation!$C$38:$C$58)))","v":163415}]
[0,0,0,0,0,0,0,0,0,159,36,27,18,0,0,0,0,0,0,0,3,19002,{"$f":"SUM(A709:U709*(TRANSPOSE(CostCalculation!$D$38:$D$58)))","v":137160},{"$f":"V709+SUM(A709:U709*(TRANSPOSE(CostCalculation!$C$38:$C$58)))","v":98049}]
[0,0,0,0,0,0,0,0,0,53,12,9,6,0,0,0,0,0,0,0,1,6334,{"$f":"SUM(A710:U710*(TRANSPOSE(CostCalculation!$D$38:$D$58)))","v":45720},{"$f":"V710+SUM(A710:U710*(TRANSPOSE(CostCalculation!$C$38:$C$58)))","v":32683}]
[0,0,0,0,0,0,0,0,0,53,12,9,6,0,0,0,0,0,0,0,1,6334,{"$f":"SUM(A711:U711*(TRANSPOSE(CostCalculation!$D$38:$D$58)))","v":45720},{"$f":"V711+SUM(A711:U711*(TRANSPOSE(CostCalculation!$C$38:$C$58)))","v":32683}]
[0,0,0,0,0,0,0,0,0,159,36,27,18,0,0,0,0,0,0,0,3,19002,{"$f":"SUM(A712:U712*(TRANSPOSE(CostCalculation!$D$38:$D$58)))","v":137160},{"$f":"V712+SUM(A712:U712*(TRANSPOSE(CostCalculation!$C$38:$C$58)))","v":98049}]
[0,0,0,0,0,0,0,0,0,159,36,27,18,0,0,0,0,0,0,0,3,19002,{"$f":"SUM(A713:U713*(TRANSPOSE(CostCalculation!$D$38:$D$58)))","v":137160},{"$f":"V713+SUM(A713:U713*(TRANSPOSE(CostCalculation!$C$38:$C$58)))","v":98049}]
[0,0,0,0,0,0,0,0,0,212,48,36,24,0,0,0,0,0,0,0,4,25336,{"$f":"SUM(A714:U714*(TRANSPOSE(CostCalculation!$D$38:$D$58)))","v":182880},{"$f":"V714+SUM(A714:U714*(TRANSPOSE(CostCalculation!$C$38:$C$58)))","v":130732}]
[0,0,0,0,0,0,0,0,0,265,60,45,30,0,0,0,0,0,0,0,5,31670,{"$f":"SUM(A715:U715*(TRANSPOSE(CostCalculation!$D$38:$D$58)))","v":228600},{"$f":"V715+SUM(A715:U715*(TRANSPOSE(CostCalculation!$C$38:$C$58)))","v":163415}]
[0,0,0,0,0,0,0,0,0,53,12,9,6,0,0,0,0,0,0,0,1,6334,{"$f":"SUM(A716:U716*(TRANSPOSE(CostCalculation!$D$38:$D$58)))","v":45720},{"$f":"V716+SUM(A716:U716*(TRANSPOSE(CostCalculation!$C$38:$C$58)))","v":32683}]
[0,0,0,0,0,0,0,0,0,159,36,27,18,0,0,0,0,0,0,0,3,19002,{"$f":"SUM(A717:U717*(TRANSPOSE(CostCalculation!$D$38:$D$58)))","v":137160},{"$f":"V717+SUM(A717:U717*(TRANSPOSE(CostCalculation!$C$38:$C$58)))","v":98049}]
[0,0,0,0,0,0,0,0,0,159,36,27,18,0,0,0,0,0,0,0,3,19002,{"$f":"SUM(A718:U718*(TRANSPOSE(CostCalculation!$D$38:$D$58)))","v":137160},{"$f":"V718+SUM(A718:U718*(TRANSPOSE(CostCalculation!$C$38:$C$58)))","v":98049}]
[0,0,0,0,0,0,0,0,0,106,24,18,12,0,0,0,0,0,0,0,2,12668,{"$f":"SUM(A719:U719*(TRANSPOSE(CostCalculation!$D$38:$D$58)))","v":91440},{"$f":"V719+SUM(A719:U719*(TRANSPOSE(CostCalculation!$C$38:$C$58)))","v":65366}]
[0,0,0,0,0,0,0,0,0,371,84,63,42,0,0,0,0,0,0,0,7,44338,{"$f":"SUM(A720:U720*(TRANSPOSE(CostCalculation!$D$38:$D$58)))","v":320040},{"$f":"V720+SUM(A720:U720*(TRANSPOSE(CostCalculation!$C$38:$C$58)))","v":228781}]
[0,0,0,0,0,0,0,0,0,106,24,18,12,0,0,0,0,0,0,0,2,12668,{"$f":"SUM(A721:U721*(TRANSPOSE(CostCalculation!$D$38:$D$58)))","v":91440},{"$f":"V721+SUM(A721:U721*(TRANSPOSE(CostCalculation!$C$38:$C$58)))","v":65366}]
[0,0,0,0,0,0,0,0,0,265,60,45,30,0,0,0,0,0,0,0,5,31670,{"$f":"SUM(A722:U722*(TRANSPOSE(CostCalculation!$D$38:$D$58)))","v":228600},{"$f":"V722+SUM(A722:U722*(TRANSPOSE(CostCalculation!$C$38:$C$58)))","v":163415}]
[0,0,0,0,0,0,0,0,0,424,96,72,48,0,0,0,0,0,0,0,8,50672,{"$f":"SUM(A723:U723*(TRANSPOSE(CostCalculation!$D$38:$D$58)))","v":365760},{"$f":"V723+SUM(A723:U723*(TRANSPOSE(CostCalculation!$C$38:$C$58)))","v":261464}]
[0,0,0,0,0,0,0,0,0,212,48,36,24,0,0,0,0,0,0,0,4,25336,{"$f":"SUM(A724:U724*(TRANSPOSE(CostCalculation!$D$38:$D$58)))","v":182880},{"$f":"V724+SUM(A724:U724*(TRANSPOSE(CostCalculation!$C$38:$C$58)))","v":130732}]
[0,0,0,0,0,0,0,0,0,53,12,9,6,0,0,0,0,0,0,0,1,6334,{"$f":"SUM(A725:U725*(TRANSPOSE(CostCalculation!$D$38:$D$58)))","v":45720},{"$f":"V725+SUM(A725:U725*(TRANSPOSE(CostCalculation!$C$38:$C$58)))","v":32683}]
[0,0,0,0,0,0,0,0,0,212,48,36,24,0,0,0,0,0,0,0,4,25336,{"$f":"SUM(A726:U726*(TRANSPOSE(CostCalculation!$D$38:$D$58)))","v":182880},{"$f":"V726+SUM(A726:U726*(TRANSPOSE(CostCalculation!$C$38:$C$58)))","v":130732}]
[0,0,0,0,0,0,0,0,0,106,24,18,12,0,0,0,0,0,0,0,2,12668,{"$f":"SUM(A727:U727*(TRANSPOSE(CostCalculation!$D$38:$D$58)))","v":91440},{"$f":"V727+SUM(A727:U727*(TRANSPOSE(CostCalculation!$C$38:$C$58)))","v":65366}]
[0,0,0,0,0,0,0,0,0,212,48,36,24,0,0,0,0,0,0,0,4,25336,{"$f":"SUM(A728:U728*(TRANSPOSE(CostCalculation!$D$38:$D$58)))","v":182880},{"$f":"V728+SUM(A728:U728*(TRANSPOSE(CostCalculation!$C$38:$C$58)))","v":130732}]
[0,0,0,0,0,0,0,0,0,212,48,36,24,0,0,0,0,0,0,0,4,25336,{"$f":"SUM(A729:U729*(TRANSPOSE(CostCalculation!$D$38:$D$58)))","v":182880},{"$f":"V729+SUM(A729:U729*(TRANSPOSE(CostCalculation!$C$38:$C$58)))","v":130732}]
[0,0,0,0,0,0,0,0,0,212,48,36,24,0,0,0,0,0,0,0,4,25336,{"$f":"SUM(A730:U730*(TRANSPOSE(CostCalculation!$D$38:$D$58)))","v":182880},{"$f":"V730+SUM(A730:U730*(TRANSPOSE(CostCalculation!$C$38:$C$58)))","v":130732}]
[0,0,0,0,0,0,0,0,0,265,60,45,30,0,0,0,0,0,0,0,5,31670,{"$f":"SUM(A731:U731*(TRANSPOSE(CostCalculation!$D$38:$D$58)))","v":228600},{"$f":"V731+SUM(A731:U731*(TRANSPOSE(CostCalculation!$C$38:$C$58)))","v":163415}]
[0,0,0,0,0,0,0,0,0,265,60,45,30,0,0,0,0,0,0,0,5,31670,{"$f":"SUM(A732:U732*(TRANSPOSE(CostCalculation!$D$38:$D$58)))","v":228600},{"$f":"V732+SUM(A732:U732*(TRANSPOSE(CostCalculation!$C$38:$C$58)))","v":163415}]
[0,0,0,0,0,0,0,0,0,159,36,27,18,0,0,0,0,0,0,0,3,19002,{"$f":"SUM(A733:U733*(TRANSPOSE(CostCalculation!$D$38:$D$58)))","v":137160},{"$f":"V733+SUM(A733:U733*(TRANSPOSE(CostCalculation!$C$38:$C$58)))","v":98049}]
[0,0,0,0,0,0,0,0,0,106,24,18,12,0,0,0,0,0,0,0,2,12668,{"$f":"SUM(A734:U734*(TRANSPOSE(CostCalculation!$D$38:$D$58)))","v":91440},{"$f":"V734+SUM(A734:U734*(TRANSPOSE(CostCalculation!$C$38:$C$58)))","v":65366}]
[0,0,0,0,0,0,0,0,0,265,60,45,30,0,0,0,0,0,0,0,5,31670,{"$f":"SUM(A735:U735*(TRANSPOSE(CostCalculation!$D$38:$D$58)))","v":228600},{"$f":"V735+SUM(A735:U735*(TRANSPOSE(CostCalculation!$C$38:$C$58)))","v":163415}]
[0,0,0,0,0,0,0,0,0,106,24,18,12,0,0,0,0,0,0,0,2,12668,{"$f":"SUM(A736:U736*(TRANSPOSE(CostCalculation!$D$38:$D$58)))","v":91440},{"$f":"V736+SUM(A736:U736*(TRANSPOSE(CostCalculation!$C$38:$C$58)))","v":65366}]
[0,0,0,0,0,0,0,0,0,106,24,18,12,0,0,0,0,0,0,0,2,12668,{"$f":"SUM(A737:U737*(TRANSPOSE(CostCalculation!$D$38:$D$58)))","v":91440},{"$f":"V737+SUM(A737:U737*(TRANSPOSE(CostCalculation!$C$38:$C$58)))","v":65366}]
[0,0,0,0,0,0,0,0,0,106,24,18,12,0,0,0,0,0,0,0,2,12668,{"$f":"SUM(A738:U738*(TRANSPOSE(CostCalculation!$D$38:$D$58)))","v":91440},{"$f":"V738+SUM(A738:U738*(TRANSPOSE(CostCalculation!$C$38:$C$58)))","v":65366}]
[0,0,0,0,0,0,0,0,0,371,84,63,42,0,0,0,0,0,0,0,7,44338,{"$f":"SUM(A739:U739*(TRANSPOSE(CostCalculation!$D$38:$D$58)))","v":320040},{"$f":"V739+SUM(A739:U739*(TRANSPOSE(CostCalculation!$C$38:$C$58)))","v":228781}]
[0,0,0,0,0,0,0,0,0,424,96,72,48,0,0,0,0,0,0,0,8,50672,{"$f":"SUM(A740:U740*(TRANSPOSE(CostCalculation!$D$38:$D$58)))","v":365760},{"$f":"V740+SUM(A740:U740*(TRANSPOSE(CostCalculation!$C$38:$C$58)))","v":261464}]
[0,0,0,0,0,0,0,0,0,318,72,54,36,0,0,0,0,0,0,0,6,38004,{"$f":"SUM(A741:U741*(TRANSPOSE(CostCalculation!$D$38:$D$58)))","v":274320},{"$f":"V741+SUM(A741:U741*(TRANSPOSE(CostCalculation!$C$38:$C$58)))","v":196098}]
[0,0,0,0,0,0,0,0,0,265,60,45,30,0,0,0,0,0,0,0,5,31670,{"$f":"SUM(A742:U742*(TRANSPOSE(CostCalculation!$D$38:$D$58)))","v":228600},{"$f":"V742+SUM(A742:U742*(TRANSPOSE(CostCalculation!$C$38:$C$58)))","v":163415}]
[0,0,0,0,0,0,0,0,0,159,36,27,18,0,0,0,0,0,0,0,3,19002,{"$f":"SUM(A743:U743*(TRANSPOSE(CostCalculation!$D$38:$D$58)))","v":137160},{"$f":"V743+SUM(A743:U743*(TRANSPOSE(CostCalculation!$C$38:$C$58)))","v":98049}]
[0,0,0,0,0,0,0,0,0,106,24,18,12,0,0,0,0,0,0,0,2,12668,{"$f":"SUM(A744:U744*(TRANSPOSE(CostCalculation!$D$38:$D$58)))","v":91440},{"$f":"V744+SUM(A744:U744*(TRANSPOSE(CostCalculation!$C$38:$C$58)))","v":65366}]
[0,0,0,0,0,0,0,0,0,212,48,36,24,0,0,0,0,0,0,0,4,25336,{"$f":"SUM(A745:U745*(TRANSPOSE(CostCalculation!$D$38:$D$58)))","v":182880},{"$f":"V745+SUM(A745:U745*(TRANSPOSE(CostCalculation!$C$38:$C$58)))","v":130732}]
[0,0,0,0,0,0,0,0,0,53,12,9,6,0,0,0,0,0,0,0,1,6334,{"$f":"SUM(A746:U746*(TRANSPOSE(CostCalculation!$D$38:$D$58)))","v":45720},{"$f":"V746+SUM(A746:U746*(TRANSPOSE(CostCalculation!$C$38:$C$58)))","v":32683}]
[0,0,0,0,0,0,0,0,0,53,12,9,6,0,0,0,0,0,0,0,1,6334,{"$f":"SUM(A747:U747*(TRANSPOSE(CostCalculation!$D$38:$D$58)))","v":45720},{"$f":"V747+SUM(A747:U747*(TRANSPOSE(CostCalculation!$C$38:$C$58)))","v":32683}]
[0,0,0,0,0,0,0,0,0,159,36,27,18,0,0,0,0,0,0,0,3,19002,{"$f":"SUM(A748:U748*(TRANSPOSE(CostCalculation!$D$38:$D$58)))","v":137160},{"$f":"V748+SUM(A748:U748*(TRANSPOSE(CostCalculation!$C$38:$C$58)))","v":98049}]
[0,0,0,0,0,0,0,0,0,212,48,36,24,0,0,0,0,0,0,0,4,25336,{"$f":"SUM(A749:U749*(TRANSPOSE(CostCalculation!$D$38:$D$58)))","v":182880},{"$f":"V749+SUM(A749:U749*(TRANSPOSE(CostCalculation!$C$38:$C$58)))","v":130732}]
[0,0,0,0,0,0,0,0,0,636,144,108,72,0,0,0,0,0,0,0,12,76008,{"$f":"SUM(A750:U750*(TRANSPOSE(CostCalculation!$D$38:$D$58)))","v":548640},{"$f":"V750+SUM(A750:U750*(TRANSPOSE(CostCalculation!$C$38:$C$58)))","v":392196}]
[0,0,0,0,0,0,0,0,0,265,60,45,30,0,0,0,0,0,0,0,5,31670,{"$f":"SUM(A751:U751*(TRANSPOSE(CostCalculation!$D$38:$D$58)))","v":228600},{"$f":"V751+SUM(A751:U751*(TRANSPOSE(CostCalculation!$C$38:$C$58)))","v":163415}]
[0,0,0,0,0,0,0,0,0,318,72,54,36,0,0,0,0,0,0,0,6,38004,{"$f":"SUM(A752:U752*(TRANSPOSE(CostCalculation!$D$38:$D$58)))","v":274320},{"$f":"V752+SUM(A752:U752*(TRANSPOSE(CostCalculation!$C$38:$C$58)))","v":196098}]
[0,0,0,0,0,0,0,0,0,106,24,18,12,0,0,0,0,0,0,0,2,12668,{"$f":"SUM(A753:U753*(TRANSPOSE(CostCalculation!$D$38:$D$58)))","v":91440},{"$f":"V753+SUM(A753:U753*(TRANSPOSE(CostCalculation!$C$38:$C$58)))","v":65366}]
[0,0,0,0,0,0,0,0,0,53,12,9,6,0,0,0,0,0,0,0,1,6334,{"$f":"SUM(A754:U754*(TRANSPOSE(CostCalculation!$D$38:$D$58)))","v":45720},{"$f":"V754+SUM(A754:U754*(TRANSPOSE(CostCalculation!$C$38:$C$58)))","v":32683}]
[0,0,0,0,0,0,0,0,0,212,48,36,24,0,0,0,0,0,0,0,4,25336,{"$f":"SUM(A755:U755*(TRANSPOSE(CostCalculation!$D$38:$D$58)))","v":182880},{"$f":"V755+SUM(A755:U755*(TRANSPOSE(CostCalculation!$C$38:$C$58)))","v":130732}]
[0,0,0,0,0,0,0,0,0,265,60,45,30,0,0,0,0,0,0,0,5,31670,{"$f":"SUM(A756:U756*(TRANSPOSE(CostCalculation!$D$38:$D$58)))","v":228600},{"$f":"V756+SUM(A756:U756*(TRANSPOSE(CostCalculation!$C$38:$C$58)))","v":163415}]
[0,0,0,0,0,0,0,0,0,53,12,9,6,0,0,0,0,0,0,0,1,6334,{"$f":"SUM(A757:U757*(TRANSPOSE(CostCalculation!$D$38:$D$58)))","v":45720},{"$f":"V757+SUM(A757:U757*(TRANSPOSE(CostCalculation!$C$38:$C$58)))","v":32683}]
[0,0,0,0,0,0,0,0,0,318,72,54,36,0,0,0,0,0,0,0,6,38004,{"$f":"SUM(A758:U758*(TRANSPOSE(CostCalculation!$D$38:$D$58)))","v":274320},{"$f":"V758+SUM(A758:U758*(TRANSPOSE(CostCalculation!$C$38:$C$58)))","v":196098}]
[0,0,0,0,0,0,0,0,0,106,24,18,12,0,0,0,0,0,0,0,2,12668,{"$f":"SUM(A759:U759*(TRANSPOSE(CostCalculation!$D$38:$D$58)))","v":91440},{"$f":"V759+SUM(A759:U759*(TRANSPOSE(CostCalculation!$C$38:$C$58)))","v":65366}]
[0,0,0,0,0,0,0,0,0,106,24,18,12,0,0,0,0,0,0,0,2,12668,{"$f":"SUM(A760:U760*(TRANSPOSE(CostCalculation!$D$38:$D$58)))","v":91440},{"$f":"V760+SUM(A760:U760*(TRANSPOSE(CostCalculation!$C$38:$C$58)))","v":65366}]
[0,0,0,0,0,0,0,0,0,106,24,18,12,0,0,0,0,0,0,0,2,12668,{"$f":"SUM(A761:U761*(TRANSPOSE(CostCalculation!$D$38:$D$58)))","v":91440},{"$f":"V761+SUM(A761:U761*(TRANSPOSE(CostCalculation!$C$38:$C$58)))","v":65366}]
[0,0,0,0,0,0,0,0,0,106,24,18,12,0,0,0,0,0,0,0,2,12668,{"$f":"SUM(A762:U762*(TRANSPOSE(CostCalculation!$D$38:$D$58)))","v":91440},{"$f":"V762+SUM(A762:U762*(TRANSPOSE(CostCalculation!$C$38:$C$58)))","v":65366}]
[0,0,0,0,0,0,0,0,0,53,12,9,6,0,0,0,0,0,0,0,1,6334,{"$f":"SUM(A763:U763*(TRANSPOSE(CostCalculation!$D$38:$D$58)))","v":45720},{"$f":"V763+SUM(A763:U763*(TRANSPOSE(CostCalculation!$C$38:$C$58)))","v":32683}]
[0,0,0,0,0,0,0,0,0,371,84,63,42,0,0,0,0,0,0,0,7,44338,{"$f":"SUM(A764:U764*(TRANSPOSE(CostCalculation!$D$38:$D$58)))","v":320040},{"$f":"V764+SUM(A764:U764*(TRANSPOSE(CostCalculation!$C$38:$C$58)))","v":228781}]
[0,0,0,0,0,0,0,0,0,159,36,27,18,0,0,0,0,0,0,0,3,19002,{"$f":"SUM(A765:U765*(TRANSPOSE(CostCalculation!$D$38:$D$58)))","v":137160},{"$f":"V765+SUM(A765:U765*(TRANSPOSE(CostCalculation!$C$38:$C$58)))","v":98049}]
[0,0,0,0,0,0,0,0,0,53,12,9,6,0,0,0,0,0,0,0,1,6334,{"$f":"SUM(A766:U766*(TRANSPOSE(CostCalculation!$D$38:$D$58)))","v":45720},{"$f":"V766+SUM(A766:U766*(TRANSPOSE(CostCalculation!$C$38:$C$58)))","v":32683}]
[0,0,0,0,0,0,0,0,0,212,48,36,24,0,0,0,0,0,0,0,4,25336,{"$f":"SUM(A767:U767*(TRANSPOSE(CostCalculation!$D$38:$D$58)))","v":182880},{"$f":"V767+SUM(A767:U767*(TRANSPOSE(CostCalculation!$C$38:$C$58)))","v":130732}]
[0,0,0,0,0,0,0,0,0,106,24,18,12,0,0,0,0,0,0,0,2,12668,{"$f":"SUM(A768:U768*(TRANSPOSE(CostCalculation!$D$38:$D$58)))","v":91440},{"$f":"V768+SUM(A768:U768*(TRANSPOSE(CostCalculation!$C$38:$C$58)))","v":65366}]
[0,0,0,0,0,0,0,0,0,159,36,27,18,0,0,0,0,0,0,0,3,19002,{"$f":"SUM(A769:U769*(TRANSPOSE(CostCalculation!$D$38:$D$58)))","v":137160},{"$f":"V769+SUM(A769:U769*(TRANSPOSE(CostCalculation!$C$38:$C$58)))","v":98049}]
[0,0,0,0,0,0,0,0,0,53,12,9,6,0,0,0,0,0,0,0,1,6334,{"$f":"SUM(A770:U770*(TRANSPOSE(CostCalculation!$D$38:$D$58)))","v":45720},{"$f":"V770+SUM(A770:U770*(TRANSPOSE(CostCalculation!$C$38:$C$58)))","v":32683}]
[0,0,0,0,0,0,0,0,0,159,36,27,18,0,0,0,0,0,0,0,3,19002,{"$f":"SUM(A771:U771*(TRANSPOSE(CostCalculation!$D$38:$D$58)))","v":137160},{"$f":"V771+SUM(A771:U771*(TRANSPOSE(CostCalculation!$C$38:$C$58)))","v":98049}]
[0,0,0,0,0,0,0,0,0,53,12,9,6,0,0,0,0,0,0,0,1,6334,{"$f":"SUM(A772:U772*(TRANSPOSE(CostCalculation!$D$38:$D$58)))","v":45720},{"$f":"V772+SUM(A772:U772*(TRANSPOSE(CostCalculation!$C$38:$C$58)))","v":32683}]
[0,0,0,0,0,0,0,0,0,265,60,45,30,0,0,0,0,0,0,0,5,31670,{"$f":"SUM(A773:U773*(TRANSPOSE(CostCalculation!$D$38:$D$58)))","v":228600},{"$f":"V773+SUM(A773:U773*(TRANSPOSE(CostCalculation!$C$38:$C$58)))","v":163415}]
[0,0,0,0,0,0,0,0,0,106,24,18,12,0,0,0,0,0,0,0,2,12668,{"$f":"SUM(A774:U774*(TRANSPOSE(CostCalculation!$D$38:$D$58)))","v":91440},{"$f":"V774+SUM(A774:U774*(TRANSPOSE(CostCalculation!$C$38:$C$58)))","v":65366}]
[0,0,0,0,0,0,0,0,0,53,12,9,6,0,0,0,0,0,0,0,1,6334,{"$f":"SUM(A775:U775*(TRANSPOSE(CostCalculation!$D$38:$D$58)))","v":45720},{"$f":"V775+SUM(A775:U775*(TRANSPOSE(CostCalculation!$C$38:$C$58)))","v":32683}]
[0,0,0,0,0,0,0,0,0,265,60,45,30,0,0,0,0,0,0,0,5,31670,{"$f":"SUM(A776:U776*(TRANSPOSE(CostCalculation!$D$38:$D$58)))","v":228600},{"$f":"V776+SUM(A776:U776*(TRANSPOSE(CostCalculation!$C$38:$C$58)))","v":163415}]
[0,0,0,0,0,0,0,0,0,53,12,9,6,0,0,0,0,0,0,0,1,6334,{"$f":"SUM(A777:U777*(TRANSPOSE(CostCalculation!$D$38:$D$58)))","v":45720},{"$f":"V777+SUM(A777:U777*(TRANSPOSE(CostCalculation!$C$38:$C$58)))","v":32683}]
[0,0,0,0,0,0,0,0,0,53,12,9,6,0,0,0,0,0,0,0,1,6334,{"$f":"SUM(A778:U778*(TRANSPOSE(CostCalculation!$D$38:$D$58)))","v":45720},{"$f":"V778+SUM(A778:U778*(TRANSPOSE(CostCalculation!$C$38:$C$58)))","v":32683}]
[0,0,0,0,0,0,0,0,0,53,12,9,6,0,0,0,0,0,0,0,1,6334,{"$f":"SUM(A779:U779*(TRANSPOSE(CostCalculation!$D$38:$D$58)))","v":45720},{"$f":"V779+SUM(A779:U779*(TRANSPOSE(CostCalculation!$C$38:$C$58)))","v":32683}]
[0,0,0,0,0,0,0,0,0,159,36,27,18,0,0,0,0,0,0,0,3,19002,{"$f":"SUM(A780:U780*(TRANSPOSE(CostCalculation!$D$38:$D$58)))","v":137160},{"$f":"V780+SUM(A780:U780*(TRANSPOSE(CostCalculation!$C$38:$C$58)))","v":98049}]
[0,0,0,0,0,0,0,0,0,106,24,18,12,0,0,0,0,0,0,0,2,12668,{"$f":"SUM(A781:U781*(TRANSPOSE(CostCalculation!$D$38:$D$58)))","v":91440},{"$f":"V781+SUM(A781:U781*(TRANSPOSE(CostCalculation!$C$38:$C$58)))","v":65366}]
[0,0,0,0,0,0,0,0,0,159,36,27,18,0,0,0,0,0,0,0,3,19002,{"$f":"SUM(A782:U782*(TRANSPOSE(CostCalculation!$D$38:$D$58)))","v":137160},{"$f":"V782+SUM(A782:U782*(TRANSPOSE(CostCalculation!$C$38:$C$58)))","v":98049}]
[0,0,0,0,0,0,0,0,0,318,72,54,36,0,0,0,0,0,0,0,6,38004,{"$f":"SUM(A783:U783*(TRANSPOSE(CostCalculation!$D$38:$D$58)))","v":274320},{"$f":"V783+SUM(A783:U783*(TRANSPOSE(CostCalculation!$C$38:$C$58)))","v":196098}]
[0,0,0,0,0,0,0,0,0,106,24,18,12,0,0,0,0,0,0,0,2,12668,{"$f":"SUM(A784:U784*(TRANSPOSE(CostCalculation!$D$38:$D$58)))","v":91440},{"$f":"V784+SUM(A784:U784*(TRANSPOSE(CostCalculation!$C$38:$C$58)))","v":65366}]
[0,0,0,0,0,0,0,0,0,106,24,18,12,0,0,0,0,0,0,0,2,12668,{"$f":"SUM(A785:U785*(TRANSPOSE(CostCalculation!$D$38:$D$58)))","v":91440},{"$f":"V785+SUM(A785:U785*(TRANSPOSE(CostCalculation!$C$38:$C$58)))","v":65366}]
[0,0,0,0,0,0,0,0,0,53,12,9,6,0,0,0,0,0,0,0,1,6334,{"$f":"SUM(A786:U786*(TRANSPOSE(CostCalculation!$D$38:$D$58)))","v":45720},{"$f":"V786+SUM(A786:U786*(TRANSPOSE(CostCalculation!$C$38:$C$58)))","v":32683}]
[0,0,0,0,0,0,0,0,0,212,48,36,24,0,0,0,0,0,0,0,4,25336,{"$f":"SUM(A787:U787*(TRANSPOSE(CostCalculation!$D$38:$D$58)))","v":182880},{"$f":"V787+SUM(A787:U787*(TRANSPOSE(CostCalculation!$C$38:$C$58)))","v":130732}]
[0,0,0,0,0,0,0,0,0,424,96,72,48,0,0,0,0,0,0,0,8,50672,{"$f":"SUM(A788:U788*(TRANSPOSE(CostCalculation!$D$38:$D$58)))","v":365760},{"$f":"V788+SUM(A788:U788*(TRANSPOSE(CostCalculation!$C$38:$C$58)))","v":261464}]
[0,0,0,0,0,0,0,0,0,159,36,27,18,0,0,0,0,0,0,0,3,19002,{"$f":"SUM(A789:U789*(TRANSPOSE(CostCalculation!$D$38:$D$58)))","v":137160},{"$f":"V789+SUM(A789:U789*(TRANSPOSE(CostCalculation!$C$38:$C$58)))","v":98049}]
[0,0,0,0,0,0,0,0,0,424,96,72,48,0,0,0,0,0,0,0,8,50672,{"$f":"SUM(A790:U790*(TRANSPOSE(CostCalculation!$D$38:$D$58)))","v":365760},{"$f":"V790+SUM(A790:U790*(TRANSPOSE(CostCalculation!$C$38:$C$58)))","v":261464}]
[0,0,0,0,0,0,0,0,0,212,48,36,24,0,0,0,0,0,0,0,4,25336,{"$f":"SUM(A791:U791*(TRANSPOSE(CostCalculation!$D$38:$D$58)))","v":182880},{"$f":"V791+SUM(A791:U791*(TRANSPOSE(CostCalculation!$C$38:$C$58)))","v":130732}]
[0,0,0,0,0,0,0,0,0,159,36,27,18,0,0,0,0,0,0,0,3,19002,{"$f":"SUM(A792:U792*(TRANSPOSE(CostCalculation!$D$38:$D$58)))","v":137160},{"$f":"V792+SUM(A792:U792*(TRANSPOSE(CostCalculation!$C$38:$C$58)))","v":98049}]
[0,0,0,0,0,0,0,0,0,212,48,36,24,0,0,0,0,0,0,0,4,25336,{"$f":"SUM(A793:U793*(TRANSPOSE(CostCalculation!$D$38:$D$58)))","v":182880},{"$f":"V793+SUM(A793:U793*(TRANSPOSE(CostCalculation!$C$38:$C$58)))","v":130732}]
[0,0,0,0,0,0,0,0,0,53,12,9,6,0,0,0,0,0,0,0,1,6334,{"$f":"SUM(A794:U794*(TRANSPOSE(CostCalculation!$D$38:$D$58)))","v":45720},{"$f":"V794+SUM(A794:U794*(TRANSPOSE(CostCalculation!$C$38:$C$58)))","v":32683}]
[0,0,0,0,0,0,0,0,0,530,120,90,60,0,0,0,0,0,0,0,10,63340,{"$f":"SUM(A795:U795*(TRANSPOSE(CostCalculation!$D$38:$D$58)))","v":457200},{"$f":"V795+SUM(A795:U795*(TRANSPOSE(CostCalculation!$C$38:$C$58)))","v":326830}]
[0,0,0,0,0,0,0,0,0,106,24,18,12,0,0,0,0,0,0,0,2,12668,{"$f":"SUM(A796:U796*(TRANSPOSE(CostCalculation!$D$38:$D$58)))","v":91440},{"$f":"V796+SUM(A796:U796*(TRANSPOSE(CostCalculation!$C$38:$C$58)))","v":65366}]
[0,0,0,0,0,0,0,0,0,106,24,18,12,0,0,0,0,0,0,0,2,12668,{"$f":"SUM(A797:U797*(TRANSPOSE(CostCalculation!$D$38:$D$58)))","v":91440},{"$f":"V797+SUM(A797:U797*(TRANSPOSE(CostCalculation!$C$38:$C$58)))","v":65366}]
[0,0,0,0,0,0,0,0,0,159,36,27,18,0,0,0,0,0,0,0,3,19002,{"$f":"SUM(A798:U798*(TRANSPOSE(CostCalculation!$D$38:$D$58)))","v":137160},{"$f":"V798+SUM(A798:U798*(TRANSPOSE(CostCalculation!$C$38:$C$58)))","v":98049}]
[0,0,0,0,0,0,0,0,0,477,108,81,54,0,0,0,0,0,0,0,9,57006,{"$f":"SUM(A799:U799*(TRANSPOSE(CostCalculation!$D$38:$D$58)))","v":411480},{"$f":"V799+SUM(A799:U799*(TRANSPOSE(CostCalculation!$C$38:$C$58)))","v":294147}]
[0,0,0,0,0,0,0,0,0,106,24,18,12,0,0,0,0,0,0,0,2,12668,{"$f":"SUM(A800:U800*(TRANSPOSE(CostCalculation!$D$38:$D$58)))","v":91440},{"$f":"V800+SUM(A800:U800*(TRANSPOSE(CostCalculation!$C$38:$C$58)))","v":65366}]
[0,0,0,0,0,0,0,0,0,212,48,36,24,0,0,0,0,0,0,0,4,25336,{"$f":"SUM(A801:U801*(TRANSPOSE(CostCalculation!$D$38:$D$58)))","v":182880},{"$f":"V801+SUM(A801:U801*(TRANSPOSE(CostCalculation!$C$38:$C$58)))","v":130732}]
[0,0,0,0,0,0,0,0,0,53,12,9,6,0,0,0,0,0,0,0,1,6334,{"$f":"SUM(A802:U802*(TRANSPOSE(CostCalculation!$D$38:$D$58)))","v":45720},{"$f":"V802+SUM(A802:U802*(TRANSPOSE(CostCalculation!$C$38:$C$58)))","v":32683}]
[0,0,0,0,0,0,0,0,0,212,48,36,24,0,0,0,0,0,0,0,4,25336,{"$f":"SUM(A803:U803*(TRANSPOSE(CostCalculation!$D$38:$D$58)))","v":182880},{"$f":"V803+SUM(A803:U803*(TRANSPOSE(CostCalculation!$C$38:$C$58)))","v":130732}]
[0,0,0,0,0,0,0,0,0,212,48,36,24,0,0,0,0,0,0,0,4,25336,{"$f":"SUM(A804:U804*(TRANSPOSE(CostCalculation!$D$38:$D$58)))","v":182880},{"$f":"V804+SUM(A804:U804*(TRANSPOSE(CostCalculation!$C$38:$C$58)))","v":130732}]
[0,0,0,0,0,0,0,0,0,212,48,36,24,0,0,0,0,0,0,0,4,25336,{"$f":"SUM(A805:U805*(TRANSPOSE(CostCalculation!$D$38:$D$58)))","v":182880},{"$f":"V805+SUM(A805:U805*(TRANSPOSE(CostCalculation!$C$38:$C$58)))","v":130732}]
[0,0,0,0,0,0,0,0,0,212,48,36,24,0,0,0,0,0,0,0,4,25336,{"$f":"SUM(A806:U806*(TRANSPOSE(CostCalculation!$D$38:$D$58)))","v":182880},{"$f":"V806+SUM(A806:U806*(TRANSPOSE(CostCalculation!$C$38:$C$58)))","v":130732}]
[0,0,0,0,0,0,0,0,0,265,60,45,30,0,0,0,0,0,0,0,5,31670,{"$f":"SUM(A807:U807*(TRANSPOSE(CostCalculation!$D$38:$D$58)))","v":228600},{"$f":"V807+SUM(A807:U807*(TRANSPOSE(CostCalculation!$C$38:$C$58)))","v":163415}]
[0,0,0,0,0,0,0,0,0,106,24,18,12,0,0,0,0,0,0,0,2,12668,{"$f":"SUM(A808:U808*(TRANSPOSE(CostCalculation!$D$38:$D$58)))","v":91440},{"$f":"V808+SUM(A808:U808*(TRANSPOSE(CostCalculation!$C$38:$C$58)))","v":65366}]
[0,0,0,0,0,0,0,0,0,106,24,18,12,0,0,0,0,0,0,0,2,12668,{"$f":"SUM(A809:U809*(TRANSPOSE(CostCalculation!$D$38:$D$58)))","v":91440},{"$f":"V809+SUM(A809:U809*(TRANSPOSE(CostCalculation!$C$38:$C$58)))","v":65366}]
[0,0,0,0,0,0,0,0,0,212,48,36,24,0,0,0,0,0,0,0,4,25336,{"$f":"SUM(A810:U810*(TRANSPOSE(CostCalculation!$D$38:$D$58)))","v":182880},{"$f":"V810+SUM(A810:U810*(TRANSPOSE(CostCalculation!$C$38:$C$58)))","v":130732}]
[0,0,0,0,0,0,0,0,0,106,24,18,12,0,0,0,0,0,0,0,2,12668,{"$f":"SUM(A811:U811*(TRANSPOSE(CostCalculation!$D$38:$D$58)))","v":91440},{"$f":"V811+SUM(A811:U811*(TRANSPOSE(CostCalculation!$C$38:$C$58)))","v":65366}]
[0,0,0,0,0,0,0,0,0,106,24,18,12,0,0,0,0,0,0,0,2,12668,{"$f":"SUM(A812:U812*(TRANSPOSE(CostCalculation!$D$38:$D$58)))","v":91440},{"$f":"V812+SUM(A812:U812*(TRANSPOSE(CostCalculation!$C$38:$C$58)))","v":65366}]
[0,0,0,0,0,0,0,0,0,53,12,9,6,0,0,0,0,0,0,0,1,6334,{"$f":"SUM(A813:U813*(TRANSPOSE(CostCalculation!$D$38:$D$58)))","v":45720},{"$f":"V813+SUM(A813:U813*(TRANSPOSE(CostCalculation!$C$38:$C$58)))","v":32683}]
[0,0,0,0,0,0,0,0,0,53,12,9,6,0,0,0,0,0,0,0,1,6334,{"$f":"SUM(A814:U814*(TRANSPOSE(CostCalculation!$D$38:$D$58)))","v":45720},{"$f":"V814+SUM(A814:U814*(TRANSPOSE(CostCalculation!$C$38:$C$58)))","v":32683}]
[0,0,0,0,0,0,0,0,0,265,60,45,30,0,0,0,0,0,0,0,5,31670,{"$f":"SUM(A815:U815*(TRANSPOSE(CostCalculation!$D$38:$D$58)))","v":228600},{"$f":"V815+SUM(A815:U815*(TRANSPOSE(CostCalculation!$C$38:$C$58)))","v":163415}]
[0,0,0,0,0,0,0,0,0,53,12,9,6,0,0,0,0,0,0,0,1,6334,{"$f":"SUM(A816:U816*(TRANSPOSE(CostCalculation!$D$38:$D$58)))","v":45720},{"$f":"V816+SUM(A816:U816*(TRANSPOSE(CostCalculation!$C$38:$C$58)))","v":32683}]
[0,0,0,0,0,0,0,0,0,53,12,9,6,0,0,0,0,0,0,0,1,6334,{"$f":"SUM(A817:U817*(TRANSPOSE(CostCalculation!$D$38:$D$58)))","v":45720},{"$f":"V817+SUM(A817:U817*(TRANSPOSE(CostCalculation!$C$38:$C$58)))","v":32683}]
[0,0,0,0,0,0,0,0,0,159,36,27,18,0,0,0,0,0,0,0,3,19002,{"$f":"SUM(A818:U818*(TRANSPOSE(CostCalculation!$D$38:$D$58)))","v":137160},{"$f":"V818+SUM(A818:U818*(TRANSPOSE(CostCalculation!$C$38:$C$58)))","v":98049}]
[0,0,0,0,0,0,0,0,0,106,24,18,12,0,0,0,0,0,0,0,2,12668,{"$f":"SUM(A819:U819*(TRANSPOSE(CostCalculation!$D$38:$D$58)))","v":91440},{"$f":"V819+SUM(A819:U819*(TRANSPOSE(CostCalculation!$C$38:$C$58)))","v":65366}]
[0,0,0,0,0,0,0,0,0,159,36,27,18,0,0,0,0,0,0,0,3,19002,{"$f":"SUM(A820:U820*(TRANSPOSE(CostCalculation!$D$38:$D$58)))","v":137160},{"$f":"V820+SUM(A820:U820*(TRANSPOSE(CostCalculation!$C$38:$C$58)))","v":98049}]
[0,0,0,0,0,0,0,0,0,159,36,27,18,0,0,0,0,0,0,0,3,19002,{"$f":"SUM(A821:U821*(TRANSPOSE(CostCalculation!$D$38:$D$58)))","v":137160},{"$f":"V821+SUM(A821:U821*(TRANSPOSE(CostCalculation!$C$38:$C$58)))","v":98049}]
[0,0,0,0,0,0,0,0,0,318,72,54,36,0,0,0,0,0,0,0,6,38004,{"$f":"SUM(A822:U822*(TRANSPOSE(CostCalculation!$D$38:$D$58)))","v":274320},{"$f":"V822+SUM(A822:U822*(TRANSPOSE(CostCalculation!$C$38:$C$58)))","v":196098}]
[0,0,0,0,0,0,0,0,0,53,12,9,6,0,0,0,0,0,0,0,1,6334,{"$f":"SUM(A823:U823*(TRANSPOSE(CostCalculation!$D$38:$D$58)))","v":45720},{"$f":"V823+SUM(A823:U823*(TRANSPOSE(CostCalculation!$C$38:$C$58)))","v":32683}]
[0,0,0,0,0,0,0,0,0,265,60,45,30,0,0,0,0,0,0,0,5,31670,{"$f":"SUM(A824:U824*(TRANSPOSE(CostCalculation!$D$38:$D$58)))","v":228600},{"$f":"V824+SUM(A824:U824*(TRANSPOSE(CostCalculation!$C$38:$C$58)))","v":163415}]
[0,0,0,0,0,0,0,0,0,106,24,18,12,0,0,0,0,0,0,0,2,12668,{"$f":"SUM(A825:U825*(TRANSPOSE(CostCalculation!$D$38:$D$58)))","v":91440},{"$f":"V825+SUM(A825:U825*(TRANSPOSE(CostCalculation!$C$38:$C$58)))","v":65366}]
[0,0,0,0,0,0,0,0,0,106,24,18,12,0,0,0,0,0,0,0,2,12668,{"$f":"SUM(A826:U826*(TRANSPOSE(CostCalculation!$D$38:$D$58)))","v":91440},{"$f":"V826+SUM(A826:U826*(TRANSPOSE(CostCalculation!$C$38:$C$58)))","v":65366}]
[0,0,0,0,0,0,0,0,0,318,72,54,36,0,0,0,0,0,0,0,6,38004,{"$f":"SUM(A827:U827*(TRANSPOSE(CostCalculation!$D$38:$D$58)))","v":274320},{"$f":"V827+SUM(A827:U827*(TRANSPOSE(CostCalculation!$C$38:$C$58)))","v":196098}]
[0,0,0,0,0,0,0,0,0,106,24,18,12,0,0,0,0,0,0,0,2,12668,{"$f":"SUM(A828:U828*(TRANSPOSE(CostCalculation!$D$38:$D$58)))","v":91440},{"$f":"V828+SUM(A828:U828*(TRANSPOSE(CostCalculation!$C$38:$C$58)))","v":65366}]
[0,0,0,0,0,0,0,0,0,106,24,18,12,0,0,0,0,0,0,0,2,12668,{"$f":"SUM(A829:U829*(TRANSPOSE(CostCalculation!$D$38:$D$58)))","v":91440},{"$f":"V829+SUM(A829:U829*(TRANSPOSE(CostCalculation!$C$38:$C$58)))","v":65366}]
[0,0,0,0,0,0,0,0,0,53,12,9,6,0,0,0,0,0,0,0,1,6334,{"$f":"SUM(A830:U830*(TRANSPOSE(CostCalculation!$D$38:$D$58)))","v":45720},{"$f":"V830+SUM(A830:U830*(TRANSPOSE(CostCalculation!$C$38:$C$58)))","v":32683}]
[0,0,0,0,0,0,0,0,0,159,36,27,18,0,0,0,0,0,0,0,3,19002,{"$f":"SUM(A831:U831*(TRANSPOSE(CostCalculation!$D$38:$D$58)))","v":137160},{"$f":"V831+SUM(A831:U831*(TRANSPOSE(CostCalculation!$C$38:$C$58)))","v":98049}]
[0,0,0,0,0,0,0,0,0,371,84,63,42,0,0,0,0,0,0,0,7,44338,{"$f":"SUM(A832:U832*(TRANSPOSE(CostCalculation!$D$38:$D$58)))","v":320040},{"$f":"V832+SUM(A832:U832*(TRANSPOSE(CostCalculation!$C$38:$C$58)))","v":228781}]
[0,0,0,0,0,0,0,0,0,159,36,27,18,0,0,0,0,0,0,0,3,19002,{"$f":"SUM(A833:U833*(TRANSPOSE(CostCalculation!$D$38:$D$58)))","v":137160},{"$f":"V833+SUM(A833:U833*(TRANSPOSE(CostCalculation!$C$38:$C$58)))","v":98049}]
[0,0,0,0,0,0,0,0,0,106,24,18,12,0,0,0,0,0,0,0,2,12668,{"$f":"SUM(A834:U834*(TRANSPOSE(CostCalculation!$D$38:$D$58)))","v":91440},{"$f":"V834+SUM(A834:U834*(TRANSPOSE(CostCalculation!$C$38:$C$58)))","v":65366}]
[0,0,0,0,0,0,0,0,0,371,84,63,42,0,0,0,0,0,0,0,7,44338,{"$f":"SUM(A835:U835*(TRANSPOSE(CostCalculation!$D$38:$D$58)))","v":320040},{"$f":"V835+SUM(A835:U835*(TRANSPOSE(CostCalculation!$C$38:$C$58)))","v":228781}]
[0,0,0,0,0,0,0,0,0,159,36,27,18,0,0,0,0,0,0,0,3,19002,{"$f":"SUM(A836:U836*(TRANSPOSE(CostCalculation!$D$38:$D$58)))","v":137160},{"$f":"V836+SUM(A836:U836*(TRANSPOSE(CostCalculation!$C$38:$C$58)))","v":98049}]
[0,0,0,0,0,0,0,0,0,318,72,54,36,0,0,0,0,0,0,0,6,38004,{"$f":"SUM(A837:U837*(TRANSPOSE(CostCalculation!$D$38:$D$58)))","v":274320},{"$f":"V837+SUM(A837:U837*(TRANSPOSE(CostCalculation!$C$38:$C$58)))","v":196098}]
[0,0,0,0,0,0,0,0,0,318,72,54,36,0,0,0,0,0,0,0,6,38004,{"$f":"SUM(A838:U838*(TRANSPOSE(CostCalculation!$D$38:$D$58)))","v":274320},{"$f":"V838+SUM(A838:U838*(TRANSPOSE(CostCalculation!$C$38:$C$58)))","v":196098}]
[0,0,0,0,0,0,0,0,0,212,48,36,24,0,0,0,0,0,0,0,4,25336,{"$f":"SUM(A839:U839*(TRANSPOSE(CostCalculation!$D$38:$D$58)))","v":182880},{"$f":"V839+SUM(A839:U839*(TRANSPOSE(CostCalculation!$C$38:$C$58)))","v":130732}]
[0,0,0,0,0,0,0,0,0,53,12,9,6,0,0,0,0,0,0,0,1,6334,{"$f":"SUM(A840:U840*(TRANSPOSE(CostCalculation!$D$38:$D$58)))","v":45720},{"$f":"V840+SUM(A840:U840*(TRANSPOSE(CostCalculation!$C$38:$C$58)))","v":32683}]
[0,0,0,0,0,0,0,0,0,106,24,18,12,0,0,0,0,0,0,0,2,12668,{"$f":"SUM(A841:U841*(TRANSPOSE(CostCalculation!$D$38:$D$58)))","v":91440},{"$f":"V841+SUM(A841:U841*(TRANSPOSE(CostCalculation!$C$38:$C$58)))","v":65366}]
[0,0,0,0,0,0,0,0,0,212,48,36,24,0,0,0,0,0,0,0,4,25336,{"$f":"SUM(A842:U842*(TRANSPOSE(CostCalculation!$D$38:$D$58)))","v":182880},{"$f":"V842+SUM(A842:U842*(TRANSPOSE(CostCalculation!$C$38:$C$58)))","v":130732}]
[0,0,0,0,0,0,0,0,0,159,36,27,18,0,0,0,0,0,0,0,3,19002,{"$f":"SUM(A843:U843*(TRANSPOSE(CostCalculation!$D$38:$D$58)))","v":137160},{"$f":"V843+SUM(A843:U843*(TRANSPOSE(CostCalculation!$C$38:$C$58)))","v":98049}]
[0,0,0,0,0,0,0,0,0,159,36,27,18,0,0,0,0,0,0,0,3,19002,{"$f":"SUM(A844:U844*(TRANSPOSE(CostCalculation!$D$38:$D$58)))","v":137160},{"$f":"V844+SUM(A844:U844*(TRANSPOSE(CostCalculation!$C$38:$C$58)))","v":98049}]
[0,0,0,0,0,0,0,0,0,371,84,63,42,0,0,0,0,0,0,0,7,44338,{"$f":"SUM(A845:U845*(TRANSPOSE(CostCalculation!$D$38:$D$58)))","v":320040},{"$f":"V845+SUM(A845:U845*(TRANSPOSE(CostCalculation!$C$38:$C$58)))","v":228781}]
[0,0,0,0,0,0,0,0,0,159,36,27,18,0,0,0,0,0,0,0,3,19002,{"$f":"SUM(A846:U846*(TRANSPOSE(CostCalculation!$D$38:$D$58)))","v":137160},{"$f":"V846+SUM(A846:U846*(TRANSPOSE(CostCalculation!$C$38:$C$58)))","v":98049}]
[0,0,0,0,0,0,0,0,0,159,36,27,18,0,0,0,0,0,0,0,3,19002,{"$f":"SUM(A847:U847*(TRANSPOSE(CostCalculation!$D$38:$D$58)))","v":137160},{"$f":"V847+SUM(A847:U847*(TRANSPOSE(CostCalculation!$C$38:$C$58)))","v":98049}]
[0,0,0,0,0,0,0,0,0,53,12,9,6,0,0,0,0,0,0,0,1,6334,{"$f":"SUM(A848:U848*(TRANSPOSE(CostCalculation!$D$38:$D$58)))","v":45720},{"$f":"V848+SUM(A848:U848*(TRANSPOSE(CostCalculation!$C$38:$C$58)))","v":32683}]
[0,0,0,0,0,0,0,0,0,212,48,36,24,0,0,0,0,0,0,0,4,25336,{"$f":"SUM(A849:U849*(TRANSPOSE(CostCalculation!$D$38:$D$58)))","v":182880},{"$f":"V849+SUM(A849:U849*(TRANSPOSE(CostCalculation!$C$38:$C$58)))","v":130732}]
[0,0,0,0,0,0,0,0,0,265,60,45,30,0,0,0,0,0,0,0,5,31670,{"$f":"SUM(A850:U850*(TRANSPOSE(CostCalculation!$D$38:$D$58)))","v":228600},{"$f":"V850+SUM(A850:U850*(TRANSPOSE(CostCalculation!$C$38:$C$58)))","v":163415}]
[0,0,0,0,0,0,0,0,0,159,36,27,18,0,0,0,0,0,0,0,3,19002,{"$f":"SUM(A851:U851*(TRANSPOSE(CostCalculation!$D$38:$D$58)))","v":137160},{"$f":"V851+SUM(A851:U851*(TRANSPOSE(CostCalculation!$C$38:$C$58)))","v":98049}]
[0,0,0,0,0,0,0,0,0,212,48,36,24,0,0,0,0,0,0,0,4,25336,{"$f":"SUM(A852:U852*(TRANSPOSE(CostCalculation!$D$38:$D$58)))","v":182880},{"$f":"V852+SUM(A852:U852*(TRANSPOSE(CostCalculation!$C$38:$C$58)))","v":130732}]
[0,0,0,0,0,0,0,0,0,159,36,27,18,0,0,0,0,0,0,0,3,19002,{"$f":"SUM(A853:U853*(TRANSPOSE(CostCalculation!$D$38:$D$58)))","v":137160},{"$f":"V853+SUM(A853:U853*(TRANSPOSE(CostCalculation!$C$38:$C$58)))","v":98049}]
[0,0,0,0,0,0,0,0,0,159,36,27,18,0,0,0,0,0,0,0,3,19002,{"$f":"SUM(A854:U854*(TRANSPOSE(CostCalculation!$D$38:$D$58)))","v":137160},{"$f":"V854+SUM(A854:U854*(TRANSPOSE(CostCalculation!$C$38:$C$58)))","v":98049}]
[0,0,0,0,0,0,0,0,0,265,60,45,30,0,0,0,0,0,0,0,5,31670,{"$f":"SUM(A855:U855*(TRANSPOSE(CostCalculation!$D$38:$D$58)))","v":228600},{"$f":"V855+SUM(A855:U855*(TRANSPOSE(CostCalculation!$C$38:$C$58)))","v":163415}]
[0,0,0,0,0,0,0,0,0,371,84,63,42,0,0,0,0,0,0,0,7,44338,{"$f":"SUM(A856:U856*(TRANSPOSE(CostCalculation!$D$38:$D$58)))","v":320040},{"$f":"V856+SUM(A856:U856*(TRANSPOSE(CostCalculation!$C$38:$C$58)))","v":228781}]
[0,0,0,0,0,0,0,0,0,106,24,18,12,0,0,0,0,0,0,0,2,12668,{"$f":"SUM(A857:U857*(TRANSPOSE(CostCalculation!$D$38:$D$58)))","v":91440},{"$f":"V857+SUM(A857:U857*(TRANSPOSE(CostCalculation!$C$38:$C$58)))","v":65366}]
[0,0,0,0,0,0,0,0,0,212,48,36,24,0,0,0,0,0,0,0,4,25336,{"$f":"SUM(A858:U858*(TRANSPOSE(CostCalculation!$D$38:$D$58)))","v":182880},{"$f":"V858+SUM(A858:U858*(TRANSPOSE(CostCalculation!$C$38:$C$58)))","v":130732}]
[0,0,0,0,0,0,0,0,0,159,36,27,18,0,0,0,0,0,0,0,3,19002,{"$f":"SUM(A859:U859*(TRANSPOSE(CostCalculation!$D$38:$D$58)))","v":137160},{"$f":"V859+SUM(A859:U859*(TRANSPOSE(CostCalculation!$C$38:$C$58)))","v":98049}]
[0,0,0,0,0,0,0,0,0,53,12,9,6,0,0,0,0,0,0,0,1,6334,{"$f":"SUM(A860:U860*(TRANSPOSE(CostCalculation!$D$38:$D$58)))","v":45720},{"$f":"V860+SUM(A860:U860*(TRANSPOSE(CostCalculation!$C$38:$C$58)))","v":32683}]
[0,0,0,0,0,0,0,0,0,159,36,27,18,0,0,0,0,0,0,0,3,19002,{"$f":"SUM(A861:U861*(TRANSPOSE(CostCalculation!$D$38:$D$58)))","v":137160},{"$f":"V861+SUM(A861:U861*(TRANSPOSE(CostCalculation!$C$38:$C$58)))","v":98049}]
[0,0,0,0,0,0,0,0,0,106,24,18,12,0,0,0,0,0,0,0,2,12668,{"$f":"SUM(A862:U862*(TRANSPOSE(CostCalculation!$D$38:$D$58)))","v":91440},{"$f":"V862+SUM(A862:U862*(TRANSPOSE(CostCalculation!$C$38:$C$58)))","v":65366}]
[0,0,0,0,0,0,0,0,0,212,48,36,24,0,0,0,0,0,0,0,4,25336,{"$f":"SUM(A863:U863*(TRANSPOSE(CostCalculation!$D$38:$D$58)))","v":182880},{"$f":"V863+SUM(A863:U863*(TRANSPOSE(CostCalculation!$C$38:$C$58)))","v":130732}]
[0,0,0,0,0,0,0,0,0,424,96,72,48,0,0,0,0,0,0,0,8,50672,{"$f":"SUM(A864:U864*(TRANSPOSE(CostCalculation!$D$38:$D$58)))","v":365760},{"$f":"V864+SUM(A864:U864*(TRANSPOSE(CostCalculation!$C$38:$C$58)))","v":261464}]
[0,0,0,0,0,0,0,0,0,318,72,54,36,0,0,0,0,0,0,0,6,38004,{"$f":"SUM(A865:U865*(TRANSPOSE(CostCalculation!$D$38:$D$58)))","v":274320},{"$f":"V865+SUM(A865:U865*(TRANSPOSE(CostCalculation!$C$38:$C$58)))","v":196098}]
[0,0,0,0,0,0,0,0,0,318,72,54,36,0,0,0,0,0,0,0,6,38004,{"$f":"SUM(A866:U866*(TRANSPOSE(CostCalculation!$D$38:$D$58)))","v":274320},{"$f":"V866+SUM(A866:U866*(TRANSPOSE(CostCalculation!$C$38:$C$58)))","v":196098}]
[0,0,0,0,0,0,0,0,0,318,72,54,36,0,0,0,0,0,0,0,6,38004,{"$f":"SUM(A867:U867*(TRANSPOSE(CostCalculation!$D$38:$D$58)))","v":274320},{"$f":"V867+SUM(A867:U867*(TRANSPOSE(CostCalculation!$C$38:$C$58)))","v":196098}]
[0,0,0,0,0,0,0,0,0,53,12,9,6,0,0,0,0,0,0,0,1,6334,{"$f":"SUM(A868:U868*(TRANSPOSE(CostCalculation!$D$38:$D$58)))","v":45720},{"$f":"V868+SUM(A868:U868*(TRANSPOSE(CostCalculation!$C$38:$C$58)))","v":32683}]
[0,0,0,0,0,0,0,0,0,212,48,36,24,0,0,0,0,0,0,0,4,25336,{"$f":"SUM(A869:U869*(TRANSPOSE(CostCalculation!$D$38:$D$58)))","v":182880},{"$f":"V869+SUM(A869:U869*(TRANSPOSE(CostCalculation!$C$38:$C$58)))","v":130732}]
[0,0,0,0,0,0,0,0,0,318,72,54,36,0,0,0,0,0,0,0,6,38004,{"$f":"SUM(A870:U870*(TRANSPOSE(CostCalculation!$D$38:$D$58)))","v":274320},{"$f":"V870+SUM(A870:U870*(TRANSPOSE(CostCalculation!$C$38:$C$58)))","v":196098}]
[0,0,0,0,0,0,0,0,0,424,96,72,48,0,0,0,0,0,0,0,8,50672,{"$f":"SUM(A871:U871*(TRANSPOSE(CostCalculation!$D$38:$D$58)))","v":365760},{"$f":"V871+SUM(A871:U871*(TRANSPOSE(CostCalculation!$C$38:$C$58)))","v":261464}]
[0,0,0,0,0,0,0,0,0,106,24,18,12,0,0,0,0,0,0,0,2,12668,{"$f":"SUM(A872:U872*(TRANSPOSE(CostCalculation!$D$38:$D$58)))","v":91440},{"$f":"V872+SUM(A872:U872*(TRANSPOSE(CostCalculation!$C$38:$C$58)))","v":65366}]
[0,0,0,0,0,0,0,0,0,53,12,9,6,0,0,0,0,0,0,0,1,6334,{"$f":"SUM(A873:U873*(TRANSPOSE(CostCalculation!$D$38:$D$58)))","v":45720},{"$f":"V873+SUM(A873:U873*(TRANSPOSE(CostCalculation!$C$38:$C$58)))","v":32683}]
[0,0,0,0,0,0,0,0,0,159,36,27,18,0,0,0,0,0,0,0,3,19002,{"$f":"SUM(A874:U874*(TRANSPOSE(CostCalculation!$D$38:$D$58)))","v":137160},{"$f":"V874+SUM(A874:U874*(TRANSPOSE(CostCalculation!$C$38:$C$58)))","v":98049}]
[0,0,0,0,0,0,0,0,0,53,12,9,6,0,0,0,0,0,0,0,1,6334,{"$f":"SUM(A875:U875*(TRANSPOSE(CostCalculation!$D$38:$D$58)))","v":45720},{"$f":"V875+SUM(A875:U875*(TRANSPOSE(CostCalculation!$C$38:$C$58)))","v":32683}]
[0,0,0,0,0,0,0,0,0,53,12,9,6,0,0,0,0,0,0,0,1,6334,{"$f":"SUM(A876:U876*(TRANSPOSE(CostCalculation!$D$38:$D$58)))","v":45720},{"$f":"V876+SUM(A876:U876*(TRANSPOSE(CostCalculation!$C$38:$C$58)))","v":32683}]
[0,0,0,0,0,0,0,0,0,159,36,27,18,0,0,0,0,0,0,0,3,19002,{"$f":"SUM(A877:U877*(TRANSPOSE(CostCalculation!$D$38:$D$58)))","v":137160},{"$f":"V877+SUM(A877:U877*(TRANSPOSE(CostCalculation!$C$38:$C$58)))","v":98049}]
[0,0,0,0,0,0,0,0,0,371,84,63,42,0,0,0,0,0,0,0,7,44338,{"$f":"SUM(A878:U878*(TRANSPOSE(CostCalculation!$D$38:$D$58)))","v":320040},{"$f":"V878+SUM(A878:U878*(TRANSPOSE(CostCalculation!$C$38:$C$58)))","v":228781}]
[0,0,0,0,0,0,0,0,0,106,24,18,12,0,0,0,0,0,0,0,2,12668,{"$f":"SUM(A879:U879*(TRANSPOSE(CostCalculation!$D$38:$D$58)))","v":91440},{"$f":"V879+SUM(A879:U879*(TRANSPOSE(CostCalculation!$C$38:$C$58)))","v":65366}]
[0,0,0,0,0,0,0,0,0,212,48,36,24,0,0,0,0,0,0,0,4,25336,{"$f":"SUM(A880:U880*(TRANSPOSE(CostCalculation!$D$38:$D$58)))","v":182880},{"$f":"V880+SUM(A880:U880*(TRANSPOSE(CostCalculation!$C$38:$C$58)))","v":130732}]
[0,0,0,0,0,0,0,0,0,212,48,36,24,0,0,0,0,0,0,0,4,25336,{"$f":"SUM(A881:U881*(TRANSPOSE(CostCalculation!$D$38:$D$58)))","v":182880},{"$f":"V881+SUM(A881:U881*(TRANSPOSE(CostCalculation!$C$38:$C$58)))","v":130732}]
[0,0,0,0,0,0,0,0,0,106,24,18,12,0,0,0,0,0,0,0,2,12668,{"$f":"SUM(A882:U882*(TRANSPOSE(CostCalculation!$D$38:$D$58)))","v":91440},{"$f":"V882+SUM(A882:U882*(TRANSPOSE(CostCalculation!$C$38:$C$58)))","v":65366}]
[0,0,0,0,0,0,0,0,0,159,36,27,18,0,0,0,0,0,0,0,3,19002,{"$f":"SUM(A883:U883*(TRANSPOSE(CostCalculation!$D$38:$D$58)))","v":137160},{"$f":"V883+SUM(A883:U883*(TRANSPOSE(CostCalculation!$C$38:$C$58)))","v":98049}]
[0,0,0,0,0,0,0,0,0,212,48,36,24,0,0,0,0,0,0,0,4,25336,{"$f":"SUM(A884:U884*(TRANSPOSE(CostCalculation!$D$38:$D$58)))","v":182880},{"$f":"V884+SUM(A884:U884*(TRANSPOSE(CostCalculation!$C$38:$C$58)))","v":130732}]
[0,0,0,0,0,0,0,0,0,265,60,45,30,0,0,0,0,0,0,0,5,31670,{"$f":"SUM(A885:U885*(TRANSPOSE(CostCalculation!$D$38:$D$58)))","v":228600},{"$f":"V885+SUM(A885:U885*(TRANSPOSE(CostCalculation!$C$38:$C$58)))","v":163415}]
[0,0,0,0,0,0,0,0,0,53,12,9,6,0,0,0,0,0,0,0,1,6334,{"$f":"SUM(A886:U886*(TRANSPOSE(CostCalculation!$D$38:$D$58)))","v":45720},{"$f":"V886+SUM(A886:U886*(TRANSPOSE(CostCalculation!$C$38:$C$58)))","v":32683}]
[0,0,0,0,0,0,0,0,0,318,72,54,36,0,0,0,0,0,0,0,6,38004,{"$f":"SUM(A887:U887*(TRANSPOSE(CostCalculation!$D$38:$D$58)))","v":274320},{"$f":"V887+SUM(A887:U887*(TRANSPOSE(CostCalculation!$C$38:$C$58)))","v":196098}]
[0,0,0,0,0,0,0,0,0,159,36,27,18,0,0,0,0,0,0,0,3,19002,{"$f":"SUM(A888:U888*(TRANSPOSE(CostCalculation!$D$38:$D$58)))","v":137160},{"$f":"V888+SUM(A888:U888*(TRANSPOSE(CostCalculation!$C$38:$C$58)))","v":98049}]
[0,0,0,0,0,0,0,0,0,106,24,18,12,0,0,0,0,0,0,0,2,12668,{"$f":"SUM(A889:U889*(TRANSPOSE(CostCalculation!$D$38:$D$58)))","v":91440},{"$f":"V889+SUM(A889:U889*(TRANSPOSE(CostCalculation!$C$38:$C$58)))","v":65366}]
[0,0,0,0,0,0,0,0,0,159,36,27,18,0,0,0,0,0,0,0,3,19002,{"$f":"SUM(A890:U890*(TRANSPOSE(CostCalculation!$D$38:$D$58)))","v":137160},{"$f":"V890+SUM(A890:U890*(TRANSPOSE(CostCalculation!$C$38:$C$58)))","v":98049}]
[0,0,0,0,0,0,0,0,0,106,24,18,12,0,0,0,0,0,0,0,2,12668,{"$f":"SUM(A891:U891*(TRANSPOSE(CostCalculation!$D$38:$D$58)))","v":91440},{"$f":"V891+SUM(A891:U891*(TRANSPOSE(CostCalculation!$C$38:$C$58)))","v":65366}]
[0,0,0,0,0,0,0,0,0,318,72,54,36,0,0,0,0,0,0,0,6,38004,{"$f":"SUM(A892:U892*(TRANSPOSE(CostCalculation!$D$38:$D$58)))","v":274320},{"$f":"V892+SUM(A892:U892*(TRANSPOSE(CostCalculation!$C$38:$C$58)))","v":196098}]
[0,0,0,0,0,0,0,0,0,212,48,36,24,0,0,0,0,0,0,0,4,25336,{"$f":"SUM(A893:U893*(TRANSPOSE(CostCalculation!$D$38:$D$58)))","v":182880},{"$f":"V893+SUM(A893:U893*(TRANSPOSE(CostCalculation!$C$38:$C$58)))","v":130732}]
[0,0,0,0,0,0,0,0,0,583,132,99,66,0,0,0,0,0,0,0,11,69674,{"$f":"SUM(A894:U894*(TRANSPOSE(CostCalculation!$D$38:$D$58)))","v":502920},{"$f":"V894+SUM(A894:U894*(TRANSPOSE(CostCalculation!$C$38:$C$58)))","v":359513}]
[0,0,0,0,0,0,0,0,0,53,12,9,6,0,0,0,0,0,0,0,1,6334,{"$f":"SUM(A895:U895*(TRANSPOSE(CostCalculation!$D$38:$D$58)))","v":45720},{"$f":"V895+SUM(A895:U895*(TRANSPOSE(CostCalculation!$C$38:$C$58)))","v":32683}]
[0,0,0,0,0,0,0,0,0,53,12,9,6,0,0,0,0,0,0,0,1,6334,{"$f":"SUM(A896:U896*(TRANSPOSE(CostCalculation!$D$38:$D$58)))","v":45720},{"$f":"V896+SUM(A896:U896*(TRANSPOSE(CostCalculation!$C$38:$C$58)))","v":32683}]
[0,0,0,0,0,0,0,0,0,212,48,36,24,0,0,0,0,0,0,0,4,25336,{"$f":"SUM(A897:U897*(TRANSPOSE(CostCalculation!$D$38:$D$58)))","v":182880},{"$f":"V897+SUM(A897:U897*(TRANSPOSE(CostCalculation!$C$38:$C$58)))","v":130732}]
[0,0,0,0,0,0,0,0,0,265,60,45,30,0,0,0,0,0,0,0,5,31670,{"$f":"SUM(A898:U898*(TRANSPOSE(CostCalculation!$D$38:$D$58)))","v":228600},{"$f":"V898+SUM(A898:U898*(TRANSPOSE(CostCalculation!$C$38:$C$58)))","v":163415}]
[0,0,0,0,0,0,0,0,0,53,12,9,6,0,0,0,0,0,0,0,1,6334,{"$f":"SUM(A899:U899*(TRANSPOSE(CostCalculation!$D$38:$D$58)))","v":45720},{"$f":"V899+SUM(A899:U899*(TRANSPOSE(CostCalculation!$C$38:$C$58)))","v":32683}]
[0,0,0,0,0,0,0,0,0,265,60,45,30,0,0,0,0,0,0,0,5,31670,{"$f":"SUM(A900:U900*(TRANSPOSE(CostCalculation!$D$38:$D$58)))","v":228600},{"$f":"V900+SUM(A900:U900*(TRANSPOSE(CostCalculation!$C$38:$C$58)))","v":163415}]
[0,0,0,0,0,0,0,0,0,159,36,27,18,0,0,0,0,0,0,0,3,19002,{"$f":"SUM(A901:U901*(TRANSPOSE(CostCalculation!$D$38:$D$58)))","v":137160},{"$f":"V901+SUM(A901:U901*(TRANSPOSE(CostCalculation!$C$38:$C$58)))","v":98049}]
[0,0,0,0,0,0,0,0,0,212,48,36,24,0,0,0,0,0,0,0,4,25336,{"$f":"SUM(A902:U902*(TRANSPOSE(CostCalculation!$D$38:$D$58)))","v":182880},{"$f":"V902+SUM(A902:U902*(TRANSPOSE(CostCalculation!$C$38:$C$58)))","v":130732}]
[0,0,0,0,0,0,0,0,0,212,48,36,24,0,0,0,0,0,0,0,4,25336,{"$f":"SUM(A903:U903*(TRANSPOSE(CostCalculation!$D$38:$D$58)))","v":182880},{"$f":"V903+SUM(A903:U903*(TRANSPOSE(CostCalculation!$C$38:$C$58)))","v":130732}]
[0,0,0,0,0,0,0,0,0,53,12,9,6,0,0,0,0,0,0,0,1,6334,{"$f":"SUM(A904:U904*(TRANSPOSE(CostCalculation!$D$38:$D$58)))","v":45720},{"$f":"V904+SUM(A904:U904*(TRANSPOSE(CostCalculation!$C$38:$C$58)))","v":32683}]
[0,0,0,0,0,0,0,0,0,106,24,18,12,0,0,0,0,0,0,0,2,12668,{"$f":"SUM(A905:U905*(TRANSPOSE(CostCalculation!$D$38:$D$58)))","v":91440},{"$f":"V905+SUM(A905:U905*(TRANSPOSE(CostCalculation!$C$38:$C$58)))","v":65366}]
[0,0,0,0,0,0,0,0,0,159,36,27,18,0,0,0,0,0,0,0,3,19002,{"$f":"SUM(A906:U906*(TRANSPOSE(CostCalculation!$D$38:$D$58)))","v":137160},{"$f":"V906+SUM(A906:U906*(TRANSPOSE(CostCalculation!$C$38:$C$58)))","v":98049}]
[0,0,0,0,0,0,0,0,0,318,72,54,36,0,0,0,0,0,0,0,6,38004,{"$f":"SUM(A907:U907*(TRANSPOSE(CostCalculation!$D$38:$D$58)))","v":274320},{"$f":"V907+SUM(A907:U907*(TRANSPOSE(CostCalculation!$C$38:$C$58)))","v":196098}]
[0,0,0,0,0,0,0,0,0,53,12,9,6,0,0,0,0,0,0,0,1,6334,{"$f":"SUM(A908:U908*(TRANSPOSE(CostCalculation!$D$38:$D$58)))","v":45720},{"$f":"V908+SUM(A908:U908*(TRANSPOSE(CostCalculation!$C$38:$C$58)))","v":32683}]
[0,0,0,0,0,0,0,0,0,477,108,81,54,0,0,0,0,0,0,0,9,57006,{"$f":"SUM(A909:U909*(TRANSPOSE(CostCalculation!$D$38:$D$58)))","v":411480},{"$f":"V909+SUM(A909:U909*(TRANSPOSE(CostCalculation!$C$38:$C$58)))","v":294147}]
[0,0,0,0,0,0,0,0,0,53,12,9,6,0,0,0,0,0,0,0,1,6334,{"$f":"SUM(A910:U910*(TRANSPOSE(CostCalculation!$D$38:$D$58)))","v":45720},{"$f":"V910+SUM(A910:U910*(TRANSPOSE(CostCalculation!$C$38:$C$58)))","v":32683}]
[0,0,0,0,0,0,0,0,0,106,24,18,12,0,0,0,0,0,0,0,2,12668,{"$f":"SUM(A911:U911*(TRANSPOSE(CostCalculation!$D$38:$D$58)))","v":91440},{"$f":"V911+SUM(A911:U911*(TRANSPOSE(CostCalculation!$C$38:$C$58)))","v":65366}]
[0,0,0,0,0,0,0,0,0,265,60,45,30,0,0,0,0,0,0,0,5,31670,{"$f":"SUM(A912:U912*(TRANSPOSE(CostCalculation!$D$38:$D$58)))","v":228600},{"$f":"V912+SUM(A912:U912*(TRANSPOSE(CostCalculation!$C$38:$C$58)))","v":163415}]
[0,0,0,0,0,0,0,0,0,53,12,9,6,0,0,0,0,0,0,0,1,6334,{"$f":"SUM(A913:U913*(TRANSPOSE(CostCalculation!$D$38:$D$58)))","v":45720},{"$f":"V913+SUM(A913:U913*(TRANSPOSE(CostCalculation!$C$38:$C$58)))","v":32683}]
[0,0,0,0,0,0,0,0,0,159,36,27,18,0,0,0,0,0,0,0,3,19002,{"$f":"SUM(A914:U914*(TRANSPOSE(CostCalculation!$D$38:$D$58)))","v":137160},{"$f":"V914+SUM(A914:U914*(TRANSPOSE(CostCalculation!$C$38:$C$58)))","v":98049}]
[0,0,0,0,0,0,0,0,0,106,24,18,12,0,0,0,0,0,0,0,2,12668,{"$f":"SUM(A915:U915*(TRANSPOSE(CostCalculation!$D$38:$D$58)))","v":91440},{"$f":"V915+SUM(A915:U915*(TRANSPOSE(CostCalculation!$C$38:$C$58)))","v":65366}]
[0,0,0,0,0,0,0,0,0,159,36,27,18,0,0,0,0,0,0,0,3,19002,{"$f":"SUM(A916:U916*(TRANSPOSE(CostCalculation!$D$38:$D$58)))","v":137160},{"$f":"V916+SUM(A916:U916*(TRANSPOSE(CostCalculation!$C$38:$C$58)))","v":98049}]
[0,0,0,0,0,0,0,0,0,265,60,45,30,0,0,0,0,0,0,0,5,31670,{"$f":"SUM(A917:U917*(TRANSPOSE(CostCalculation!$D$38:$D$58)))","v":228600},{"$f":"V917+SUM(A917:U917*(TRANSPOSE(CostCalculation!$C$38:$C$58)))","v":163415}]
[0,0,0,0,0,0,0,0,0,106,24,18,12,0,0,0,0,0,0,0,2,12668,{"$f":"SUM(A918:U918*(TRANSPOSE(CostCalculation!$D$38:$D$58)))","v":91440},{"$f":"V918+SUM(A918:U918*(TRANSPOSE(CostCalculation!$C$38:$C$58)))","v":65366}]
[0,0,0,0,0,0,0,0,0,159,36,27,18,0,0,0,0,0,0,0,3,19002,{"$f":"SUM(A919:U919*(TRANSPOSE(CostCalculation!$D$38:$D$58)))","v":137160},{"$f":"V919+SUM(A919:U919*(TRANSPOSE(CostCalculation!$C$38:$C$58)))","v":98049}]
[0,0,0,0,0,0,0,0,0,159,36,27,18,0,0,0,0,0,0,0,3,19002,{"$f":"SUM(A920:U920*(TRANSPOSE(CostCalculation!$D$38:$D$58)))","v":137160},{"$f":"V920+SUM(A920:U920*(TRANSPOSE(CostCalculation!$C$38:$C$58)))","v":98049}]
[0,0,0,0,0,0,0,0,0,106,24,18,12,0,0,0,0,0,0,0,2,12668,{"$f":"SUM(A921:U921*(TRANSPOSE(CostCalculation!$D$38:$D$58)))","v":91440},{"$f":"V921+SUM(A921:U921*(TRANSPOSE(CostCalculation!$C$38:$C$58)))","v":65366}]
[0,0,0,0,0,0,0,0,0,53,12,9,6,0,0,0,0,0,0,0,1,6334,{"$f":"SUM(A922:U922*(TRANSPOSE(CostCalculation!$D$38:$D$58)))","v":45720},{"$f":"V922+SUM(A922:U922*(TRANSPOSE(CostCalculation!$C$38:$C$58)))","v":32683}]
[0,0,0,0,0,0,0,0,0,371,84,63,42,0,0,0,0,0,0,0,7,44338,{"$f":"SUM(A923:U923*(TRANSPOSE(CostCalculation!$D$38:$D$58)))","v":320040},{"$f":"V923+SUM(A923:U923*(TRANSPOSE(CostCalculation!$C$38:$C$58)))","v":228781}]
[0,0,0,0,0,0,0,0,0,318,72,54,36,0,0,0,0,0,0,0,6,38004,{"$f":"SUM(A924:U924*(TRANSPOSE(CostCalculation!$D$38:$D$58)))","v":274320},{"$f":"V924+SUM(A924:U924*(TRANSPOSE(CostCalculation!$C$38:$C$58)))","v":196098}]
[0,0,0,0,0,0,0,0,0,371,84,63,42,0,0,0,0,0,0,0,7,44338,{"$f":"SUM(A925:U925*(TRANSPOSE(CostCalculation!$D$38:$D$58)))","v":320040},{"$f":"V925+SUM(A925:U925*(TRANSPOSE(CostCalculation!$C$38:$C$58)))","v":228781}]
[0,0,0,0,0,0,0,0,0,424,96,72,48,0,0,0,0,0,0,0,8,50672,{"$f":"SUM(A926:U926*(TRANSPOSE(CostCalculation!$D$38:$D$58)))","v":365760},{"$f":"V926+SUM(A926:U926*(TRANSPOSE(CostCalculation!$C$38:$C$58)))","v":261464}]
[0,0,0,0,0,0,0,0,0,159,36,27,18,0,0,0,0,0,0,0,3,19002,{"$f":"SUM(A927:U927*(TRANSPOSE(CostCalculation!$D$38:$D$58)))","v":137160},{"$f":"V927+SUM(A927:U927*(TRANSPOSE(CostCalculation!$C$38:$C$58)))","v":98049}]
[0,0,0,0,0,0,0,0,0,53,12,9,6,0,0,0,0,0,0,0,1,6334,{"$f":"SUM(A928:U928*(TRANSPOSE(CostCalculation!$D$38:$D$58)))","v":45720},{"$f":"V928+SUM(A928:U928*(TRANSPOSE(CostCalculation!$C$38:$C$58)))","v":32683}]
[0,0,0,0,0,0,0,0,0,265,60,45,30,0,0,0,0,0,0,0,5,31670,{"$f":"SUM(A929:U929*(TRANSPOSE(CostCalculation!$D$38:$D$58)))","v":228600},{"$f":"V929+SUM(A929:U929*(TRANSPOSE(CostCalculation!$C$38:$C$58)))","v":163415}]
[0,0,0,0,0,0,0,0,0,212,48,36,24,0,0,0,0,0,0,0,4,25336,{"$f":"SUM(A930:U930*(TRANSPOSE(CostCalculation!$D$38:$D$58)))","v":182880},{"$f":"V930+SUM(A930:U930*(TRANSPOSE(CostCalculation!$C$38:$C$58)))","v":130732}]
[0,0,0,0,0,0,0,0,0,53,12,9,6,0,0,0,0,0,0,0,1,6334,{"$f":"SUM(A931:U931*(TRANSPOSE(CostCalculation!$D$38:$D$58)))","v":45720},{"$f":"V931+SUM(A931:U931*(TRANSPOSE(CostCalculation!$C$38:$C$58)))","v":32683}]
[0,0,0,0,0,0,0,0,0,159,36,27,18,0,0,0,0,0,0,0,3,19002,{"$f":"SUM(A932:U932*(TRANSPOSE(CostCalculation!$D$38:$D$58)))","v":137160},{"$f":"V932+SUM(A932:U932*(TRANSPOSE(CostCalculation!$C$38:$C$58)))","v":98049}]
[0,0,0,0,0,0,0,0,0,265,60,45,30,0,0,0,0,0,0,0,5,31670,{"$f":"SUM(A933:U933*(TRANSPOSE(CostCalculation!$D$38:$D$58)))","v":228600},{"$f":"V933+SUM(A933:U933*(TRANSPOSE(CostCalculation!$C$38:$C$58)))","v":163415}]
[0,0,0,0,0,0,0,0,0,53,12,9,6,0,0,0,0,0,0,0,1,6334,{"$f":"SUM(A934:U934*(TRANSPOSE(CostCalculation!$D$38:$D$58)))","v":45720},{"$f":"V934+SUM(A934:U934*(TRANSPOSE(CostCalculation!$C$38:$C$58)))","v":32683}]
[0,0,0,0,0,0,0,0,0,371,84,63,42,0,0,0,0,0,0,0,7,44338,{"$f":"SUM(A935:U935*(TRANSPOSE(CostCalculation!$D$38:$D$58)))","v":320040},{"$f":"V935+SUM(A935:U935*(TRANSPOSE(CostCalculation!$C$38:$C$58)))","v":228781}]
[0,0,0,0,0,0,0,0,0,318,72,54,36,0,0,0,0,0,0,0,6,38004,{"$f":"SUM(A936:U936*(TRANSPOSE(CostCalculation!$D$38:$D$58)))","v":274320},{"$f":"V936+SUM(A936:U936*(TRANSPOSE(CostCalculation!$C$38:$C$58)))","v":196098}]
[0,0,0,0,0,0,0,0,0,53,12,9,6,0,0,0,0,0,0,0,1,6334,{"$f":"SUM(A937:U937*(TRANSPOSE(CostCalculation!$D$38:$D$58)))","v":45720},{"$f":"V937+SUM(A937:U937*(TRANSPOSE(CostCalculation!$C$38:$C$58)))","v":32683}]
[0,0,0,0,0,0,0,0,0,53,12,9,6,0,0,0,0,0,0,0,1,6334,{"$f":"SUM(A938:U938*(TRANSPOSE(CostCalculation!$D$38:$D$58)))","v":45720},{"$f":"V938+SUM(A938:U938*(TRANSPOSE(CostCalculation!$C$38:$C$58)))","v":32683}]
[0,0,0,0,0,0,0,0,0,53,12,9,6,0,0,0,0,0,0,0,1,6334,{"$f":"SUM(A939:U939*(TRANSPOSE(CostCalculation!$D$38:$D$58)))","v":45720},{"$f":"V939+SUM(A939:U939*(TRANSPOSE(CostCalculation!$C$38:$C$58)))","v":32683}]
[0,0,0,0,0,0,0,0,0,53,12,9,6,0,0,0,0,0,0,0,1,6334,{"$f":"SUM(A940:U940*(TRANSPOSE(CostCalculation!$D$38:$D$58)))","v":45720},{"$f":"V940+SUM(A940:U940*(TRANSPOSE(CostCalculation!$C$38:$C$58)))","v":32683}]
[0,0,0,0,0,0,0,0,0,265,60,45,30,0,0,0,0,0,0,0,5,31670,{"$f":"SUM(A941:U941*(TRANSPOSE(CostCalculation!$D$38:$D$58)))","v":228600},{"$f":"V941+SUM(A941:U941*(TRANSPOSE(CostCalculation!$C$38:$C$58)))","v":163415}]
[0,0,0,0,0,0,0,0,0,106,24,18,12,0,0,0,0,0,0,0,2,12668,{"$f":"SUM(A942:U942*(TRANSPOSE(CostCalculation!$D$38:$D$58)))","v":91440},{"$f":"V942+SUM(A942:U942*(TRANSPOSE(CostCalculation!$C$38:$C$58)))","v":65366}]
[0,0,0,0,0,0,0,0,0,106,24,18,12,0,0,0,0,0,0,0,2,12668,{"$f":"SUM(A943:U943*(TRANSPOSE(CostCalculation!$D$38:$D$58)))","v":91440},{"$f":"V943+SUM(A943:U943*(TRANSPOSE(CostCalculation!$C$38:$C$58)))","v":65366}]
[0,0,0,0,0,0,0,0,0,53,12,9,6,0,0,0,0,0,0,0,1,6334,{"$f":"SUM(A944:U944*(TRANSPOSE(CostCalculation!$D$38:$D$58)))","v":45720},{"$f":"V944+SUM(A944:U944*(TRANSPOSE(CostCalculation!$C$38:$C$58)))","v":32683}]
[0,0,0,0,0,0,0,0,0,159,36,27,18,0,0,0,0,0,0,0,3,19002,{"$f":"SUM(A945:U945*(TRANSPOSE(CostCalculation!$D$38:$D$58)))","v":137160},{"$f":"V945+SUM(A945:U945*(TRANSPOSE(CostCalculation!$C$38:$C$58)))","v":98049}]
[0,0,0,0,0,0,0,0,0,424,96,72,48,0,0,0,0,0,0,0,8,50672,{"$f":"SUM(A946:U946*(TRANSPOSE(CostCalculation!$D$38:$D$58)))","v":365760},{"$f":"V946+SUM(A946:U946*(TRANSPOSE(CostCalculation!$C$38:$C$58)))","v":261464}]
[0,0,0,0,0,0,0,0,0,53,12,9,6,0,0,0,0,0,0,0,1,6334,{"$f":"SUM(A947:U947*(TRANSPOSE(CostCalculation!$D$38:$D$58)))","v":45720},{"$f":"V947+SUM(A947:U947*(TRANSPOSE(CostCalculation!$C$38:$C$58)))","v":32683}]
[0,0,0,0,0,0,0,0,0,318,72,54,36,0,0,0,0,0,0,0,6,38004,{"$f":"SUM(A948:U948*(TRANSPOSE(CostCalculation!$D$38:$D$58)))","v":274320},{"$f":"V948+SUM(A948:U948*(TRANSPOSE(CostCalculation!$C$38:$C$58)))","v":196098}]
[0,0,0,0,0,0,0,0,0,265,60,45,30,0,0,0,0,0,0,0,5,31670,{"$f":"SUM(A949:U949*(TRANSPOSE(CostCalculation!$D$38:$D$58)))","v":228600},{"$f":"V949+SUM(A949:U949*(TRANSPOSE(CostCalculation!$C$38:$C$58)))","v":163415}]
[0,0,0,0,0,0,0,0,0,106,24,18,12,0,0,0,0,0,0,0,2,12668,{"$f":"SUM(A950:U950*(TRANSPOSE(CostCalculation!$D$38:$D$58)))","v":91440},{"$f":"V950+SUM(A950:U950*(TRANSPOSE(CostCalculation!$C$38:$C$58)))","v":65366}]
[0,0,0,0,0,0,0,0,0,212,48,36,24,0,0,0,0,0,0,0,4,25336,{"$f":"SUM(A951:U951*(TRANSPOSE(CostCalculation!$D$38:$D$58)))","v":182880},{"$f":"V951+SUM(A951:U951*(TRANSPOSE(CostCalculation!$C$38:$C$58)))","v":130732}]
[0,0,0,0,0,0,0,0,0,159,36,27,18,0,0,0,0,0,0,0,3,19002,{"$f":"SUM(A952:U952*(TRANSPOSE(CostCalculation!$D$38:$D$58)))","v":137160},{"$f":"V952+SUM(A952:U952*(TRANSPOSE(CostCalculation!$C$38:$C$58)))","v":98049}]
[0,0,0,0,0,0,0,0,0,53,12,9,6,0,0,0,0,0,0,0,1,6334,{"$f":"SUM(A953:U953*(TRANSPOSE(CostCalculation!$D$38:$D$58)))","v":45720},{"$f":"V953+SUM(A953:U953*(TRANSPOSE(CostCalculation!$C$38:$C$58)))","v":32683}]
[0,0,0,0,0,0,0,0,0,159,36,27,18,0,0,0,0,0,0,0,3,19002,{"$f":"SUM(A954:U954*(TRANSPOSE(CostCalculation!$D$38:$D$58)))","v":137160},{"$f":"V954+SUM(A954:U954*(TRANSPOSE(CostCalculation!$C$38:$C$58)))","v":98049}]
[0,0,0,0,0,0,0,0,0,53,12,9,6,0,0,0,0,0,0,0,1,6334,{"$f":"SUM(A955:U955*(TRANSPOSE(CostCalculation!$D$38:$D$58)))","v":45720},{"$f":"V955+SUM(A955:U955*(TRANSPOSE(CostCalculation!$C$38:$C$58)))","v":32683}]
[0,0,0,0,0,0,0,0,0,53,12,9,6,0,0,0,0,0,0,0,1,6334,{"$f":"SUM(A956:U956*(TRANSPOSE(CostCalculation!$D$38:$D$58)))","v":45720},{"$f":"V956+SUM(A956:U956*(TRANSPOSE(CostCalculation!$C$38:$C$58)))","v":32683}]
[0,0,0,0,0,0,0,0,0,159,36,27,18,0,0,0,0,0,0,0,3,19002,{"$f":"SUM(A957:U957*(TRANSPOSE(CostCalculation!$D$38:$D$58)))","v":137160},{"$f":"V957+SUM(A957:U957*(TRANSPOSE(CostCalculation!$C$38:$C$58)))","v":98049}]
[0,0,0,0,0,0,0,0,0,106,24,18,12,0,0,0,0,0,0,0,2,12668,{"$f":"SUM(A958:U958*(TRANSPOSE(CostCalculation!$D$38:$D$58)))","v":91440},{"$f":"V958+SUM(A958:U958*(TRANSPOSE(CostCalculation!$C$38:$C$58)))","v":65366}]
[0,0,0,0,0,0,0,0,0,106,24,18,12,0,0,0,0,0,0,0,2,12668,{"$f":"SUM(A959:U959*(TRANSPOSE(CostCalculation!$D$38:$D$58)))","v":91440},{"$f":"V959+SUM(A959:U959*(TRANSPOSE(CostCalculation!$C$38:$C$58)))","v":65366}]
[0,0,0,0,0,0,0,0,0,159,36,27,18,0,0,0,0,0,0,0,3,19002,{"$f":"SUM(A960:U960*(TRANSPOSE(CostCalculation!$D$38:$D$58)))","v":137160},{"$f":"V960+SUM(A960:U960*(TRANSPOSE(CostCalculation!$C$38:$C$58)))","v":98049}]
[0,0,0,0,0,0,0,0,0,424,96,72,48,0,0,0,0,0,0,0,8,50672,{"$f":"SUM(A961:U961*(TRANSPOSE(CostCalculation!$D$38:$D$58)))","v":365760},{"$f":"V961+SUM(A961:U961*(TRANSPOSE(CostCalculation!$C$38:$C$58)))","v":261464}]
[0,0,0,0,0,0,0,0,0,424,96,72,48,0,0,0,0,0,0,0,8,50672,{"$f":"SUM(A962:U962*(TRANSPOSE(CostCalculation!$D$38:$D$58)))","v":365760},{"$f":"V962+SUM(A962:U962*(TRANSPOSE(CostCalculation!$C$38:$C$58)))","v":261464}]
[0,0,0,0,0,0,0,0,0,212,48,36,24,0,0,0,0,0,0,0,4,25336,{"$f":"SUM(A963:U963*(TRANSPOSE(CostCalculation!$D$38:$D$58)))","v":182880},{"$f":"V963+SUM(A963:U963*(TRANSPOSE(CostCalculation!$C$38:$C$58)))","v":130732}]
[0,0,0,0,0,0,0,0,0,159,36,27,18,0,0,0,0,0,0,0,3,19002,{"$f":"SUM(A964:U964*(TRANSPOSE(CostCalculation!$D$38:$D$58)))","v":137160},{"$f":"V964+SUM(A964:U964*(TRANSPOSE(CostCalculation!$C$38:$C$58)))","v":98049}]
[0,0,0,0,0,0,0,0,0,212,48,36,24,0,0,0,0,0,0,0,4,25336,{"$f":"SUM(A965:U965*(TRANSPOSE(CostCalculation!$D$38:$D$58)))","v":182880},{"$f":"V965+SUM(A965:U965*(TRANSPOSE(CostCalculation!$C$38:$C$58)))","v":130732}]
[0,0,0,0,0,0,0,0,0,106,24,18,12,0,0,0,0,0,0,0,2,12668,{"$f":"SUM(A966:U966*(TRANSPOSE(CostCalculation!$D$38:$D$58)))","v":91440},{"$f":"V966+SUM(A966:U966*(TRANSPOSE(CostCalculation!$C$38:$C$58)))","v":65366}]
[0,0,0,0,0,0,0,0,0,265,60,45,30,0,0,0,0,0,0,0,5,31670,{"$f":"SUM(A967:U967*(TRANSPOSE(CostCalculation!$D$38:$D$58)))","v":228600},{"$f":"V967+SUM(A967:U967*(TRANSPOSE(CostCalculation!$C$38:$C$58)))","v":163415}]
[0,0,0,0,0,0,0,0,0,159,36,27,18,0,0,0,0,0,0,0,3,19002,{"$f":"SUM(A968:U968*(TRANSPOSE(CostCalculation!$D$38:$D$58)))","v":137160},{"$f":"V968+SUM(A968:U968*(TRANSPOSE(CostCalculation!$C$38:$C$58)))","v":98049}]
[0,0,0,0,0,0,0,0,0,318,72,54,36,0,0,0,0,0,0,0,6,38004,{"$f":"SUM(A969:U969*(TRANSPOSE(CostCalculation!$D$38:$D$58)))","v":274320},{"$f":"V969+SUM(A969:U969*(TRANSPOSE(CostCalculation!$C$38:$C$58)))","v":196098}]
[0,0,0,0,0,0,0,0,0,53,12,9,6,0,0,0,0,0,0,0,1,6334,{"$f":"SUM(A970:U970*(TRANSPOSE(CostCalculation!$D$38:$D$58)))","v":45720},{"$f":"V970+SUM(A970:U970*(TRANSPOSE(CostCalculation!$C$38:$C$58)))","v":32683}]
[0,0,0,0,0,0,0,0,0,212,48,36,24,0,0,0,0,0,0,0,4,25336,{"$f":"SUM(A971:U971*(TRANSPOSE(CostCalculation!$D$38:$D$58)))","v":182880},{"$f":"V971+SUM(A971:U971*(TRANSPOSE(CostCalculation!$C$38:$C$58)))","v":130732}]
[0,0,0,0,0,0,0,0,0,424,96,72,48,0,0,0,0,0,0,0,8,50672,{"$f":"SUM(A972:U972*(TRANSPOSE(CostCalculation!$D$38:$D$58)))","v":365760},{"$f":"V972+SUM(A972:U972*(TRANSPOSE(CostCalculation!$C$38:$C$58)))","v":261464}]
[0,0,0,0,0,0,0,0,0,53,12,9,6,0,0,0,0,0,0,0,1,6334,{"$f":"SUM(A973:U973*(TRANSPOSE(CostCalculation!$D$38:$D$58)))","v":45720},{"$f":"V973+SUM(A973:U973*(TRANSPOSE(CostCalculation!$C$38:$C$58)))","v":32683}]
[0,0,0,0,0,0,0,0,0,106,24,18,12,0,0,0,0,0,0,0,2,12668,{"$f":"SUM(A974:U974*(TRANSPOSE(CostCalculation!$D$38:$D$58)))","v":91440},{"$f":"V974+SUM(A974:U974*(TRANSPOSE(CostCalculation!$C$38:$C$58)))","v":65366}]
[0,0,0,0,0,0,0,0,0,265,60,45,30,0,0,0,0,0,0,0,5,31670,{"$f":"SUM(A975:U975*(TRANSPOSE(CostCalculation!$D$38:$D$58)))","v":228600},{"$f":"V975+SUM(A975:U975*(TRANSPOSE(CostCalculation!$C$38:$C$58)))","v":163415}]
[0,0,0,0,0,0,0,0,0,53,12,9,6,0,0,0,0,0,0,0,1,6334,{"$f":"SUM(A976:U976*(TRANSPOSE(CostCalculation!$D$38:$D$58)))","v":45720},{"$f":"V976+SUM(A976:U976*(TRANSPOSE(CostCalculation!$C$38:$C$58)))","v":32683}]
[0,0,0,0,0,0,0,0,0,53,12,9,6,0,0,0,0,0,0,0,1,6334,{"$f":"SUM(A977:U977*(TRANSPOSE(CostCalculation!$D$38:$D$58)))","v":45720},{"$f":"V977+SUM(A977:U977*(TRANSPOSE(CostCalculation!$C$38:$C$58)))","v":32683}]
[0,0,0,0,0,0,0,0,0,53,12,9,6,0,0,0,0,0,0,0,1,6334,{"$f":"SUM(A978:U978*(TRANSPOSE(CostCalculation!$D$38:$D$58)))","v":45720},{"$f":"V978+SUM(A978:U978*(TRANSPOSE(CostCalculation!$C$38:$C$58)))","v":32683}]
[0,0,0,0,0,0,0,0,0,212,48,36,24,0,0,0,0,0,0,0,4,25336,{"$f":"SUM(A979:U979*(TRANSPOSE(CostCalculation!$D$38:$D$58)))","v":182880},{"$f":"V979+SUM(A979:U979*(TRANSPOSE(CostCalculation!$C$38:$C$58)))","v":130732}]
[0,0,0,0,0,0,0,0,0,159,36,27,18,0,0,0,0,0,0,0,3,19002,{"$f":"SUM(A980:U980*(TRANSPOSE(CostCalculation!$D$38:$D$58)))","v":137160},{"$f":"V980+SUM(A980:U980*(TRANSPOSE(CostCalculation!$C$38:$C$58)))","v":98049}]
[0,0,0,0,0,0,0,0,0,53,12,9,6,0,0,0,0,0,0,0,1,6334,{"$f":"SUM(A981:U981*(TRANSPOSE(CostCalculation!$D$38:$D$58)))","v":45720},{"$f":"V981+SUM(A981:U981*(TRANSPOSE(CostCalculation!$C$38:$C$58)))","v":32683}]
[0,0,0,0,0,0,0,0,0,53,12,9,6,0,0,0,0,0,0,0,1,6334,{"$f":"SUM(A982:U982*(TRANSPOSE(CostCalculation!$D$38:$D$58)))","v":45720},{"$f":"V982+SUM(A982:U982*(TRANSPOSE(CostCalculation!$C$38:$C$58)))","v":32683}]
[0,0,0,0,0,0,0,0,0,159,36,27,18,0,0,0,0,0,0,0,3,19002,{"$f":"SUM(A983:U983*(TRANSPOSE(CostCalculation!$D$38:$D$58)))","v":137160},{"$f":"V983+SUM(A983:U983*(TRANSPOSE(CostCalculation!$C$38:$C$58)))","v":98049}]
[0,0,0,0,0,0,0,0,0,53,12,9,6,0,0,0,0,0,0,0,1,6334,{"$f":"SUM(A984:U984*(TRANSPOSE(CostCalculation!$D$38:$D$58)))","v":45720},{"$f":"V984+SUM(A984:U984*(TRANSPOSE(CostCalculation!$C$38:$C$58)))","v":32683}]
[0,0,0,0,0,0,0,0,0,106,24,18,12,0,0,0,0,0,0,0,2,12668,{"$f":"SUM(A985:U985*(TRANSPOSE(CostCalculation!$D$38:$D$58)))","v":91440},{"$f":"V985+SUM(A985:U985*(TRANSPOSE(CostCalculation!$C$38:$C$58)))","v":65366}]
[0,0,0,0,0,0,0,0,0,159,36,27,18,0,0,0,0,0,0,0,3,19002,{"$f":"SUM(A986:U986*(TRANSPOSE(CostCalculation!$D$38:$D$58)))","v":137160},{"$f":"V986+SUM(A986:U986*(TRANSPOSE(CostCalculation!$C$38:$C$58)))","v":98049}]
[0,0,0,0,0,0,0,0,0,53,12,9,6,0,0,0,0,0,0,0,1,6334,{"$f":"SUM(A987:U987*(TRANSPOSE(CostCalculation!$D$38:$D$58)))","v":45720},{"$f":"V987+SUM(A987:U987*(TRANSPOSE(CostCalculation!$C$38:$C$58)))","v":32683}]
[0,0,0,0,0,0,0,0,0,106,24,18,12,0,0,0,0,0,0,0,2,12668,{"$f":"SUM(A988:U988*(TRANSPOSE(CostCalculation!$D$38:$D$58)))","v":91440},{"$f":"V988+SUM(A988:U988*(TRANSPOSE(CostCalculation!$C$38:$C$58)))","v":65366}]
[0,0,0,0,0,0,0,0,0,53,12,9,6,0,0,0,0,0,0,0,1,6334,{"$f":"SUM(A989:U989*(TRANSPOSE(CostCalculation!$D$38:$D$58)))","v":45720},{"$f":"V989+SUM(A989:U989*(TRANSPOSE(CostCalculation!$C$38:$C$58)))","v":32683}]
[0,0,0,0,0,0,0,0,0,318,72,54,36,0,0,0,0,0,0,0,6,38004,{"$f":"SUM(A990:U990*(TRANSPOSE(CostCalculation!$D$38:$D$58)))","v":274320},{"$f":"V990+SUM(A990:U990*(TRANSPOSE(CostCalculation!$C$38:$C$58)))","v":196098}]
[0,0,0,0,0,0,0,0,0,53,12,9,6,0,0,0,0,0,0,0,1,6334,{"$f":"SUM(A991:U991*(TRANSPOSE(CostCalculation!$D$38:$D$58)))","v":45720},{"$f":"V991+SUM(A991:U991*(TRANSPOSE(CostCalculation!$C$38:$C$58)))","v":32683}]
[0,0,0,0,0,0,0,0,0,106,24,18,12,0,0,0,0,0,0,0,2,12668,{"$f":"SUM(A992:U992*(TRANSPOSE(CostCalculation!$D$38:$D$58)))","v":91440},{"$f":"V992+SUM(A992:U992*(TRANSPOSE(CostCalculation!$C$38:$C$58)))","v":65366}]
[0,0,0,0,0,0,0,0,0,53,12,9,6,0,0,0,0,0,0,0,1,6334,{"$f":"SUM(A993:U993*(TRANSPOSE(CostCalculation!$D$38:$D$58)))","v":45720},{"$f":"V993+SUM(A993:U993*(TRANSPOSE(CostCalculation!$C$38:$C$58)))","v":32683}]
[0,0,0,0,0,0,0,0,0,53,12,9,6,0,0,0,0,0,0,0,1,6334,{"$f":"SUM(A994:U994*(TRANSPOSE(CostCalculation!$D$38:$D$58)))","v":45720},{"$f":"V994+SUM(A994:U994*(TRANSPOSE(CostCalculation!$C$38:$C$58)))","v":32683}]
[0,0,0,0,0,0,0,0,0,53,12,9,6,0,0,0,0,0,0,0,1,6334,{"$f":"SUM(A995:U995*(TRANSPOSE(CostCalculation!$D$38:$D$58)))","v":45720},{"$f":"V995+SUM(A995:U995*(TRANSPOSE(CostCalculation!$C$38:$C$58)))","v":32683}]
[0,0,0,0,0,0,0,0,0,53,12,9,6,0,0,0,0,0,0,0,1,6334,{"$f":"SUM(A996:U996*(TRANSPOSE(CostCalculation!$D$38:$D$58)))","v":45720},{"$f":"V996+SUM(A996:U996*(TRANSPOSE(CostCalculation!$C$38:$C$58)))","v":32683}]
[0,0,0,0,0,0,0,0,0,159,36,27,18,0,0,0,0,0,0,0,3,19002,{"$f":"SUM(A997:U997*(TRANSPOSE(CostCalculation!$D$38:$D$58)))","v":137160},{"$f":"V997+SUM(A997:U997*(TRANSPOSE(CostCalculation!$C$38:$C$58)))","v":98049}]
[0,0,0,0,0,0,0,0,0,106,24,18,12,0,0,0,0,0,0,0,2,12668,{"$f":"SUM(A998:U998*(TRANSPOSE(CostCalculation!$D$38:$D$58)))","v":91440},{"$f":"V998+SUM(A998:U998*(TRANSPOSE(CostCalculation!$C$38:$C$58)))","v":65366}]
[0,0,0,0,0,0,0,0,0,106,24,18,12,0,0,0,0,0,0,0,2,12668,{"$f":"SUM(A999:U999*(TRANSPOSE(CostCalculation!$D$38:$D$58)))","v":91440},{"$f":"V999+SUM(A999:U999*(TRANSPOSE(CostCalculation!$C$38:$C$58)))","v":65366}]
[0,0,0,0,0,0,0,0,0,318,72,54,36,0,0,0,0,0,0,0,6,38004,{"$f":"SUM(A1000:U1000*(TRANSPOSE(CostCalculation!$D$38:$D$58)))","v":274320},{"$f":"V1000+SUM(A1000:U1000*(TRANSPOSE(CostCalculation!$C$38:$C$58)))","v":196098}]
[0,0,0,0,0,0,0,0,0,212,48,36,24,0,0,0,0,0,0,0,4,25336,{"$f":"SUM(A1001:U1001*(TRANSPOSE(CostCalculation!$D$38:$D$58)))","v":182880},{"$f":"V1001+SUM(A1001:U1001*(TRANSPOSE(CostCalculation!$C$38:$C$58)))","v":130732}]
[0,0,0,0,0,0,0,0,0,159,36,27,18,0,0,0,0,0,0,0,3,19002,{"$f":"SUM(A1002:U1002*(TRANSPOSE(CostCalculation!$D$38:$D$58)))","v":137160},{"$f":"V1002+SUM(A1002:U1002*(TRANSPOSE(CostCalculation!$C$38:$C$58)))","v":98049}]
[0,0,0,0,0,0,0,0,0,53,12,9,6,0,0,0,0,0,0,0,1,6334,{"$f":"SUM(A1003:U1003*(TRANSPOSE(CostCalculation!$D$38:$D$58)))","v":45720},{"$f":"V1003+SUM(A1003:U1003*(TRANSPOSE(CostCalculation!$C$38:$C$58)))","v":32683}]
[0,0,0,0,0,0,0,0,0,53,12,9,6,0,0,0,0,0,0,0,1,6334,{"$f":"SUM(A1004:U1004*(TRANSPOSE(CostCalculation!$D$38:$D$58)))","v":45720},{"$f":"V1004+SUM(A1004:U1004*(TRANSPOSE(CostCalculation!$C$38:$C$58)))","v":32683}]
[0,0,0,0,0,0,0,0,0,212,48,36,24,0,0,0,0,0,0,0,4,25336,{"$f":"SUM(A1005:U1005*(TRANSPOSE(CostCalculation!$D$38:$D$58)))","v":182880},{"$f":"V1005+SUM(A1005:U1005*(TRANSPOSE(CostCalculation!$C$38:$C$58)))","v":130732}]
[0,0,0,0,0,0,0,0,0,53,12,9,6,0,0,0,0,0,0,0,1,6334,{"$f":"SUM(A1006:U1006*(TRANSPOSE(CostCalculation!$D$38:$D$58)))","v":45720},{"$f":"V1006+SUM(A1006:U1006*(TRANSPOSE(CostCalculation!$C$38:$C$58)))","v":32683}]
[0,0,0,0,0,0,0,0,0,159,36,27,18,0,0,0,0,0,0,0,3,19002,{"$f":"SUM(A1007:U1007*(TRANSPOSE(CostCalculation!$D$38:$D$58)))","v":137160},{"$f":"V1007+SUM(A1007:U1007*(TRANSPOSE(CostCalculation!$C$38:$C$58)))","v":98049}]
[0,0,0,0,0,0,0,0,0,53,12,9,6,0,0,0,0,0,0,0,1,6334,{"$f":"SUM(A1008:U1008*(TRANSPOSE(CostCalculation!$D$38:$D$58)))","v":45720},{"$f":"V1008+SUM(A1008:U1008*(TRANSPOSE(CostCalculation!$C$38:$C$58)))","v":32683}]
[0,0,0,0,0,0,0,0,0,159,36,27,18,0,0,0,0,0,0,0,3,19002,{"$f":"SUM(A1009:U1009*(TRANSPOSE(CostCalculation!$D$38:$D$58)))","v":137160},{"$f":"V1009+SUM(A1009:U1009*(TRANSPOSE(CostCalculation!$C$38:$C$58)))","v":98049}]
[0,0,0,0,0,0,0,0,0,53,12,9,6,0,0,0,0,0,0,0,1,6334,{"$f":"SUM(A1010:U1010*(TRANSPOSE(CostCalculation!$D$38:$D$58)))","v":45720},{"$f":"V1010+SUM(A1010:U1010*(TRANSPOSE(CostCalculation!$C$38:$C$58)))","v":32683}]
[0,0,0,0,0,0,0,0,0,212,48,36,24,0,0,0,0,0,0,0,4,25336,{"$f":"SUM(A1011:U1011*(TRANSPOSE(CostCalculation!$D$38:$D$58)))","v":182880},{"$f":"V1011+SUM(A1011:U1011*(TRANSPOSE(CostCalculation!$C$38:$C$58)))","v":130732}]
[0,0,0,0,0,0,0,0,0,371,84,63,42,0,0,0,0,0,0,0,7,44338,{"$f":"SUM(A1012:U1012*(TRANSPOSE(CostCalculation!$D$38:$D$58)))","v":320040},{"$f":"V1012+SUM(A1012:U1012*(TRANSPOSE(CostCalculation!$C$38:$C$58)))","v":228781}]
[0,0,0,0,0,0,0,0,0,53,12,9,6,0,0,0,0,0,0,0,1,6334,{"$f":"SUM(A1013:U1013*(TRANSPOSE(CostCalculation!$D$38:$D$58)))","v":45720},{"$f":"V1013+SUM(A1013:U1013*(TRANSPOSE(CostCalculation!$C$38:$C$58)))","v":32683}]
[0,0,0,0,0,0,0,0,0,106,24,18,12,0,0,0,0,0,0,0,2,12668,{"$f":"SUM(A1014:U1014*(TRANSPOSE(CostCalculation!$D$38:$D$58)))","v":91440},{"$f":"V1014+SUM(A1014:U1014*(TRANSPOSE(CostCalculation!$C$38:$C$58)))","v":65366}]
[0,0,0,0,0,0,0,0,0,53,12,9,6,0,0,0,0,0,0,0,1,6334,{"$f":"SUM(A1015:U1015*(TRANSPOSE(CostCalculation!$D$38:$D$58)))","v":45720},{"$f":"V1015+SUM(A1015:U1015*(TRANSPOSE(CostCalculation!$C$38:$C$58)))","v":32683}]
[0,0,0,0,0,0,0,0,0,53,12,9,6,0,0,0,0,0,0,0,1,6334,{"$f":"SUM(A1016:U1016*(TRANSPOSE(CostCalculation!$D$38:$D$58)))","v":45720},{"$f":"V1016+SUM(A1016:U1016*(TRANSPOSE(CostCalculation!$C$38:$C$58)))","v":32683}]
[0,0,0,0,0,0,0,0,0,53,12,9,6,0,0,0,0,0,0,0,1,6334,{"$f":"SUM(A1017:U1017*(TRANSPOSE(CostCalculation!$D$38:$D$58)))","v":45720},{"$f":"V1017+SUM(A1017:U1017*(TRANSPOSE(CostCalculation!$C$38:$C$58)))","v":32683}]
[0,0,0,0,0,0,0,0,0,53,12,9,6,0,0,0,0,0,0,0,1,6334,{"$f":"SUM(A1018:U1018*(TRANSPOSE(CostCalculation!$D$38:$D$58)))","v":45720},{"$f":"V1018+SUM(A1018:U1018*(TRANSPOSE(CostCalculation!$C$38:$C$58)))","v":32683}]
[0,0,0,0,0,0,0,0,0,424,96,72,48,0,0,0,0,0,0,0,8,50672,{"$f":"SUM(A1019:U1019*(TRANSPOSE(CostCalculation!$D$38:$D$58)))","v":365760},{"$f":"V1019+SUM(A1019:U1019*(TRANSPOSE(CostCalculation!$C$38:$C$58)))","v":261464}]
[0,0,0,0,0,0,0,0,0,53,12,9,6,0,0,0,0,0,0,0,1,6334,{"$f":"SUM(A1020:U1020*(TRANSPOSE(CostCalculation!$D$38:$D$58)))","v":45720},{"$f":"V1020+SUM(A1020:U1020*(TRANSPOSE(CostCalculation!$C$38:$C$58)))","v":32683}]
[0,0,0,0,0,0,0,0,0,265,60,45,30,0,0,0,0,0,0,0,5,31670,{"$f":"SUM(A1021:U1021*(TRANSPOSE(CostCalculation!$D$38:$D$58)))","v":228600},{"$f":"V1021+SUM(A1021:U1021*(TRANSPOSE(CostCalculation!$C$38:$C$58)))","v":163415}]
[0,0,0,0,0,0,0,0,0,212,48,36,24,0,0,0,0,0,0,0,4,25336,{"$f":"SUM(A1022:U1022*(TRANSPOSE(CostCalculation!$D$38:$D$58)))","v":182880},{"$f":"V1022+SUM(A1022:U1022*(TRANSPOSE(CostCalculation!$C$38:$C$58)))","v":130732}]
[0,0,0,0,0,0,0,0,0,424,96,72,48,0,0,0,0,0,0,0,8,50672,{"$f":"SUM(A1023:U1023*(TRANSPOSE(CostCalculation!$D$38:$D$58)))","v":365760},{"$f":"V1023+SUM(A1023:U1023*(TRANSPOSE(CostCalculation!$C$38:$C$58)))","v":261464}]
[0,0,0,0,0,0,0,0,0,53,12,9,6,0,0,0,0,0,0,0,1,6334,{"$f":"SUM(A1024:U1024*(TRANSPOSE(CostCalculation!$D$38:$D$58)))","v":45720},{"$f":"V1024+SUM(A1024:U1024*(TRANSPOSE(CostCalculation!$C$38:$C$58)))","v":32683}]
[0,0,0,0,0,0,0,0,0,53,12,9,6,0,0,0,0,0,0,0,1,6334,{"$f":"SUM(A1025:U1025*(TRANSPOSE(CostCalculation!$D$38:$D$58)))","v":45720},{"$f":"V1025+SUM(A1025:U1025*(TRANSPOSE(CostCalculation!$C$38:$C$58)))","v":32683}]
[0,0,0,0,0,0,0,0,0,212,48,36,24,0,0,0,0,0,0,0,4,25336,{"$f":"SUM(A1026:U1026*(TRANSPOSE(CostCalculation!$D$38:$D$58)))","v":182880},{"$f":"V1026+SUM(A1026:U1026*(TRANSPOSE(CostCalculation!$C$38:$C$58)))","v":130732}]
[0,0,0,0,0,0,0,0,0,159,36,27,18,0,0,0,0,0,0,0,3,19002,{"$f":"SUM(A1027:U1027*(TRANSPOSE(CostCalculation!$D$38:$D$58)))","v":137160},{"$f":"V1027+SUM(A1027:U1027*(TRANSPOSE(CostCalculation!$C$38:$C$58)))","v":98049}]
[0,0,0,0,0,0,0,0,0,212,48,36,24,0,0,0,0,0,0,0,4,25336,{"$f":"SUM(A1028:U1028*(TRANSPOSE(CostCalculation!$D$38:$D$58)))","v":182880},{"$f":"V1028+SUM(A1028:U1028*(TRANSPOSE(CostCalculation!$C$38:$C$58)))","v":130732}]
[0,0,0,0,0,0,0,0,0,265,60,45,30,0,0,0,0,0,0,0,5,31670,{"$f":"SUM(A1029:U1029*(TRANSPOSE(CostCalculation!$D$38:$D$58)))","v":228600},{"$f":"V1029+SUM(A1029:U1029*(TRANSPOSE(CostCalculation!$C$38:$C$58)))","v":163415}]
[0,0,0,0,0,0,0,0,0,265,60,45,30,0,0,0,0,0,0,0,5,31670,{"$f":"SUM(A1030:U1030*(TRANSPOSE(CostCalculation!$D$38:$D$58)))","v":228600},{"$f":"V1030+SUM(A1030:U1030*(TRANSPOSE(CostCalculation!$C$38:$C$58)))","v":163415}]
[0,0,0,0,0,0,0,0,0,318,72,54,36,0,0,0,0,0,0,0,6,38004,{"$f":"SUM(A1031:U1031*(TRANSPOSE(CostCalculation!$D$38:$D$58)))","v":274320},{"$f":"V1031+SUM(A1031:U1031*(TRANSPOSE(CostCalculation!$C$38:$C$58)))","v":196098}]
[0,0,0,0,0,0,0,0,0,106,24,18,12,0,0,0,0,0,0,0,2,12668,{"$f":"SUM(A1032:U1032*(TRANSPOSE(CostCalculation!$D$38:$D$58)))","v":91440},{"$f":"V1032+SUM(A1032:U1032*(TRANSPOSE(CostCalculation!$C$38:$C$58)))","v":65366}]
[0,0,0,0,0,0,0,0,0,106,24,18,12,0,0,0,0,0,0,0,2,12668,{"$f":"SUM(A1033:U1033*(TRANSPOSE(CostCalculation!$D$38:$D$58)))","v":91440},{"$f":"V1033+SUM(A1033:U1033*(TRANSPOSE(CostCalculation!$C$38:$C$58)))","v":65366}]
[0,0,0,0,0,0,0,0,0,53,12,9,6,0,0,0,0,0,0,0,1,6334,{"$f":"SUM(A1034:U1034*(TRANSPOSE(CostCalculation!$D$38:$D$58)))","v":45720},{"$f":"V1034+SUM(A1034:U1034*(TRANSPOSE(CostCalculation!$C$38:$C$58)))","v":32683}]
[0,0,0,0,0,0,0,0,0,371,84,63,42,0,0,0,0,0,0,0,7,44338,{"$f":"SUM(A1035:U1035*(TRANSPOSE(CostCalculation!$D$38:$D$58)))","v":320040},{"$f":"V1035+SUM(A1035:U1035*(TRANSPOSE(CostCalculation!$C$38:$C$58)))","v":228781}]
[0,0,0,0,0,0,0,0,0,265,60,45,30,0,0,0,0,0,0,0,5,31670,{"$f":"SUM(A1036:U1036*(TRANSPOSE(CostCalculation!$D$38:$D$58)))","v":228600},{"$f":"V1036+SUM(A1036:U1036*(TRANSPOSE(CostCalculation!$C$38:$C$58)))","v":163415}]
[0,0,0,0,0,0,0,0,0,106,24,18,12,0,0,0,0,0,0,0,2,12668,{"$f":"SUM(A1037:U1037*(TRANSPOSE(CostCalculation!$D$38:$D$58)))","v":91440},{"$f":"V1037+SUM(A1037:U1037*(TRANSPOSE(CostCalculation!$C$38:$C$58)))","v":65366}]
[0,0,0,0,0,0,0,0,0,159,36,27,18,0,0,0,0,0,0,0,3,19002,{"$f":"SUM(A1038:U1038*(TRANSPOSE(CostCalculation!$D$38:$D$58)))","v":137160},{"$f":"V1038+SUM(A1038:U1038*(TRANSPOSE(CostCalculation!$C$38:$C$58)))","v":98049}]
[0,0,0,0,0,0,0,0,0,212,48,36,24,0,0,0,0,0,0,0,4,25336,{"$f":"SUM(A1039:U1039*(TRANSPOSE(CostCalculation!$D$38:$D$58)))","v":182880},{"$f":"V1039+SUM(A1039:U1039*(TRANSPOSE(CostCalculation!$C$38:$C$58)))","v":130732}]
[0,0,0,0,0,0,0,0,0,53,12,9,6,0,0,0,0,0,0,0,1,6334,{"$f":"SUM(A1040:U1040*(TRANSPOSE(CostCalculation!$D$38:$D$58)))","v":45720},{"$f":"V1040+SUM(A1040:U1040*(TRANSPOSE(CostCalculation!$C$38:$C$58)))","v":32683}]
[0,0,0,0,0,0,0,0,0,212,48,36,24,0,0,0,0,0,0,0,4,25336,{"$f":"SUM(A1041:U1041*(TRANSPOSE(CostCalculation!$D$38:$D$58)))","v":182880},{"$f":"V1041+SUM(A1041:U1041*(TRANSPOSE(CostCalculation!$C$38:$C$58)))","v":130732}]
[0,0,0,0,0,0,0,0,0,53,12,9,6,0,0,0,0,0,0,0,1,6334,{"$f":"SUM(A1042:U1042*(TRANSPOSE(CostCalculation!$D$38:$D$58)))","v":45720},{"$f":"V1042+SUM(A1042:U1042*(TRANSPOSE(CostCalculation!$C$38:$C$58)))","v":32683}]
[0,0,0,0,0,0,0,0,0,159,36,27,18,0,0,0,0,0,0,0,3,19002,{"$f":"SUM(A1043:U1043*(TRANSPOSE(CostCalculation!$D$38:$D$58)))","v":137160},{"$f":"V1043+SUM(A1043:U1043*(TRANSPOSE(CostCalculation!$C$38:$C$58)))","v":98049}]
[0,0,0,0,0,0,0,0,0,53,12,9,6,0,0,0,0,0,0,0,1,6334,{"$f":"SUM(A1044:U1044*(TRANSPOSE(CostCalculation!$D$38:$D$58)))","v":45720},{"$f":"V1044+SUM(A1044:U1044*(TRANSPOSE(CostCalculation!$C$38:$C$58)))","v":32683}]
[0,0,0,0,0,0,0,0,0,53,12,9,6,0,0,0,0,0,0,0,1,6334,{"$f":"SUM(A1045:U1045*(TRANSPOSE(CostCalculation!$D$38:$D$58)))","v":45720},{"$f":"V1045+SUM(A1045:U1045*(TRANSPOSE(CostCalculation!$C$38:$C$58)))","v":32683}]
[0,0,0,0,0,0,0,0,0,106,24,18,12,0,0,0,0,0,0,0,2,12668,{"$f":"SUM(A1046:U1046*(TRANSPOSE(CostCalculation!$D$38:$D$58)))","v":91440},{"$f":"V1046+SUM(A1046:U1046*(TRANSPOSE(CostCalculation!$C$38:$C$58)))","v":65366}]
[0,0,0,0,0,0,0,0,0,212,48,36,24,0,0,0,0,0,0,0,4,25336,{"$f":"SUM(A1047:U1047*(TRANSPOSE(CostCalculation!$D$38:$D$58)))","v":182880},{"$f":"V1047+SUM(A1047:U1047*(TRANSPOSE(CostCalculation!$C$38:$C$58)))","v":130732}]
[0,0,0,0,0,0,0,0,0,106,24,18,12,0,0,0,0,0,0,0,2,12668,{"$f":"SUM(A1048:U1048*(TRANSPOSE(CostCalculation!$D$38:$D$58)))","v":91440},{"$f":"V1048+SUM(A1048:U1048*(TRANSPOSE(CostCalculation!$C$38:$C$58)))","v":65366}]
[0,0,0,0,0,0,0,0,0,106,24,18,12,0,0,0,0,0,0,0,2,12668,{"$f":"SUM(A1049:U1049*(TRANSPOSE(CostCalculation!$D$38:$D$58)))","v":91440},{"$f":"V1049+SUM(A1049:U1049*(TRANSPOSE(CostCalculation!$C$38:$C$58)))","v":65366}]
[0,0,0,0,0,0,0,0,0,106,24,18,12,0,0,0,0,0,0,0,2,12668,{"$f":"SUM(A1050:U1050*(TRANSPOSE(CostCalculation!$D$38:$D$58)))","v":91440},{"$f":"V1050+SUM(A1050:U1050*(TRANSPOSE(CostCalculation!$C$38:$C$58)))","v":65366}]
[0,0,0,0,0,0,0,0,0,424,96,72,48,0,0,0,0,0,0,0,8,50672,{"$f":"SUM(A1051:U1051*(TRANSPOSE(CostCalculation!$D$38:$D$58)))","v":365760},{"$f":"V1051+SUM(A1051:U1051*(TRANSPOSE(CostCalculation!$C$38:$C$58)))","v":261464}]
[0,0,0,0,0,0,0,0,0,53,12,9,6,0,0,0,0,0,0,0,1,6334,{"$f":"SUM(A1052:U1052*(TRANSPOSE(CostCalculation!$D$38:$D$58)))","v":45720},{"$f":"V1052+SUM(A1052:U1052*(TRANSPOSE(CostCalculation!$C$38:$C$58)))","v":32683}]
[0,0,0,0,0,0,0,0,0,371,84,63,42,0,0,0,0,0,0,0,7,44338,{"$f":"SUM(A1053:U1053*(TRANSPOSE(CostCalculation!$D$38:$D$58)))","v":320040},{"$f":"V1053+SUM(A1053:U1053*(TRANSPOSE(CostCalculation!$C$38:$C$58)))","v":228781}]
[0,0,0,0,0,0,0,0,0,318,72,54,36,0,0,0,0,0,0,0,6,38004,{"$f":"SUM(A1054:U1054*(TRANSPOSE(CostCalculation!$D$38:$D$58)))","v":274320},{"$f":"V1054+SUM(A1054:U1054*(TRANSPOSE(CostCalculation!$C$38:$C$58)))","v":196098}]
[0,0,0,0,0,0,0,0,0,212,48,36,24,0,0,0,0,0,0,0,4,25336,{"$f":"SUM(A1055:U1055*(TRANSPOSE(CostCalculation!$D$38:$D$58)))","v":182880},{"$f":"V1055+SUM(A1055:U1055*(TRANSPOSE(CostCalculation!$C$38:$C$58)))","v":130732}]
[0,0,0,0,0,0,0,0,0,159,36,27,18,0,0,0,0,0,0,0,3,19002,{"$f":"SUM(A1056:U1056*(TRANSPOSE(CostCalculation!$D$38:$D$58)))","v":137160},{"$f":"V1056+SUM(A1056:U1056*(TRANSPOSE(CostCalculation!$C$38:$C$58)))","v":98049}]
[0,0,0,0,0,0,0,0,0,159,36,27,18,0,0,0,0,0,0,0,3,19002,{"$f":"SUM(A1057:U1057*(TRANSPOSE(CostCalculation!$D$38:$D$58)))","v":137160},{"$f":"V1057+SUM(A1057:U1057*(TRANSPOSE(CostCalculation!$C$38:$C$58)))","v":98049}]
[0,0,0,0,0,0,0,0,0,53,12,9,6,0,0,0,0,0,0,0,1,6334,{"$f":"SUM(A1058:U1058*(TRANSPOSE(CostCalculation!$D$38:$D$58)))","v":45720},{"$f":"V1058+SUM(A1058:U1058*(TRANSPOSE(CostCalculation!$C$38:$C$58)))","v":32683}]
[0,0,0,0,0,0,0,0,0,424,96,72,48,0,0,0,0,0,0,0,8,50672,{"$f":"SUM(A1059:U1059*(TRANSPOSE(CostCalculation!$D$38:$D$58)))","v":365760},{"$f":"V1059+SUM(A1059:U1059*(TRANSPOSE(CostCalculation!$C$38:$C$58)))","v":261464}]
[0,0,0,0,0,0,0,0,0,53,12,9,6,0,0,0,0,0,0,0,1,6334,{"$f":"SUM(A1060:U1060*(TRANSPOSE(CostCalculation!$D$38:$D$58)))","v":45720},{"$f":"V1060+SUM(A1060:U1060*(TRANSPOSE(CostCalculation!$C$38:$C$58)))","v":32683}]
[0,0,0,0,0,0,0,0,0,265,60,45,30,0,0,0,0,0,0,0,5,31670,{"$f":"SUM(A1061:U1061*(TRANSPOSE(CostCalculation!$D$38:$D$58)))","v":228600},{"$f":"V1061+SUM(A1061:U1061*(TRANSPOSE(CostCalculation!$C$38:$C$58)))","v":163415}]
[0,0,0,0,0,0,0,0,0,424,96,72,48,0,0,0,0,0,0,0,8,50672,{"$f":"SUM(A1062:U1062*(TRANSPOSE(CostCalculation!$D$38:$D$58)))","v":365760},{"$f":"V1062+SUM(A1062:U1062*(TRANSPOSE(CostCalculation!$C$38:$C$58)))","v":261464}]
[0,0,0,0,0,0,0,0,0,53,12,9,6,0,0,0,0,0,0,0,1,6334,{"$f":"SUM(A1063:U1063*(TRANSPOSE(CostCalculation!$D$38:$D$58)))","v":45720},{"$f":"V1063+SUM(A1063:U1063*(TRANSPOSE(CostCalculation!$C$38:$C$58)))","v":32683}]
[0,0,0,0,0,0,0,0,0,424,96,72,48,0,0,0,0,0,0,0,8,50672,{"$f":"SUM(A1064:U1064*(TRANSPOSE(CostCalculation!$D$38:$D$58)))","v":365760},{"$f":"V1064+SUM(A1064:U1064*(TRANSPOSE(CostCalculation!$C$38:$C$58)))","v":261464}]
[0,0,0,0,0,0,0,0,0,318,72,54,36,0,0,0,0,0,0,0,6,38004,{"$f":"SUM(A1065:U1065*(TRANSPOSE(CostCalculation!$D$38:$D$58)))","v":274320},{"$f":"V1065+SUM(A1065:U1065*(TRANSPOSE(CostCalculation!$C$38:$C$58)))","v":196098}]
[0,0,0,0,0,0,0,0,0,106,24,18,12,0,0,0,0,0,0,0,2,12668,{"$f":"SUM(A1066:U1066*(TRANSPOSE(CostCalculation!$D$38:$D$58)))","v":91440},{"$f":"V1066+SUM(A1066:U1066*(TRANSPOSE(CostCalculation!$C$38:$C$58)))","v":65366}]
[0,0,0,0,0,0,0,0,0,212,48,36,24,0,0,0,0,0,0,0,4,25336,{"$f":"SUM(A1067:U1067*(TRANSPOSE(CostCalculation!$D$38:$D$58)))","v":182880},{"$f":"V1067+SUM(A1067:U1067*(TRANSPOSE(CostCalculation!$C$38:$C$58)))","v":130732}]
[0,0,0,0,0,0,0,0,0,53,12,9,6,0,0,0,0,0,0,0,1,6334,{"$f":"SUM(A1068:U1068*(TRANSPOSE(CostCalculation!$D$38:$D$58)))","v":45720},{"$f":"V1068+SUM(A1068:U1068*(TRANSPOSE(CostCalculation!$C$38:$C$58)))","v":32683}]
[0,0,0,0,0,0,0,0,0,265,60,45,30,0,0,0,0,0,0,0,5,31670,{"$f":"SUM(A1069:U1069*(TRANSPOSE(CostCalculation!$D$38:$D$58)))","v":228600},{"$f":"V1069+SUM(A1069:U1069*(TRANSPOSE(CostCalculation!$C$38:$C$58)))","v":163415}]
[0,0,0,0,0,0,0,0,0,265,60,45,30,0,0,0,0,0,0,0,5,31670,{"$f":"SUM(A1070:U1070*(TRANSPOSE(CostCalculation!$D$38:$D$58)))","v":228600},{"$f":"V1070+SUM(A1070:U1070*(TRANSPOSE(CostCalculation!$C$38:$C$58)))","v":163415}]
[0,0,0,0,0,0,0,0,0,159,36,27,18,0,0,0,0,0,0,0,3,19002,{"$f":"SUM(A1071:U1071*(TRANSPOSE(CostCalculation!$D$38:$D$58)))","v":137160},{"$f":"V1071+SUM(A1071:U1071*(TRANSPOSE(CostCalculation!$C$38:$C$58)))","v":98049}]
[0,0,0,0,0,0,0,0,0,106,24,18,12,0,0,0,0,0,0,0,2,12668,{"$f":"SUM(A1072:U1072*(TRANSPOSE(CostCalculation!$D$38:$D$58)))","v":91440},{"$f":"V1072+SUM(A1072:U1072*(TRANSPOSE(CostCalculation!$C$38:$C$58)))","v":65366}]
[0,0,0,0,0,0,0,0,0,106,24,18,12,0,0,0,0,0,0,0,2,12668,{"$f":"SUM(A1073:U1073*(TRANSPOSE(CostCalculation!$D$38:$D$58)))","v":91440},{"$f":"V1073+SUM(A1073:U1073*(TRANSPOSE(CostCalculation!$C$38:$C$58)))","v":65366}]
[0,0,0,0,0,0,0,0,0,371,84,63,42,0,0,0,0,0,0,0,7,44338,{"$f":"SUM(A1074:U1074*(TRANSPOSE(CostCalculation!$D$38:$D$58)))","v":320040},{"$f":"V1074+SUM(A1074:U1074*(TRANSPOSE(CostCalculation!$C$38:$C$58)))","v":228781}]
[0,0,0,0,0,0,0,0,0,53,12,9,6,0,0,0,0,0,0,0,1,6334,{"$f":"SUM(A1075:U1075*(TRANSPOSE(CostCalculation!$D$38:$D$58)))","v":45720},{"$f":"V1075+SUM(A1075:U1075*(TRANSPOSE(CostCalculation!$C$38:$C$58)))","v":32683}]
[0,0,0,0,0,0,0,0,0,212,48,36,24,0,0,0,0,0,0,0,4,25336,{"$f":"SUM(A1076:U1076*(TRANSPOSE(CostCalculation!$D$38:$D$58)))","v":182880},{"$f":"V1076+SUM(A1076:U1076*(TRANSPOSE(CostCalculation!$C$38:$C$58)))","v":130732}]
[0,0,0,0,0,0,0,0,0,212,48,36,24,0,0,0,0,0,0,0,4,25336,{"$f":"SUM(A1077:U1077*(TRANSPOSE(CostCalculation!$D$38:$D$58)))","v":182880},{"$f":"V1077+SUM(A1077:U1077*(TRANSPOSE(CostCalculation!$C$38:$C$58)))","v":130732}]
[0,0,0,0,0,0,0,0,0,424,96,72,48,0,0,0,0,0,0,0,8,50672,{"$f":"SUM(A1078:U1078*(TRANSPOSE(CostCalculation!$D$38:$D$58)))","v":365760},{"$f":"V1078+SUM(A1078:U1078*(TRANSPOSE(CostCalculation!$C$38:$C$58)))","v":261464}]
[0,0,0,0,0,0,0,0,0,53,12,9,6,0,0,0,0,0,0,0,1,6334,{"$f":"SUM(A1079:U1079*(TRANSPOSE(CostCalculation!$D$38:$D$58)))","v":45720},{"$f":"V1079+SUM(A1079:U1079*(TRANSPOSE(CostCalculation!$C$38:$C$58)))","v":32683}]
[0,0,0,0,0,0,0,0,0,159,36,27,18,0,0,0,0,0,0,0,3,19002,{"$f":"SUM(A1080:U1080*(TRANSPOSE(CostCalculation!$D$38:$D$58)))","v":137160},{"$f":"V1080+SUM(A1080:U1080*(TRANSPOSE(CostCalculation!$C$38:$C$58)))","v":98049}]
[0,0,0,0,0,0,0,0,0,159,36,27,18,0,0,0,0,0,0,0,3,19002,{"$f":"SUM(A1081:U1081*(TRANSPOSE(CostCalculation!$D$38:$D$58)))","v":137160},{"$f":"V1081+SUM(A1081:U1081*(TRANSPOSE(CostCalculation!$C$38:$C$58)))","v":98049}]
[0,0,0,0,0,0,0,0,0,53,12,9,6,0,0,0,0,0,0,0,1,6334,{"$f":"SUM(A1082:U1082*(TRANSPOSE(CostCalculation!$D$38:$D$58)))","v":45720},{"$f":"V1082+SUM(A1082:U1082*(TRANSPOSE(CostCalculation!$C$38:$C$58)))","v":32683}]
[0,0,0,0,0,0,0,0,0,265,60,45,30,0,0,0,0,0,0,0,5,31670,{"$f":"SUM(A1083:U1083*(TRANSPOSE(CostCalculation!$D$38:$D$58)))","v":228600},{"$f":"V1083+SUM(A1083:U1083*(TRANSPOSE(CostCalculation!$C$38:$C$58)))","v":163415}]
[0,0,0,0,0,0,0,0,0,159,36,27,18,0,0,0,0,0,0,0,3,19002,{"$f":"SUM(A1084:U1084*(TRANSPOSE(CostCalculation!$D$38:$D$58)))","v":137160},{"$f":"V1084+SUM(A1084:U1084*(TRANSPOSE(CostCalculation!$C$38:$C$58)))","v":98049}]
[0,0,0,0,0,0,0,0,0,424,96,72,48,0,0,0,0,0,0,0,8,50672,{"$f":"SUM(A1085:U1085*(TRANSPOSE(CostCalculation!$D$38:$D$58)))","v":365760},{"$f":"V1085+SUM(A1085:U1085*(TRANSPOSE(CostCalculation!$C$38:$C$58)))","v":261464}]
[0,0,0,0,0,0,0,0,0,53,12,9,6,0,0,0,0,0,0,0,1,6334,{"$f":"SUM(A1086:U1086*(TRANSPOSE(CostCalculation!$D$38:$D$58)))","v":45720},{"$f":"V1086+SUM(A1086:U1086*(TRANSPOSE(CostCalculation!$C$38:$C$58)))","v":32683}]
[0,0,0,0,0,0,0,0,0,159,36,27,18,0,0,0,0,0,0,0,3,19002,{"$f":"SUM(A1087:U1087*(TRANSPOSE(CostCalculation!$D$38:$D$58)))","v":137160},{"$f":"V1087+SUM(A1087:U1087*(TRANSPOSE(CostCalculation!$C$38:$C$58)))","v":98049}]
[0,0,0,0,0,0,0,0,0,159,36,27,18,0,0,0,0,0,0,0,3,19002,{"$f":"SUM(A1088:U1088*(TRANSPOSE(CostCalculation!$D$38:$D$58)))","v":137160},{"$f":"V1088+SUM(A1088:U1088*(TRANSPOSE(CostCalculation!$C$38:$C$58)))","v":98049}]
[0,0,0,0,0,0,0,0,0,212,48,36,24,0,0,0,0,0,0,0,4,25336,{"$f":"SUM(A1089:U1089*(TRANSPOSE(CostCalculation!$D$38:$D$58)))","v":182880},{"$f":"V1089+SUM(A1089:U1089*(TRANSPOSE(CostCalculation!$C$38:$C$58)))","v":130732}]
[0,0,0,0,0,0,0,0,0,318,72,54,36,0,0,0,0,0,0,0,6,38004,{"$f":"SUM(A1090:U1090*(TRANSPOSE(CostCalculation!$D$38:$D$58)))","v":274320},{"$f":"V1090+SUM(A1090:U1090*(TRANSPOSE(CostCalculation!$C$38:$C$58)))","v":196098}]
[0,0,0,0,0,0,0,0,0,106,24,18,12,0,0,0,0,0,0,0,2,12668,{"$f":"SUM(A1091:U1091*(TRANSPOSE(CostCalculation!$D$38:$D$58)))","v":91440},{"$f":"V1091+SUM(A1091:U1091*(TRANSPOSE(CostCalculation!$C$38:$C$58)))","v":65366}]
[0,0,0,0,0,0,0,0,0,265,60,45,30,0,0,0,0,0,0,0,5,31670,{"$f":"SUM(A1092:U1092*(TRANSPOSE(CostCalculation!$D$38:$D$58)))","v":228600},{"$f":"V1092+SUM(A1092:U1092*(TRANSPOSE(CostCalculation!$C$38:$C$58)))","v":163415}]
[0,0,0,0,0,0,0,0,0,265,60,45,30,0,0,0,0,0,0,0,5,31670,{"$f":"SUM(A1093:U1093*(TRANSPOSE(CostCalculation!$D$38:$D$58)))","v":228600},{"$f":"V1093+SUM(A1093:U1093*(TRANSPOSE(CostCalculation!$C$38:$C$58)))","v":163415}]
[0,0,0,0,0,0,0,0,0,212,48,36,24,0,0,0,0,0,0,0,4,25336,{"$f":"SUM(A1094:U1094*(TRANSPOSE(CostCalculation!$D$38:$D$58)))","v":182880},{"$f":"V1094+SUM(A1094:U1094*(TRANSPOSE(CostCalculation!$C$38:$C$58)))","v":130732}]
[0,0,0,0,0,0,0,0,0,159,36,27,18,0,0,0,0,0,0,0,3,19002,{"$f":"SUM(A1095:U1095*(TRANSPOSE(CostCalculation!$D$38:$D$58)))","v":137160},{"$f":"V1095+SUM(A1095:U1095*(TRANSPOSE(CostCalculation!$C$38:$C$58)))","v":98049}]
[0,0,0,0,0,0,0,0,0,106,24,18,12,0,0,0,0,0,0,0,2,12668,{"$f":"SUM(A1096:U1096*(TRANSPOSE(CostCalculation!$D$38:$D$58)))","v":91440},{"$f":"V1096+SUM(A1096:U1096*(TRANSPOSE(CostCalculation!$C$38:$C$58)))","v":65366}]
[0,0,0,0,0,0,0,0,0,318,72,54,36,0,0,0,0,0,0,0,6,38004,{"$f":"SUM(A1097:U1097*(TRANSPOSE(CostCalculation!$D$38:$D$58)))","v":274320},{"$f":"V1097+SUM(A1097:U1097*(TRANSPOSE(CostCalculation!$C$38:$C$58)))","v":196098}]
[0,0,0,0,0,0,0,0,0,159,36,27,18,0,0,0,0,0,0,0,3,19002,{"$f":"SUM(A1098:U1098*(TRANSPOSE(CostCalculation!$D$38:$D$58)))","v":137160},{"$f":"V1098+SUM(A1098:U1098*(TRANSPOSE(CostCalculation!$C$38:$C$58)))","v":98049}]
[0,0,0,0,0,0,0,0,0,53,12,9,6,0,0,0,0,0,0,0,1,6334,{"$f":"SUM(A1099:U1099*(TRANSPOSE(CostCalculation!$D$38:$D$58)))","v":45720},{"$f":"V1099+SUM(A1099:U1099*(TRANSPOSE(CostCalculation!$C$38:$C$58)))","v":32683}]
[0,0,0,0,0,0,0,0,0,106,24,18,12,0,0,0,0,0,0,0,2,12668,{"$f":"SUM(A1100:U1100*(TRANSPOSE(CostCalculation!$D$38:$D$58)))","v":91440},{"$f":"V1100+SUM(A1100:U1100*(TRANSPOSE(CostCalculation!$C$38:$C$58)))","v":65366}]
[0,0,0,0,0,0,0,0,0,53,12,9,6,0,0,0,0,0,0,0,1,6334,{"$f":"SUM(A1101:U1101*(TRANSPOSE(CostCalculation!$D$38:$D$58)))","v":45720},{"$f":"V1101+SUM(A1101:U1101*(TRANSPOSE(CostCalculation!$C$38:$C$58)))","v":32683}]
[0,0,0,0,0,0,0,0,0,212,48,36,24,0,0,0,0,0,0,0,4,25336,{"$f":"SUM(A1102:U1102*(TRANSPOSE(CostCalculation!$D$38:$D$58)))","v":182880},{"$f":"V1102+SUM(A1102:U1102*(TRANSPOSE(CostCalculation!$C$38:$C$58)))","v":130732}]
[0,0,0,0,0,0,0,0,0,371,84,63,42,0,0,0,0,0,0,0,7,44338,{"$f":"SUM(A1103:U1103*(TRANSPOSE(CostCalculation!$D$38:$D$58)))","v":320040},{"$f":"V1103+SUM(A1103:U1103*(TRANSPOSE(CostCalculation!$C$38:$C$58)))","v":228781}]
[0,0,0,0,0,0,0,0,0,106,24,18,12,0,0,0,0,0,0,0,2,12668,{"$f":"SUM(A1104:U1104*(TRANSPOSE(CostCalculation!$D$38:$D$58)))","v":91440},{"$f":"V1104+SUM(A1104:U1104*(TRANSPOSE(CostCalculation!$C$38:$C$58)))","v":65366}]
[0,0,0,0,0,0,0,0,0,159,36,27,18,0,0,0,0,0,0,0,3,19002,{"$f":"SUM(A1105:U1105*(TRANSPOSE(CostCalculation!$D$38:$D$58)))","v":137160},{"$f":"V1105+SUM(A1105:U1105*(TRANSPOSE(CostCalculation!$C$38:$C$58)))","v":98049}]
[0,0,0,0,0,0,0,0,0,106,24,18,12,0,0,0,0,0,0,0,2,12668,{"$f":"SUM(A1106:U1106*(TRANSPOSE(CostCalculation!$D$38:$D$58)))","v":91440},{"$f":"V1106+SUM(A1106:U1106*(TRANSPOSE(CostCalculation!$C$38:$C$58)))","v":65366}]
[0,0,0,0,0,0,0,0,0,212,48,36,24,0,0,0,0,0,0,0,4,25336,{"$f":"SUM(A1107:U1107*(TRANSPOSE(CostCalculation!$D$38:$D$58)))","v":182880},{"$f":"V1107+SUM(A1107:U1107*(TRANSPOSE(CostCalculation!$C$38:$C$58)))","v":130732}]
[0,0,0,0,0,0,0,0,0,106,24,18,12,0,0,0,0,0,0,0,2,12668,{"$f":"SUM(A1108:U1108*(TRANSPOSE(CostCalculation!$D$38:$D$58)))","v":91440},{"$f":"V1108+SUM(A1108:U1108*(TRANSPOSE(CostCalculation!$C$38:$C$58)))","v":65366}]
[0,0,0,0,0,0,0,0,0,318,72,54,36,0,0,0,0,0,0,0,6,38004,{"$f":"SUM(A1109:U1109*(TRANSPOSE(CostCalculation!$D$38:$D$58)))","v":274320},{"$f":"V1109+SUM(A1109:U1109*(TRANSPOSE(CostCalculation!$C$38:$C$58)))","v":196098}]
[0,0,0,0,0,0,0,0,0,53,12,9,6,0,0,0,0,0,0,0,1,6334,{"$f":"SUM(A1110:U1110*(TRANSPOSE(CostCalculation!$D$38:$D$58)))","v":45720},{"$f":"V1110+SUM(A1110:U1110*(TRANSPOSE(CostCalculation!$C$38:$C$58)))","v":32683}]
[0,0,0,0,0,0,0,0,0,212,48,36,24,0,0,0,0,0,0,0,4,25336,{"$f":"SUM(A1111:U1111*(TRANSPOSE(CostCalculation!$D$38:$D$58)))","v":182880},{"$f":"V1111+SUM(A1111:U1111*(TRANSPOSE(CostCalculation!$C$38:$C$58)))","v":130732}]
[0,0,0,0,0,0,0,0,0,53,12,9,6,0,0,0,0,0,0,0,1,6334,{"$f":"SUM(A1112:U1112*(TRANSPOSE(CostCalculation!$D$38:$D$58)))","v":45720},{"$f":"V1112+SUM(A1112:U1112*(TRANSPOSE(CostCalculation!$C$38:$C$58)))","v":32683}]
[0,0,0,0,0,0,0,0,0,318,72,54,36,0,0,0,0,0,0,0,6,38004,{"$f":"SUM(A1113:U1113*(TRANSPOSE(CostCalculation!$D$38:$D$58)))","v":274320},{"$f":"V1113+SUM(A1113:U1113*(TRANSPOSE(CostCalculation!$C$38:$C$58)))","v":196098}]
[0,0,0,0,0,0,0,0,0,159,36,27,18,0,0,0,0,0,0,0,3,19002,{"$f":"SUM(A1114:U1114*(TRANSPOSE(CostCalculation!$D$38:$D$58)))","v":137160},{"$f":"V1114+SUM(A1114:U1114*(TRANSPOSE(CostCalculation!$C$38:$C$58)))","v":98049}]
[0,0,0,0,0,0,0,0,0,424,96,72,48,0,0,0,0,0,0,0,8,50672,{"$f":"SUM(A1115:U1115*(TRANSPOSE(CostCalculation!$D$38:$D$58)))","v":365760},{"$f":"V1115+SUM(A1115:U1115*(TRANSPOSE(CostCalculation!$C$38:$C$58)))","v":261464}]
[0,0,0,0,0,0,0,0,0,106,24,18,12,0,0,0,0,0,0,0,2,12668,{"$f":"SUM(A1116:U1116*(TRANSPOSE(CostCalculation!$D$38:$D$58)))","v":91440},{"$f":"V1116+SUM(A1116:U1116*(TRANSPOSE(CostCalculation!$C$38:$C$58)))","v":65366}]
[0,0,0,0,0,0,0,0,0,53,12,9,6,0,0,0,0,0,0,0,1,6334,{"$f":"SUM(A1117:U1117*(TRANSPOSE(CostCalculation!$D$38:$D$58)))","v":45720},{"$f":"V1117+SUM(A1117:U1117*(TRANSPOSE(CostCalculation!$C$38:$C$58)))","v":32683}]
[0,0,0,0,0,0,0,0,0,212,48,36,24,0,0,0,0,0,0,0,4,25336,{"$f":"SUM(A1118:U1118*(TRANSPOSE(CostCalculation!$D$38:$D$58)))","v":182880},{"$f":"V1118+SUM(A1118:U1118*(TRANSPOSE(CostCalculation!$C$38:$C$58)))","v":130732}]
[0,0,0,0,0,0,0,0,0,159,36,27,18,0,0,0,0,0,0,0,3,19002,{"$f":"SUM(A1119:U1119*(TRANSPOSE(CostCalculation!$D$38:$D$58)))","v":137160},{"$f":"V1119+SUM(A1119:U1119*(TRANSPOSE(CostCalculation!$C$38:$C$58)))","v":98049}]
[0,0,0,0,0,0,0,0,0,159,36,27,18,0,0,0,0,0,0,0,3,19002,{"$f":"SUM(A1120:U1120*(TRANSPOSE(CostCalculation!$D$38:$D$58)))","v":137160},{"$f":"V1120+SUM(A1120:U1120*(TRANSPOSE(CostCalculation!$C$38:$C$58)))","v":98049}]
[0,0,0,0,0,0,0,0,0,583,132,99,66,0,0,0,0,0,0,0,11,69674,{"$f":"SUM(A1121:U1121*(TRANSPOSE(CostCalculation!$D$38:$D$58)))","v":502920},{"$f":"V1121+SUM(A1121:U1121*(TRANSPOSE(CostCalculation!$C$38:$C$58)))","v":359513}]
[0,0,0,0,0,0,0,0,0,106,24,18,12,0,0,0,0,0,0,0,2,12668,{"$f":"SUM(A1122:U1122*(TRANSPOSE(CostCalculation!$D$38:$D$58)))","v":91440},{"$f":"V1122+SUM(A1122:U1122*(TRANSPOSE(CostCalculation!$C$38:$C$58)))","v":65366}]
[0,0,0,0,0,0,0,0,0,53,12,9,6,0,0,0,0,0,0,0,1,6334,{"$f":"SUM(A1123:U1123*(TRANSPOSE(CostCalculation!$D$38:$D$58)))","v":45720},{"$f":"V1123+SUM(A1123:U1123*(TRANSPOSE(CostCalculation!$C$38:$C$58)))","v":32683}]
[0,0,0,0,0,0,0,0,0,371,84,63,42,0,0,0,0,0,0,0,7,44338,{"$f":"SUM(A1124:U1124*(TRANSPOSE(CostCalculation!$D$38:$D$58)))","v":320040},{"$f":"V1124+SUM(A1124:U1124*(TRANSPOSE(CostCalculation!$C$38:$C$58)))","v":228781}]
[0,0,0,0,0,0,0,0,0,53,12,9,6,0,0,0,0,0,0,0,1,6334,{"$f":"SUM(A1125:U1125*(TRANSPOSE(CostCalculation!$D$38:$D$58)))","v":45720},{"$f":"V1125+SUM(A1125:U1125*(TRANSPOSE(CostCalculation!$C$38:$C$58)))","v":32683}]
[0,0,0,0,0,0,0,0,0,424,96,72,48,0,0,0,0,0,0,0,8,50672,{"$f":"SUM(A1126:U1126*(TRANSPOSE(CostCalculation!$D$38:$D$58)))","v":365760},{"$f":"V1126+SUM(A1126:U1126*(TRANSPOSE(CostCalculation!$C$38:$C$58)))","v":261464}]
[0,0,0,0,0,0,0,0,0,53,12,9,6,0,0,0,0,0,0,0,1,6334,{"$f":"SUM(A1127:U1127*(TRANSPOSE(CostCalculation!$D$38:$D$58)))","v":45720},{"$f":"V1127+SUM(A1127:U1127*(TRANSPOSE(CostCalculation!$C$38:$C$58)))","v":32683}]
[0,0,0,0,0,0,0,0,0,53,12,9,6,0,0,0,0,0,0,0,1,6334,{"$f":"SUM(A1128:U1128*(TRANSPOSE(CostCalculation!$D$38:$D$58)))","v":45720},{"$f":"V1128+SUM(A1128:U1128*(TRANSPOSE(CostCalculation!$C$38:$C$58)))","v":32683}]
[0,0,0,0,0,0,0,0,0,106,24,18,12,0,0,0,0,0,0,0,2,12668,{"$f":"SUM(A1129:U1129*(TRANSPOSE(CostCalculation!$D$38:$D$58)))","v":91440},{"$f":"V1129+SUM(A1129:U1129*(TRANSPOSE(CostCalculation!$C$38:$C$58)))","v":65366}]
[0,0,0,0,0,0,0,0,0,106,24,18,12,0,0,0,0,0,0,0,2,12668,{"$f":"SUM(A1130:U1130*(TRANSPOSE(CostCalculation!$D$38:$D$58)))","v":91440},{"$f":"V1130+SUM(A1130:U1130*(TRANSPOSE(CostCalculation!$C$38:$C$58)))","v":65366}]
[0,0,0,0,0,0,0,0,0,265,60,45,30,0,0,0,0,0,0,0,5,31670,{"$f":"SUM(A1131:U1131*(TRANSPOSE(CostCalculation!$D$38:$D$58)))","v":228600},{"$f":"V1131+SUM(A1131:U1131*(TRANSPOSE(CostCalculation!$C$38:$C$58)))","v":163415}]
[0,0,0,0,0,0,0,0,0,265,60,45,30,0,0,0,0,0,0,0,5,31670,{"$f":"SUM(A1132:U1132*(TRANSPOSE(CostCalculation!$D$38:$D$58)))","v":228600},{"$f":"V1132+SUM(A1132:U1132*(TRANSPOSE(CostCalculation!$C$38:$C$58)))","v":163415}]
[0,0,0,0,0,0,0,0,0,53,12,9,6,0,0,0,0,0,0,0,1,6334,{"$f":"SUM(A1133:U1133*(TRANSPOSE(CostCalculation!$D$38:$D$58)))","v":45720},{"$f":"V1133+SUM(A1133:U1133*(TRANSPOSE(CostCalculation!$C$38:$C$58)))","v":32683}]
[0,0,0,0,0,0,0,0,0,106,24,18,12,0,0,0,0,0,0,0,2,12668,{"$f":"SUM(A1134:U1134*(TRANSPOSE(CostCalculation!$D$38:$D$58)))","v":91440},{"$f":"V1134+SUM(A1134:U1134*(TRANSPOSE(CostCalculation!$C$38:$C$58)))","v":65366}]
[0,0,0,0,0,0,0,0,0,53,12,9,6,0,0,0,0,0,0,0,1,6334,{"$f":"SUM(A1135:U1135*(TRANSPOSE(CostCalculation!$D$38:$D$58)))","v":45720},{"$f":"V1135+SUM(A1135:U1135*(TRANSPOSE(CostCalculation!$C$38:$C$58)))","v":32683}]
[0,0,0,0,0,0,0,0,0,318,72,54,36,0,0,0,0,0,0,0,6,38004,{"$f":"SUM(A1136:U1136*(TRANSPOSE(CostCalculation!$D$38:$D$58)))","v":274320},{"$f":"V1136+SUM(A1136:U1136*(TRANSPOSE(CostCalculation!$C$38:$C$58)))","v":196098}]
[0,0,0,0,0,0,0,0,0,318,72,54,36,0,0,0,0,0,0,0,6,38004,{"$f":"SUM(A1137:U1137*(TRANSPOSE(CostCalculation!$D$38:$D$58)))","v":274320},{"$f":"V1137+SUM(A1137:U1137*(TRANSPOSE(CostCalculation!$C$38:$C$58)))","v":196098}]
[0,0,0,0,0,0,0,0,0,212,48,36,24,0,0,0,0,0,0,0,4,25336,{"$f":"SUM(A1138:U1138*(TRANSPOSE(CostCalculation!$D$38:$D$58)))","v":182880},{"$f":"V1138+SUM(A1138:U1138*(TRANSPOSE(CostCalculation!$C$38:$C$58)))","v":130732}]
[0,0,0,0,0,0,0,0,0,477,108,81,54,0,0,0,0,0,0,0,9,57006,{"$f":"SUM(A1139:U1139*(TRANSPOSE(CostCalculation!$D$38:$D$58)))","v":411480},{"$f":"V1139+SUM(A1139:U1139*(TRANSPOSE(CostCalculation!$C$38:$C$58)))","v":294147}]
[0,0,0,0,0,0,0,0,0,212,48,36,24,0,0,0,0,0,0,0,4,25336,{"$f":"SUM(A1140:U1140*(TRANSPOSE(CostCalculation!$D$38:$D$58)))","v":182880},{"$f":"V1140+SUM(A1140:U1140*(TRANSPOSE(CostCalculation!$C$38:$C$58)))","v":130732}]
[0,0,0,0,0,0,0,0,0,53,12,9,6,0,0,0,0,0,0,0,1,6334,{"$f":"SUM(A1141:U1141*(TRANSPOSE(CostCalculation!$D$38:$D$58)))","v":45720},{"$f":"V1141+SUM(A1141:U1141*(TRANSPOSE(CostCalculation!$C$38:$C$58)))","v":32683}]
[0,0,0,0,0,0,0,0,0,265,60,45,30,0,0,0,0,0,0,0,5,31670,{"$f":"SUM(A1142:U1142*(TRANSPOSE(CostCalculation!$D$38:$D$58)))","v":228600},{"$f":"V1142+SUM(A1142:U1142*(TRANSPOSE(CostCalculation!$C$38:$C$58)))","v":163415}]
[0,0,0,0,0,0,0,0,0,106,24,18,12,0,0,0,0,0,0,0,2,12668,{"$f":"SUM(A1143:U1143*(TRANSPOSE(CostCalculation!$D$38:$D$58)))","v":91440},{"$f":"V1143+SUM(A1143:U1143*(TRANSPOSE(CostCalculation!$C$38:$C$58)))","v":65366}]
[0,0,0,0,0,0,0,0,0,53,12,9,6,0,0,0,0,0,0,0,1,6334,{"$f":"SUM(A1144:U1144*(TRANSPOSE(CostCalculation!$D$38:$D$58)))","v":45720},{"$f":"V1144+SUM(A1144:U1144*(TRANSPOSE(CostCalculation!$C$38:$C$58)))","v":32683}]
[0,0,0,0,0,0,0,0,0,371,84,63,42,0,0,0,0,0,0,0,7,44338,{"$f":"SUM(A1145:U1145*(TRANSPOSE(CostCalculation!$D$38:$D$58)))","v":320040},{"$f":"V1145+SUM(A1145:U1145*(TRANSPOSE(CostCalculation!$C$38:$C$58)))","v":228781}]
[0,0,0,0,0,0,0,0,0,53,12,9,6,0,0,0,0,0,0,0,1,6334,{"$f":"SUM(A1146:U1146*(TRANSPOSE(CostCalculation!$D$38:$D$58)))","v":45720},{"$f":"V1146+SUM(A1146:U1146*(TRANSPOSE(CostCalculation!$C$38:$C$58)))","v":32683}]
[0,0,0,0,0,0,0,0,0,53,12,9,6,0,0,0,0,0,0,0,1,6334,{"$f":"SUM(A1147:U1147*(TRANSPOSE(CostCalculation!$D$38:$D$58)))","v":45720},{"$f":"V1147+SUM(A1147:U1147*(TRANSPOSE(CostCalculation!$C$38:$C$58)))","v":32683}]
[0,0,0,0,0,0,0,0,0,265,60,45,30,0,0,0,0,0,0,0,5,31670,{"$f":"SUM(A1148:U1148*(TRANSPOSE(CostCalculation!$D$38:$D$58)))","v":228600},{"$f":"V1148+SUM(A1148:U1148*(TRANSPOSE(CostCalculation!$C$38:$C$58)))","v":163415}]
[0,0,0,0,0,0,0,0,0,318,72,54,36,0,0,0,0,0,0,0,6,38004,{"$f":"SUM(A1149:U1149*(TRANSPOSE(CostCalculation!$D$38:$D$58)))","v":274320},{"$f":"V1149+SUM(A1149:U1149*(TRANSPOSE(CostCalculation!$C$38:$C$58)))","v":196098}]
[0,0,0,0,0,0,0,0,0,106,24,18,12,0,0,0,0,0,0,0,2,12668,{"$f":"SUM(A1150:U1150*(TRANSPOSE(CostCalculation!$D$38:$D$58)))","v":91440},{"$f":"V1150+SUM(A1150:U1150*(TRANSPOSE(CostCalculation!$C$38:$C$58)))","v":65366}]
[0,0,0,0,0,0,0,0,0,371,84,63,42,0,0,0,0,0,0,0,7,44338,{"$f":"SUM(A1151:U1151*(TRANSPOSE(CostCalculation!$D$38:$D$58)))","v":320040},{"$f":"V1151+SUM(A1151:U1151*(TRANSPOSE(CostCalculation!$C$38:$C$58)))","v":228781}]
[0,0,0,0,0,0,0,0,0,106,24,18,12,0,0,0,0,0,0,0,2,12668,{"$f":"SUM(A1152:U1152*(TRANSPOSE(CostCalculation!$D$38:$D$58)))","v":91440},{"$f":"V1152+SUM(A1152:U1152*(TRANSPOSE(CostCalculation!$C$38:$C$58)))","v":65366}]
[0,0,0,0,0,0,0,0,0,159,36,27,18,0,0,0,0,0,0,0,3,19002,{"$f":"SUM(A1153:U1153*(TRANSPOSE(CostCalculation!$D$38:$D$58)))","v":137160},{"$f":"V1153+SUM(A1153:U1153*(TRANSPOSE(CostCalculation!$C$38:$C$58)))","v":98049}]
[0,0,0,0,0,0,0,0,0,53,12,9,6,0,0,0,0,0,0,0,1,6334,{"$f":"SUM(A1154:U1154*(TRANSPOSE(CostCalculation!$D$38:$D$58)))","v":45720},{"$f":"V1154+SUM(A1154:U1154*(TRANSPOSE(CostCalculation!$C$38:$C$58)))","v":32683}]
[0,0,0,0,0,0,0,0,0,265,60,45,30,0,0,0,0,0,0,0,5,31670,{"$f":"SUM(A1155:U1155*(TRANSPOSE(CostCalculation!$D$38:$D$58)))","v":228600},{"$f":"V1155+SUM(A1155:U1155*(TRANSPOSE(CostCalculation!$C$38:$C$58)))","v":163415}]
[0,0,0,0,0,0,0,0,0,212,48,36,24,0,0,0,0,0,0,0,4,25336,{"$f":"SUM(A1156:U1156*(TRANSPOSE(CostCalculation!$D$38:$D$58)))","v":182880},{"$f":"V1156+SUM(A1156:U1156*(TRANSPOSE(CostCalculation!$C$38:$C$58)))","v":130732}]
[0,0,0,0,0,0,0,0,0,106,24,18,12,0,0,0,0,0,0,0,2,12668,{"$f":"SUM(A1157:U1157*(TRANSPOSE(CostCalculation!$D$38:$D$58)))","v":91440},{"$f":"V1157+SUM(A1157:U1157*(TRANSPOSE(CostCalculation!$C$38:$C$58)))","v":65366}]
[0,0,0,0,0,0,0,0,0,265,60,45,30,0,0,0,0,0,0,0,5,31670,{"$f":"SUM(A1158:U1158*(TRANSPOSE(CostCalculation!$D$38:$D$58)))","v":228600},{"$f":"V1158+SUM(A1158:U1158*(TRANSPOSE(CostCalculation!$C$38:$C$58)))","v":163415}]
[0,0,0,0,0,0,0,0,0,212,48,36,24,0,0,0,0,0,0,0,4,25336,{"$f":"SUM(A1159:U1159*(TRANSPOSE(CostCalculation!$D$38:$D$58)))","v":182880},{"$f":"V1159+SUM(A1159:U1159*(TRANSPOSE(CostCalculation!$C$38:$C$58)))","v":130732}]
[0,0,0,0,0,0,0,0,0,371,84,63,42,0,0,0,0,0,0,0,7,44338,{"$f":"SUM(A1160:U1160*(TRANSPOSE(CostCalculation!$D$38:$D$58)))","v":320040},{"$f":"V1160+SUM(A1160:U1160*(TRANSPOSE(CostCalculation!$C$38:$C$58)))","v":228781}]
[0,0,0,0,0,0,0,0,0,636,144,108,72,0,0,0,0,0,0,0,12,76008,{"$f":"SUM(A1161:U1161*(TRANSPOSE(CostCalculation!$D$38:$D$58)))","v":548640},{"$f":"V1161+SUM(A1161:U1161*(TRANSPOSE(CostCalculation!$C$38:$C$58)))","v":392196}]
[0,0,0,0,0,0,0,0,0,53,12,9,6,0,0,0,0,0,0,0,1,6334,{"$f":"SUM(A1162:U1162*(TRANSPOSE(CostCalculation!$D$38:$D$58)))","v":45720},{"$f":"V1162+SUM(A1162:U1162*(TRANSPOSE(CostCalculation!$C$38:$C$58)))","v":32683}]
[0,0,0,0,0,0,0,0,0,106,24,18,12,0,0,0,0,0,0,0,2,12668,{"$f":"SUM(A1163:U1163*(TRANSPOSE(CostCalculation!$D$38:$D$58)))","v":91440},{"$f":"V1163+SUM(A1163:U1163*(TRANSPOSE(CostCalculation!$C$38:$C$58)))","v":65366}]
[0,0,0,0,0,0,0,0,0,159,36,27,18,0,0,0,0,0,0,0,3,19002,{"$f":"SUM(A1164:U1164*(TRANSPOSE(CostCalculation!$D$38:$D$58)))","v":137160},{"$f":"V1164+SUM(A1164:U1164*(TRANSPOSE(CostCalculation!$C$38:$C$58)))","v":98049}]
[0,0,0,0,0,0,0,0,0,159,36,27,18,0,0,0,0,0,0,0,3,19002,{"$f":"SUM(A1165:U1165*(TRANSPOSE(CostCalculation!$D$38:$D$58)))","v":137160},{"$f":"V1165+SUM(A1165:U1165*(TRANSPOSE(CostCalculation!$C$38:$C$58)))","v":98049}]
[0,0,0,0,0,0,0,0,0,159,36,27,18,0,0,0,0,0,0,0,3,19002,{"$f":"SUM(A1166:U1166*(TRANSPOSE(CostCalculation!$D$38:$D$58)))","v":137160},{"$f":"V1166+SUM(A1166:U1166*(TRANSPOSE(CostCalculation!$C$38:$C$58)))","v":98049}]
[0,0,0,0,0,0,0,0,0,53,12,9,6,0,0,0,0,0,0,0,1,6334,{"$f":"SUM(A1167:U1167*(TRANSPOSE(CostCalculation!$D$38:$D$58)))","v":45720},{"$f":"V1167+SUM(A1167:U1167*(TRANSPOSE(CostCalculation!$C$38:$C$58)))","v":32683}]
[0,0,0,0,0,0,0,0,0,159,36,27,18,0,0,0,0,0,0,0,3,19002,{"$f":"SUM(A1168:U1168*(TRANSPOSE(CostCalculation!$D$38:$D$58)))","v":137160},{"$f":"V1168+SUM(A1168:U1168*(TRANSPOSE(CostCalculation!$C$38:$C$58)))","v":98049}]
[0,0,0,0,0,0,0,0,0,106,24,18,12,0,0,0,0,0,0,0,2,12668,{"$f":"SUM(A1169:U1169*(TRANSPOSE(CostCalculation!$D$38:$D$58)))","v":91440},{"$f":"V1169+SUM(A1169:U1169*(TRANSPOSE(CostCalculation!$C$38:$C$58)))","v":65366}]
[0,0,0,0,0,0,0,0,0,212,48,36,24,0,0,0,0,0,0,0,4,25336,{"$f":"SUM(A1170:U1170*(TRANSPOSE(CostCalculation!$D$38:$D$58)))","v":182880},{"$f":"V1170+SUM(A1170:U1170*(TRANSPOSE(CostCalculation!$C$38:$C$58)))","v":130732}]
[0,0,0,0,0,0,0,0,0,212,48,36,24,0,0,0,0,0,0,0,4,25336,{"$f":"SUM(A1171:U1171*(TRANSPOSE(CostCalculation!$D$38:$D$58)))","v":182880},{"$f":"V1171+SUM(A1171:U1171*(TRANSPOSE(CostCalculation!$C$38:$C$58)))","v":130732}]
[0,0,0,0,0,0,0,0,0,265,60,45,30,0,0,0,0,0,0,0,5,31670,{"$f":"SUM(A1172:U1172*(TRANSPOSE(CostCalculation!$D$38:$D$58)))","v":228600},{"$f":"V1172+SUM(A1172:U1172*(TRANSPOSE(CostCalculation!$C$38:$C$58)))","v":163415}]
[0,0,0,0,0,0,0,0,0,265,60,45,30,0,0,0,0,0,0,0,5,31670,{"$f":"SUM(A1173:U1173*(TRANSPOSE(CostCalculation!$D$38:$D$58)))","v":228600},{"$f":"V1173+SUM(A1173:U1173*(TRANSPOSE(CostCalculation!$C$38:$C$58)))","v":163415}]
[0,0,0,0,0,0,0,0,0,371,84,63,42,0,0,0,0,0,0,0,7,44338,{"$f":"SUM(A1174:U1174*(TRANSPOSE(CostCalculation!$D$38:$D$58)))","v":320040},{"$f":"V1174+SUM(A1174:U1174*(TRANSPOSE(CostCalculation!$C$38:$C$58)))","v":228781}]
[0,0,0,0,0,0,0,0,0,53,12,9,6,0,0,0,0,0,0,0,1,6334,{"$f":"SUM(A1175:U1175*(TRANSPOSE(CostCalculation!$D$38:$D$58)))","v":45720},{"$f":"V1175+SUM(A1175:U1175*(TRANSPOSE(CostCalculation!$C$38:$C$58)))","v":32683}]
[0,0,0,0,0,0,0,0,0,53,12,9,6,0,0,0,0,0,0,0,1,6334,{"$f":"SUM(A1176:U1176*(TRANSPOSE(CostCalculation!$D$38:$D$58)))","v":45720},{"$f":"V1176+SUM(A1176:U1176*(TRANSPOSE(CostCalculation!$C$38:$C$58)))","v":32683}]
[0,0,0,0,0,0,0,0,0,212,48,36,24,0,0,0,0,0,0,0,4,25336,{"$f":"SUM(A1177:U1177*(TRANSPOSE(CostCalculation!$D$38:$D$58)))","v":182880},{"$f":"V1177+SUM(A1177:U1177*(TRANSPOSE(CostCalculation!$C$38:$C$58)))","v":130732}]
[0,0,0,0,0,0,0,0,0,159,36,27,18,0,0,0,0,0,0,0,3,19002,{"$f":"SUM(A1178:U1178*(TRANSPOSE(CostCalculation!$D$38:$D$58)))","v":137160},{"$f":"V1178+SUM(A1178:U1178*(TRANSPOSE(CostCalculation!$C$38:$C$58)))","v":98049}]
[0,0,0,0,0,0,0,0,0,53,12,9,6,0,0,0,0,0,0,0,1,6334,{"$f":"SUM(A1179:U1179*(TRANSPOSE(CostCalculation!$D$38:$D$58)))","v":45720},{"$f":"V1179+SUM(A1179:U1179*(TRANSPOSE(CostCalculation!$C$38:$C$58)))","v":32683}]
[0,0,0,0,0,0,0,0,0,106,24,18,12,0,0,0,0,0,0,0,2,12668,{"$f":"SUM(A1180:U1180*(TRANSPOSE(CostCalculation!$D$38:$D$58)))","v":91440},{"$f":"V1180+SUM(A1180:U1180*(TRANSPOSE(CostCalculation!$C$38:$C$58)))","v":65366}]
[0,0,0,0,0,0,0,0,0,159,36,27,18,0,0,0,0,0,0,0,3,19002,{"$f":"SUM(A1181:U1181*(TRANSPOSE(CostCalculation!$D$38:$D$58)))","v":137160},{"$f":"V1181+SUM(A1181:U1181*(TRANSPOSE(CostCalculation!$C$38:$C$58)))","v":98049}]
[0,0,0,0,0,0,0,0,0,53,12,9,6,0,0,0,0,0,0,0,1,6334,{"$f":"SUM(A1182:U1182*(TRANSPOSE(CostCalculation!$D$38:$D$58)))","v":45720},{"$f":"V1182+SUM(A1182:U1182*(TRANSPOSE(CostCalculation!$C$38:$C$58)))","v":32683}]
[0,0,0,0,0,0,0,0,0,212,48,36,24,0,0,0,0,0,0,0,4,25336,{"$f":"SUM(A1183:U1183*(TRANSPOSE(CostCalculation!$D$38:$D$58)))","v":182880},{"$f":"V1183+SUM(A1183:U1183*(TRANSPOSE(CostCalculation!$C$38:$C$58)))","v":130732}]
[0,0,0,0,0,0,0,0,0,318,72,54,36,0,0,0,0,0,0,0,6,38004,{"$f":"SUM(A1184:U1184*(TRANSPOSE(CostCalculation!$D$38:$D$58)))","v":274320},{"$f":"V1184+SUM(A1184:U1184*(TRANSPOSE(CostCalculation!$C$38:$C$58)))","v":196098}]
[0,0,0,0,0,0,0,0,0,53,12,9,6,0,0,0,0,0,0,0,1,6334,{"$f":"SUM(A1185:U1185*(TRANSPOSE(CostCalculation!$D$38:$D$58)))","v":45720},{"$f":"V1185+SUM(A1185:U1185*(TRANSPOSE(CostCalculation!$C$38:$C$58)))","v":32683}]
[0,0,0,0,0,0,0,0,0,159,36,27,18,0,0,0,0,0,0,0,3,19002,{"$f":"SUM(A1186:U1186*(TRANSPOSE(CostCalculation!$D$38:$D$58)))","v":137160},{"$f":"V1186+SUM(A1186:U1186*(TRANSPOSE(CostCalculation!$C$38:$C$58)))","v":98049}]
[0,0,0,0,0,0,0,0,0,53,12,9,6,0,0,0,0,0,0,0,1,6334,{"$f":"SUM(A1187:U1187*(TRANSPOSE(CostCalculation!$D$38:$D$58)))","v":45720},{"$f":"V1187+SUM(A1187:U1187*(TRANSPOSE(CostCalculation!$C$38:$C$58)))","v":32683}]
[0,0,0,0,0,0,0,0,0,106,24,18,12,0,0,0,0,0,0,0,2,12668,{"$f":"SUM(A1188:U1188*(TRANSPOSE(CostCalculation!$D$38:$D$58)))","v":91440},{"$f":"V1188+SUM(A1188:U1188*(TRANSPOSE(CostCalculation!$C$38:$C$58)))","v":65366}]
[0,0,0,0,0,0,0,0,0,212,48,36,24,0,0,0,0,0,0,0,4,25336,{"$f":"SUM(A1189:U1189*(TRANSPOSE(CostCalculation!$D$38:$D$58)))","v":182880},{"$f":"V1189+SUM(A1189:U1189*(TRANSPOSE(CostCalculation!$C$38:$C$58)))","v":130732}]
[0,0,0,0,0,0,0,0,0,53,12,9,6,0,0,0,0,0,0,0,1,6334,{"$f":"SUM(A1190:U1190*(TRANSPOSE(CostCalculation!$D$38:$D$58)))","v":45720},{"$f":"V1190+SUM(A1190:U1190*(TRANSPOSE(CostCalculation!$C$38:$C$58)))","v":32683}]
[0,0,0,0,0,0,0,0,0,212,48,36,24,0,0,0,0,0,0,0,4,25336,{"$f":"SUM(A1191:U1191*(TRANSPOSE(CostCalculation!$D$38:$D$58)))","v":182880},{"$f":"V1191+SUM(A1191:U1191*(TRANSPOSE(CostCalculation!$C$38:$C$58)))","v":130732}]
[0,0,0,0,0,0,0,0,0,212,48,36,24,0,0,0,0,0,0,0,4,25336,{"$f":"SUM(A1192:U1192*(TRANSPOSE(CostCalculation!$D$38:$D$58)))","v":182880},{"$f":"V1192+SUM(A1192:U1192*(TRANSPOSE(CostCalculation!$C$38:$C$58)))","v":130732}]
[0,0,0,0,0,0,0,0,0,265,60,45,30,0,0,0,0,0,0,0,5,31670,{"$f":"SUM(A1193:U1193*(TRANSPOSE(CostCalculation!$D$38:$D$58)))","v":228600},{"$f":"V1193+SUM(A1193:U1193*(TRANSPOSE(CostCalculation!$C$38:$C$58)))","v":163415}]
[0,0,0,0,0,0,0,0,0,53,12,9,6,0,0,0,0,0,0,0,1,6334,{"$f":"SUM(A1194:U1194*(TRANSPOSE(CostCalculation!$D$38:$D$58)))","v":45720},{"$f":"V1194+SUM(A1194:U1194*(TRANSPOSE(CostCalculation!$C$38:$C$58)))","v":32683}]
[0,0,0,0,0,0,0,0,0,53,12,9,6,0,0,0,0,0,0,0,1,6334,{"$f":"SUM(A1195:U1195*(TRANSPOSE(CostCalculation!$D$38:$D$58)))","v":45720},{"$f":"V1195+SUM(A1195:U1195*(TRANSPOSE(CostCalculation!$C$38:$C$58)))","v":32683}]
[0,0,0,0,0,0,0,0,0,318,72,54,36,0,0,0,0,0,0,0,6,38004,{"$f":"SUM(A1196:U1196*(TRANSPOSE(CostCalculation!$D$38:$D$58)))","v":274320},{"$f":"V1196+SUM(A1196:U1196*(TRANSPOSE(CostCalculation!$C$38:$C$58)))","v":196098}]
[0,0,0,0,0,0,0,0,0,53,12,9,6,0,0,0,0,0,0,0,1,6334,{"$f":"SUM(A1197:U1197*(TRANSPOSE(CostCalculation!$D$38:$D$58)))","v":45720},{"$f":"V1197+SUM(A1197:U1197*(TRANSPOSE(CostCalculation!$C$38:$C$58)))","v":32683}]
[0,0,0,0,0,0,0,0,0,106,24,18,12,0,0,0,0,0,0,0,2,12668,{"$f":"SUM(A1198:U1198*(TRANSPOSE(CostCalculation!$D$38:$D$58)))","v":91440},{"$f":"V1198+SUM(A1198:U1198*(TRANSPOSE(CostCalculation!$C$38:$C$58)))","v":65366}]
[0,0,0,0,0,0,0,0,0,53,12,9,6,0,0,0,0,0,0,0,1,6334,{"$f":"SUM(A1199:U1199*(TRANSPOSE(CostCalculation!$D$38:$D$58)))","v":45720},{"$f":"V1199+SUM(A1199:U1199*(TRANSPOSE(CostCalculation!$C$38:$C$58)))","v":32683}]
[0,0,0,0,0,0,0,0,0,106,24,18,12,0,0,0,0,0,0,0,2,12668,{"$f":"SUM(A1200:U1200*(TRANSPOSE(CostCalculation!$D$38:$D$58)))","v":91440},{"$f":"V1200+SUM(A1200:U1200*(TRANSPOSE(CostCalculation!$C$38:$C$58)))","v":65366}]
[0,0,0,0,0,0,0,0,0,212,48,36,24,0,0,0,0,0,0,0,4,25336,{"$f":"SUM(A1201:U1201*(TRANSPOSE(CostCalculation!$D$38:$D$58)))","v":182880},{"$f":"V1201+SUM(A1201:U1201*(TRANSPOSE(CostCalculation!$C$38:$C$58)))","v":130732}]
[0,0,0,0,0,0,0,0,0,159,36,27,18,0,0,0,0,0,0,0,3,19002,{"$f":"SUM(A1202:U1202*(TRANSPOSE(CostCalculation!$D$38:$D$58)))","v":137160},{"$f":"V1202+SUM(A1202:U1202*(TRANSPOSE(CostCalculation!$C$38:$C$58)))","v":98049}]
[0,0,0,0,0,0,0,0,0,53,12,9,6,0,0,0,0,0,0,0,1,6334,{"$f":"SUM(A1203:U1203*(TRANSPOSE(CostCalculation!$D$38:$D$58)))","v":45720},{"$f":"V1203+SUM(A1203:U1203*(TRANSPOSE(CostCalculation!$C$38:$C$58)))","v":32683}]
[0,0,0,0,0,0,0,0,0,318,72,54,36,0,0,0,0,0,0,0,6,38004,{"$f":"SUM(A1204:U1204*(TRANSPOSE(CostCalculation!$D$38:$D$58)))","v":274320},{"$f":"V1204+SUM(A1204:U1204*(TRANSPOSE(CostCalculation!$C$38:$C$58)))","v":196098}]
[0,0,0,0,0,0,0,0,0,53,12,9,6,0,0,0,0,0,0,0,1,6334,{"$f":"SUM(A1205:U1205*(TRANSPOSE(CostCalculation!$D$38:$D$58)))","v":45720},{"$f":"V1205+SUM(A1205:U1205*(TRANSPOSE(CostCalculation!$C$38:$C$58)))","v":32683}]
[0,0,0,0,0,0,0,0,0,159,36,27,18,0,0,0,0,0,0,0,3,19002,{"$f":"SUM(A1206:U1206*(TRANSPOSE(CostCalculation!$D$38:$D$58)))","v":137160},{"$f":"V1206+SUM(A1206:U1206*(TRANSPOSE(CostCalculation!$C$38:$C$58)))","v":98049}]
[0,0,0,0,0,0,0,0,0,159,36,27,18,0,0,0,0,0,0,0,3,19002,{"$f":"SUM(A1207:U1207*(TRANSPOSE(CostCalculation!$D$38:$D$58)))","v":137160},{"$f":"V1207+SUM(A1207:U1207*(TRANSPOSE(CostCalculation!$C$38:$C$58)))","v":98049}]
[0,0,0,0,0,0,0,0,0,371,84,63,42,0,0,0,0,0,0,0,7,44338,{"$f":"SUM(A1208:U1208*(TRANSPOSE(CostCalculation!$D$38:$D$58)))","v":320040},{"$f":"V1208+SUM(A1208:U1208*(TRANSPOSE(CostCalculation!$C$38:$C$58)))","v":228781}]
[0,0,0,0,0,0,0,0,0,424,96,72,48,0,0,0,0,0,0,0,8,50672,{"$f":"SUM(A1209:U1209*(TRANSPOSE(CostCalculation!$D$38:$D$58)))","v":365760},{"$f":"V1209+SUM(A1209:U1209*(TRANSPOSE(CostCalculation!$C$38:$C$58)))","v":261464}]
[0,0,0,0,0,0,0,0,0,53,12,9,6,0,0,0,0,0,0,0,1,6334,{"$f":"SUM(A1210:U1210*(TRANSPOSE(CostCalculation!$D$38:$D$58)))","v":45720},{"$f":"V1210+SUM(A1210:U1210*(TRANSPOSE(CostCalculation!$C$38:$C$58)))","v":32683}]
[0,0,0,0,0,0,0,0,0,53,12,9,6,0,0,0,0,0,0,0,1,6334,{"$f":"SUM(A1211:U1211*(TRANSPOSE(CostCalculation!$D$38:$D$58)))","v":45720},{"$f":"V1211+SUM(A1211:U1211*(TRANSPOSE(CostCalculation!$C$38:$C$58)))","v":32683}]
[0,0,0,0,0,0,0,0,0,477,108,81,54,0,0,0,0,0,0,0,9,57006,{"$f":"SUM(A1212:U1212*(TRANSPOSE(CostCalculation!$D$38:$D$58)))","v":411480},{"$f":"V1212+SUM(A1212:U1212*(TRANSPOSE(CostCalculation!$C$38:$C$58)))","v":294147}]
[0,0,0,0,0,0,0,0,0,106,24,18,12,0,0,0,0,0,0,0,2,12668,{"$f":"SUM(A1213:U1213*(TRANSPOSE(CostCalculation!$D$38:$D$58)))","v":91440},{"$f":"V1213+SUM(A1213:U1213*(TRANSPOSE(CostCalculation!$C$38:$C$58)))","v":65366}]
[0,0,0,0,0,0,0,0,0,53,12,9,6,0,0,0,0,0,0,0,1,6334,{"$f":"SUM(A1214:U1214*(TRANSPOSE(CostCalculation!$D$38:$D$58)))","v":45720},{"$f":"V1214+SUM(A1214:U1214*(TRANSPOSE(CostCalculation!$C$38:$C$58)))","v":32683}]
[0,0,0,0,0,0,0,0,0,318,72,54,36,0,0,0,0,0,0,0,6,38004,{"$f":"SUM(A1215:U1215*(TRANSPOSE(CostCalculation!$D$38:$D$58)))","v":274320},{"$f":"V1215+SUM(A1215:U1215*(TRANSPOSE(CostCalculation!$C$38:$C$58)))","v":196098}]
[0,0,0,0,0,0,0,0,0,212,48,36,24,0,0,0,0,0,0,0,4,25336,{"$f":"SUM(A1216:U1216*(TRANSPOSE(CostCalculation!$D$38:$D$58)))","v":182880},{"$f":"V1216+SUM(A1216:U1216*(TRANSPOSE(CostCalculation!$C$38:$C$58)))","v":130732}]
[0,0,0,0,0,0,0,0,0,159,36,27,18,0,0,0,0,0,0,0,3,19002,{"$f":"SUM(A1217:U1217*(TRANSPOSE(CostCalculation!$D$38:$D$58)))","v":137160},{"$f":"V1217+SUM(A1217:U1217*(TRANSPOSE(CostCalculation!$C$38:$C$58)))","v":98049}]
[0,0,0,0,0,0,0,0,0,53,12,9,6,0,0,0,0,0,0,0,1,6334,{"$f":"SUM(A1218:U1218*(TRANSPOSE(CostCalculation!$D$38:$D$58)))","v":45720},{"$f":"V1218+SUM(A1218:U1218*(TRANSPOSE(CostCalculation!$C$38:$C$58)))","v":32683}]
[0,0,0,0,0,0,0,0,0,265,60,45,30,0,0,0,0,0,0,0,5,31670,{"$f":"SUM(A1219:U1219*(TRANSPOSE(CostCalculation!$D$38:$D$58)))","v":228600},{"$f":"V1219+SUM(A1219:U1219*(TRANSPOSE(CostCalculation!$C$38:$C$58)))","v":163415}]
[0,0,0,0,0,0,0,0,0,53,12,9,6,0,0,0,0,0,0,0,1,6334,{"$f":"SUM(A1220:U1220*(TRANSPOSE(CostCalculation!$D$38:$D$58)))","v":45720},{"$f":"V1220+SUM(A1220:U1220*(TRANSPOSE(CostCalculation!$C$38:$C$58)))","v":32683}]
[0,0,0,0,0,0,0,0,0,106,24,18,12,0,0,0,0,0,0,0,2,12668,{"$f":"SUM(A1221:U1221*(TRANSPOSE(CostCalculation!$D$38:$D$58)))","v":91440},{"$f":"V1221+SUM(A1221:U1221*(TRANSPOSE(CostCalculation!$C$38:$C$58)))","v":65366}]
[0,0,0,0,0,0,0,0,0,265,60,45,30,0,0,0,0,0,0,0,5,31670,{"$f":"SUM(A1222:U1222*(TRANSPOSE(CostCalculation!$D$38:$D$58)))","v":228600},{"$f":"V1222+SUM(A1222:U1222*(TRANSPOSE(CostCalculation!$C$38:$C$58)))","v":163415}]
[0,0,0,0,0,0,0,0,0,424,96,72,48,0,0,0,0,0,0,0,8,50672,{"$f":"SUM(A1223:U1223*(TRANSPOSE(CostCalculation!$D$38:$D$58)))","v":365760},{"$f":"V1223+SUM(A1223:U1223*(TRANSPOSE(CostCalculation!$C$38:$C$58)))","v":261464}]
[0,0,0,0,0,0,0,0,0,53,12,9,6,0,0,0,0,0,0,0,1,6334,{"$f":"SUM(A1224:U1224*(TRANSPOSE(CostCalculation!$D$38:$D$58)))","v":45720},{"$f":"V1224+SUM(A1224:U1224*(TRANSPOSE(CostCalculation!$C$38:$C$58)))","v":32683}]
[0,0,0,0,0,0,0,0,0,159,36,27,18,0,0,0,0,0,0,0,3,19002,{"$f":"SUM(A1225:U1225*(TRANSPOSE(CostCalculation!$D$38:$D$58)))","v":137160},{"$f":"V1225+SUM(A1225:U1225*(TRANSPOSE(CostCalculation!$C$38:$C$58)))","v":98049}]
[0,0,0,0,0,0,0,0,0,106,24,18,12,0,0,0,0,0,0,0,2,12668,{"$f":"SUM(A1226:U1226*(TRANSPOSE(CostCalculation!$D$38:$D$58)))","v":91440},{"$f":"V1226+SUM(A1226:U1226*(TRANSPOSE(CostCalculation!$C$38:$C$58)))","v":65366}]
[0,0,0,0,0,0,0,0,0,371,84,63,42,0,0,0,0,0,0,0,7,44338,{"$f":"SUM(A1227:U1227*(TRANSPOSE(CostCalculation!$D$38:$D$58)))","v":320040},{"$f":"V1227+SUM(A1227:U1227*(TRANSPOSE(CostCalculation!$C$38:$C$58)))","v":228781}]
[0,0,0,0,0,0,0,0,0,530,120,90,60,0,0,0,0,0,0,0,10,63340,{"$f":"SUM(A1228:U1228*(TRANSPOSE(CostCalculation!$D$38:$D$58)))","v":457200},{"$f":"V1228+SUM(A1228:U1228*(TRANSPOSE(CostCalculation!$C$38:$C$58)))","v":326830}]
[0,0,0,0,0,0,0,0,0,53,12,9,6,0,0,0,0,0,0,0,1,6334,{"$f":"SUM(A1229:U1229*(TRANSPOSE(CostCalculation!$D$38:$D$58)))","v":45720},{"$f":"V1229+SUM(A1229:U1229*(TRANSPOSE(CostCalculation!$C$38:$C$58)))","v":32683}]
[0,0,0,0,0,0,0,0,0,265,60,45,30,0,0,0,0,0,0,0,5,31670,{"$f":"SUM(A1230:U1230*(TRANSPOSE(CostCalculation!$D$38:$D$58)))","v":228600},{"$f":"V1230+SUM(A1230:U1230*(TRANSPOSE(CostCalculation!$C$38:$C$58)))","v":163415}]
[0,0,0,0,0,0,0,0,0,53,12,9,6,0,0,0,0,0,0,0,1,6334,{"$f":"SUM(A1231:U1231*(TRANSPOSE(CostCalculation!$D$38:$D$58)))","v":45720},{"$f":"V1231+SUM(A1231:U1231*(TRANSPOSE(CostCalculation!$C$38:$C$58)))","v":32683}]
[0,0,0,0,0,0,0,0,0,159,36,27,18,0,0,0,0,0,0,0,3,19002,{"$f":"SUM(A1232:U1232*(TRANSPOSE(CostCalculation!$D$38:$D$58)))","v":137160},{"$f":"V1232+SUM(A1232:U1232*(TRANSPOSE(CostCalculation!$C$38:$C$58)))","v":98049}]
[0,0,0,0,0,0,0,0,0,265,60,45,30,0,0,0,0,0,0,0,5,31670,{"$f":"SUM(A1233:U1233*(TRANSPOSE(CostCalculation!$D$38:$D$58)))","v":228600},{"$f":"V1233+SUM(A1233:U1233*(TRANSPOSE(CostCalculation!$C$38:$C$58)))","v":163415}]
[0,0,0,0,0,0,0,0,0,212,48,36,24,0,0,0,0,0,0,0,4,25336,{"$f":"SUM(A1234:U1234*(TRANSPOSE(CostCalculation!$D$38:$D$58)))","v":182880},{"$f":"V1234+SUM(A1234:U1234*(TRANSPOSE(CostCalculation!$C$38:$C$58)))","v":130732}]
[0,0,0,0,0,0,0,0,0,106,24,18,12,0,0,0,0,0,0,0,2,12668,{"$f":"SUM(A1235:U1235*(TRANSPOSE(CostCalculation!$D$38:$D$58)))","v":91440},{"$f":"V1235+SUM(A1235:U1235*(TRANSPOSE(CostCalculation!$C$38:$C$58)))","v":65366}]
[0,0,0,0,0,0,0,0,0,53,12,9,6,0,0,0,0,0,0,0,1,6334,{"$f":"SUM(A1236:U1236*(TRANSPOSE(CostCalculation!$D$38:$D$58)))","v":45720},{"$f":"V1236+SUM(A1236:U1236*(TRANSPOSE(CostCalculation!$C$38:$C$58)))","v":32683}]
[0,0,0,0,0,0,0,0,0,265,60,45,30,0,0,0,0,0,0,0,5,31670,{"$f":"SUM(A1237:U1237*(TRANSPOSE(CostCalculation!$D$38:$D$58)))","v":228600},{"$f":"V1237+SUM(A1237:U1237*(TRANSPOSE(CostCalculation!$C$38:$C$58)))","v":163415}]
[0,0,0,0,0,0,0,0,0,212,48,36,24,0,0,0,0,0,0,0,4,25336,{"$f":"SUM(A1238:U1238*(TRANSPOSE(CostCalculation!$D$38:$D$58)))","v":182880},{"$f":"V1238+SUM(A1238:U1238*(TRANSPOSE(CostCalculation!$C$38:$C$58)))","v":130732}]
[0,0,0,0,0,0,0,0,0,53,12,9,6,0,0,0,0,0,0,0,1,6334,{"$f":"SUM(A1239:U1239*(TRANSPOSE(CostCalculation!$D$38:$D$58)))","v":45720},{"$f":"V1239+SUM(A1239:U1239*(TRANSPOSE(CostCalculation!$C$38:$C$58)))","v":32683}]
[0,0,0,0,0,0,0,0,0,53,12,9,6,0,0,0,0,0,0,0,1,6334,{"$f":"SUM(A1240:U1240*(TRANSPOSE(CostCalculation!$D$38:$D$58)))","v":45720},{"$f":"V1240+SUM(A1240:U1240*(TRANSPOSE(CostCalculation!$C$38:$C$58)))","v":32683}]
[0,0,0,0,0,0,0,0,0,159,36,27,18,0,0,0,0,0,0,0,3,19002,{"$f":"SUM(A1241:U1241*(TRANSPOSE(CostCalculation!$D$38:$D$58)))","v":137160},{"$f":"V1241+SUM(A1241:U1241*(TRANSPOSE(CostCalculation!$C$38:$C$58)))","v":98049}]
[0,0,0,0,0,0,0,0,0,106,24,18,12,0,0,0,0,0,0,0,2,12668,{"$f":"SUM(A1242:U1242*(TRANSPOSE(CostCalculation!$D$38:$D$58)))","v":91440},{"$f":"V1242+SUM(A1242:U1242*(TRANSPOSE(CostCalculation!$C$38:$C$58)))","v":65366}]
[0,0,0,0,0,0,0,0,0,265,60,45,30,0,0,0,0,0,0,0,5,31670,{"$f":"SUM(A1243:U1243*(TRANSPOSE(CostCalculation!$D$38:$D$58)))","v":228600},{"$f":"V1243+SUM(A1243:U1243*(TRANSPOSE(CostCalculation!$C$38:$C$58)))","v":163415}]
[0,0,0,0,0,0,0,0,0,53,12,9,6,0,0,0,0,0,0,0,1,6334,{"$f":"SUM(A1244:U1244*(TRANSPOSE(CostCalculation!$D$38:$D$58)))","v":45720},{"$f":"V1244+SUM(A1244:U1244*(TRANSPOSE(CostCalculation!$C$38:$C$58)))","v":32683}]
[0,0,0,0,0,0,0,0,0,265,60,45,30,0,0,0,0,0,0,0,5,31670,{"$f":"SUM(A1245:U1245*(TRANSPOSE(CostCalculation!$D$38:$D$58)))","v":228600},{"$f":"V1245+SUM(A1245:U1245*(TRANSPOSE(CostCalculation!$C$38:$C$58)))","v":163415}]
[0,0,0,0,0,0,0,0,0,477,108,81,54,0,0,0,0,0,0,0,9,57006,{"$f":"SUM(A1246:U1246*(TRANSPOSE(CostCalculation!$D$38:$D$58)))","v":411480},{"$f":"V1246+SUM(A1246:U1246*(TRANSPOSE(CostCalculation!$C$38:$C$58)))","v":294147}]
[0,0,0,0,0,0,0,0,0,212,48,36,24,0,0,0,0,0,0,0,4,25336,{"$f":"SUM(A1247:U1247*(TRANSPOSE(CostCalculation!$D$38:$D$58)))","v":182880},{"$f":"V1247+SUM(A1247:U1247*(TRANSPOSE(CostCalculation!$C$38:$C$58)))","v":130732}]
[0,0,0,0,0,0,0,0,0,106,24,18,12,0,0,0,0,0,0,0,2,12668,{"$f":"SUM(A1248:U1248*(TRANSPOSE(CostCalculation!$D$38:$D$58)))","v":91440},{"$f":"V1248+SUM(A1248:U1248*(TRANSPOSE(CostCalculation!$C$38:$C$58)))","v":65366}]
[0,0,0,0,0,0,0,0,0,212,48,36,24,0,0,0,0,0,0,0,4,25336,{"$f":"SUM(A1249:U1249*(TRANSPOSE(CostCalculation!$D$38:$D$58)))","v":182880},{"$f":"V1249+SUM(A1249:U1249*(TRANSPOSE(CostCalculation!$C$38:$C$58)))","v":130732}]
[0,0,0,0,0,0,0,0,0,106,24,18,12,0,0,0,0,0,0,0,2,12668,{"$f":"SUM(A1250:U1250*(TRANSPOSE(CostCalculation!$D$38:$D$58)))","v":91440},{"$f":"V1250+SUM(A1250:U1250*(TRANSPOSE(CostCalculation!$C$38:$C$58)))","v":65366}]
[0,0,0,0,0,0,0,0,0,106,24,18,12,0,0,0,0,0,0,0,2,12668,{"$f":"SUM(A1251:U1251*(TRANSPOSE(CostCalculation!$D$38:$D$58)))","v":91440},{"$f":"V1251+SUM(A1251:U1251*(TRANSPOSE(CostCalculation!$C$38:$C$58)))","v":65366}]
[0,0,0,0,0,0,0,0,0,106,24,18,12,0,0,0,0,0,0,0,2,12668,{"$f":"SUM(A1252:U1252*(TRANSPOSE(CostCalculation!$D$38:$D$58)))","v":91440},{"$f":"V1252+SUM(A1252:U1252*(TRANSPOSE(CostCalculation!$C$38:$C$58)))","v":65366}]
[0,0,0,0,0,0,0,0,0,265,60,45,30,0,0,0,0,0,0,0,5,31670,{"$f":"SUM(A1253:U1253*(TRANSPOSE(CostCalculation!$D$38:$D$58)))","v":228600},{"$f":"V1253+SUM(A1253:U1253*(TRANSPOSE(CostCalculation!$C$38:$C$58)))","v":163415}]
[0,0,0,0,0,0,0,0,0,424,96,72,48,0,0,0,0,0,0,0,8,50672,{"$f":"SUM(A1254:U1254*(TRANSPOSE(CostCalculation!$D$38:$D$58)))","v":365760},{"$f":"V1254+SUM(A1254:U1254*(TRANSPOSE(CostCalculation!$C$38:$C$58)))","v":261464}]
[0,0,0,0,0,0,0,0,0,265,60,45,30,0,0,0,0,0,0,0,5,31670,{"$f":"SUM(A1255:U1255*(TRANSPOSE(CostCalculation!$D$38:$D$58)))","v":228600},{"$f":"V1255+SUM(A1255:U1255*(TRANSPOSE(CostCalculation!$C$38:$C$58)))","v":163415}]
[0,0,0,0,0,0,0,0,0,265,60,45,30,0,0,0,0,0,0,0,5,31670,{"$f":"SUM(A1256:U1256*(TRANSPOSE(CostCalculation!$D$38:$D$58)))","v":228600},{"$f":"V1256+SUM(A1256:U1256*(TRANSPOSE(CostCalculation!$C$38:$C$58)))","v":163415}]
[0,0,0,0,0,0,0,0,0,53,12,9,6,0,0,0,0,0,0,0,1,6334,{"$f":"SUM(A1257:U1257*(TRANSPOSE(CostCalculation!$D$38:$D$58)))","v":45720},{"$f":"V1257+SUM(A1257:U1257*(TRANSPOSE(CostCalculation!$C$38:$C$58)))","v":32683}]
[0,0,0,0,0,0,0,0,0,265,60,45,30,0,0,0,0,0,0,0,5,31670,{"$f":"SUM(A1258:U1258*(TRANSPOSE(CostCalculation!$D$38:$D$58)))","v":228600},{"$f":"V1258+SUM(A1258:U1258*(TRANSPOSE(CostCalculation!$C$38:$C$58)))","v":163415}]
[0,0,0,0,0,0,0,0,0,106,24,18,12,0,0,0,0,0,0,0,2,12668,{"$f":"SUM(A1259:U1259*(TRANSPOSE(CostCalculation!$D$38:$D$58)))","v":91440},{"$f":"V1259+SUM(A1259:U1259*(TRANSPOSE(CostCalculation!$C$38:$C$58)))","v":65366}]
[0,0,0,0,0,0,0,0,0,53,12,9,6,0,0,0,0,0,0,0,1,6334,{"$f":"SUM(A1260:U1260*(TRANSPOSE(CostCalculation!$D$38:$D$58)))","v":45720},{"$f":"V1260+SUM(A1260:U1260*(TRANSPOSE(CostCalculation!$C$38:$C$58)))","v":32683}]
[0,0,0,0,0,0,0,0,0,212,48,36,24,0,0,0,0,0,0,0,4,25336,{"$f":"SUM(A1261:U1261*(TRANSPOSE(CostCalculation!$D$38:$D$58)))","v":182880},{"$f":"V1261+SUM(A1261:U1261*(TRANSPOSE(CostCalculation!$C$38:$C$58)))","v":130732}]
[0,0,0,0,0,0,0,0,0,265,60,45,30,0,0,0,0,0,0,0,5,31670,{"$f":"SUM(A1262:U1262*(TRANSPOSE(CostCalculation!$D$38:$D$58)))","v":228600},{"$f":"V1262+SUM(A1262:U1262*(TRANSPOSE(CostCalculation!$C$38:$C$58)))","v":163415}]
[0,0,0,0,0,0,0,0,0,53,12,9,6,0,0,0,0,0,0,0,1,6334,{"$f":"SUM(A1263:U1263*(TRANSPOSE(CostCalculation!$D$38:$D$58)))","v":45720},{"$f":"V1263+SUM(A1263:U1263*(TRANSPOSE(CostCalculation!$C$38:$C$58)))","v":32683}]
[0,0,0,0,0,0,0,0,0,106,24,18,12,0,0,0,0,0,0,0,2,12668,{"$f":"SUM(A1264:U1264*(TRANSPOSE(CostCalculation!$D$38:$D$58)))","v":91440},{"$f":"V1264+SUM(A1264:U1264*(TRANSPOSE(CostCalculation!$C$38:$C$58)))","v":65366}]
[0,0,0,0,0,0,0,0,0,159,36,27,18,0,0,0,0,0,0,0,3,19002,{"$f":"SUM(A1265:U1265*(TRANSPOSE(CostCalculation!$D$38:$D$58)))","v":137160},{"$f":"V1265+SUM(A1265:U1265*(TRANSPOSE(CostCalculation!$C$38:$C$58)))","v":98049}]
[0,0,0,0,0,0,0,0,0,318,72,54,36,0,0,0,0,0,0,0,6,38004,{"$f":"SUM(A1266:U1266*(TRANSPOSE(CostCalculation!$D$38:$D$58)))","v":274320},{"$f":"V1266+SUM(A1266:U1266*(TRANSPOSE(CostCalculation!$C$38:$C$58)))","v":196098}]
[0,0,0,0,0,0,0,0,0,106,24,18,12,0,0,0,0,0,0,0,2,12668,{"$f":"SUM(A1267:U1267*(TRANSPOSE(CostCalculation!$D$38:$D$58)))","v":91440},{"$f":"V1267+SUM(A1267:U1267*(TRANSPOSE(CostCalculation!$C$38:$C$58)))","v":65366}]
[0,0,0,0,0,0,0,0,0,318,72,54,36,0,0,0,0,0,0,0,6,38004,{"$f":"SUM(A1268:U1268*(TRANSPOSE(CostCalculation!$D$38:$D$58)))","v":274320},{"$f":"V1268+SUM(A1268:U1268*(TRANSPOSE(CostCalculation!$C$38:$C$58)))","v":196098}]
[0,0,0,0,0,0,0,0,0,212,48,36,24,0,0,0,0,0,0,0,4,25336,{"$f":"SUM(A1269:U1269*(TRANSPOSE(CostCalculation!$D$38:$D$58)))","v":182880},{"$f":"V1269+SUM(A1269:U1269*(TRANSPOSE(CostCalculation!$C$38:$C$58)))","v":130732}]
[0,0,0,0,0,0,0,0,0,53,12,9,6,0,0,0,0,0,0,0,1,6334,{"$f":"SUM(A1270:U1270*(TRANSPOSE(CostCalculation!$D$38:$D$58)))","v":45720},{"$f":"V1270+SUM(A1270:U1270*(TRANSPOSE(CostCalculation!$C$38:$C$58)))","v":32683}]
[0,0,0,0,0,0,0,0,0,106,24,18,12,0,0,0,0,0,0,0,2,12668,{"$f":"SUM(A1271:U1271*(TRANSPOSE(CostCalculation!$D$38:$D$58)))","v":91440},{"$f":"V1271+SUM(A1271:U1271*(TRANSPOSE(CostCalculation!$C$38:$C$58)))","v":65366}]
[0,0,0,0,0,0,0,0,0,159,36,27,18,0,0,0,0,0,0,0,3,19002,{"$f":"SUM(A1272:U1272*(TRANSPOSE(CostCalculation!$D$38:$D$58)))","v":137160},{"$f":"V1272+SUM(A1272:U1272*(TRANSPOSE(CostCalculation!$C$38:$C$58)))","v":98049}]
[0,0,0,0,0,0,0,0,0,106,24,18,12,0,0,0,0,0,0,0,2,12668,{"$f":"SUM(A1273:U1273*(TRANSPOSE(CostCalculation!$D$38:$D$58)))","v":91440},{"$f":"V1273+SUM(A1273:U1273*(TRANSPOSE(CostCalculation!$C$38:$C$58)))","v":65366}]
[0,0,0,0,0,0,0,0,0,265,60,45,30,0,0,0,0,0,0,0,5,31670,{"$f":"SUM(A1274:U1274*(TRANSPOSE(CostCalculation!$D$38:$D$58)))","v":228600},{"$f":"V1274+SUM(A1274:U1274*(TRANSPOSE(CostCalculation!$C$38:$C$58)))","v":163415}]
[0,0,0,0,0,0,0,0,0,530,120,90,60,0,0,0,0,0,0,0,10,63340,{"$f":"SUM(A1275:U1275*(TRANSPOSE(CostCalculation!$D$38:$D$58)))","v":457200},{"$f":"V1275+SUM(A1275:U1275*(TRANSPOSE(CostCalculation!$C$38:$C$58)))","v":326830}]
[0,0,0,0,0,0,0,0,0,265,60,45,30,0,0,0,0,0,0,0,5,31670,{"$f":"SUM(A1276:U1276*(TRANSPOSE(CostCalculation!$D$38:$D$58)))","v":228600},{"$f":"V1276+SUM(A1276:U1276*(TRANSPOSE(CostCalculation!$C$38:$C$58)))","v":163415}]
[0,0,0,0,0,0,0,0,0,53,12,9,6,0,0,0,0,0,0,0,1,6334,{"$f":"SUM(A1277:U1277*(TRANSPOSE(CostCalculation!$D$38:$D$58)))","v":45720},{"$f":"V1277+SUM(A1277:U1277*(TRANSPOSE(CostCalculation!$C$38:$C$58)))","v":32683}]
[0,0,0,0,0,0,0,0,0,424,96,72,48,0,0,0,0,0,0,0,8,50672,{"$f":"SUM(A1278:U1278*(TRANSPOSE(CostCalculation!$D$38:$D$58)))","v":365760},{"$f":"V1278+SUM(A1278:U1278*(TRANSPOSE(CostCalculation!$C$38:$C$58)))","v":261464}]
[0,0,0,0,0,0,0,0,0,53,12,9,6,0,0,0,0,0,0,0,1,6334,{"$f":"SUM(A1279:U1279*(TRANSPOSE(CostCalculation!$D$38:$D$58)))","v":45720},{"$f":"V1279+SUM(A1279:U1279*(TRANSPOSE(CostCalculation!$C$38:$C$58)))","v":32683}]
[0,0,0,0,0,0,0,0,0,371,84,63,42,0,0,0,0,0,0,0,7,44338,{"$f":"SUM(A1280:U1280*(TRANSPOSE(CostCalculation!$D$38:$D$58)))","v":320040},{"$f":"V1280+SUM(A1280:U1280*(TRANSPOSE(CostCalculation!$C$38:$C$58)))","v":228781}]
[0,0,0,0,0,0,0,0,0,106,24,18,12,0,0,0,0,0,0,0,2,12668,{"$f":"SUM(A1281:U1281*(TRANSPOSE(CostCalculation!$D$38:$D$58)))","v":91440},{"$f":"V1281+SUM(A1281:U1281*(TRANSPOSE(CostCalculation!$C$38:$C$58)))","v":65366}]
[0,0,0,0,0,0,0,0,0,212,48,36,24,0,0,0,0,0,0,0,4,25336,{"$f":"SUM(A1282:U1282*(TRANSPOSE(CostCalculation!$D$38:$D$58)))","v":182880},{"$f":"V1282+SUM(A1282:U1282*(TRANSPOSE(CostCalculation!$C$38:$C$58)))","v":130732}]
[0,0,0,0,0,0,0,0,0,53,12,9,6,0,0,0,0,0,0,0,1,6334,{"$f":"SUM(A1283:U1283*(TRANSPOSE(CostCalculation!$D$38:$D$58)))","v":45720},{"$f":"V1283+SUM(A1283:U1283*(TRANSPOSE(CostCalculation!$C$38:$C$58)))","v":32683}]
[0,0,0,0,0,0,0,0,0,424,96,72,48,0,0,0,0,0,0,0,8,50672,{"$f":"SUM(A1284:U1284*(TRANSPOSE(CostCalculation!$D$38:$D$58)))","v":365760},{"$f":"V1284+SUM(A1284:U1284*(TRANSPOSE(CostCalculation!$C$38:$C$58)))","v":261464}]
[0,0,0,0,0,0,0,0,0,106,24,18,12,0,0,0,0,0,0,0,2,12668,{"$f":"SUM(A1285:U1285*(TRANSPOSE(CostCalculation!$D$38:$D$58)))","v":91440},{"$f":"V1285+SUM(A1285:U1285*(TRANSPOSE(CostCalculation!$C$38:$C$58)))","v":65366}]
[0,0,0,0,0,0,0,0,0,159,36,27,18,0,0,0,0,0,0,0,3,19002,{"$f":"SUM(A1286:U1286*(TRANSPOSE(CostCalculation!$D$38:$D$58)))","v":137160},{"$f":"V1286+SUM(A1286:U1286*(TRANSPOSE(CostCalculation!$C$38:$C$58)))","v":98049}]
[0,0,0,0,0,0,0,0,0,53,12,9,6,0,0,0,0,0,0,0,1,6334,{"$f":"SUM(A1287:U1287*(TRANSPOSE(CostCalculation!$D$38:$D$58)))","v":45720},{"$f":"V1287+SUM(A1287:U1287*(TRANSPOSE(CostCalculation!$C$38:$C$58)))","v":32683}]
[0,0,0,0,0,0,0,0,0,159,36,27,18,0,0,0,0,0,0,0,3,19002,{"$f":"SUM(A1288:U1288*(TRANSPOSE(CostCalculation!$D$38:$D$58)))","v":137160},{"$f":"V1288+SUM(A1288:U1288*(TRANSPOSE(CostCalculation!$C$38:$C$58)))","v":98049}]
[0,0,0,0,0,0,0,0,0,53,12,9,6,0,0,0,0,0,0,0,1,6334,{"$f":"SUM(A1289:U1289*(TRANSPOSE(CostCalculation!$D$38:$D$58)))","v":45720},{"$f":"V1289+SUM(A1289:U1289*(TRANSPOSE(CostCalculation!$C$38:$C$58)))","v":32683}]
[0,0,0,0,0,0,0,0,0,53,12,9,6,0,0,0,0,0,0,0,1,6334,{"$f":"SUM(A1290:U1290*(TRANSPOSE(CostCalculation!$D$38:$D$58)))","v":45720},{"$f":"V1290+SUM(A1290:U1290*(TRANSPOSE(CostCalculation!$C$38:$C$58)))","v":32683}]
[0,0,0,0,0,0,0,0,0,371,84,63,42,0,0,0,0,0,0,0,7,44338,{"$f":"SUM(A1291:U1291*(TRANSPOSE(CostCalculation!$D$38:$D$58)))","v":320040},{"$f":"V1291+SUM(A1291:U1291*(TRANSPOSE(CostCalculation!$C$38:$C$58)))","v":228781}]
[0,0,0,0,0,0,0,0,0,106,24,18,12,0,0,0,0,0,0,0,2,12668,{"$f":"SUM(A1292:U1292*(TRANSPOSE(CostCalculation!$D$38:$D$58)))","v":91440},{"$f":"V1292+SUM(A1292:U1292*(TRANSPOSE(CostCalculation!$C$38:$C$58)))","v":65366}]
[0,0,0,0,0,0,0,0,0,159,36,27,18,0,0,0,0,0,0,0,3,19002,{"$f":"SUM(A1293:U1293*(TRANSPOSE(CostCalculation!$D$38:$D$58)))","v":137160},{"$f":"V1293+SUM(A1293:U1293*(TRANSPOSE(CostCalculation!$C$38:$C$58)))","v":98049}]
[0,0,0,0,0,0,0,0,0,53,12,9,6,0,0,0,0,0,0,0,1,6334,{"$f":"SUM(A1294:U1294*(TRANSPOSE(CostCalculation!$D$38:$D$58)))","v":45720},{"$f":"V1294+SUM(A1294:U1294*(TRANSPOSE(CostCalculation!$C$38:$C$58)))","v":32683}]
[0,0,0,0,0,0,0,0,0,159,36,27,18,0,0,0,0,0,0,0,3,19002,{"$f":"SUM(A1295:U1295*(TRANSPOSE(CostCalculation!$D$38:$D$58)))","v":137160},{"$f":"V1295+SUM(A1295:U1295*(TRANSPOSE(CostCalculation!$C$38:$C$58)))","v":98049}]
[0,0,0,0,0,0,0,0,0,53,12,9,6,0,0,0,0,0,0,0,1,6334,{"$f":"SUM(A1296:U1296*(TRANSPOSE(CostCalculation!$D$38:$D$58)))","v":45720},{"$f":"V1296+SUM(A1296:U1296*(TRANSPOSE(CostCalculation!$C$38:$C$58)))","v":32683}]
[0,0,0,0,0,0,0,0,0,318,72,54,36,0,0,0,0,0,0,0,6,38004,{"$f":"SUM(A1297:U1297*(TRANSPOSE(CostCalculation!$D$38:$D$58)))","v":274320},{"$f":"V1297+SUM(A1297:U1297*(TRANSPOSE(CostCalculation!$C$38:$C$58)))","v":196098}]
[0,0,0,0,0,0,0,0,0,106,24,18,12,0,0,0,0,0,0,0,2,12668,{"$f":"SUM(A1298:U1298*(TRANSPOSE(CostCalculation!$D$38:$D$58)))","v":91440},{"$f":"V1298+SUM(A1298:U1298*(TRANSPOSE(CostCalculation!$C$38:$C$58)))","v":65366}]
[0,0,0,0,0,0,0,0,0,106,24,18,12,0,0,0,0,0,0,0,2,12668,{"$f":"SUM(A1299:U1299*(TRANSPOSE(CostCalculation!$D$38:$D$58)))","v":91440},{"$f":"V1299+SUM(A1299:U1299*(TRANSPOSE(CostCalculation!$C$38:$C$58)))","v":65366}]
[0,0,0,0,0,0,0,0,0,106,24,18,12,0,0,0,0,0,0,0,2,12668,{"$f":"SUM(A1300:U1300*(TRANSPOSE(CostCalculation!$D$38:$D$58)))","v":91440},{"$f":"V1300+SUM(A1300:U1300*(TRANSPOSE(CostCalculation!$C$38:$C$58)))","v":65366}]
[0,0,0,0,0,0,0,0,0,159,36,27,18,0,0,0,0,0,0,0,3,19002,{"$f":"SUM(A1301:U1301*(TRANSPOSE(CostCalculation!$D$38:$D$58)))","v":137160},{"$f":"V1301+SUM(A1301:U1301*(TRANSPOSE(CostCalculation!$C$38:$C$58)))","v":98049}]
[0,0,0,0,0,0,0,0,0,53,12,9,6,0,0,0,0,0,0,0,1,6334,{"$f":"SUM(A1302:U1302*(TRANSPOSE(CostCalculation!$D$38:$D$58)))","v":45720},{"$f":"V1302+SUM(A1302:U1302*(TRANSPOSE(CostCalculation!$C$38:$C$58)))","v":32683}]
[0,0,0,0,0,0,0,0,0,53,12,9,6,0,0,0,0,0,0,0,1,6334,{"$f":"SUM(A1303:U1303*(TRANSPOSE(CostCalculation!$D$38:$D$58)))","v":45720},{"$f":"V1303+SUM(A1303:U1303*(TRANSPOSE(CostCalculation!$C$38:$C$58)))","v":32683}]
[0,0,0,0,0,0,0,0,0,265,60,45,30,0,0,0,0,0,0,0,5,31670,{"$f":"SUM(A1304:U1304*(TRANSPOSE(CostCalculation!$D$38:$D$58)))","v":228600},{"$f":"V1304+SUM(A1304:U1304*(TRANSPOSE(CostCalculation!$C$38:$C$58)))","v":163415}]
[0,0,0,0,0,0,0,0,0,106,24,18,12,0,0,0,0,0,0,0,2,12668,{"$f":"SUM(A1305:U1305*(TRANSPOSE(CostCalculation!$D$38:$D$58)))","v":91440},{"$f":"V1305+SUM(A1305:U1305*(TRANSPOSE(CostCalculation!$C$38:$C$58)))","v":65366}]
[0,0,0,0,0,0,0,0,0,212,48,36,24,0,0,0,0,0,0,0,4,25336,{"$f":"SUM(A1306:U1306*(TRANSPOSE(CostCalculation!$D$38:$D$58)))","v":182880},{"$f":"V1306+SUM(A1306:U1306*(TRANSPOSE(CostCalculation!$C$38:$C$58)))","v":130732}]
[0,0,0,0,0,0,0,0,0,53,12,9,6,0,0,0,0,0,0,0,1,6334,{"$f":"SUM(A1307:U1307*(TRANSPOSE(CostCalculation!$D$38:$D$58)))","v":45720},{"$f":"V1307+SUM(A1307:U1307*(TRANSPOSE(CostCalculation!$C$38:$C$58)))","v":32683}]
[0,0,0,0,0,0,0,0,0,106,24,18,12,0,0,0,0,0,0,0,2,12668,{"$f":"SUM(A1308:U1308*(TRANSPOSE(CostCalculation!$D$38:$D$58)))","v":91440},{"$f":"V1308+SUM(A1308:U1308*(TRANSPOSE(CostCalculation!$C$38:$C$58)))","v":65366}]
[0,0,0,0,0,0,0,0,0,159,36,27,18,0,0,0,0,0,0,0,3,19002,{"$f":"SUM(A1309:U1309*(TRANSPOSE(CostCalculation!$D$38:$D$58)))","v":137160},{"$f":"V1309+SUM(A1309:U1309*(TRANSPOSE(CostCalculation!$C$38:$C$58)))","v":98049}]
[0,0,0,0,0,0,0,0,0,371,84,63,42,0,0,0,0,0,0,0,7,44338,{"$f":"SUM(A1310:U1310*(TRANSPOSE(CostCalculation!$D$38:$D$58)))","v":320040},{"$f":"V1310+SUM(A1310:U1310*(TRANSPOSE(CostCalculation!$C$38:$C$58)))","v":228781}]
[0,0,0,0,0,0,0,0,0,106,24,18,12,0,0,0,0,0,0,0,2,12668,{"$f":"SUM(A1311:U1311*(TRANSPOSE(CostCalculation!$D$38:$D$58)))","v":91440},{"$f":"V1311+SUM(A1311:U1311*(TRANSPOSE(CostCalculation!$C$38:$C$58)))","v":65366}]
[0,0,0,0,0,0,0,0,0,318,72,54,36,0,0,0,0,0,0,0,6,38004,{"$f":"SUM(A1312:U1312*(TRANSPOSE(CostCalculation!$D$38:$D$58)))","v":274320},{"$f":"V1312+SUM(A1312:U1312*(TRANSPOSE(CostCalculation!$C$38:$C$58)))","v":196098}]
[0,0,0,0,0,0,0,0,0,106,24,18,12,0,0,0,0,0,0,0,2,12668,{"$f":"SUM(A1313:U1313*(TRANSPOSE(CostCalculation!$D$38:$D$58)))","v":91440},{"$f":"V1313+SUM(A1313:U1313*(TRANSPOSE(CostCalculation!$C$38:$C$58)))","v":65366}]
[0,0,0,0,0,0,0,0,0,212,48,36,24,0,0,0,0,0,0,0,4,25336,{"$f":"SUM(A1314:U1314*(TRANSPOSE(CostCalculation!$D$38:$D$58)))","v":182880},{"$f":"V1314+SUM(A1314:U1314*(TRANSPOSE(CostCalculation!$C$38:$C$58)))","v":130732}]
[0,0,0,0,0,0,0,0,0,371,84,63,42,0,0,0,0,0,0,0,7,44338,{"$f":"SUM(A1315:U1315*(TRANSPOSE(CostCalculation!$D$38:$D$58)))","v":320040},{"$f":"V1315+SUM(A1315:U1315*(TRANSPOSE(CostCalculation!$C$38:$C$58)))","v":228781}]
[0,0,0,0,0,0,0,0,0,106,24,18,12,0,0,0,0,0,0,0,2,12668,{"$f":"SUM(A1316:U1316*(TRANSPOSE(CostCalculation!$D$38:$D$58)))","v":91440},{"$f":"V1316+SUM(A1316:U1316*(TRANSPOSE(CostCalculation!$C$38:$C$58)))","v":65366}]
[0,0,0,0,0,0,0,0,0,159,36,27,18,0,0,0,0,0,0,0,3,19002,{"$f":"SUM(A1317:U1317*(TRANSPOSE(CostCalculation!$D$38:$D$58)))","v":137160},{"$f":"V1317+SUM(A1317:U1317*(TRANSPOSE(CostCalculation!$C$38:$C$58)))","v":98049}]
[0,0,0,0,0,0,0,0,0,106,24,18,12,0,0,0,0,0,0,0,2,12668,{"$f":"SUM(A1318:U1318*(TRANSPOSE(CostCalculation!$D$38:$D$58)))","v":91440},{"$f":"V1318+SUM(A1318:U1318*(TRANSPOSE(CostCalculation!$C$38:$C$58)))","v":65366}]
[0,0,0,0,0,0,0,0,0,53,12,9,6,0,0,0,0,0,0,0,1,6334,{"$f":"SUM(A1319:U1319*(TRANSPOSE(CostCalculation!$D$38:$D$58)))","v":45720},{"$f":"V1319+SUM(A1319:U1319*(TRANSPOSE(CostCalculation!$C$38:$C$58)))","v":32683}]
[0,0,0,0,0,0,0,0,0,53,12,9,6,0,0,0,0,0,0,0,1,6334,{"$f":"SUM(A1320:U1320*(TRANSPOSE(CostCalculation!$D$38:$D$58)))","v":45720},{"$f":"V1320+SUM(A1320:U1320*(TRANSPOSE(CostCalculation!$C$38:$C$58)))","v":32683}]
[0,0,0,0,0,0,0,0,0,265,60,45,30,0,0,0,0,0,0,0,5,31670,{"$f":"SUM(A1321:U1321*(TRANSPOSE(CostCalculation!$D$38:$D$58)))","v":228600},{"$f":"V1321+SUM(A1321:U1321*(TRANSPOSE(CostCalculation!$C$38:$C$58)))","v":163415}]
[0,0,0,0,0,0,0,0,0,318,72,54,36,0,0,0,0,0,0,0,6,38004,{"$f":"SUM(A1322:U1322*(TRANSPOSE(CostCalculation!$D$38:$D$58)))","v":274320},{"$f":"V1322+SUM(A1322:U1322*(TRANSPOSE(CostCalculation!$C$38:$C$58)))","v":196098}]
[0,0,0,0,0,0,0,0,0,106,24,18,12,0,0,0,0,0,0,0,2,12668,{"$f":"SUM(A1323:U1323*(TRANSPOSE(CostCalculation!$D$38:$D$58)))","v":91440},{"$f":"V1323+SUM(A1323:U1323*(TRANSPOSE(CostCalculation!$C$38:$C$58)))","v":65366}]
[0,0,0,0,0,0,0,0,0,53,12,9,6,0,0,0,0,0,0,0,1,6334,{"$f":"SUM(A1324:U1324*(TRANSPOSE(CostCalculation!$D$38:$D$58)))","v":45720},{"$f":"V1324+SUM(A1324:U1324*(TRANSPOSE(CostCalculation!$C$38:$C$58)))","v":32683}]
[0,0,0,0,0,0,0,0,0,212,48,36,24,0,0,0,0,0,0,0,4,25336,{"$f":"SUM(A1325:U1325*(TRANSPOSE(CostCalculation!$D$38:$D$58)))","v":182880},{"$f":"V1325+SUM(A1325:U1325*(TRANSPOSE(CostCalculation!$C$38:$C$58)))","v":130732}]
[0,0,0,0,0,0,0,0,0,53,12,9,6,0,0,0,0,0,0,0,1,6334,{"$f":"SUM(A1326:U1326*(TRANSPOSE(CostCalculation!$D$38:$D$58)))","v":45720},{"$f":"V1326+SUM(A1326:U1326*(TRANSPOSE(CostCalculation!$C$38:$C$58)))","v":32683}]
[0,0,0,0,0,0,0,0,0,53,12,9,6,0,0,0,0,0,0,0,1,6334,{"$f":"SUM(A1327:U1327*(TRANSPOSE(CostCalculation!$D$38:$D$58)))","v":45720},{"$f":"V1327+SUM(A1327:U1327*(TRANSPOSE(CostCalculation!$C$38:$C$58)))","v":32683}]
[0,0,0,0,0,0,0,0,0,212,48,36,24,0,0,0,0,0,0,0,4,25336,{"$f":"SUM(A1328:U1328*(TRANSPOSE(CostCalculation!$D$38:$D$58)))","v":182880},{"$f":"V1328+SUM(A1328:U1328*(TRANSPOSE(CostCalculation!$C$38:$C$58)))","v":130732}]
[0,0,0,0,0,0,0,0,0,106,24,18,12,0,0,0,0,0,0,0,2,12668,{"$f":"SUM(A1329:U1329*(TRANSPOSE(CostCalculation!$D$38:$D$58)))","v":91440},{"$f":"V1329+SUM(A1329:U1329*(TRANSPOSE(CostCalculation!$C$38:$C$58)))","v":65366}]
[0,0,0,0,0,0,0,0,0,212,48,36,24,0,0,0,0,0,0,0,4,25336,{"$f":"SUM(A1330:U1330*(TRANSPOSE(CostCalculation!$D$38:$D$58)))","v":182880},{"$f":"V1330+SUM(A1330:U1330*(TRANSPOSE(CostCalculation!$C$38:$C$58)))","v":130732}]
[0,0,0,0,0,0,0,0,0,159,36,27,18,0,0,0,0,0,0,0,3,19002,{"$f":"SUM(A1331:U1331*(TRANSPOSE(CostCalculation!$D$38:$D$58)))","v":137160},{"$f":"V1331+SUM(A1331:U1331*(TRANSPOSE(CostCalculation!$C$38:$C$58)))","v":98049}]
[0,0,0,0,0,0,0,0,0,159,36,27,18,0,0,0,0,0,0,0,3,19002,{"$f":"SUM(A1332:U1332*(TRANSPOSE(CostCalculation!$D$38:$D$58)))","v":137160},{"$f":"V1332+SUM(A1332:U1332*(TRANSPOSE(CostCalculation!$C$38:$C$58)))","v":98049}]
[0,0,0,0,0,0,0,0,0,106,24,18,12,0,0,0,0,0,0,0,2,12668,{"$f":"SUM(A1333:U1333*(TRANSPOSE(CostCalculation!$D$38:$D$58)))","v":91440},{"$f":"V1333+SUM(A1333:U1333*(TRANSPOSE(CostCalculation!$C$38:$C$58)))","v":65366}]
[0,0,0,0,0,0,0,0,0,53,12,9,6,0,0,0,0,0,0,0,1,6334,{"$f":"SUM(A1334:U1334*(TRANSPOSE(CostCalculation!$D$38:$D$58)))","v":45720},{"$f":"V1334+SUM(A1334:U1334*(TRANSPOSE(CostCalculation!$C$38:$C$58)))","v":32683}]
[0,0,0,0,0,0,0,0,0,212,48,36,24,0,0,0,0,0,0,0,4,25336,{"$f":"SUM(A1335:U1335*(TRANSPOSE(CostCalculation!$D$38:$D$58)))","v":182880},{"$f":"V1335+SUM(A1335:U1335*(TRANSPOSE(CostCalculation!$C$38:$C$58)))","v":130732}]
[0,0,0,0,0,0,0,0,0,212,48,36,24,0,0,0,0,0,0,0,4,25336,{"$f":"SUM(A1336:U1336*(TRANSPOSE(CostCalculation!$D$38:$D$58)))","v":182880},{"$f":"V1336+SUM(A1336:U1336*(TRANSPOSE(CostCalculation!$C$38:$C$58)))","v":130732}]
[0,0,0,0,0,0,0,0,0,53,12,9,6,0,0,0,0,0,0,0,1,6334,{"$f":"SUM(A1337:U1337*(TRANSPOSE(CostCalculation!$D$38:$D$58)))","v":45720},{"$f":"V1337+SUM(A1337:U1337*(TRANSPOSE(CostCalculation!$C$38:$C$58)))","v":32683}]
[0,0,0,0,0,0,0,0,0,265,60,45,30,0,0,0,0,0,0,0,5,31670,{"$f":"SUM(A1338:U1338*(TRANSPOSE(CostCalculation!$D$38:$D$58)))","v":228600},{"$f":"V1338+SUM(A1338:U1338*(TRANSPOSE(CostCalculation!$C$38:$C$58)))","v":163415}]
[0,0,0,0,0,0,0,0,0,318,72,54,36,0,0,0,0,0,0,0,6,38004,{"$f":"SUM(A1339:U1339*(TRANSPOSE(CostCalculation!$D$38:$D$58)))","v":274320},{"$f":"V1339+SUM(A1339:U1339*(TRANSPOSE(CostCalculation!$C$38:$C$58)))","v":196098}]
[0,0,0,0,0,0,0,0,0,318,72,54,36,0,0,0,0,0,0,0,6,38004,{"$f":"SUM(A1340:U1340*(TRANSPOSE(CostCalculation!$D$38:$D$58)))","v":274320},{"$f":"V1340+SUM(A1340:U1340*(TRANSPOSE(CostCalculation!$C$38:$C$58)))","v":196098}]
[0,0,0,0,0,0,0,0,0,265,60,45,30,0,0,0,0,0,0,0,5,31670,{"$f":"SUM(A1341:U1341*(TRANSPOSE(CostCalculation!$D$38:$D$58)))","v":228600},{"$f":"V1341+SUM(A1341:U1341*(TRANSPOSE(CostCalculation!$C$38:$C$58)))","v":163415}]
[0,0,0,0,0,0,0,0,0,265,60,45,30,0,0,0,0,0,0,0,5,31670,{"$f":"SUM(A1342:U1342*(TRANSPOSE(CostCalculation!$D$38:$D$58)))","v":228600},{"$f":"V1342+SUM(A1342:U1342*(TRANSPOSE(CostCalculation!$C$38:$C$58)))","v":163415}]
[0,0,0,0,0,0,0,0,0,159,36,27,18,0,0,0,0,0,0,0,3,19002,{"$f":"SUM(A1343:U1343*(TRANSPOSE(CostCalculation!$D$38:$D$58)))","v":137160},{"$f":"V1343+SUM(A1343:U1343*(TRANSPOSE(CostCalculation!$C$38:$C$58)))","v":98049}]
[0,0,0,0,0,0,0,0,0,53,12,9,6,0,0,0,0,0,0,0,1,6334,{"$f":"SUM(A1344:U1344*(TRANSPOSE(CostCalculation!$D$38:$D$58)))","v":45720},{"$f":"V1344+SUM(A1344:U1344*(TRANSPOSE(CostCalculation!$C$38:$C$58)))","v":32683}]
[0,0,0,0,0,0,0,0,0,159,36,27,18,0,0,0,0,0,0,0,3,19002,{"$f":"SUM(A1345:U1345*(TRANSPOSE(CostCalculation!$D$38:$D$58)))","v":137160},{"$f":"V1345+SUM(A1345:U1345*(TRANSPOSE(CostCalculation!$C$38:$C$58)))","v":98049}]
[0,0,0,0,0,0,0,0,0,212,48,36,24,0,0,0,0,0,0,0,4,25336,{"$f":"SUM(A1346:U1346*(TRANSPOSE(CostCalculation!$D$38:$D$58)))","v":182880},{"$f":"V1346+SUM(A1346:U1346*(TRANSPOSE(CostCalculation!$C$38:$C$58)))","v":130732}]
[0,0,0,0,0,0,0,0,0,106,24,18,12,0,0,0,0,0,0,0,2,12668,{"$f":"SUM(A1347:U1347*(TRANSPOSE(CostCalculation!$D$38:$D$58)))","v":91440},{"$f":"V1347+SUM(A1347:U1347*(TRANSPOSE(CostCalculation!$C$38:$C$58)))","v":65366}]
[0,0,0,0,0,0,0,0,0,265,60,45,30,0,0,0,0,0,0,0,5,31670,{"$f":"SUM(A1348:U1348*(TRANSPOSE(CostCalculation!$D$38:$D$58)))","v":228600},{"$f":"V1348+SUM(A1348:U1348*(TRANSPOSE(CostCalculation!$C$38:$C$58)))","v":163415}]
[0,0,0,0,0,0,0,0,0,106,24,18,12,0,0,0,0,0,0,0,2,12668,{"$f":"SUM(A1349:U1349*(TRANSPOSE(CostCalculation!$D$38:$D$58)))","v":91440},{"$f":"V1349+SUM(A1349:U1349*(TRANSPOSE(CostCalculation!$C$38:$C$58)))","v":65366}]
[0,0,0,0,0,0,0,0,0,212,48,36,24,0,0,0,0,0,0,0,4,25336,{"$f":"SUM(A1350:U1350*(TRANSPOSE(CostCalculation!$D$38:$D$58)))","v":182880},{"$f":"V1350+SUM(A1350:U1350*(TRANSPOSE(CostCalculation!$C$38:$C$58)))","v":130732}]
[0,0,0,0,0,0,0,0,0,424,96,72,48,0,0,0,0,0,0,0,8,50672,{"$f":"SUM(A1351:U1351*(TRANSPOSE(CostCalculation!$D$38:$D$58)))","v":365760},{"$f":"V1351+SUM(A1351:U1351*(TRANSPOSE(CostCalculation!$C$38:$C$58)))","v":261464}]
[0,0,0,0,0,0,0,0,0,53,12,9,6,0,0,0,0,0,0,0,1,6334,{"$f":"SUM(A1352:U1352*(TRANSPOSE(CostCalculation!$D$38:$D$58)))","v":45720},{"$f":"V1352+SUM(A1352:U1352*(TRANSPOSE(CostCalculation!$C$38:$C$58)))","v":32683}]
[0,0,0,0,0,0,0,0,0,212,48,36,24,0,0,0,0,0,0,0,4,25336,{"$f":"SUM(A1353:U1353*(TRANSPOSE(CostCalculation!$D$38:$D$58)))","v":182880},{"$f":"V1353+SUM(A1353:U1353*(TRANSPOSE(CostCalculation!$C$38:$C$58)))","v":130732}]
[0,0,0,0,0,0,0,0,0,106,24,18,12,0,0,0,0,0,0,0,2,12668,{"$f":"SUM(A1354:U1354*(TRANSPOSE(CostCalculation!$D$38:$D$58)))","v":91440},{"$f":"V1354+SUM(A1354:U1354*(TRANSPOSE(CostCalculation!$C$38:$C$58)))","v":65366}]
[0,0,0,0,0,0,0,0,0,53,12,9,6,0,0,0,0,0,0,0,1,6334,{"$f":"SUM(A1355:U1355*(TRANSPOSE(CostCalculation!$D$38:$D$58)))","v":45720},{"$f":"V1355+SUM(A1355:U1355*(TRANSPOSE(CostCalculation!$C$38:$C$58)))","v":32683}]
[0,0,0,0,0,0,0,0,0,212,48,36,24,0,0,0,0,0,0,0,4,25336,{"$f":"SUM(A1356:U1356*(TRANSPOSE(CostCalculation!$D$38:$D$58)))","v":182880},{"$f":"V1356+SUM(A1356:U1356*(TRANSPOSE(CostCalculation!$C$38:$C$58)))","v":130732}]
[0,0,0,0,0,0,0,0,0,212,48,36,24,0,0,0,0,0,0,0,4,25336,{"$f":"SUM(A1357:U1357*(TRANSPOSE(CostCalculation!$D$38:$D$58)))","v":182880},{"$f":"V1357+SUM(A1357:U1357*(TRANSPOSE(CostCalculation!$C$38:$C$58)))","v":130732}]
[0,0,0,0,0,0,0,0,0,159,36,27,18,0,0,0,0,0,0,0,3,19002,{"$f":"SUM(A1358:U1358*(TRANSPOSE(CostCalculation!$D$38:$D$58)))","v":137160},{"$f":"V1358+SUM(A1358:U1358*(TRANSPOSE(CostCalculation!$C$38:$C$58)))","v":98049}]
[0,0,0,0,0,0,0,0,0,106,24,18,12,0,0,0,0,0,0,0,2,12668,{"$f":"SUM(A1359:U1359*(TRANSPOSE(CostCalculation!$D$38:$D$58)))","v":91440},{"$f":"V1359+SUM(A1359:U1359*(TRANSPOSE(CostCalculation!$C$38:$C$58)))","v":65366}]
[0,0,0,0,0,0,0,0,0,265,60,45,30,0,0,0,0,0,0,0,5,31670,{"$f":"SUM(A1360:U1360*(TRANSPOSE(CostCalculation!$D$38:$D$58)))","v":228600},{"$f":"V1360+SUM(A1360:U1360*(TRANSPOSE(CostCalculation!$C$38:$C$58)))","v":163415}]
[0,0,0,0,0,0,0,0,0,53,12,9,6,0,0,0,0,0,0,0,1,6334,{"$f":"SUM(A1361:U1361*(TRANSPOSE(CostCalculation!$D$38:$D$58)))","v":45720},{"$f":"V1361+SUM(A1361:U1361*(TRANSPOSE(CostCalculation!$C$38:$C$58)))","v":32683}]
[0,0,0,0,0,0,0,0,0,53,12,9,6,0,0,0,0,0,0,0,1,6334,{"$f":"SUM(A1362:U1362*(TRANSPOSE(CostCalculation!$D$38:$D$58)))","v":45720},{"$f":"V1362+SUM(A1362:U1362*(TRANSPOSE(CostCalculation!$C$38:$C$58)))","v":32683}]
[0,0,0,0,0,0,0,0,0,159,36,27,18,0,0,0,0,0,0,0,3,19002,{"$f":"SUM(A1363:U1363*(TRANSPOSE(CostCalculation!$D$38:$D$58)))","v":137160},{"$f":"V1363+SUM(A1363:U1363*(TRANSPOSE(CostCalculation!$C$38:$C$58)))","v":98049}]
[0,0,0,0,0,0,0,0,0,318,72,54,36,0,0,0,0,0,0,0,6,38004,{"$f":"SUM(A1364:U1364*(TRANSPOSE(CostCalculation!$D$38:$D$58)))","v":274320},{"$f":"V1364+SUM(A1364:U1364*(TRANSPOSE(CostCalculation!$C$38:$C$58)))","v":196098}]
[0,0,0,0,0,0,0,0,0,265,60,45,30,0,0,0,0,0,0,0,5,31670,{"$f":"SUM(A1365:U1365*(TRANSPOSE(CostCalculation!$D$38:$D$58)))","v":228600},{"$f":"V1365+SUM(A1365:U1365*(TRANSPOSE(CostCalculation!$C$38:$C$58)))","v":163415}]
[0,0,0,0,0,0,0,0,0,265,60,45,30,0,0,0,0,0,0,0,5,31670,{"$f":"SUM(A1366:U1366*(TRANSPOSE(CostCalculation!$D$38:$D$58)))","v":228600},{"$f":"V1366+SUM(A1366:U1366*(TRANSPOSE(CostCalculation!$C$38:$C$58)))","v":163415}]
[0,0,0,0,0,0,0,0,0,53,12,9,6,0,0,0,0,0,0,0,1,6334,{"$f":"SUM(A1367:U1367*(TRANSPOSE(CostCalculation!$D$38:$D$58)))","v":45720},{"$f":"V1367+SUM(A1367:U1367*(TRANSPOSE(CostCalculation!$C$38:$C$58)))","v":32683}]
[0,0,0,0,0,0,0,0,0,530,120,90,60,0,0,0,0,0,0,0,10,63340,{"$f":"SUM(A1368:U1368*(TRANSPOSE(CostCalculation!$D$38:$D$58)))","v":457200},{"$f":"V1368+SUM(A1368:U1368*(TRANSPOSE(CostCalculation!$C$38:$C$58)))","v":326830}]
[0,0,0,0,0,0,0,0,0,212,48,36,24,0,0,0,0,0,0,0,4,25336,{"$f":"SUM(A1369:U1369*(TRANSPOSE(CostCalculation!$D$38:$D$58)))","v":182880},{"$f":"V1369+SUM(A1369:U1369*(TRANSPOSE(CostCalculation!$C$38:$C$58)))","v":130732}]
[0,0,0,0,0,0,0,0,0,106,24,18,12,0,0,0,0,0,0,0,2,12668,{"$f":"SUM(A1370:U1370*(TRANSPOSE(CostCalculation!$D$38:$D$58)))","v":91440},{"$f":"V1370+SUM(A1370:U1370*(TRANSPOSE(CostCalculation!$C$38:$C$58)))","v":65366}]
[0,0,0,0,0,0,0,0,0,212,48,36,24,0,0,0,0,0,0,0,4,25336,{"$f":"SUM(A1371:U1371*(TRANSPOSE(CostCalculation!$D$38:$D$58)))","v":182880},{"$f":"V1371+SUM(A1371:U1371*(TRANSPOSE(CostCalculation!$C$38:$C$58)))","v":130732}]
[0,0,0,0,0,0,0,0,0,212,48,36,24,0,0,0,0,0,0,0,4,25336,{"$f":"SUM(A1372:U1372*(TRANSPOSE(CostCalculation!$D$38:$D$58)))","v":182880},{"$f":"V1372+SUM(A1372:U1372*(TRANSPOSE(CostCalculation!$C$38:$C$58)))","v":130732}]
[0,0,0,0,0,0,0,0,0,318,72,54,36,0,0,0,0,0,0,0,6,38004,{"$f":"SUM(A1373:U1373*(TRANSPOSE(CostCalculation!$D$38:$D$58)))","v":274320},{"$f":"V1373+SUM(A1373:U1373*(TRANSPOSE(CostCalculation!$C$38:$C$58)))","v":196098}]
[0,0,0,0,0,0,0,0,0,212,48,36,24,0,0,0,0,0,0,0,4,25336,{"$f":"SUM(A1374:U1374*(TRANSPOSE(CostCalculation!$D$38:$D$58)))","v":182880},{"$f":"V1374+SUM(A1374:U1374*(TRANSPOSE(CostCalculation!$C$38:$C$58)))","v":130732}]
[0,0,0,0,0,0,0,0,0,159,36,27,18,0,0,0,0,0,0,0,3,19002,{"$f":"SUM(A1375:U1375*(TRANSPOSE(CostCalculation!$D$38:$D$58)))","v":137160},{"$f":"V1375+SUM(A1375:U1375*(TRANSPOSE(CostCalculation!$C$38:$C$58)))","v":98049}]
[0,0,0,0,0,0,0,0,0,53,12,9,6,0,0,0,0,0,0,0,1,6334,{"$f":"SUM(A1376:U1376*(TRANSPOSE(CostCalculation!$D$38:$D$58)))","v":45720},{"$f":"V1376+SUM(A1376:U1376*(TRANSPOSE(CostCalculation!$C$38:$C$58)))","v":32683}]
[0,0,0,0,0,0,0,0,0,424,96,72,48,0,0,0,0,0,0,0,8,50672,{"$f":"SUM(A1377:U1377*(TRANSPOSE(CostCalculation!$D$38:$D$58)))","v":365760},{"$f":"V1377+SUM(A1377:U1377*(TRANSPOSE(CostCalculation!$C$38:$C$58)))","v":261464}]
[0,0,0,0,0,0,0,0,0,53,12,9,6,0,0,0,0,0,0,0,1,6334,{"$f":"SUM(A1378:U1378*(TRANSPOSE(CostCalculation!$D$38:$D$58)))","v":45720},{"$f":"V1378+SUM(A1378:U1378*(TRANSPOSE(CostCalculation!$C$38:$C$58)))","v":32683}]
[0,0,0,0,0,0,0,0,0,371,84,63,42,0,0,0,0,0,0,0,7,44338,{"$f":"SUM(A1379:U1379*(TRANSPOSE(CostCalculation!$D$38:$D$58)))","v":320040},{"$f":"V1379+SUM(A1379:U1379*(TRANSPOSE(CostCalculation!$C$38:$C$58)))","v":228781}]
[0,0,0,0,0,0,0,0,0,106,24,18,12,0,0,0,0,0,0,0,2,12668,{"$f":"SUM(A1380:U1380*(TRANSPOSE(CostCalculation!$D$38:$D$58)))","v":91440},{"$f":"V1380+SUM(A1380:U1380*(TRANSPOSE(CostCalculation!$C$38:$C$58)))","v":65366}]
[0,0,0,0,0,0,0,0,0,106,24,18,12,0,0,0,0,0,0,0,2,12668,{"$f":"SUM(A1381:U1381*(TRANSPOSE(CostCalculation!$D$38:$D$58)))","v":91440},{"$f":"V1381+SUM(A1381:U1381*(TRANSPOSE(CostCalculation!$C$38:$C$58)))","v":65366}]
[0,0,0,0,0,0,0,0,0,53,12,9,6,0,0,0,0,0,0,0,1,6334,{"$f":"SUM(A1382:U1382*(TRANSPOSE(CostCalculation!$D$38:$D$58)))","v":45720},{"$f":"V1382+SUM(A1382:U1382*(TRANSPOSE(CostCalculation!$C$38:$C$58)))","v":32683}]
[0,0,0,0,0,0,0,0,0,159,36,27,18,0,0,0,0,0,0,0,3,19002,{"$f":"SUM(A1383:U1383*(TRANSPOSE(CostCalculation!$D$38:$D$58)))","v":137160},{"$f":"V1383+SUM(A1383:U1383*(TRANSPOSE(CostCalculation!$C$38:$C$58)))","v":98049}]
[0,0,0,0,0,0,0,0,0,106,24,18,12,0,0,0,0,0,0,0,2,12668,{"$f":"SUM(A1384:U1384*(TRANSPOSE(CostCalculation!$D$38:$D$58)))","v":91440},{"$f":"V1384+SUM(A1384:U1384*(TRANSPOSE(CostCalculation!$C$38:$C$58)))","v":65366}]
[0,0,0,0,0,0,0,0,0,265,60,45,30,0,0,0,0,0,0,0,5,31670,{"$f":"SUM(A1385:U1385*(TRANSPOSE(CostCalculation!$D$38:$D$58)))","v":228600},{"$f":"V1385+SUM(A1385:U1385*(TRANSPOSE(CostCalculation!$C$38:$C$58)))","v":163415}]
[0,0,0,0,0,0,0,0,0,53,12,9,6,0,0,0,0,0,0,0,1,6334,{"$f":"SUM(A1386:U1386*(TRANSPOSE(CostCalculation!$D$38:$D$58)))","v":45720},{"$f":"V1386+SUM(A1386:U1386*(TRANSPOSE(CostCalculation!$C$38:$C$58)))","v":32683}]
[0,0,0,0,0,0,0,0,0,212,48,36,24,0,0,0,0,0,0,0,4,25336,{"$f":"SUM(A1387:U1387*(TRANSPOSE(CostCalculation!$D$38:$D$58)))","v":182880},{"$f":"V1387+SUM(A1387:U1387*(TRANSPOSE(CostCalculation!$C$38:$C$58)))","v":130732}]
[0,0,0,0,0,0,0,0,0,371,84,63,42,0,0,0,0,0,0,0,7,44338,{"$f":"SUM(A1388:U1388*(TRANSPOSE(CostCalculation!$D$38:$D$58)))","v":320040},{"$f":"V1388+SUM(A1388:U1388*(TRANSPOSE(CostCalculation!$C$38:$C$58)))","v":228781}]
[0,0,0,0,0,0,0,0,0,212,48,36,24,0,0,0,0,0,0,0,4,25336,{"$f":"SUM(A1389:U1389*(TRANSPOSE(CostCalculation!$D$38:$D$58)))","v":182880},{"$f":"V1389+SUM(A1389:U1389*(TRANSPOSE(CostCalculation!$C$38:$C$58)))","v":130732}]
[0,0,0,0,0,0,0,0,0,106,24,18,12,0,0,0,0,0,0,0,2,12668,{"$f":"SUM(A1390:U1390*(TRANSPOSE(CostCalculation!$D$38:$D$58)))","v":91440},{"$f":"V1390+SUM(A1390:U1390*(TRANSPOSE(CostCalculation!$C$38:$C$58)))","v":65366}]
[0,0,0,0,0,0,0,0,0,318,72,54,36,0,0,0,0,0,0,0,6,38004,{"$f":"SUM(A1391:U1391*(TRANSPOSE(CostCalculation!$D$38:$D$58)))","v":274320},{"$f":"V1391+SUM(A1391:U1391*(TRANSPOSE(CostCalculation!$C$38:$C$58)))","v":196098}]
[0,0,0,0,0,0,0,0,0,53,12,9,6,0,0,0,0,0,0,0,1,6334,{"$f":"SUM(A1392:U1392*(TRANSPOSE(CostCalculation!$D$38:$D$58)))","v":45720},{"$f":"V1392+SUM(A1392:U1392*(TRANSPOSE(CostCalculation!$C$38:$C$58)))","v":32683}]
[0,0,0,0,0,0,0,0,0,318,72,54,36,0,0,0,0,0,0,0,6,38004,{"$f":"SUM(A1393:U1393*(TRANSPOSE(CostCalculation!$D$38:$D$58)))","v":274320},{"$f":"V1393+SUM(A1393:U1393*(TRANSPOSE(CostCalculation!$C$38:$C$58)))","v":196098}]
[0,0,0,0,0,0,0,0,0,159,36,27,18,0,0,0,0,0,0,0,3,19002,{"$f":"SUM(A1394:U1394*(TRANSPOSE(CostCalculation!$D$38:$D$58)))","v":137160},{"$f":"V1394+SUM(A1394:U1394*(TRANSPOSE(CostCalculation!$C$38:$C$58)))","v":98049}]
[0,0,0,0,0,0,0,0,0,53,12,9,6,0,0,0,0,0,0,0,1,6334,{"$f":"SUM(A1395:U1395*(TRANSPOSE(CostCalculation!$D$38:$D$58)))","v":45720},{"$f":"V1395+SUM(A1395:U1395*(TRANSPOSE(CostCalculation!$C$38:$C$58)))","v":32683}]
[0,0,0,0,0,0,0,0,0,159,36,27,18,0,0,0,0,0,0,0,3,19002,{"$f":"SUM(A1396:U1396*(TRANSPOSE(CostCalculation!$D$38:$D$58)))","v":137160},{"$f":"V1396+SUM(A1396:U1396*(TRANSPOSE(CostCalculation!$C$38:$C$58)))","v":98049}]
[0,0,0,0,0,0,0,0,0,53,12,9,6,0,0,0,0,0,0,0,1,6334,{"$f":"SUM(A1397:U1397*(TRANSPOSE(CostCalculation!$D$38:$D$58)))","v":45720},{"$f":"V1397+SUM(A1397:U1397*(TRANSPOSE(CostCalculation!$C$38:$C$58)))","v":32683}]
[0,0,0,0,0,0,0,0,0,159,36,27,18,0,0,0,0,0,0,0,3,19002,{"$f":"SUM(A1398:U1398*(TRANSPOSE(CostCalculation!$D$38:$D$58)))","v":137160},{"$f":"V1398+SUM(A1398:U1398*(TRANSPOSE(CostCalculation!$C$38:$C$58)))","v":98049}]
[0,0,0,0,0,0,0,0,0,53,12,9,6,0,0,0,0,0,0,0,1,6334,{"$f":"SUM(A1399:U1399*(TRANSPOSE(CostCalculation!$D$38:$D$58)))","v":45720},{"$f":"V1399+SUM(A1399:U1399*(TRANSPOSE(CostCalculation!$C$38:$C$58)))","v":32683}]
[0,0,0,0,0,0,0,0,0,106,24,18,12,0,0,0,0,0,0,0,2,12668,{"$f":"SUM(A1400:U1400*(TRANSPOSE(CostCalculation!$D$38:$D$58)))","v":91440},{"$f":"V1400+SUM(A1400:U1400*(TRANSPOSE(CostCalculation!$C$38:$C$58)))","v":65366}]
[0,0,0,0,0,0,0,0,0,265,60,45,30,0,0,0,0,0,0,0,5,31670,{"$f":"SUM(A1401:U1401*(TRANSPOSE(CostCalculation!$D$38:$D$58)))","v":228600},{"$f":"V1401+SUM(A1401:U1401*(TRANSPOSE(CostCalculation!$C$38:$C$58)))","v":163415}]
[0,0,0,0,0,0,0,0,0,318,72,54,36,0,0,0,0,0,0,0,6,38004,{"$f":"SUM(A1402:U1402*(TRANSPOSE(CostCalculation!$D$38:$D$58)))","v":274320},{"$f":"V1402+SUM(A1402:U1402*(TRANSPOSE(CostCalculation!$C$38:$C$58)))","v":196098}]
[0,0,0,0,0,0,0,0,0,106,24,18,12,0,0,0,0,0,0,0,2,12668,{"$f":"SUM(A1403:U1403*(TRANSPOSE(CostCalculation!$D$38:$D$58)))","v":91440},{"$f":"V1403+SUM(A1403:U1403*(TRANSPOSE(CostCalculation!$C$38:$C$58)))","v":65366}]
[0,0,0,0,0,0,0,0,0,53,12,9,6,0,0,0,0,0,0,0,1,6334,{"$f":"SUM(A1404:U1404*(TRANSPOSE(CostCalculation!$D$38:$D$58)))","v":45720},{"$f":"V1404+SUM(A1404:U1404*(TRANSPOSE(CostCalculation!$C$38:$C$58)))","v":32683}]
[0,0,0,0,0,0,0,0,0,53,12,9,6,0,0,0,0,0,0,0,1,6334,{"$f":"SUM(A1405:U1405*(TRANSPOSE(CostCalculation!$D$38:$D$58)))","v":45720},{"$f":"V1405+SUM(A1405:U1405*(TRANSPOSE(CostCalculation!$C$38:$C$58)))","v":32683}]
[0,0,0,0,0,0,0,0,0,106,24,18,12,0,0,0,0,0,0,0,2,12668,{"$f":"SUM(A1406:U1406*(TRANSPOSE(CostCalculation!$D$38:$D$58)))","v":91440},{"$f":"V1406+SUM(A1406:U1406*(TRANSPOSE(CostCalculation!$C$38:$C$58)))","v":65366}]
[0,0,0,0,0,0,0,0,0,212,48,36,24,0,0,0,0,0,0,0,4,25336,{"$f":"SUM(A1407:U1407*(TRANSPOSE(CostCalculation!$D$38:$D$58)))","v":182880},{"$f":"V1407+SUM(A1407:U1407*(TRANSPOSE(CostCalculation!$C$38:$C$58)))","v":130732}]
[0,0,0,0,0,0,0,0,0,212,48,36,24,0,0,0,0,0,0,0,4,25336,{"$f":"SUM(A1408:U1408*(TRANSPOSE(CostCalculation!$D$38:$D$58)))","v":182880},{"$f":"V1408+SUM(A1408:U1408*(TRANSPOSE(CostCalculation!$C$38:$C$58)))","v":130732}]
[0,0,0,0,0,0,0,0,0,53,12,9,6,0,0,0,0,0,0,0,1,6334,{"$f":"SUM(A1409:U1409*(TRANSPOSE(CostCalculation!$D$38:$D$58)))","v":45720},{"$f":"V1409+SUM(A1409:U1409*(TRANSPOSE(CostCalculation!$C$38:$C$58)))","v":32683}]
[0,0,0,0,0,0,0,0,0,265,60,45,30,0,0,0,0,0,0,0,5,31670,{"$f":"SUM(A1410:U1410*(TRANSPOSE(CostCalculation!$D$38:$D$58)))","v":228600},{"$f":"V1410+SUM(A1410:U1410*(TRANSPOSE(CostCalculation!$C$38:$C$58)))","v":163415}]
[0,0,0,0,0,0,0,0,0,106,24,18,12,0,0,0,0,0,0,0,2,12668,{"$f":"SUM(A1411:U1411*(TRANSPOSE(CostCalculation!$D$38:$D$58)))","v":91440},{"$f":"V1411+SUM(A1411:U1411*(TRANSPOSE(CostCalculation!$C$38:$C$58)))","v":65366}]
[0,0,0,0,0,0,0,0,0,106,24,18,12,0,0,0,0,0,0,0,2,12668,{"$f":"SUM(A1412:U1412*(TRANSPOSE(CostCalculation!$D$38:$D$58)))","v":91440},{"$f":"V1412+SUM(A1412:U1412*(TRANSPOSE(CostCalculation!$C$38:$C$58)))","v":65366}]
[0,0,0,0,0,0,0,0,0,265,60,45,30,0,0,0,0,0,0,0,5,31670,{"$f":"SUM(A1413:U1413*(TRANSPOSE(CostCalculation!$D$38:$D$58)))","v":228600},{"$f":"V1413+SUM(A1413:U1413*(TRANSPOSE(CostCalculation!$C$38:$C$58)))","v":163415}]
[0,0,0,0,0,0,0,0,0,53,12,9,6,0,0,0,0,0,0,0,1,6334,{"$f":"SUM(A1414:U1414*(TRANSPOSE(CostCalculation!$D$38:$D$58)))","v":45720},{"$f":"V1414+SUM(A1414:U1414*(TRANSPOSE(CostCalculation!$C$38:$C$58)))","v":32683}]
[0,0,0,0,0,0,0,0,0,53,12,9,6,0,0,0,0,0,0,0,1,6334,{"$f":"SUM(A1415:U1415*(TRANSPOSE(CostCalculation!$D$38:$D$58)))","v":45720},{"$f":"V1415+SUM(A1415:U1415*(TRANSPOSE(CostCalculation!$C$38:$C$58)))","v":32683}]
[0,0,0,0,0,0,0,0,0,106,24,18,12,0,0,0,0,0,0,0,2,12668,{"$f":"SUM(A1416:U1416*(TRANSPOSE(CostCalculation!$D$38:$D$58)))","v":91440},{"$f":"V1416+SUM(A1416:U1416*(TRANSPOSE(CostCalculation!$C$38:$C$58)))","v":65366}]
[0,0,0,0,0,0,0,0,0,371,84,63,42,0,0,0,0,0,0,0,7,44338,{"$f":"SUM(A1417:U1417*(TRANSPOSE(CostCalculation!$D$38:$D$58)))","v":320040},{"$f":"V1417+SUM(A1417:U1417*(TRANSPOSE(CostCalculation!$C$38:$C$58)))","v":228781}]
[0,0,0,0,0,0,0,0,0,159,36,27,18,0,0,0,0,0,0,0,3,19002,{"$f":"SUM(A1418:U1418*(TRANSPOSE(CostCalculation!$D$38:$D$58)))","v":137160},{"$f":"V1418+SUM(A1418:U1418*(TRANSPOSE(CostCalculation!$C$38:$C$58)))","v":98049}]
[0,0,0,0,0,0,0,0,0,371,84,63,42,0,0,0,0,0,0,0,7,44338,{"$f":"SUM(A1419:U1419*(TRANSPOSE(CostCalculation!$D$38:$D$58)))","v":320040},{"$f":"V1419+SUM(A1419:U1419*(TRANSPOSE(CostCalculation!$C$38:$C$58)))","v":228781}]
[0,0,0,0,0,0,0,0,0,106,24,18,12,0,0,0,0,0,0,0,2,12668,{"$f":"SUM(A1420:U1420*(TRANSPOSE(CostCalculation!$D$38:$D$58)))","v":91440},{"$f":"V1420+SUM(A1420:U1420*(TRANSPOSE(CostCalculation!$C$38:$C$58)))","v":65366}]
[0,0,0,0,0,0,0,0,0,53,12,9,6,0,0,0,0,0,0,0,1,6334,{"$f":"SUM(A1421:U1421*(TRANSPOSE(CostCalculation!$D$38:$D$58)))","v":45720},{"$f":"V1421+SUM(A1421:U1421*(TRANSPOSE(CostCalculation!$C$38:$C$58)))","v":32683}]
[0,0,0,0,0,0,0,0,0,159,36,27,18,0,0,0,0,0,0,0,3,19002,{"$f":"SUM(A1422:U1422*(TRANSPOSE(CostCalculation!$D$38:$D$58)))","v":137160},{"$f":"V1422+SUM(A1422:U1422*(TRANSPOSE(CostCalculation!$C$38:$C$58)))","v":98049}]
[0,0,0,0,0,0,0,0,0,530,120,90,60,0,0,0,0,0,0,0,10,63340,{"$f":"SUM(A1423:U1423*(TRANSPOSE(CostCalculation!$D$38:$D$58)))","v":457200},{"$f":"V1423+SUM(A1423:U1423*(TRANSPOSE(CostCalculation!$C$38:$C$58)))","v":326830}]
[0,0,0,0,0,0,0,0,0,159,36,27,18,0,0,0,0,0,0,0,3,19002,{"$f":"SUM(A1424:U1424*(TRANSPOSE(CostCalculation!$D$38:$D$58)))","v":137160},{"$f":"V1424+SUM(A1424:U1424*(TRANSPOSE(CostCalculation!$C$38:$C$58)))","v":98049}]
[0,0,0,0,0,0,0,0,0,106,24,18,12,0,0,0,0,0,0,0,2,12668,{"$f":"SUM(A1425:U1425*(TRANSPOSE(CostCalculation!$D$38:$D$58)))","v":91440},{"$f":"V1425+SUM(A1425:U1425*(TRANSPOSE(CostCalculation!$C$38:$C$58)))","v":65366}]
[0,0,0,0,0,0,0,0,0,53,12,9,6,0,0,0,0,0,0,0,1,6334,{"$f":"SUM(A1426:U1426*(TRANSPOSE(CostCalculation!$D$38:$D$58)))","v":45720},{"$f":"V1426+SUM(A1426:U1426*(TRANSPOSE(CostCalculation!$C$38:$C$58)))","v":32683}]
[0,0,0,0,0,0,0,0,0,212,48,36,24,0,0,0,0,0,0,0,4,25336,{"$f":"SUM(A1427:U1427*(TRANSPOSE(CostCalculation!$D$38:$D$58)))","v":182880},{"$f":"V1427+SUM(A1427:U1427*(TRANSPOSE(CostCalculation!$C$38:$C$58)))","v":130732}]
[0,0,0,0,0,0,0,0,0,212,48,36,24,0,0,0,0,0,0,0,4,25336,{"$f":"SUM(A1428:U1428*(TRANSPOSE(CostCalculation!$D$38:$D$58)))","v":182880},{"$f":"V1428+SUM(A1428:U1428*(TRANSPOSE(CostCalculation!$C$38:$C$58)))","v":130732}]
[0,0,0,0,0,0,0,0,0,106,24,18,12,0,0,0,0,0,0,0,2,12668,{"$f":"SUM(A1429:U1429*(TRANSPOSE(CostCalculation!$D$38:$D$58)))","v":91440},{"$f":"V1429+SUM(A1429:U1429*(TRANSPOSE(CostCalculation!$C$38:$C$58)))","v":65366}]
[0,0,0,0,0,0,0,0,0,212,48,36,24,0,0,0,0,0,0,0,4,25336,{"$f":"SUM(A1430:U1430*(TRANSPOSE(CostCalculation!$D$38:$D$58)))","v":182880},{"$f":"V1430+SUM(A1430:U1430*(TRANSPOSE(CostCalculation!$C$38:$C$58)))","v":130732}]
[0,0,0,0,0,0,0,0,0,159,36,27,18,0,0,0,0,0,0,0,3,19002,{"$f":"SUM(A1431:U1431*(TRANSPOSE(CostCalculation!$D$38:$D$58)))","v":137160},{"$f":"V1431+SUM(A1431:U1431*(TRANSPOSE(CostCalculation!$C$38:$C$58)))","v":98049}]
[0,0,0,0,0,0,0,0,0,106,24,18,12,0,0,0,0,0,0,0,2,12668,{"$f":"SUM(A1432:U1432*(TRANSPOSE(CostCalculation!$D$38:$D$58)))","v":91440},{"$f":"V1432+SUM(A1432:U1432*(TRANSPOSE(CostCalculation!$C$38:$C$58)))","v":65366}]
[0,0,0,0,0,0,0,0,0,106,24,18,12,0,0,0,0,0,0,0,2,12668,{"$f":"SUM(A1433:U1433*(TRANSPOSE(CostCalculation!$D$38:$D$58)))","v":91440},{"$f":"V1433+SUM(A1433:U1433*(TRANSPOSE(CostCalculation!$C$38:$C$58)))","v":65366}]
[0,0,0,0,0,0,0,0,0,318,72,54,36,0,0,0,0,0,0,0,6,38004,{"$f":"SUM(A1434:U1434*(TRANSPOSE(CostCalculation!$D$38:$D$58)))","v":274320},{"$f":"V1434+SUM(A1434:U1434*(TRANSPOSE(CostCalculation!$C$38:$C$58)))","v":196098}]
[0,0,0,0,0,0,0,0,0,106,24,18,12,0,0,0,0,0,0,0,2,12668,{"$f":"SUM(A1435:U1435*(TRANSPOSE(CostCalculation!$D$38:$D$58)))","v":91440},{"$f":"V1435+SUM(A1435:U1435*(TRANSPOSE(CostCalculation!$C$38:$C$58)))","v":65366}]
[0,0,0,0,0,0,0,0,0,53,12,9,6,0,0,0,0,0,0,0,1,6334,{"$f":"SUM(A1436:U1436*(TRANSPOSE(CostCalculation!$D$38:$D$58)))","v":45720},{"$f":"V1436+SUM(A1436:U1436*(TRANSPOSE(CostCalculation!$C$38:$C$58)))","v":32683}]
[0,0,0,0,0,0,0,0,0,53,12,9,6,0,0,0,0,0,0,0,1,6334,{"$f":"SUM(A1437:U1437*(TRANSPOSE(CostCalculation!$D$38:$D$58)))","v":45720},{"$f":"V1437+SUM(A1437:U1437*(TRANSPOSE(CostCalculation!$C$38:$C$58)))","v":32683}]
[0,0,0,0,0,0,0,0,0,53,12,9,6,0,0,0,0,0,0,0,1,6334,{"$f":"SUM(A1438:U1438*(TRANSPOSE(CostCalculation!$D$38:$D$58)))","v":45720},{"$f":"V1438+SUM(A1438:U1438*(TRANSPOSE(CostCalculation!$C$38:$C$58)))","v":32683}]
[0,0,0,0,0,0,0,0,0,318,72,54,36,0,0,0,0,0,0,0,6,38004,{"$f":"SUM(A1439:U1439*(TRANSPOSE(CostCalculation!$D$38:$D$58)))","v":274320},{"$f":"V1439+SUM(A1439:U1439*(TRANSPOSE(CostCalculation!$C$38:$C$58)))","v":196098}]
[0,0,0,0,0,0,0,0,0,212,48,36,24,0,0,0,0,0,0,0,4,25336,{"$f":"SUM(A1440:U1440*(TRANSPOSE(CostCalculation!$D$38:$D$58)))","v":182880},{"$f":"V1440+SUM(A1440:U1440*(TRANSPOSE(CostCalculation!$C$38:$C$58)))","v":130732}]
[0,0,0,0,0,0,0,0,0,106,24,18,12,0,0,0,0,0,0,0,2,12668,{"$f":"SUM(A1441:U1441*(TRANSPOSE(CostCalculation!$D$38:$D$58)))","v":91440},{"$f":"V1441+SUM(A1441:U1441*(TRANSPOSE(CostCalculation!$C$38:$C$58)))","v":65366}]
[0,0,0,0,0,0,0,0,0,265,60,45,30,0,0,0,0,0,0,0,5,31670,{"$f":"SUM(A1442:U1442*(TRANSPOSE(CostCalculation!$D$38:$D$58)))","v":228600},{"$f":"V1442+SUM(A1442:U1442*(TRANSPOSE(CostCalculation!$C$38:$C$58)))","v":163415}]
[0,0,0,0,0,0,0,0,0,53,12,9,6,0,0,0,0,0,0,0,1,6334,{"$f":"SUM(A1443:U1443*(TRANSPOSE(CostCalculation!$D$38:$D$58)))","v":45720},{"$f":"V1443+SUM(A1443:U1443*(TRANSPOSE(CostCalculation!$C$38:$C$58)))","v":32683}]
[0,0,0,0,0,0,0,0,0,53,12,9,6,0,0,0,0,0,0,0,1,6334,{"$f":"SUM(A1444:U1444*(TRANSPOSE(CostCalculation!$D$38:$D$58)))","v":45720},{"$f":"V1444+SUM(A1444:U1444*(TRANSPOSE(CostCalculation!$C$38:$C$58)))","v":32683}]
[0,0,0,0,0,0,0,0,0,53,12,9,6,0,0,0,0,0,0,0,1,6334,{"$f":"SUM(A1445:U1445*(TRANSPOSE(CostCalculation!$D$38:$D$58)))","v":45720},{"$f":"V1445+SUM(A1445:U1445*(TRANSPOSE(CostCalculation!$C$38:$C$58)))","v":32683}]
[0,0,0,0,0,0,0,0,0,53,12,9,6,0,0,0,0,0,0,0,1,6334,{"$f":"SUM(A1446:U1446*(TRANSPOSE(CostCalculation!$D$38:$D$58)))","v":45720},{"$f":"V1446+SUM(A1446:U1446*(TRANSPOSE(CostCalculation!$C$38:$C$58)))","v":32683}]
[0,0,0,0,0,0,0,0,0,265,60,45,30,0,0,0,0,0,0,0,5,31670,{"$f":"SUM(A1447:U1447*(TRANSPOSE(CostCalculation!$D$38:$D$58)))","v":228600},{"$f":"V1447+SUM(A1447:U1447*(TRANSPOSE(CostCalculation!$C$38:$C$58)))","v":163415}]
[0,0,0,0,0,0,0,0,0,53,12,9,6,0,0,0,0,0,0,0,1,6334,{"$f":"SUM(A1448:U1448*(TRANSPOSE(CostCalculation!$D$38:$D$58)))","v":45720},{"$f":"V1448+SUM(A1448:U1448*(TRANSPOSE(CostCalculation!$C$38:$C$58)))","v":32683}]
[0,0,0,0,0,0,0,0,0,318,72,54,36,0,0,0,0,0,0,0,6,38004,{"$f":"SUM(A1449:U1449*(TRANSPOSE(CostCalculation!$D$38:$D$58)))","v":274320},{"$f":"V1449+SUM(A1449:U1449*(TRANSPOSE(CostCalculation!$C$38:$C$58)))","v":196098}]
[0,0,0,0,0,0,0,0,0,53,12,9,6,0,0,0,0,0,0,0,1,6334,{"$f":"SUM(A1450:U1450*(TRANSPOSE(CostCalculation!$D$38:$D$58)))","v":45720},{"$f":"V1450+SUM(A1450:U1450*(TRANSPOSE(CostCalculation!$C$38:$C$58)))","v":32683}]
[0,0,0,0,0,0,0,0,0,106,24,18,12,0,0,0,0,0,0,0,2,12668,{"$f":"SUM(A1451:U1451*(TRANSPOSE(CostCalculation!$D$38:$D$58)))","v":91440},{"$f":"V1451+SUM(A1451:U1451*(TRANSPOSE(CostCalculation!$C$38:$C$58)))","v":65366}]
[0,0,0,0,0,0,0,0,0,53,12,9,6,0,0,0,0,0,0,0,1,6334,{"$f":"SUM(A1452:U1452*(TRANSPOSE(CostCalculation!$D$38:$D$58)))","v":45720},{"$f":"V1452+SUM(A1452:U1452*(TRANSPOSE(CostCalculation!$C$38:$C$58)))","v":32683}]
[0,0,0,0,0,0,0,0,0,159,36,27,18,0,0,0,0,0,0,0,3,19002,{"$f":"SUM(A1453:U1453*(TRANSPOSE(CostCalculation!$D$38:$D$58)))","v":137160},{"$f":"V1453+SUM(A1453:U1453*(TRANSPOSE(CostCalculation!$C$38:$C$58)))","v":98049}]
[0,0,0,0,0,0,0,0,0,53,12,9,6,0,0,0,0,0,0,0,1,6334,{"$f":"SUM(A1454:U1454*(TRANSPOSE(CostCalculation!$D$38:$D$58)))","v":45720},{"$f":"V1454+SUM(A1454:U1454*(TRANSPOSE(CostCalculation!$C$38:$C$58)))","v":32683}]
[0,0,0,0,0,0,0,0,0,265,60,45,30,0,0,0,0,0,0,0,5,31670,{"$f":"SUM(A1455:U1455*(TRANSPOSE(CostCalculation!$D$38:$D$58)))","v":228600},{"$f":"V1455+SUM(A1455:U1455*(TRANSPOSE(CostCalculation!$C$38:$C$58)))","v":163415}]
[0,0,0,0,0,0,0,0,0,159,36,27,18,0,0,0,0,0,0,0,3,19002,{"$f":"SUM(A1456:U1456*(TRANSPOSE(CostCalculation!$D$38:$D$58)))","v":137160},{"$f":"V1456+SUM(A1456:U1456*(TRANSPOSE(CostCalculation!$C$38:$C$58)))","v":98049}]
[0,0,0,0,0,0,0,0,0,212,48,36,24,0,0,0,0,0,0,0,4,25336,{"$f":"SUM(A1457:U1457*(TRANSPOSE(CostCalculation!$D$38:$D$58)))","v":182880},{"$f":"V1457+SUM(A1457:U1457*(TRANSPOSE(CostCalculation!$C$38:$C$58)))","v":130732}]
[0,0,0,0,0,0,0,0,0,106,24,18,12,0,0,0,0,0,0,0,2,12668,{"$f":"SUM(A1458:U1458*(TRANSPOSE(CostCalculation!$D$38:$D$58)))","v":91440},{"$f":"V1458+SUM(A1458:U1458*(TRANSPOSE(CostCalculation!$C$38:$C$58)))","v":65366}]
[0,0,0,0,0,0,0,0,0,424,96,72,48,0,0,0,0,0,0,0,8,50672,{"$f":"SUM(A1459:U1459*(TRANSPOSE(CostCalculation!$D$38:$D$58)))","v":365760},{"$f":"V1459+SUM(A1459:U1459*(TRANSPOSE(CostCalculation!$C$38:$C$58)))","v":261464}]
[0,0,0,0,0,0,0,0,0,212,48,36,24,0,0,0,0,0,0,0,4,25336,{"$f":"SUM(A1460:U1460*(TRANSPOSE(CostCalculation!$D$38:$D$58)))","v":182880},{"$f":"V1460+SUM(A1460:U1460*(TRANSPOSE(CostCalculation!$C$38:$C$58)))","v":130732}]
[0,0,0,0,0,0,0,0,0,106,24,18,12,0,0,0,0,0,0,0,2,12668,{"$f":"SUM(A1461:U1461*(TRANSPOSE(CostCalculation!$D$38:$D$58)))","v":91440},{"$f":"V1461+SUM(A1461:U1461*(TRANSPOSE(CostCalculation!$C$38:$C$58)))","v":65366}]
[0,0,0,0,0,0,0,0,0,371,84,63,42,0,0,0,0,0,0,0,7,44338,{"$f":"SUM(A1462:U1462*(TRANSPOSE(CostCalculation!$D$38:$D$58)))","v":320040},{"$f":"V1462+SUM(A1462:U1462*(TRANSPOSE(CostCalculation!$C$38:$C$58)))","v":228781}]
[0,0,0,0,0,0,0,0,0,265,60,45,30,0,0,0,0,0,0,0,5,31670,{"$f":"SUM(A1463:U1463*(TRANSPOSE(CostCalculation!$D$38:$D$58)))","v":228600},{"$f":"V1463+SUM(A1463:U1463*(TRANSPOSE(CostCalculation!$C$38:$C$58)))","v":163415}]
[0,0,0,0,0,0,0,0,0,371,84,63,42,0,0,0,0,0,0,0,7,44338,{"$f":"SUM(A1464:U1464*(TRANSPOSE(CostCalculation!$D$38:$D$58)))","v":320040},{"$f":"V1464+SUM(A1464:U1464*(TRANSPOSE(CostCalculation!$C$38:$C$58)))","v":228781}]
[0,0,0,0,0,0,0,0,0,53,12,9,6,0,0,0,0,0,0,0,1,6334,{"$f":"SUM(A1465:U1465*(TRANSPOSE(CostCalculation!$D$38:$D$58)))","v":45720},{"$f":"V1465+SUM(A1465:U1465*(TRANSPOSE(CostCalculation!$C$38:$C$58)))","v":32683}]
[0,0,0,0,0,0,0,0,0,265,60,45,30,0,0,0,0,0,0,0,5,31670,{"$f":"SUM(A1466:U1466*(TRANSPOSE(CostCalculation!$D$38:$D$58)))","v":228600},{"$f":"V1466+SUM(A1466:U1466*(TRANSPOSE(CostCalculation!$C$38:$C$58)))","v":163415}]
[0,0,0,0,0,0,0,0,0,53,12,9,6,0,0,0,0,0,0,0,1,6334,{"$f":"SUM(A1467:U1467*(TRANSPOSE(CostCalculation!$D$38:$D$58)))","v":45720},{"$f":"V1467+SUM(A1467:U1467*(TRANSPOSE(CostCalculation!$C$38:$C$58)))","v":32683}]
[0,0,0,0,0,0,0,0,0,53,12,9,6,0,0,0,0,0,0,0,1,6334,{"$f":"SUM(A1468:U1468*(TRANSPOSE(CostCalculation!$D$38:$D$58)))","v":45720},{"$f":"V1468+SUM(A1468:U1468*(TRANSPOSE(CostCalculation!$C$38:$C$58)))","v":32683}]
[0,0,0,0,0,0,0,0,0,53,12,9,6,0,0,0,0,0,0,0,1,6334,{"$f":"SUM(A1469:U1469*(TRANSPOSE(CostCalculation!$D$38:$D$58)))","v":45720},{"$f":"V1469+SUM(A1469:U1469*(TRANSPOSE(CostCalculation!$C$38:$C$58)))","v":32683}]
[0,0,0,0,0,0,0,0,0,159,36,27,18,0,0,0,0,0,0,0,3,19002,{"$f":"SUM(A1470:U1470*(TRANSPOSE(CostCalculation!$D$38:$D$58)))","v":137160},{"$f":"V1470+SUM(A1470:U1470*(TRANSPOSE(CostCalculation!$C$38:$C$58)))","v":98049}]
[0,0,0,0,0,0,0,0,0,106,24,18,12,0,0,0,0,0,0,0,2,12668,{"$f":"SUM(A1471:U1471*(TRANSPOSE(CostCalculation!$D$38:$D$58)))","v":91440},{"$f":"V1471+SUM(A1471:U1471*(TRANSPOSE(CostCalculation!$C$38:$C$58)))","v":65366}]
[0,0,0,0,0,0,0,0,0,212,48,36,24,0,0,0,0,0,0,0,4,25336,{"$f":"SUM(A1472:U1472*(TRANSPOSE(CostCalculation!$D$38:$D$58)))","v":182880},{"$f":"V1472+SUM(A1472:U1472*(TRANSPOSE(CostCalculation!$C$38:$C$58)))","v":130732}]
[0,0,0,0,0,0,0,0,0,371,84,63,42,0,0,0,0,0,0,0,7,44338,{"$f":"SUM(A1473:U1473*(TRANSPOSE(CostCalculation!$D$38:$D$58)))","v":320040},{"$f":"V1473+SUM(A1473:U1473*(TRANSPOSE(CostCalculation!$C$38:$C$58)))","v":228781}]
[0,0,0,0,0,0,0,0,0,212,48,36,24,0,0,0,0,0,0,0,4,25336,{"$f":"SUM(A1474:U1474*(TRANSPOSE(CostCalculation!$D$38:$D$58)))","v":182880},{"$f":"V1474+SUM(A1474:U1474*(TRANSPOSE(CostCalculation!$C$38:$C$58)))","v":130732}]
[0,0,0,0,0,0,0,0,0,265,60,45,30,0,0,0,0,0,0,0,5,31670,{"$f":"SUM(A1475:U1475*(TRANSPOSE(CostCalculation!$D$38:$D$58)))","v":228600},{"$f":"V1475+SUM(A1475:U1475*(TRANSPOSE(CostCalculation!$C$38:$C$58)))","v":163415}]
[0,0,0,0,0,0,0,0,0,159,36,27,18,0,0,0,0,0,0,0,3,19002,{"$f":"SUM(A1476:U1476*(TRANSPOSE(CostCalculation!$D$38:$D$58)))","v":137160},{"$f":"V1476+SUM(A1476:U1476*(TRANSPOSE(CostCalculation!$C$38:$C$58)))","v":98049}]
[0,0,0,0,0,0,0,0,0,212,48,36,24,0,0,0,0,0,0,0,4,25336,{"$f":"SUM(A1477:U1477*(TRANSPOSE(CostCalculation!$D$38:$D$58)))","v":182880},{"$f":"V1477+SUM(A1477:U1477*(TRANSPOSE(CostCalculation!$C$38:$C$58)))","v":130732}]
[0,0,0,0,0,0,0,0,0,106,24,18,12,0,0,0,0,0,0,0,2,12668,{"$f":"SUM(A1478:U1478*(TRANSPOSE(CostCalculation!$D$38:$D$58)))","v":91440},{"$f":"V1478+SUM(A1478:U1478*(TRANSPOSE(CostCalculation!$C$38:$C$58)))","v":65366}]
[0,0,0,0,0,0,0,0,0,159,36,27,18,0,0,0,0,0,0,0,3,19002,{"$f":"SUM(A1479:U1479*(TRANSPOSE(CostCalculation!$D$38:$D$58)))","v":137160},{"$f":"V1479+SUM(A1479:U1479*(TRANSPOSE(CostCalculation!$C$38:$C$58)))","v":98049}]
[0,0,0,0,0,0,0,0,0,53,12,9,6,0,0,0,0,0,0,0,1,6334,{"$f":"SUM(A1480:U1480*(TRANSPOSE(CostCalculation!$D$38:$D$58)))","v":45720},{"$f":"V1480+SUM(A1480:U1480*(TRANSPOSE(CostCalculation!$C$38:$C$58)))","v":32683}]
[0,0,0,0,0,0,0,0,0,159,36,27,18,0,0,0,0,0,0,0,3,19002,{"$f":"SUM(A1481:U1481*(TRANSPOSE(CostCalculation!$D$38:$D$58)))","v":137160},{"$f":"V1481+SUM(A1481:U1481*(TRANSPOSE(CostCalculation!$C$38:$C$58)))","v":98049}]
[0,0,0,0,0,0,0,0,0,159,36,27,18,0,0,0,0,0,0,0,3,19002,{"$f":"SUM(A1482:U1482*(TRANSPOSE(CostCalculation!$D$38:$D$58)))","v":137160},{"$f":"V1482+SUM(A1482:U1482*(TRANSPOSE(CostCalculation!$C$38:$C$58)))","v":98049}]
[0,0,0,0,0,0,0,0,0,106,24,18,12,0,0,0,0,0,0,0,2,12668,{"$f":"SUM(A1483:U1483*(TRANSPOSE(CostCalculation!$D$38:$D$58)))","v":91440},{"$f":"V1483+SUM(A1483:U1483*(TRANSPOSE(CostCalculation!$C$38:$C$58)))","v":65366}]
[0,0,0,0,0,0,0,0,0,106,24,18,12,0,0,0,0,0,0,0,2,12668,{"$f":"SUM(A1484:U1484*(TRANSPOSE(CostCalculation!$D$38:$D$58)))","v":91440},{"$f":"V1484+SUM(A1484:U1484*(TRANSPOSE(CostCalculation!$C$38:$C$58)))","v":65366}]
[0,0,0,0,0,0,0,0,0,53,12,9,6,0,0,0,0,0,0,0,1,6334,{"$f":"SUM(A1485:U1485*(TRANSPOSE(CostCalculation!$D$38:$D$58)))","v":45720},{"$f":"V1485+SUM(A1485:U1485*(TRANSPOSE(CostCalculation!$C$38:$C$58)))","v":32683}]
[0,0,0,0,0,0,0,0,0,424,96,72,48,0,0,0,0,0,0,0,8,50672,{"$f":"SUM(A1486:U1486*(TRANSPOSE(CostCalculation!$D$38:$D$58)))","v":365760},{"$f":"V1486+SUM(A1486:U1486*(TRANSPOSE(CostCalculation!$C$38:$C$58)))","v":261464}]
[0,0,0,0,0,0,0,0,0,159,36,27,18,0,0,0,0,0,0,0,3,19002,{"$f":"SUM(A1487:U1487*(TRANSPOSE(CostCalculation!$D$38:$D$58)))","v":137160},{"$f":"V1487+SUM(A1487:U1487*(TRANSPOSE(CostCalculation!$C$38:$C$58)))","v":98049}]
[0,0,0,0,0,0,0,0,0,424,96,72,48,0,0,0,0,0,0,0,8,50672,{"$f":"SUM(A1488:U1488*(TRANSPOSE(CostCalculation!$D$38:$D$58)))","v":365760},{"$f":"V1488+SUM(A1488:U1488*(TRANSPOSE(CostCalculation!$C$38:$C$58)))","v":261464}]
[0,0,0,0,0,0,0,0,0,106,24,18,12,0,0,0,0,0,0,0,2,12668,{"$f":"SUM(A1489:U1489*(TRANSPOSE(CostCalculation!$D$38:$D$58)))","v":91440},{"$f":"V1489+SUM(A1489:U1489*(TRANSPOSE(CostCalculation!$C$38:$C$58)))","v":65366}]
[0,0,0,0,0,0,0,0,0,265,60,45,30,0,0,0,0,0,0,0,5,31670,{"$f":"SUM(A1490:U1490*(TRANSPOSE(CostCalculation!$D$38:$D$58)))","v":228600},{"$f":"V1490+SUM(A1490:U1490*(TRANSPOSE(CostCalculation!$C$38:$C$58)))","v":163415}]
[0,0,0,0,0,0,0,0,0,159,36,27,18,0,0,0,0,0,0,0,3,19002,{"$f":"SUM(A1491:U1491*(TRANSPOSE(CostCalculation!$D$38:$D$58)))","v":137160},{"$f":"V1491+SUM(A1491:U1491*(TRANSPOSE(CostCalculation!$C$38:$C$58)))","v":98049}]
[0,0,0,0,0,0,0,0,0,159,36,27,18,0,0,0,0,0,0,0,3,19002,{"$f":"SUM(A1492:U1492*(TRANSPOSE(CostCalculation!$D$38:$D$58)))","v":137160},{"$f":"V1492+SUM(A1492:U1492*(TRANSPOSE(CostCalculation!$C$38:$C$58)))","v":98049}]
[0,0,0,0,0,0,0,0,0,53,12,9,6,0,0,0,0,0,0,0,1,6334,{"$f":"SUM(A1493:U1493*(TRANSPOSE(CostCalculation!$D$38:$D$58)))","v":45720},{"$f":"V1493+SUM(A1493:U1493*(TRANSPOSE(CostCalculation!$C$38:$C$58)))","v":32683}]
[0,0,0,0,0,0,0,0,0,106,24,18,12,0,0,0,0,0,0,0,2,12668,{"$f":"SUM(A1494:U1494*(TRANSPOSE(CostCalculation!$D$38:$D$58)))","v":91440},{"$f":"V1494+SUM(A1494:U1494*(TRANSPOSE(CostCalculation!$C$38:$C$58)))","v":65366}]
[0,0,0,0,0,0,0,0,0,106,24,18,12,0,0,0,0,0,0,0,2,12668,{"$f":"SUM(A1495:U1495*(TRANSPOSE(CostCalculation!$D$38:$D$58)))","v":91440},{"$f":"V1495+SUM(A1495:U1495*(TRANSPOSE(CostCalculation!$C$38:$C$58)))","v":65366}]
[0,0,0,0,0,0,0,0,0,212,48,36,24,0,0,0,0,0,0,0,4,25336,{"$f":"SUM(A1496:U1496*(TRANSPOSE(CostCalculation!$D$38:$D$58)))","v":182880},{"$f":"V1496+SUM(A1496:U1496*(TRANSPOSE(CostCalculation!$C$38:$C$58)))","v":130732}]
[0,0,0,0,0,0,0,0,0,53,12,9,6,0,0,0,0,0,0,0,1,6334,{"$f":"SUM(A1497:U1497*(TRANSPOSE(CostCalculation!$D$38:$D$58)))","v":45720},{"$f":"V1497+SUM(A1497:U1497*(TRANSPOSE(CostCalculation!$C$38:$C$58)))","v":32683}]
[0,0,0,0,0,0,0,0,0,53,12,9,6,0,0,0,0,0,0,0,1,6334,{"$f":"SUM(A1498:U1498*(TRANSPOSE(CostCalculation!$D$38:$D$58)))","v":45720},{"$f":"V1498+SUM(A1498:U1498*(TRANSPOSE(CostCalculation!$C$38:$C$58)))","v":32683}]
[0,0,0,0,0,0,0,0,0,212,48,36,24,0,0,0,0,0,0,0,4,25336,{"$f":"SUM(A1499:U1499*(TRANSPOSE(CostCalculation!$D$38:$D$58)))","v":182880},{"$f":"V1499+SUM(A1499:U1499*(TRANSPOSE(CostCalculation!$C$38:$C$58)))","v":130732}]
[0,0,0,0,0,0,0,0,0,53,12,9,6,0,0,0,0,0,0,0,1,6334,{"$f":"SUM(A1500:U1500*(TRANSPOSE(CostCalculation!$D$38:$D$58)))","v":45720},{"$f":"V1500+SUM(A1500:U1500*(TRANSPOSE(CostCalculation!$C$38:$C$58)))","v":32683}]
[0,0,0,0,0,0,0,0,0,159,36,27,18,0,0,0,0,0,0,0,3,19002,{"$f":"SUM(A1501:U1501*(TRANSPOSE(CostCalculation!$D$38:$D$58)))","v":137160},{"$f":"V1501+SUM(A1501:U1501*(TRANSPOSE(CostCalculation!$C$38:$C$58)))","v":98049}]
[0,0,0,0,0,0,0,0,0,265,60,45,30,0,0,0,0,0,0,0,5,31670,{"$f":"SUM(A1502:U1502*(TRANSPOSE(CostCalculation!$D$38:$D$58)))","v":228600},{"$f":"V1502+SUM(A1502:U1502*(TRANSPOSE(CostCalculation!$C$38:$C$58)))","v":163415}]
[0,0,0,0,0,0,0,0,0,53,12,9,6,0,0,0,0,0,0,0,1,6334,{"$f":"SUM(A1503:U1503*(TRANSPOSE(CostCalculation!$D$38:$D$58)))","v":45720},{"$f":"V1503+SUM(A1503:U1503*(TRANSPOSE(CostCalculation!$C$38:$C$58)))","v":32683}]
[0,0,0,0,0,0,0,0,0,159,36,27,18,0,0,0,0,0,0,0,3,19002,{"$f":"SUM(A1504:U1504*(TRANSPOSE(CostCalculation!$D$38:$D$58)))","v":137160},{"$f":"V1504+SUM(A1504:U1504*(TRANSPOSE(CostCalculation!$C$38:$C$58)))","v":98049}]
[0,0,0,0,0,0,0,0,0,53,12,9,6,0,0,0,0,0,0,0,1,6334,{"$f":"SUM(A1505:U1505*(TRANSPOSE(CostCalculation!$D$38:$D$58)))","v":45720},{"$f":"V1505+SUM(A1505:U1505*(TRANSPOSE(CostCalculation!$C$38:$C$58)))","v":32683}]
[0,0,0,0,0,0,0,0,0,477,108,81,54,0,0,0,0,0,0,0,9,57006,{"$f":"SUM(A1506:U1506*(TRANSPOSE(CostCalculation!$D$38:$D$58)))","v":411480},{"$f":"V1506+SUM(A1506:U1506*(TRANSPOSE(CostCalculation!$C$38:$C$58)))","v":294147}]
[0,0,0,0,0,0,0,0,0,53,12,9,6,0,0,0,0,0,0,0,1,6334,{"$f":"SUM(A1507:U1507*(TRANSPOSE(CostCalculation!$D$38:$D$58)))","v":45720},{"$f":"V1507+SUM(A1507:U1507*(TRANSPOSE(CostCalculation!$C$38:$C$58)))","v":32683}]
[0,0,0,0,0,0,0,0,0,53,12,9,6,0,0,0,0,0,0,0,1,6334,{"$f":"SUM(A1508:U1508*(TRANSPOSE(CostCalculation!$D$38:$D$58)))","v":45720},{"$f":"V1508+SUM(A1508:U1508*(TRANSPOSE(CostCalculation!$C$38:$C$58)))","v":32683}]
[0,0,0,0,0,0,0,0,0,212,48,36,24,0,0,0,0,0,0,0,4,25336,{"$f":"SUM(A1509:U1509*(TRANSPOSE(CostCalculation!$D$38:$D$58)))","v":182880},{"$f":"V1509+SUM(A1509:U1509*(TRANSPOSE(CostCalculation!$C$38:$C$58)))","v":130732}]
[0,0,0,0,0,0,0,0,0,265,60,45,30,0,0,0,0,0,0,0,5,31670,{"$f":"SUM(A1510:U1510*(TRANSPOSE(CostCalculation!$D$38:$D$58)))","v":228600},{"$f":"V1510+SUM(A1510:U1510*(TRANSPOSE(CostCalculation!$C$38:$C$58)))","v":163415}]
[0,0,0,0,0,0,0,0,0,159,36,27,18,0,0,0,0,0,0,0,3,19002,{"$f":"SUM(A1511:U1511*(TRANSPOSE(CostCalculation!$D$38:$D$58)))","v":137160},{"$f":"V1511+SUM(A1511:U1511*(TRANSPOSE(CostCalculation!$C$38:$C$58)))","v":98049}]
[0,0,0,0,0,0,0,0,0,106,24,18,12,0,0,0,0,0,0,0,2,12668,{"$f":"SUM(A1512:U1512*(TRANSPOSE(CostCalculation!$D$38:$D$58)))","v":91440},{"$f":"V1512+SUM(A1512:U1512*(TRANSPOSE(CostCalculation!$C$38:$C$58)))","v":65366}]
[0,0,0,0,0,0,0,0,0,212,48,36,24,0,0,0,0,0,0,0,4,25336,{"$f":"SUM(A1513:U1513*(TRANSPOSE(CostCalculation!$D$38:$D$58)))","v":182880},{"$f":"V1513+SUM(A1513:U1513*(TRANSPOSE(CostCalculation!$C$38:$C$58)))","v":130732}]
[0,0,0,0,0,0,0,0,0,53,12,9,6,0,0,0,0,0,0,0,1,6334,{"$f":"SUM(A1514:U1514*(TRANSPOSE(CostCalculation!$D$38:$D$58)))","v":45720},{"$f":"V1514+SUM(A1514:U1514*(TRANSPOSE(CostCalculation!$C$38:$C$58)))","v":32683}]
[0,0,0,0,0,0,0,0,0,265,60,45,30,0,0,0,0,0,0,0,5,31670,{"$f":"SUM(A1515:U1515*(TRANSPOSE(CostCalculation!$D$38:$D$58)))","v":228600},{"$f":"V1515+SUM(A1515:U1515*(TRANSPOSE(CostCalculation!$C$38:$C$58)))","v":163415}]
[0,0,0,0,0,0,0,0,0,106,24,18,12,0,0,0,0,0,0,0,2,12668,{"$f":"SUM(A1516:U1516*(TRANSPOSE(CostCalculation!$D$38:$D$58)))","v":91440},{"$f":"V1516+SUM(A1516:U1516*(TRANSPOSE(CostCalculation!$C$38:$C$58)))","v":65366}]
[0,0,0,0,0,0,0,0,0,424,96,72,48,0,0,0,0,0,0,0,8,50672,{"$f":"SUM(A1517:U1517*(TRANSPOSE(CostCalculation!$D$38:$D$58)))","v":365760},{"$f":"V1517+SUM(A1517:U1517*(TRANSPOSE(CostCalculation!$C$38:$C$58)))","v":261464}]
[0,0,0,0,0,0,0,0,0,53,12,9,6,0,0,0,0,0,0,0,1,6334,{"$f":"SUM(A1518:U1518*(TRANSPOSE(CostCalculation!$D$38:$D$58)))","v":45720},{"$f":"V1518+SUM(A1518:U1518*(TRANSPOSE(CostCalculation!$C$38:$C$58)))","v":32683}]
[0,0,0,0,0,0,0,0,0,424,96,72,48,0,0,0,0,0,0,0,8,50672,{"$f":"SUM(A1519:U1519*(TRANSPOSE(CostCalculation!$D$38:$D$58)))","v":365760},{"$f":"V1519+SUM(A1519:U1519*(TRANSPOSE(CostCalculation!$C$38:$C$58)))","v":261464}]
[0,0,0,0,0,0,0,0,0,159,36,27,18,0,0,0,0,0,0,0,3,19002,{"$f":"SUM(A1520:U1520*(TRANSPOSE(CostCalculation!$D$38:$D$58)))","v":137160},{"$f":"V1520+SUM(A1520:U1520*(TRANSPOSE(CostCalculation!$C$38:$C$58)))","v":98049}]
[0,0,0,0,0,0,0,0,0,159,36,27,18,0,0,0,0,0,0,0,3,19002,{"$f":"SUM(A1521:U1521*(TRANSPOSE(CostCalculation!$D$38:$D$58)))","v":137160},{"$f":"V1521+SUM(A1521:U1521*(TRANSPOSE(CostCalculation!$C$38:$C$58)))","v":98049}]
[0,0,0,0,0,0,0,0,0,318,72,54,36,0,0,0,0,0,0,0,6,38004,{"$f":"SUM(A1522:U1522*(TRANSPOSE(CostCalculation!$D$38:$D$58)))","v":274320},{"$f":"V1522+SUM(A1522:U1522*(TRANSPOSE(CostCalculation!$C$38:$C$58)))","v":196098}]
[0,0,0,0,0,0,0,0,0,371,84,63,42,0,0,0,0,0,0,0,7,44338,{"$f":"SUM(A1523:U1523*(TRANSPOSE(CostCalculation!$D$38:$D$58)))","v":320040},{"$f":"V1523+SUM(A1523:U1523*(TRANSPOSE(CostCalculation!$C$38:$C$58)))","v":228781}]
[0,0,0,0,0,0,0,0,0,212,48,36,24,0,0,0,0,0,0,0,4,25336,{"$f":"SUM(A1524:U1524*(TRANSPOSE(CostCalculation!$D$38:$D$58)))","v":182880},{"$f":"V1524+SUM(A1524:U1524*(TRANSPOSE(CostCalculation!$C$38:$C$58)))","v":130732}]
[0,0,0,0,0,0,0,0,0,424,96,72,48,0,0,0,0,0,0,0,8,50672,{"$f":"SUM(A1525:U1525*(TRANSPOSE(CostCalculation!$D$38:$D$58)))","v":365760},{"$f":"V1525+SUM(A1525:U1525*(TRANSPOSE(CostCalculation!$C$38:$C$58)))","v":261464}]
[0,0,0,0,0,0,0,0,0,53,12,9,6,0,0,0,0,0,0,0,1,6334,{"$f":"SUM(A1526:U1526*(TRANSPOSE(CostCalculation!$D$38:$D$58)))","v":45720},{"$f":"V1526+SUM(A1526:U1526*(TRANSPOSE(CostCalculation!$C$38:$C$58)))","v":32683}]
[0,0,0,0,0,0,0,0,0,53,12,9,6,0,0,0,0,0,0,0,1,6334,{"$f":"SUM(A1527:U1527*(TRANSPOSE(CostCalculation!$D$38:$D$58)))","v":45720},{"$f":"V1527+SUM(A1527:U1527*(TRANSPOSE(CostCalculation!$C$38:$C$58)))","v":32683}]
[0,0,0,0,0,0,0,0,0,106,24,18,12,0,0,0,0,0,0,0,2,12668,{"$f":"SUM(A1528:U1528*(TRANSPOSE(CostCalculation!$D$38:$D$58)))","v":91440},{"$f":"V1528+SUM(A1528:U1528*(TRANSPOSE(CostCalculation!$C$38:$C$58)))","v":65366}]
[0,0,0,0,0,0,0,0,0,583,132,99,66,0,0,0,0,0,0,0,11,69674,{"$f":"SUM(A1529:U1529*(TRANSPOSE(CostCalculation!$D$38:$D$58)))","v":502920},{"$f":"V1529+SUM(A1529:U1529*(TRANSPOSE(CostCalculation!$C$38:$C$58)))","v":359513}]
[0,0,0,0,0,0,0,0,0,106,24,18,12,0,0,0,0,0,0,0,2,12668,{"$f":"SUM(A1530:U1530*(TRANSPOSE(CostCalculation!$D$38:$D$58)))","v":91440},{"$f":"V1530+SUM(A1530:U1530*(TRANSPOSE(CostCalculation!$C$38:$C$58)))","v":65366}]
[0,0,0,0,0,0,0,0,0,106,24,18,12,0,0,0,0,0,0,0,2,12668,{"$f":"SUM(A1531:U1531*(TRANSPOSE(CostCalculation!$D$38:$D$58)))","v":91440},{"$f":"V1531+SUM(A1531:U1531*(TRANSPOSE(CostCalculation!$C$38:$C$58)))","v":65366}]
[0,0,0,0,0,0,0,0,0,159,36,27,18,0,0,0,0,0,0,0,3,19002,{"$f":"SUM(A1532:U1532*(TRANSPOSE(CostCalculation!$D$38:$D$58)))","v":137160},{"$f":"V1532+SUM(A1532:U1532*(TRANSPOSE(CostCalculation!$C$38:$C$58)))","v":98049}]
[0,0,0,0,0,0,0,0,0,106,24,18,12,0,0,0,0,0,0,0,2,12668,{"$f":"SUM(A1533:U1533*(TRANSPOSE(CostCalculation!$D$38:$D$58)))","v":91440},{"$f":"V1533+SUM(A1533:U1533*(TRANSPOSE(CostCalculation!$C$38:$C$58)))","v":65366}]
[0,0,0,0,0,0,0,0,0,318,72,54,36,0,0,0,0,0,0,0,6,38004,{"$f":"SUM(A1534:U1534*(TRANSPOSE(CostCalculation!$D$38:$D$58)))","v":274320},{"$f":"V1534+SUM(A1534:U1534*(TRANSPOSE(CostCalculation!$C$38:$C$58)))","v":196098}]
[0,0,0,0,0,0,0,0,0,106,24,18,12,0,0,0,0,0,0,0,2,12668,{"$f":"SUM(A1535:U1535*(TRANSPOSE(CostCalculation!$D$38:$D$58)))","v":91440},{"$f":"V1535+SUM(A1535:U1535*(TRANSPOSE(CostCalculation!$C$38:$C$58)))","v":65366}]
[0,0,0,0,0,0,0,0,0,265,60,45,30,0,0,0,0,0,0,0,5,31670,{"$f":"SUM(A1536:U1536*(TRANSPOSE(CostCalculation!$D$38:$D$58)))","v":228600},{"$f":"V1536+SUM(A1536:U1536*(TRANSPOSE(CostCalculation!$C$38:$C$58)))","v":163415}]
[0,0,0,0,0,0,0,0,0,106,24,18,12,0,0,0,0,0,0,0,2,12668,{"$f":"SUM(A1537:U1537*(TRANSPOSE(CostCalculation!$D$38:$D$58)))","v":91440},{"$f":"V1537+SUM(A1537:U1537*(TRANSPOSE(CostCalculation!$C$38:$C$58)))","v":65366}]
[0,0,0,0,0,0,0,0,0,53,12,9,6,0,0,0,0,0,0,0,1,6334,{"$f":"SUM(A1538:U1538*(TRANSPOSE(CostCalculation!$D$38:$D$58)))","v":45720},{"$f":"V1538+SUM(A1538:U1538*(TRANSPOSE(CostCalculation!$C$38:$C$58)))","v":32683}]
[0,0,0,0,0,0,0,0,0,159,36,27,18,0,0,0,0,0,0,0,3,19002,{"$f":"SUM(A1539:U1539*(TRANSPOSE(CostCalculation!$D$38:$D$58)))","v":137160},{"$f":"V1539+SUM(A1539:U1539*(TRANSPOSE(CostCalculation!$C$38:$C$58)))","v":98049}]
[0,0,0,0,0,0,0,0,0,53,12,9,6,0,0,0,0,0,0,0,1,6334,{"$f":"SUM(A1540:U1540*(TRANSPOSE(CostCalculation!$D$38:$D$58)))","v":45720},{"$f":"V1540+SUM(A1540:U1540*(TRANSPOSE(CostCalculation!$C$38:$C$58)))","v":32683}]
[0,0,0,0,0,0,0,0,0,212,48,36,24,0,0,0,0,0,0,0,4,25336,{"$f":"SUM(A1541:U1541*(TRANSPOSE(CostCalculation!$D$38:$D$58)))","v":182880},{"$f":"V1541+SUM(A1541:U1541*(TRANSPOSE(CostCalculation!$C$38:$C$58)))","v":130732}]
[0,0,0,0,0,0,0,0,0,106,24,18,12,0,0,0,0,0,0,0,2,12668,{"$f":"SUM(A1542:U1542*(TRANSPOSE(CostCalculation!$D$38:$D$58)))","v":91440},{"$f":"V1542+SUM(A1542:U1542*(TRANSPOSE(CostCalculation!$C$38:$C$58)))","v":65366}]
[0,0,0,0,0,0,0,0,0,318,72,54,36,0,0,0,0,0,0,0,6,38004,{"$f":"SUM(A1543:U1543*(TRANSPOSE(CostCalculation!$D$38:$D$58)))","v":274320},{"$f":"V1543+SUM(A1543:U1543*(TRANSPOSE(CostCalculation!$C$38:$C$58)))","v":196098}]
[0,0,0,0,0,0,0,0,0,106,24,18,12,0,0,0,0,0,0,0,2,12668,{"$f":"SUM(A1544:U1544*(TRANSPOSE(CostCalculation!$D$38:$D$58)))","v":91440},{"$f":"V1544+SUM(A1544:U1544*(TRANSPOSE(CostCalculation!$C$38:$C$58)))","v":65366}]
[0,0,0,0,0,0,0,0,0,106,24,18,12,0,0,0,0,0,0,0,2,12668,{"$f":"SUM(A1545:U1545*(TRANSPOSE(CostCalculation!$D$38:$D$58)))","v":91440},{"$f":"V1545+SUM(A1545:U1545*(TRANSPOSE(CostCalculation!$C$38:$C$58)))","v":65366}]
[0,0,0,0,0,0,0,0,0,53,12,9,6,0,0,0,0,0,0,0,1,6334,{"$f":"SUM(A1546:U1546*(TRANSPOSE(CostCalculation!$D$38:$D$58)))","v":45720},{"$f":"V1546+SUM(A1546:U1546*(TRANSPOSE(CostCalculation!$C$38:$C$58)))","v":32683}]
[0,0,0,0,0,0,0,0,0,53,12,9,6,0,0,0,0,0,0,0,1,6334,{"$f":"SUM(A1547:U1547*(TRANSPOSE(CostCalculation!$D$38:$D$58)))","v":45720},{"$f":"V1547+SUM(A1547:U1547*(TRANSPOSE(CostCalculation!$C$38:$C$58)))","v":32683}]
[0,0,0,0,0,0,0,0,0,106,24,18,12,0,0,0,0,0,0,0,2,12668,{"$f":"SUM(A1548:U1548*(TRANSPOSE(CostCalculation!$D$38:$D$58)))","v":91440},{"$f":"V1548+SUM(A1548:U1548*(TRANSPOSE(CostCalculation!$C$38:$C$58)))","v":65366}]
[0,0,0,0,0,0,0,0,0,212,48,36,24,0,0,0,0,0,0,0,4,25336,{"$f":"SUM(A1549:U1549*(TRANSPOSE(CostCalculation!$D$38:$D$58)))","v":182880},{"$f":"V1549+SUM(A1549:U1549*(TRANSPOSE(CostCalculation!$C$38:$C$58)))","v":130732}]
[0,0,0,0,0,0,0,0,0,159,36,27,18,0,0,0,0,0,0,0,3,19002,{"$f":"SUM(A1550:U1550*(TRANSPOSE(CostCalculation!$D$38:$D$58)))","v":137160},{"$f":"V1550+SUM(A1550:U1550*(TRANSPOSE(CostCalculation!$C$38:$C$58)))","v":98049}]
[0,0,0,0,0,0,0,0,0,106,24,18,12,0,0,0,0,0,0,0,2,12668,{"$f":"SUM(A1551:U1551*(TRANSPOSE(CostCalculation!$D$38:$D$58)))","v":91440},{"$f":"V1551+SUM(A1551:U1551*(TRANSPOSE(CostCalculation!$C$38:$C$58)))","v":65366}]
[0,0,0,0,0,0,0,0,0,371,84,63,42,0,0,0,0,0,0,0,7,44338,{"$f":"SUM(A1552:U1552*(TRANSPOSE(CostCalculation!$D$38:$D$58)))","v":320040},{"$f":"V1552+SUM(A1552:U1552*(TRANSPOSE(CostCalculation!$C$38:$C$58)))","v":228781}]
[0,0,0,0,0,0,0,0,0,318,72,54,36,0,0,0,0,0,0,0,6,38004,{"$f":"SUM(A1553:U1553*(TRANSPOSE(CostCalculation!$D$38:$D$58)))","v":274320},{"$f":"V1553+SUM(A1553:U1553*(TRANSPOSE(CostCalculation!$C$38:$C$58)))","v":196098}]
[0,0,0,0,0,0,0,0,0,53,12,9,6,0,0,0,0,0,0,0,1,6334,{"$f":"SUM(A1554:U1554*(TRANSPOSE(CostCalculation!$D$38:$D$58)))","v":45720},{"$f":"V1554+SUM(A1554:U1554*(TRANSPOSE(CostCalculation!$C$38:$C$58)))","v":32683}]
[0,0,0,0,0,0,0,0,0,265,60,45,30,0,0,0,0,0,0,0,5,31670,{"$f":"SUM(A1555:U1555*(TRANSPOSE(CostCalculation!$D$38:$D$58)))","v":228600},{"$f":"V1555+SUM(A1555:U1555*(TRANSPOSE(CostCalculation!$C$38:$C$58)))","v":163415}]
[0,0,0,0,0,0,0,0,0,53,12,9,6,0,0,0,0,0,0,0,1,6334,{"$f":"SUM(A1556:U1556*(TRANSPOSE(CostCalculation!$D$38:$D$58)))","v":45720},{"$f":"V1556+SUM(A1556:U1556*(TRANSPOSE(CostCalculation!$C$38:$C$58)))","v":32683}]
[0,0,0,0,0,0,0,0,0,106,24,18,12,0,0,0,0,0,0,0,2,12668,{"$f":"SUM(A1557:U1557*(TRANSPOSE(CostCalculation!$D$38:$D$58)))","v":91440},{"$f":"V1557+SUM(A1557:U1557*(TRANSPOSE(CostCalculation!$C$38:$C$58)))","v":65366}]
[0,0,0,0,0,0,0,0,0,265,60,45,30,0,0,0,0,0,0,0,5,31670,{"$f":"SUM(A1558:U1558*(TRANSPOSE(CostCalculation!$D$38:$D$58)))","v":228600},{"$f":"V1558+SUM(A1558:U1558*(TRANSPOSE(CostCalculation!$C$38:$C$58)))","v":163415}]
[0,0,0,0,0,0,0,0,0,53,12,9,6,0,0,0,0,0,0,0,1,6334,{"$f":"SUM(A1559:U1559*(TRANSPOSE(CostCalculation!$D$38:$D$58)))","v":45720},{"$f":"V1559+SUM(A1559:U1559*(TRANSPOSE(CostCalculation!$C$38:$C$58)))","v":32683}]
[0,0,0,0,0,0,0,0,0,265,60,45,30,0,0,0,0,0,0,0,5,31670,{"$f":"SUM(A1560:U1560*(TRANSPOSE(CostCalculation!$D$38:$D$58)))","v":228600},{"$f":"V1560+SUM(A1560:U1560*(TRANSPOSE(CostCalculation!$C$38:$C$58)))","v":163415}]
[0,0,0,0,0,0,0,0,0,212,48,36,24,0,0,0,0,0,0,0,4,25336,{"$f":"SUM(A1561:U1561*(TRANSPOSE(CostCalculation!$D$38:$D$58)))","v":182880},{"$f":"V1561+SUM(A1561:U1561*(TRANSPOSE(CostCalculation!$C$38:$C$58)))","v":130732}]
[0,0,0,0,0,0,0,0,0,424,96,72,48,0,0,0,0,0,0,0,8,50672,{"$f":"SUM(A1562:U1562*(TRANSPOSE(CostCalculation!$D$38:$D$58)))","v":365760},{"$f":"V1562+SUM(A1562:U1562*(TRANSPOSE(CostCalculation!$C$38:$C$58)))","v":261464}]
[0,0,0,0,0,0,0,0,0,159,36,27,18,0,0,0,0,0,0,0,3,19002,{"$f":"SUM(A1563:U1563*(TRANSPOSE(CostCalculation!$D$38:$D$58)))","v":137160},{"$f":"V1563+SUM(A1563:U1563*(TRANSPOSE(CostCalculation!$C$38:$C$58)))","v":98049}]
[0,0,0,0,0,0,0,0,0,212,48,36,24,0,0,0,0,0,0,0,4,25336,{"$f":"SUM(A1564:U1564*(TRANSPOSE(CostCalculation!$D$38:$D$58)))","v":182880},{"$f":"V1564+SUM(A1564:U1564*(TRANSPOSE(CostCalculation!$C$38:$C$58)))","v":130732}]
[0,0,0,0,0,0,0,0,0,106,24,18,12,0,0,0,0,0,0,0,2,12668,{"$f":"SUM(A1565:U1565*(TRANSPOSE(CostCalculation!$D$38:$D$58)))","v":91440},{"$f":"V1565+SUM(A1565:U1565*(TRANSPOSE(CostCalculation!$C$38:$C$58)))","v":65366}]
[0,0,0,0,0,0,0,0,0,212,48,36,24,0,0,0,0,0,0,0,4,25336,{"$f":"SUM(A1566:U1566*(TRANSPOSE(CostCalculation!$D$38:$D$58)))","v":182880},{"$f":"V1566+SUM(A1566:U1566*(TRANSPOSE(CostCalculation!$C$38:$C$58)))","v":130732}]
[0,0,0,0,0,0,0,0,0,53,12,9,6,0,0,0,0,0,0,0,1,6334,{"$f":"SUM(A1567:U1567*(TRANSPOSE(CostCalculation!$D$38:$D$58)))","v":45720},{"$f":"V1567+SUM(A1567:U1567*(TRANSPOSE(CostCalculation!$C$38:$C$58)))","v":32683}]
[0,0,0,0,0,0,0,0,0,106,24,18,12,0,0,0,0,0,0,0,2,12668,{"$f":"SUM(A1568:U1568*(TRANSPOSE(CostCalculation!$D$38:$D$58)))","v":91440},{"$f":"V1568+SUM(A1568:U1568*(TRANSPOSE(CostCalculation!$C$38:$C$58)))","v":65366}]
[0,0,0,0,0,0,0,0,0,371,84,63,42,0,0,0,0,0,0,0,7,44338,{"$f":"SUM(A1569:U1569*(TRANSPOSE(CostCalculation!$D$38:$D$58)))","v":320040},{"$f":"V1569+SUM(A1569:U1569*(TRANSPOSE(CostCalculation!$C$38:$C$58)))","v":228781}]
[0,0,0,0,0,0,0,0,0,212,48,36,24,0,0,0,0,0,0,0,4,25336,{"$f":"SUM(A1570:U1570*(TRANSPOSE(CostCalculation!$D$38:$D$58)))","v":182880},{"$f":"V1570+SUM(A1570:U1570*(TRANSPOSE(CostCalculation!$C$38:$C$58)))","v":130732}]
[0,0,0,0,0,0,0,0,0,212,48,36,24,0,0,0,0,0,0,0,4,25336,{"$f":"SUM(A1571:U1571*(TRANSPOSE(CostCalculation!$D$38:$D$58)))","v":182880},{"$f":"V1571+SUM(A1571:U1571*(TRANSPOSE(CostCalculation!$C$38:$C$58)))","v":130732}]
[0,0,0,0,0,0,0,0,0,106,24,18,12,0,0,0,0,0,0,0,2,12668,{"$f":"SUM(A1572:U1572*(TRANSPOSE(CostCalculation!$D$38:$D$58)))","v":91440},{"$f":"V1572+SUM(A1572:U1572*(TRANSPOSE(CostCalculation!$C$38:$C$58)))","v":65366}]
[0,0,0,0,0,0,0,0,0,265,60,45,30,0,0,0,0,0,0,0,5,31670,{"$f":"SUM(A1573:U1573*(TRANSPOSE(CostCalculation!$D$38:$D$58)))","v":228600},{"$f":"V1573+SUM(A1573:U1573*(TRANSPOSE(CostCalculation!$C$38:$C$58)))","v":163415}]
[0,0,0,0,0,0,0,0,0,53,12,9,6,0,0,0,0,0,0,0,1,6334,{"$f":"SUM(A1574:U1574*(TRANSPOSE(CostCalculation!$D$38:$D$58)))","v":45720},{"$f":"V1574+SUM(A1574:U1574*(TRANSPOSE(CostCalculation!$C$38:$C$58)))","v":32683}]
[0,0,0,0,0,0,0,0,0,159,36,27,18,0,0,0,0,0,0,0,3,19002,{"$f":"SUM(A1575:U1575*(TRANSPOSE(CostCalculation!$D$38:$D$58)))","v":137160},{"$f":"V1575+SUM(A1575:U1575*(TRANSPOSE(CostCalculation!$C$38:$C$58)))","v":98049}]
[0,0,0,0,0,0,0,0,0,212,48,36,24,0,0,0,0,0,0,0,4,25336,{"$f":"SUM(A1576:U1576*(TRANSPOSE(CostCalculation!$D$38:$D$58)))","v":182880},{"$f":"V1576+SUM(A1576:U1576*(TRANSPOSE(CostCalculation!$C$38:$C$58)))","v":130732}]
[0,0,0,0,0,0,0,0,0,53,12,9,6,0,0,0,0,0,0,0,1,6334,{"$f":"SUM(A1577:U1577*(TRANSPOSE(CostCalculation!$D$38:$D$58)))","v":45720},{"$f":"V1577+SUM(A1577:U1577*(TRANSPOSE(CostCalculation!$C$38:$C$58)))","v":32683}]
[0,0,0,0,0,0,0,0,0,106,24,18,12,0,0,0,0,0,0,0,2,12668,{"$f":"SUM(A1578:U1578*(TRANSPOSE(CostCalculation!$D$38:$D$58)))","v":91440},{"$f":"V1578+SUM(A1578:U1578*(TRANSPOSE(CostCalculation!$C$38:$C$58)))","v":65366}]
[0,0,0,0,0,0,0,0,0,53,12,9,6,0,0,0,0,0,0,0,1,6334,{"$f":"SUM(A1579:U1579*(TRANSPOSE(CostCalculation!$D$38:$D$58)))","v":45720},{"$f":"V1579+SUM(A1579:U1579*(TRANSPOSE(CostCalculation!$C$38:$C$58)))","v":32683}]
[0,0,0,0,0,0,0,0,0,159,36,27,18,0,0,0,0,0,0,0,3,19002,{"$f":"SUM(A1580:U1580*(TRANSPOSE(CostCalculation!$D$38:$D$58)))","v":137160},{"$f":"V1580+SUM(A1580:U1580*(TRANSPOSE(CostCalculation!$C$38:$C$58)))","v":98049}]
[0,0,0,0,0,0,0,0,0,212,48,36,24,0,0,0,0,0,0,0,4,25336,{"$f":"SUM(A1581:U1581*(TRANSPOSE(CostCalculation!$D$38:$D$58)))","v":182880},{"$f":"V1581+SUM(A1581:U1581*(TRANSPOSE(CostCalculation!$C$38:$C$58)))","v":130732}]
[0,0,0,0,0,0,0,0,0,53,12,9,6,0,0,0,0,0,0,0,1,6334,{"$f":"SUM(A1582:U1582*(TRANSPOSE(CostCalculation!$D$38:$D$58)))","v":45720},{"$f":"V1582+SUM(A1582:U1582*(TRANSPOSE(CostCalculation!$C$38:$C$58)))","v":32683}]
[0,0,0,0,0,0,0,0,0,371,84,63,42,0,0,0,0,0,0,0,7,44338,{"$f":"SUM(A1583:U1583*(TRANSPOSE(CostCalculation!$D$38:$D$58)))","v":320040},{"$f":"V1583+SUM(A1583:U1583*(TRANSPOSE(CostCalculation!$C$38:$C$58)))","v":228781}]
[0,0,0,0,0,0,0,0,0,371,84,63,42,0,0,0,0,0,0,0,7,44338,{"$f":"SUM(A1584:U1584*(TRANSPOSE(CostCalculation!$D$38:$D$58)))","v":320040},{"$f":"V1584+SUM(A1584:U1584*(TRANSPOSE(CostCalculation!$C$38:$C$58)))","v":228781}]
[0,0,0,0,0,0,0,0,0,106,24,18,12,0,0,0,0,0,0,0,2,12668,{"$f":"SUM(A1585:U1585*(TRANSPOSE(CostCalculation!$D$38:$D$58)))","v":91440},{"$f":"V1585+SUM(A1585:U1585*(TRANSPOSE(CostCalculation!$C$38:$C$58)))","v":65366}]
[0,0,0,0,0,0,0,0,0,265,60,45,30,0,0,0,0,0,0,0,5,31670,{"$f":"SUM(A1586:U1586*(TRANSPOSE(CostCalculation!$D$38:$D$58)))","v":228600},{"$f":"V1586+SUM(A1586:U1586*(TRANSPOSE(CostCalculation!$C$38:$C$58)))","v":163415}]
[0,0,0,0,0,0,0,0,0,212,48,36,24,0,0,0,0,0,0,0,4,25336,{"$f":"SUM(A1587:U1587*(TRANSPOSE(CostCalculation!$D$38:$D$58)))","v":182880},{"$f":"V1587+SUM(A1587:U1587*(TRANSPOSE(CostCalculation!$C$38:$C$58)))","v":130732}]
[0,0,0,0,0,0,0,0,0,53,12,9,6,0,0,0,0,0,0,0,1,6334,{"$f":"SUM(A1588:U1588*(TRANSPOSE(CostCalculation!$D$38:$D$58)))","v":45720},{"$f":"V1588+SUM(A1588:U1588*(TRANSPOSE(CostCalculation!$C$38:$C$58)))","v":32683}]
[0,0,0,0,0,0,0,0,0,265,60,45,30,0,0,0,0,0,0,0,5,31670,{"$f":"SUM(A1589:U1589*(TRANSPOSE(CostCalculation!$D$38:$D$58)))","v":228600},{"$f":"V1589+SUM(A1589:U1589*(TRANSPOSE(CostCalculation!$C$38:$C$58)))","v":163415}]
[0,0,0,0,0,0,0,0,0,212,48,36,24,0,0,0,0,0,0,0,4,25336,{"$f":"SUM(A1590:U1590*(TRANSPOSE(CostCalculation!$D$38:$D$58)))","v":182880},{"$f":"V1590+SUM(A1590:U1590*(TRANSPOSE(CostCalculation!$C$38:$C$58)))","v":130732}]
[0,0,0,0,0,0,0,0,0,212,48,36,24,0,0,0,0,0,0,0,4,25336,{"$f":"SUM(A1591:U1591*(TRANSPOSE(CostCalculation!$D$38:$D$58)))","v":182880},{"$f":"V1591+SUM(A1591:U1591*(TRANSPOSE(CostCalculation!$C$38:$C$58)))","v":130732}]
[0,0,0,0,0,0,0,0,0,159,36,27,18,0,0,0,0,0,0,0,3,19002,{"$f":"SUM(A1592:U1592*(TRANSPOSE(CostCalculation!$D$38:$D$58)))","v":137160},{"$f":"V1592+SUM(A1592:U1592*(TRANSPOSE(CostCalculation!$C$38:$C$58)))","v":98049}]
[0,0,0,0,0,0,0,0,0,53,12,9,6,0,0,0,0,0,0,0,1,6334,{"$f":"SUM(A1593:U1593*(TRANSPOSE(CostCalculation!$D$38:$D$58)))","v":45720},{"$f":"V1593+SUM(A1593:U1593*(TRANSPOSE(CostCalculation!$C$38:$C$58)))","v":32683}]
[0,0,0,0,0,0,0,0,0,106,24,18,12,0,0,0,0,0,0,0,2,12668,{"$f":"SUM(A1594:U1594*(TRANSPOSE(CostCalculation!$D$38:$D$58)))","v":91440},{"$f":"V1594+SUM(A1594:U1594*(TRANSPOSE(CostCalculation!$C$38:$C$58)))","v":65366}]
[0,0,0,0,0,0,0,0,0,53,12,9,6,0,0,0,0,0,0,0,1,6334,{"$f":"SUM(A1595:U1595*(TRANSPOSE(CostCalculation!$D$38:$D$58)))","v":45720},{"$f":"V1595+SUM(A1595:U1595*(TRANSPOSE(CostCalculation!$C$38:$C$58)))","v":32683}]
[0,0,0,0,0,0,0,0,0,159,36,27,18,0,0,0,0,0,0,0,3,19002,{"$f":"SUM(A1596:U1596*(TRANSPOSE(CostCalculation!$D$38:$D$58)))","v":137160},{"$f":"V1596+SUM(A1596:U1596*(TRANSPOSE(CostCalculation!$C$38:$C$58)))","v":98049}]
[0,0,0,0,0,0,0,0,0,212,48,36,24,0,0,0,0,0,0,0,4,25336,{"$f":"SUM(A1597:U1597*(TRANSPOSE(CostCalculation!$D$38:$D$58)))","v":182880},{"$f":"V1597+SUM(A1597:U1597*(TRANSPOSE(CostCalculation!$C$38:$C$58)))","v":130732}]
[0,0,0,0,0,0,0,0,0,53,12,9,6,0,0,0,0,0,0,0,1,6334,{"$f":"SUM(A1598:U1598*(TRANSPOSE(CostCalculation!$D$38:$D$58)))","v":45720},{"$f":"V1598+SUM(A1598:U1598*(TRANSPOSE(CostCalculation!$C$38:$C$58)))","v":32683}]
[0,0,0,0,0,0,0,0,0,106,24,18,12,0,0,0,0,0,0,0,2,12668,{"$f":"SUM(A1599:U1599*(TRANSPOSE(CostCalculation!$D$38:$D$58)))","v":91440},{"$f":"V1599+SUM(A1599:U1599*(TRANSPOSE(CostCalculation!$C$38:$C$58)))","v":65366}]
[0,0,0,0,0,0,0,0,0,212,48,36,24,0,0,0,0,0,0,0,4,25336,{"$f":"SUM(A1600:U1600*(TRANSPOSE(CostCalculation!$D$38:$D$58)))","v":182880},{"$f":"V1600+SUM(A1600:U1600*(TRANSPOSE(CostCalculation!$C$38:$C$58)))","v":130732}]
[0,0,0,0,0,0,0,0,0,159,36,27,18,0,0,0,0,0,0,0,3,19002,{"$f":"SUM(A1601:U1601*(TRANSPOSE(CostCalculation!$D$38:$D$58)))","v":137160},{"$f":"V1601+SUM(A1601:U1601*(TRANSPOSE(CostCalculation!$C$38:$C$58)))","v":98049}]
[0,0,0,0,0,0,0,0,0,477,108,81,54,0,0,0,0,0,0,0,9,57006,{"$f":"SUM(A1602:U1602*(TRANSPOSE(CostCalculation!$D$38:$D$58)))","v":411480},{"$f":"V1602+SUM(A1602:U1602*(TRANSPOSE(CostCalculation!$C$38:$C$58)))","v":294147}]
[0,0,0,0,0,0,0,0,0,53,12,9,6,0,0,0,0,0,0,0,1,6334,{"$f":"SUM(A1603:U1603*(TRANSPOSE(CostCalculation!$D$38:$D$58)))","v":45720},{"$f":"V1603+SUM(A1603:U1603*(TRANSPOSE(CostCalculation!$C$38:$C$58)))","v":32683}]
[0,0,0,0,0,0,0,0,0,159,36,27,18,0,0,0,0,0,0,0,3,19002,{"$f":"SUM(A1604:U1604*(TRANSPOSE(CostCalculation!$D$38:$D$58)))","v":137160},{"$f":"V1604+SUM(A1604:U1604*(TRANSPOSE(CostCalculation!$C$38:$C$58)))","v":98049}]
[0,0,0,0,0,0,0,0,0,106,24,18,12,0,0,0,0,0,0,0,2,12668,{"$f":"SUM(A1605:U1605*(TRANSPOSE(CostCalculation!$D$38:$D$58)))","v":91440},{"$f":"V1605+SUM(A1605:U1605*(TRANSPOSE(CostCalculation!$C$38:$C$58)))","v":65366}]
[0,0,0,0,0,0,0,0,0,318,72,54,36,0,0,0,0,0,0,0,6,38004,{"$f":"SUM(A1606:U1606*(TRANSPOSE(CostCalculation!$D$38:$D$58)))","v":274320},{"$f":"V1606+SUM(A1606:U1606*(TRANSPOSE(CostCalculation!$C$38:$C$58)))","v":196098}]
[0,0,0,0,0,0,0,0,0,265,60,45,30,0,0,0,0,0,0,0,5,31670,{"$f":"SUM(A1607:U1607*(TRANSPOSE(CostCalculation!$D$38:$D$58)))","v":228600},{"$f":"V1607+SUM(A1607:U1607*(TRANSPOSE(CostCalculation!$C$38:$C$58)))","v":163415}]
[0,0,0,0,0,0,0,0,0,106,24,18,12,0,0,0,0,0,0,0,2,12668,{"$f":"SUM(A1608:U1608*(TRANSPOSE(CostCalculation!$D$38:$D$58)))","v":91440},{"$f":"V1608+SUM(A1608:U1608*(TRANSPOSE(CostCalculation!$C$38:$C$58)))","v":65366}]
[0,0,0,0,0,0,0,0,0,371,84,63,42,0,0,0,0,0,0,0,7,44338,{"$f":"SUM(A1609:U1609*(TRANSPOSE(CostCalculation!$D$38:$D$58)))","v":320040},{"$f":"V1609+SUM(A1609:U1609*(TRANSPOSE(CostCalculation!$C$38:$C$58)))","v":228781}]
[0,0,0,0,0,0,0,0,0,53,12,9,6,0,0,0,0,0,0,0,1,6334,{"$f":"SUM(A1610:U1610*(TRANSPOSE(CostCalculation!$D$38:$D$58)))","v":45720},{"$f":"V1610+SUM(A1610:U1610*(TRANSPOSE(CostCalculation!$C$38:$C$58)))","v":32683}]
[0,0,0,0,0,0,0,0,0,53,12,9,6,0,0,0,0,0,0,0,1,6334,{"$f":"SUM(A1611:U1611*(TRANSPOSE(CostCalculation!$D$38:$D$58)))","v":45720},{"$f":"V1611+SUM(A1611:U1611*(TRANSPOSE(CostCalculation!$C$38:$C$58)))","v":32683}]
[0,0,0,0,0,0,0,0,0,53,12,9,6,0,0,0,0,0,0,0,1,6334,{"$f":"SUM(A1612:U1612*(TRANSPOSE(CostCalculation!$D$38:$D$58)))","v":45720},{"$f":"V1612+SUM(A1612:U1612*(TRANSPOSE(CostCalculation!$C$38:$C$58)))","v":32683}]
[0,0,0,0,0,0,0,0,0,53,12,9,6,0,0,0,0,0,0,0,1,6334,{"$f":"SUM(A1613:U1613*(TRANSPOSE(CostCalculation!$D$38:$D$58)))","v":45720},{"$f":"V1613+SUM(A1613:U1613*(TRANSPOSE(CostCalculation!$C$38:$C$58)))","v":32683}]
[0,0,0,0,0,0,0,0,0,53,12,9,6,0,0,0,0,0,0,0,1,6334,{"$f":"SUM(A1614:U1614*(TRANSPOSE(CostCalculation!$D$38:$D$58)))","v":45720},{"$f":"V1614+SUM(A1614:U1614*(TRANSPOSE(CostCalculation!$C$38:$C$58)))","v":32683}]
[0,0,0,0,0,0,0,0,0,212,48,36,24,0,0,0,0,0,0,0,4,25336,{"$f":"SUM(A1615:U1615*(TRANSPOSE(CostCalculation!$D$38:$D$58)))","v":182880},{"$f":"V1615+SUM(A1615:U1615*(TRANSPOSE(CostCalculation!$C$38:$C$58)))","v":130732}]
[0,0,0,0,0,0,0,0,0,53,12,9,6,0,0,0,0,0,0,0,1,6334,{"$f":"SUM(A1616:U1616*(TRANSPOSE(CostCalculation!$D$38:$D$58)))","v":45720},{"$f":"V1616+SUM(A1616:U1616*(TRANSPOSE(CostCalculation!$C$38:$C$58)))","v":32683}]
[0,0,0,0,0,0,0,0,0,212,48,36,24,0,0,0,0,0,0,0,4,25336,{"$f":"SUM(A1617:U1617*(TRANSPOSE(CostCalculation!$D$38:$D$58)))","v":182880},{"$f":"V1617+SUM(A1617:U1617*(TRANSPOSE(CostCalculation!$C$38:$C$58)))","v":130732}]
[0,0,0,0,0,0,0,0,0,159,36,27,18,0,0,0,0,0,0,0,3,19002,{"$f":"SUM(A1618:U1618*(TRANSPOSE(CostCalculation!$D$38:$D$58)))","v":137160},{"$f":"V1618+SUM(A1618:U1618*(TRANSPOSE(CostCalculation!$C$38:$C$58)))","v":98049}]
[0,0,0,0,0,0,0,0,0,53,12,9,6,0,0,0,0,0,0,0,1,6334,{"$f":"SUM(A1619:U1619*(TRANSPOSE(CostCalculation!$D$38:$D$58)))","v":45720},{"$f":"V1619+SUM(A1619:U1619*(TRANSPOSE(CostCalculation!$C$38:$C$58)))","v":32683}]
[0,0,0,0,0,0,0,0,0,53,12,9,6,0,0,0,0,0,0,0,1,6334,{"$f":"SUM(A1620:U1620*(TRANSPOSE(CostCalculation!$D$38:$D$58)))","v":45720},{"$f":"V1620+SUM(A1620:U1620*(TRANSPOSE(CostCalculation!$C$38:$C$58)))","v":32683}]
[0,0,0,0,0,0,0,0,0,106,24,18,12,0,0,0,0,0,0,0,2,12668,{"$f":"SUM(A1621:U1621*(TRANSPOSE(CostCalculation!$D$38:$D$58)))","v":91440},{"$f":"V1621+SUM(A1621:U1621*(TRANSPOSE(CostCalculation!$C$38:$C$58)))","v":65366}]
[0,0,0,0,0,0,0,0,0,159,36,27,18,0,0,0,0,0,0,0,3,19002,{"$f":"SUM(A1622:U1622*(TRANSPOSE(CostCalculation!$D$38:$D$58)))","v":137160},{"$f":"V1622+SUM(A1622:U1622*(TRANSPOSE(CostCalculation!$C$38:$C$58)))","v":98049}]
[0,0,0,0,0,0,0,0,0,318,72,54,36,0,0,0,0,0,0,0,6,38004,{"$f":"SUM(A1623:U1623*(TRANSPOSE(CostCalculation!$D$38:$D$58)))","v":274320},{"$f":"V1623+SUM(A1623:U1623*(TRANSPOSE(CostCalculation!$C$38:$C$58)))","v":196098}]
[0,0,0,0,0,0,0,0,0,106,24,18,12,0,0,0,0,0,0,0,2,12668,{"$f":"SUM(A1624:U1624*(TRANSPOSE(CostCalculation!$D$38:$D$58)))","v":91440},{"$f":"V1624+SUM(A1624:U1624*(TRANSPOSE(CostCalculation!$C$38:$C$58)))","v":65366}]
[0,0,0,0,0,0,0,0,0,318,72,54,36,0,0,0,0,0,0,0,6,38004,{"$f":"SUM(A1625:U1625*(TRANSPOSE(CostCalculation!$D$38:$D$58)))","v":274320},{"$f":"V1625+SUM(A1625:U1625*(TRANSPOSE(CostCalculation!$C$38:$C$58)))","v":196098}]
[0,0,0,0,0,0,0,0,0,636,144,108,72,0,0,0,0,0,0,0,12,76008,{"$f":"SUM(A1626:U1626*(TRANSPOSE(CostCalculation!$D$38:$D$58)))","v":548640},{"$f":"V1626+SUM(A1626:U1626*(TRANSPOSE(CostCalculation!$C$38:$C$58)))","v":392196}]
[0,0,0,0,0,0,0,0,0,212,48,36,24,0,0,0,0,0,0,0,4,25336,{"$f":"SUM(A1627:U1627*(TRANSPOSE(CostCalculation!$D$38:$D$58)))","v":182880},{"$f":"V1627+SUM(A1627:U1627*(TRANSPOSE(CostCalculation!$C$38:$C$58)))","v":130732}]
[0,0,0,0,0,0,0,0,0,106,24,18,12,0,0,0,0,0,0,0,2,12668,{"$f":"SUM(A1628:U1628*(TRANSPOSE(CostCalculation!$D$38:$D$58)))","v":91440},{"$f":"V1628+SUM(A1628:U1628*(TRANSPOSE(CostCalculation!$C$38:$C$58)))","v":65366}]
[0,0,0,0,0,0,0,0,0,212,48,36,24,0,0,0,0,0,0,0,4,25336,{"$f":"SUM(A1629:U1629*(TRANSPOSE(CostCalculation!$D$38:$D$58)))","v":182880},{"$f":"V1629+SUM(A1629:U1629*(TRANSPOSE(CostCalculation!$C$38:$C$58)))","v":130732}]
[0,0,0,0,0,0,0,0,0,106,24,18,12,0,0,0,0,0,0,0,2,12668,{"$f":"SUM(A1630:U1630*(TRANSPOSE(CostCalculation!$D$38:$D$58)))","v":91440},{"$f":"V1630+SUM(A1630:U1630*(TRANSPOSE(CostCalculation!$C$38:$C$58)))","v":65366}]
[0,0,0,0,0,0,0,0,0,159,36,27,18,0,0,0,0,0,0,0,3,19002,{"$f":"SUM(A1631:U1631*(TRANSPOSE(CostCalculation!$D$38:$D$58)))","v":137160},{"$f":"V1631+SUM(A1631:U1631*(TRANSPOSE(CostCalculation!$C$38:$C$58)))","v":98049}]
[0,0,0,0,0,0,0,0,0,212,48,36,24,0,0,0,0,0,0,0,4,25336,{"$f":"SUM(A1632:U1632*(TRANSPOSE(CostCalculation!$D$38:$D$58)))","v":182880},{"$f":"V1632+SUM(A1632:U1632*(TRANSPOSE(CostCalculation!$C$38:$C$58)))","v":130732}]
[0,0,0,0,0,0,0,0,0,265,60,45,30,0,0,0,0,0,0,0,5,31670,{"$f":"SUM(A1633:U1633*(TRANSPOSE(CostCalculation!$D$38:$D$58)))","v":228600},{"$f":"V1633+SUM(A1633:U1633*(TRANSPOSE(CostCalculation!$C$38:$C$58)))","v":163415}]
[0,0,0,0,0,0,0,0,0,159,36,27,18,0,0,0,0,0,0,0,3,19002,{"$f":"SUM(A1634:U1634*(TRANSPOSE(CostCalculation!$D$38:$D$58)))","v":137160},{"$f":"V1634+SUM(A1634:U1634*(TRANSPOSE(CostCalculation!$C$38:$C$58)))","v":98049}]
[0,0,0,0,0,0,0,0,0,159,36,27,18,0,0,0,0,0,0,0,3,19002,{"$f":"SUM(A1635:U1635*(TRANSPOSE(CostCalculation!$D$38:$D$58)))","v":137160},{"$f":"V1635+SUM(A1635:U1635*(TRANSPOSE(CostCalculation!$C$38:$C$58)))","v":98049}]
[0,0,0,0,0,0,0,0,0,212,48,36,24,0,0,0,0,0,0,0,4,25336,{"$f":"SUM(A1636:U1636*(TRANSPOSE(CostCalculation!$D$38:$D$58)))","v":182880},{"$f":"V1636+SUM(A1636:U1636*(TRANSPOSE(CostCalculation!$C$38:$C$58)))","v":130732}]
[0,0,0,0,0,0,0,0,0,53,12,9,6,0,0,0,0,0,0,0,1,6334,{"$f":"SUM(A1637:U1637*(TRANSPOSE(CostCalculation!$D$38:$D$58)))","v":45720},{"$f":"V1637+SUM(A1637:U1637*(TRANSPOSE(CostCalculation!$C$38:$C$58)))","v":32683}]
[0,0,0,0,0,0,0,0,0,212,48,36,24,0,0,0,0,0,0,0,4,25336,{"$f":"SUM(A1638:U1638*(TRANSPOSE(CostCalculation!$D$38:$D$58)))","v":182880},{"$f":"V1638+SUM(A1638:U1638*(TRANSPOSE(CostCalculation!$C$38:$C$58)))","v":130732}]
[0,0,0,0,0,0,0,0,0,212,48,36,24,0,0,0,0,0,0,0,4,25336,{"$f":"SUM(A1639:U1639*(TRANSPOSE(CostCalculation!$D$38:$D$58)))","v":182880},{"$f":"V1639+SUM(A1639:U1639*(TRANSPOSE(CostCalculation!$C$38:$C$58)))","v":130732}]
[0,0,0,0,0,0,0,0,0,53,12,9,6,0,0,0,0,0,0,0,1,6334,{"$f":"SUM(A1640:U1640*(TRANSPOSE(CostCalculation!$D$38:$D$58)))","v":45720},{"$f":"V1640+SUM(A1640:U1640*(TRANSPOSE(CostCalculation!$C$38:$C$58)))","v":32683}]
[0,0,0,0,0,0,0,0,0,212,48,36,24,0,0,0,0,0,0,0,4,25336,{"$f":"SUM(A1641:U1641*(TRANSPOSE(CostCalculation!$D$38:$D$58)))","v":182880},{"$f":"V1641+SUM(A1641:U1641*(TRANSPOSE(CostCalculation!$C$38:$C$58)))","v":130732}]
[0,0,0,0,0,0,0,0,0,212,48,36,24,0,0,0,0,0,0,0,4,25336,{"$f":"SUM(A1642:U1642*(TRANSPOSE(CostCalculation!$D$38:$D$58)))","v":182880},{"$f":"V1642+SUM(A1642:U1642*(TRANSPOSE(CostCalculation!$C$38:$C$58)))","v":130732}]
[0,0,0,0,0,0,0,0,0,265,60,45,30,0,0,0,0,0,0,0,5,31670,{"$f":"SUM(A1643:U1643*(TRANSPOSE(CostCalculation!$D$38:$D$58)))","v":228600},{"$f":"V1643+SUM(A1643:U1643*(TRANSPOSE(CostCalculation!$C$38:$C$58)))","v":163415}]
[0,0,0,0,0,0,0,0,0,106,24,18,12,0,0,0,0,0,0,0,2,12668,{"$f":"SUM(A1644:U1644*(TRANSPOSE(CostCalculation!$D$38:$D$58)))","v":91440},{"$f":"V1644+SUM(A1644:U1644*(TRANSPOSE(CostCalculation!$C$38:$C$58)))","v":65366}]
[0,0,0,0,0,0,0,0,0,159,36,27,18,0,0,0,0,0,0,0,3,19002,{"$f":"SUM(A1645:U1645*(TRANSPOSE(CostCalculation!$D$38:$D$58)))","v":137160},{"$f":"V1645+SUM(A1645:U1645*(TRANSPOSE(CostCalculation!$C$38:$C$58)))","v":98049}]
[0,0,0,0,0,0,0,0,0,53,12,9,6,0,0,0,0,0,0,0,1,6334,{"$f":"SUM(A1646:U1646*(TRANSPOSE(CostCalculation!$D$38:$D$58)))","v":45720},{"$f":"V1646+SUM(A1646:U1646*(TRANSPOSE(CostCalculation!$C$38:$C$58)))","v":32683}]
[0,0,0,0,0,0,0,0,0,159,36,27,18,0,0,0,0,0,0,0,3,19002,{"$f":"SUM(A1647:U1647*(TRANSPOSE(CostCalculation!$D$38:$D$58)))","v":137160},{"$f":"V1647+SUM(A1647:U1647*(TRANSPOSE(CostCalculation!$C$38:$C$58)))","v":98049}]
[0,0,0,0,0,0,0,0,0,106,24,18,12,0,0,0,0,0,0,0,2,12668,{"$f":"SUM(A1648:U1648*(TRANSPOSE(CostCalculation!$D$38:$D$58)))","v":91440},{"$f":"V1648+SUM(A1648:U1648*(TRANSPOSE(CostCalculation!$C$38:$C$58)))","v":65366}]
[0,0,0,0,0,0,0,0,0,212,48,36,24,0,0,0,0,0,0,0,4,25336,{"$f":"SUM(A1649:U1649*(TRANSPOSE(CostCalculation!$D$38:$D$58)))","v":182880},{"$f":"V1649+SUM(A1649:U1649*(TRANSPOSE(CostCalculation!$C$38:$C$58)))","v":130732}]
[0,0,0,0,0,0,0,0,0,265,60,45,30,0,0,0,0,0,0,0,5,31670,{"$f":"SUM(A1650:U1650*(TRANSPOSE(CostCalculation!$D$38:$D$58)))","v":228600},{"$f":"V1650+SUM(A1650:U1650*(TRANSPOSE(CostCalculation!$C$38:$C$58)))","v":163415}]
[0,0,0,0,0,0,0,0,0,371,84,63,42,0,0,0,0,0,0,0,7,44338,{"$f":"SUM(A1651:U1651*(TRANSPOSE(CostCalculation!$D$38:$D$58)))","v":320040},{"$f":"V1651+SUM(A1651:U1651*(TRANSPOSE(CostCalculation!$C$38:$C$58)))","v":228781}]
[0,0,0,0,0,0,0,0,0,53,12,9,6,0,0,0,0,0,0,0,1,6334,{"$f":"SUM(A1652:U1652*(TRANSPOSE(CostCalculation!$D$38:$D$58)))","v":45720},{"$f":"V1652+SUM(A1652:U1652*(TRANSPOSE(CostCalculation!$C$38:$C$58)))","v":32683}]
[0,0,0,0,0,0,0,0,0,159,36,27,18,0,0,0,0,0,0,0,3,19002,{"$f":"SUM(A1653:U1653*(TRANSPOSE(CostCalculation!$D$38:$D$58)))","v":137160},{"$f":"V1653+SUM(A1653:U1653*(TRANSPOSE(CostCalculation!$C$38:$C$58)))","v":98049}]
[0,0,0,0,0,0,0,0,0,159,36,27,18,0,0,0,0,0,0,0,3,19002,{"$f":"SUM(A1654:U1654*(TRANSPOSE(CostCalculation!$D$38:$D$58)))","v":137160},{"$f":"V1654+SUM(A1654:U1654*(TRANSPOSE(CostCalculation!$C$38:$C$58)))","v":98049}]
[0,0,0,0,0,0,0,0,0,212,48,36,24,0,0,0,0,0,0,0,4,25336,{"$f":"SUM(A1655:U1655*(TRANSPOSE(CostCalculation!$D$38:$D$58)))","v":182880},{"$f":"V1655+SUM(A1655:U1655*(TRANSPOSE(CostCalculation!$C$38:$C$58)))","v":130732}]
[0,0,0,0,0,0,0,0,0,424,96,72,48,0,0,0,0,0,0,0,8,50672,{"$f":"SUM(A1656:U1656*(TRANSPOSE(CostCalculation!$D$38:$D$58)))","v":365760},{"$f":"V1656+SUM(A1656:U1656*(TRANSPOSE(CostCalculation!$C$38:$C$58)))","v":261464}]
[0,0,0,0,0,0,0,0,0,53,12,9,6,0,0,0,0,0,0,0,1,6334,{"$f":"SUM(A1657:U1657*(TRANSPOSE(CostCalculation!$D$38:$D$58)))","v":45720},{"$f":"V1657+SUM(A1657:U1657*(TRANSPOSE(CostCalculation!$C$38:$C$58)))","v":32683}]
[0,0,0,0,0,0,0,0,0,106,24,18,12,0,0,0,0,0,0,0,2,12668,{"$f":"SUM(A1658:U1658*(TRANSPOSE(CostCalculation!$D$38:$D$58)))","v":91440},{"$f":"V1658+SUM(A1658:U1658*(TRANSPOSE(CostCalculation!$C$38:$C$58)))","v":65366}]
[0,0,0,0,0,0,0,0,0,212,48,36,24,0,0,0,0,0,0,0,4,25336,{"$f":"SUM(A1659:U1659*(TRANSPOSE(CostCalculation!$D$38:$D$58)))","v":182880},{"$f":"V1659+SUM(A1659:U1659*(TRANSPOSE(CostCalculation!$C$38:$C$58)))","v":130732}]
[0,0,0,0,0,0,0,0,0,159,36,27,18,0,0,0,0,0,0,0,3,19002,{"$f":"SUM(A1660:U1660*(TRANSPOSE(CostCalculation!$D$38:$D$58)))","v":137160},{"$f":"V1660+SUM(A1660:U1660*(TRANSPOSE(CostCalculation!$C$38:$C$58)))","v":98049}]
[0,0,0,0,0,0,0,0,0,212,48,36,24,0,0,0,0,0,0,0,4,25336,{"$f":"SUM(A1661:U1661*(TRANSPOSE(CostCalculation!$D$38:$D$58)))","v":182880},{"$f":"V1661+SUM(A1661:U1661*(TRANSPOSE(CostCalculation!$C$38:$C$58)))","v":130732}]
[0,0,0,0,0,0,0,0,0,53,12,9,6,0,0,0,0,0,0,0,1,6334,{"$f":"SUM(A1662:U1662*(TRANSPOSE(CostCalculation!$D$38:$D$58)))","v":45720},{"$f":"V1662+SUM(A1662:U1662*(TRANSPOSE(CostCalculation!$C$38:$C$58)))","v":32683}]
[0,0,0,0,0,0,0,0,0,106,24,18,12,0,0,0,0,0,0,0,2,12668,{"$f":"SUM(A1663:U1663*(TRANSPOSE(CostCalculation!$D$38:$D$58)))","v":91440},{"$f":"V1663+SUM(A1663:U1663*(TRANSPOSE(CostCalculation!$C$38:$C$58)))","v":65366}]
[0,0,0,0,0,0,0,0,0,53,12,9,6,0,0,0,0,0,0,0,1,6334,{"$f":"SUM(A1664:U1664*(TRANSPOSE(CostCalculation!$D$38:$D$58)))","v":45720},{"$f":"V1664+SUM(A1664:U1664*(TRANSPOSE(CostCalculation!$C$38:$C$58)))","v":32683}]
[0,0,0,0,0,0,0,0,0,265,60,45,30,0,0,0,0,0,0,0,5,31670,{"$f":"SUM(A1665:U1665*(TRANSPOSE(CostCalculation!$D$38:$D$58)))","v":228600},{"$f":"V1665+SUM(A1665:U1665*(TRANSPOSE(CostCalculation!$C$38:$C$58)))","v":163415}]
[0,0,0,0,0,0,0,0,0,318,72,54,36,0,0,0,0,0,0,0,6,38004,{"$f":"SUM(A1666:U1666*(TRANSPOSE(CostCalculation!$D$38:$D$58)))","v":274320},{"$f":"V1666+SUM(A1666:U1666*(TRANSPOSE(CostCalculation!$C$38:$C$58)))","v":196098}]
[0,0,0,0,0,0,0,0,0,159,36,27,18,0,0,0,0,0,0,0,3,19002,{"$f":"SUM(A1667:U1667*(TRANSPOSE(CostCalculation!$D$38:$D$58)))","v":137160},{"$f":"V1667+SUM(A1667:U1667*(TRANSPOSE(CostCalculation!$C$38:$C$58)))","v":98049}]
[0,0,0,0,0,0,0,0,0,318,72,54,36,0,0,0,0,0,0,0,6,38004,{"$f":"SUM(A1668:U1668*(TRANSPOSE(CostCalculation!$D$38:$D$58)))","v":274320},{"$f":"V1668+SUM(A1668:U1668*(TRANSPOSE(CostCalculation!$C$38:$C$58)))","v":196098}]
[0,0,0,0,0,0,0,0,0,318,72,54,36,0,0,0,0,0,0,0,6,38004,{"$f":"SUM(A1669:U1669*(TRANSPOSE(CostCalculation!$D$38:$D$58)))","v":274320},{"$f":"V1669+SUM(A1669:U1669*(TRANSPOSE(CostCalculation!$C$38:$C$58)))","v":196098}]
[0,0,0,0,0,0,0,0,0,159,36,27,18,0,0,0,0,0,0,0,3,19002,{"$f":"SUM(A1670:U1670*(TRANSPOSE(CostCalculation!$D$38:$D$58)))","v":137160},{"$f":"V1670+SUM(A1670:U1670*(TRANSPOSE(CostCalculation!$C$38:$C$58)))","v":98049}]
[0,0,0,0,0,0,0,0,0,53,12,9,6,0,0,0,0,0,0,0,1,6334,{"$f":"SUM(A1671:U1671*(TRANSPOSE(CostCalculation!$D$38:$D$58)))","v":45720},{"$f":"V1671+SUM(A1671:U1671*(TRANSPOSE(CostCalculation!$C$38:$C$58)))","v":32683}]
[0,0,0,0,0,0,0,0,0,106,24,18,12,0,0,0,0,0,0,0,2,12668,{"$f":"SUM(A1672:U1672*(TRANSPOSE(CostCalculation!$D$38:$D$58)))","v":91440},{"$f":"V1672+SUM(A1672:U1672*(TRANSPOSE(CostCalculation!$C$38:$C$58)))","v":65366}]
[0,0,0,0,0,0,0,0,0,53,12,9,6,0,0,0,0,0,0,0,1,6334,{"$f":"SUM(A1673:U1673*(TRANSPOSE(CostCalculation!$D$38:$D$58)))","v":45720},{"$f":"V1673+SUM(A1673:U1673*(TRANSPOSE(CostCalculation!$C$38:$C$58)))","v":32683}]
[0,0,0,0,0,0,0,0,0,424,96,72,48,0,0,0,0,0,0,0,8,50672,{"$f":"SUM(A1674:U1674*(TRANSPOSE(CostCalculation!$D$38:$D$58)))","v":365760},{"$f":"V1674+SUM(A1674:U1674*(TRANSPOSE(CostCalculation!$C$38:$C$58)))","v":261464}]
[0,0,0,0,0,0,0,0,0,265,60,45,30,0,0,0,0,0,0,0,5,31670,{"$f":"SUM(A1675:U1675*(TRANSPOSE(CostCalculation!$D$38:$D$58)))","v":228600},{"$f":"V1675+SUM(A1675:U1675*(TRANSPOSE(CostCalculation!$C$38:$C$58)))","v":163415}]
[0,0,0,0,0,0,0,0,0,106,24,18,12,0,0,0,0,0,0,0,2,12668,{"$f":"SUM(A1676:U1676*(TRANSPOSE(CostCalculation!$D$38:$D$58)))","v":91440},{"$f":"V1676+SUM(A1676:U1676*(TRANSPOSE(CostCalculation!$C$38:$C$58)))","v":65366}]
[0,0,0,0,0,0,0,0,0,53,12,9,6,0,0,0,0,0,0,0,1,6334,{"$f":"SUM(A1677:U1677*(TRANSPOSE(CostCalculation!$D$38:$D$58)))","v":45720},{"$f":"V1677+SUM(A1677:U1677*(TRANSPOSE(CostCalculation!$C$38:$C$58)))","v":32683}]
[0,0,0,0,0,0,0,0,0,53,12,9,6,0,0,0,0,0,0,0,1,6334,{"$f":"SUM(A1678:U1678*(TRANSPOSE(CostCalculation!$D$38:$D$58)))","v":45720},{"$f":"V1678+SUM(A1678:U1678*(TRANSPOSE(CostCalculation!$C$38:$C$58)))","v":32683}]
[0,0,0,0,0,0,0,0,0,265,60,45,30,0,0,0,0,0,0,0,5,31670,{"$f":"SUM(A1679:U1679*(TRANSPOSE(CostCalculation!$D$38:$D$58)))","v":228600},{"$f":"V1679+SUM(A1679:U1679*(TRANSPOSE(CostCalculation!$C$38:$C$58)))","v":163415}]
[0,0,0,0,0,0,0,0,0,106,24,18,12,0,0,0,0,0,0,0,2,12668,{"$f":"SUM(A1680:U1680*(TRANSPOSE(CostCalculation!$D$38:$D$58)))","v":91440},{"$f":"V1680+SUM(A1680:U1680*(TRANSPOSE(CostCalculation!$C$38:$C$58)))","v":65366}]
[0,0,0,0,0,0,0,0,0,106,24,18,12,0,0,0,0,0,0,0,2,12668,{"$f":"SUM(A1681:U1681*(TRANSPOSE(CostCalculation!$D$38:$D$58)))","v":91440},{"$f":"V1681+SUM(A1681:U1681*(TRANSPOSE(CostCalculation!$C$38:$C$58)))","v":65366}]
[0,0,0,0,0,0,0,0,0,53,12,9,6,0,0,0,0,0,0,0,1,6334,{"$f":"SUM(A1682:U1682*(TRANSPOSE(CostCalculation!$D$38:$D$58)))","v":45720},{"$f":"V1682+SUM(A1682:U1682*(TRANSPOSE(CostCalculation!$C$38:$C$58)))","v":32683}]
[0,0,0,0,0,0,0,0,0,159,36,27,18,0,0,0,0,0,0,0,3,19002,{"$f":"SUM(A1683:U1683*(TRANSPOSE(CostCalculation!$D$38:$D$58)))","v":137160},{"$f":"V1683+SUM(A1683:U1683*(TRANSPOSE(CostCalculation!$C$38:$C$58)))","v":98049}]
[0,0,0,0,0,0,0,0,0,159,36,27,18,0,0,0,0,0,0,0,3,19002,{"$f":"SUM(A1684:U1684*(TRANSPOSE(CostCalculation!$D$38:$D$58)))","v":137160},{"$f":"V1684+SUM(A1684:U1684*(TRANSPOSE(CostCalculation!$C$38:$C$58)))","v":98049}]
[0,0,0,0,0,0,0,0,0,159,36,27,18,0,0,0,0,0,0,0,3,19002,{"$f":"SUM(A1685:U1685*(TRANSPOSE(CostCalculation!$D$38:$D$58)))","v":137160},{"$f":"V1685+SUM(A1685:U1685*(TRANSPOSE(CostCalculation!$C$38:$C$58)))","v":98049}]
[0,0,0,0,0,0,0,0,0,159,36,27,18,0,0,0,0,0,0,0,3,19002,{"$f":"SUM(A1686:U1686*(TRANSPOSE(CostCalculation!$D$38:$D$58)))","v":137160},{"$f":"V1686+SUM(A1686:U1686*(TRANSPOSE(CostCalculation!$C$38:$C$58)))","v":98049}]
[0,0,0,0,0,0,0,0,0,53,12,9,6,0,0,0,0,0,0,0,1,6334,{"$f":"SUM(A1687:U1687*(TRANSPOSE(CostCalculation!$D$38:$D$58)))","v":45720},{"$f":"V1687+SUM(A1687:U1687*(TRANSPOSE(CostCalculation!$C$38:$C$58)))","v":32683}]
[0,0,0,0,0,0,0,0,0,53,12,9,6,0,0,0,0,0,0,0,1,6334,{"$f":"SUM(A1688:U1688*(TRANSPOSE(CostCalculation!$D$38:$D$58)))","v":45720},{"$f":"V1688+SUM(A1688:U1688*(TRANSPOSE(CostCalculation!$C$38:$C$58)))","v":32683}]
[0,0,0,0,0,0,0,0,0,106,24,18,12,0,0,0,0,0,0,0,2,12668,{"$f":"SUM(A1689:U1689*(TRANSPOSE(CostCalculation!$D$38:$D$58)))","v":91440},{"$f":"V1689+SUM(A1689:U1689*(TRANSPOSE(CostCalculation!$C$38:$C$58)))","v":65366}]
[0,0,0,0,0,0,0,0,0,53,12,9,6,0,0,0,0,0,0,0,1,6334,{"$f":"SUM(A1690:U1690*(TRANSPOSE(CostCalculation!$D$38:$D$58)))","v":45720},{"$f":"V1690+SUM(A1690:U1690*(TRANSPOSE(CostCalculation!$C$38:$C$58)))","v":32683}]
[0,0,0,0,0,0,0,0,0,318,72,54,36,0,0,0,0,0,0,0,6,38004,{"$f":"SUM(A1691:U1691*(TRANSPOSE(CostCalculation!$D$38:$D$58)))","v":274320},{"$f":"V1691+SUM(A1691:U1691*(TRANSPOSE(CostCalculation!$C$38:$C$58)))","v":196098}]
[0,0,0,0,0,0,0,0,0,53,12,9,6,0,0,0,0,0,0,0,1,6334,{"$f":"SUM(A1692:U1692*(TRANSPOSE(CostCalculation!$D$38:$D$58)))","v":45720},{"$f":"V1692+SUM(A1692:U1692*(TRANSPOSE(CostCalculation!$C$38:$C$58)))","v":32683}]
[0,0,0,0,0,0,0,0,0,53,12,9,6,0,0,0,0,0,0,0,1,6334,{"$f":"SUM(A1693:U1693*(TRANSPOSE(CostCalculation!$D$38:$D$58)))","v":45720},{"$f":"V1693+SUM(A1693:U1693*(TRANSPOSE(CostCalculation!$C$38:$C$58)))","v":32683}]
[0,0,0,0,0,0,0,0,0,212,48,36,24,0,0,0,0,0,0,0,4,25336,{"$f":"SUM(A1694:U1694*(TRANSPOSE(CostCalculation!$D$38:$D$58)))","v":182880},{"$f":"V1694+SUM(A1694:U1694*(TRANSPOSE(CostCalculation!$C$38:$C$58)))","v":130732}]
[0,0,0,0,0,0,0,0,0,53,12,9,6,0,0,0,0,0,0,0,1,6334,{"$f":"SUM(A1695:U1695*(TRANSPOSE(CostCalculation!$D$38:$D$58)))","v":45720},{"$f":"V1695+SUM(A1695:U1695*(TRANSPOSE(CostCalculation!$C$38:$C$58)))","v":32683}]
[0,0,0,0,0,0,0,0,0,159,36,27,18,0,0,0,0,0,0,0,3,19002,{"$f":"SUM(A1696:U1696*(TRANSPOSE(CostCalculation!$D$38:$D$58)))","v":137160},{"$f":"V1696+SUM(A1696:U1696*(TRANSPOSE(CostCalculation!$C$38:$C$58)))","v":98049}]
[0,0,0,0,0,0,0,0,0,106,24,18,12,0,0,0,0,0,0,0,2,12668,{"$f":"SUM(A1697:U1697*(TRANSPOSE(CostCalculation!$D$38:$D$58)))","v":91440},{"$f":"V1697+SUM(A1697:U1697*(TRANSPOSE(CostCalculation!$C$38:$C$58)))","v":65366}]
[0,0,0,0,0,0,0,0,0,106,24,18,12,0,0,0,0,0,0,0,2,12668,{"$f":"SUM(A1698:U1698*(TRANSPOSE(CostCalculation!$D$38:$D$58)))","v":91440},{"$f":"V1698+SUM(A1698:U1698*(TRANSPOSE(CostCalculation!$C$38:$C$58)))","v":65366}]
[0,0,0,0,0,0,0,0,0,212,48,36,24,0,0,0,0,0,0,0,4,25336,{"$f":"SUM(A1699:U1699*(TRANSPOSE(CostCalculation!$D$38:$D$58)))","v":182880},{"$f":"V1699+SUM(A1699:U1699*(TRANSPOSE(CostCalculation!$C$38:$C$58)))","v":130732}]
[0,0,0,0,0,0,0,0,0,159,36,27,18,0,0,0,0,0,0,0,3,19002,{"$f":"SUM(A1700:U1700*(TRANSPOSE(CostCalculation!$D$38:$D$58)))","v":137160},{"$f":"V1700+SUM(A1700:U1700*(TRANSPOSE(CostCalculation!$C$38:$C$58)))","v":98049}]
[0,0,0,0,0,0,0,0,0,106,24,18,12,0,0,0,0,0,0,0,2,12668,{"$f":"SUM(A1701:U1701*(TRANSPOSE(CostCalculation!$D$38:$D$58)))","v":91440},{"$f":"V1701+SUM(A1701:U1701*(TRANSPOSE(CostCalculation!$C$38:$C$58)))","v":65366}]
[0,0,0,0,0,0,0,0,0,106,24,18,12,0,0,0,0,0,0,0,2,12668,{"$f":"SUM(A1702:U1702*(TRANSPOSE(CostCalculation!$D$38:$D$58)))","v":91440},{"$f":"V1702+SUM(A1702:U1702*(TRANSPOSE(CostCalculation!$C$38:$C$58)))","v":65366}]
[0,0,0,0,0,0,0,0,0,159,36,27,18,0,0,0,0,0,0,0,3,19002,{"$f":"SUM(A1703:U1703*(TRANSPOSE(CostCalculation!$D$38:$D$58)))","v":137160},{"$f":"V1703+SUM(A1703:U1703*(TRANSPOSE(CostCalculation!$C$38:$C$58)))","v":98049}]
[0,0,0,0,0,0,0,0,0,636,144,108,72,0,0,0,0,0,0,0,12,76008,{"$f":"SUM(A1704:U1704*(TRANSPOSE(CostCalculation!$D$38:$D$58)))","v":548640},{"$f":"V1704+SUM(A1704:U1704*(TRANSPOSE(CostCalculation!$C$38:$C$58)))","v":392196}]
[0,0,0,0,0,0,0,0,0,106,24,18,12,0,0,0,0,0,0,0,2,12668,{"$f":"SUM(A1705:U1705*(TRANSPOSE(CostCalculation!$D$38:$D$58)))","v":91440},{"$f":"V1705+SUM(A1705:U1705*(TRANSPOSE(CostCalculation!$C$38:$C$58)))","v":65366}]
[0,0,0,0,0,0,0,0,0,53,12,9,6,0,0,0,0,0,0,0,1,6334,{"$f":"SUM(A1706:U1706*(TRANSPOSE(CostCalculation!$D$38:$D$58)))","v":45720},{"$f":"V1706+SUM(A1706:U1706*(TRANSPOSE(CostCalculation!$C$38:$C$58)))","v":32683}]
[0,0,0,0,0,0,0,0,0,212,48,36,24,0,0,0,0,0,0,0,4,25336,{"$f":"SUM(A1707:U1707*(TRANSPOSE(CostCalculation!$D$38:$D$58)))","v":182880},{"$f":"V1707+SUM(A1707:U1707*(TRANSPOSE(CostCalculation!$C$38:$C$58)))","v":130732}]
[0,0,0,0,0,0,0,0,0,159,36,27,18,0,0,0,0,0,0,0,3,19002,{"$f":"SUM(A1708:U1708*(TRANSPOSE(CostCalculation!$D$38:$D$58)))","v":137160},{"$f":"V1708+SUM(A1708:U1708*(TRANSPOSE(CostCalculation!$C$38:$C$58)))","v":98049}]
[0,0,0,0,0,0,0,0,0,53,12,9,6,0,0,0,0,0,0,0,1,6334,{"$f":"SUM(A1709:U1709*(TRANSPOSE(CostCalculation!$D$38:$D$58)))","v":45720},{"$f":"V1709+SUM(A1709:U1709*(TRANSPOSE(CostCalculation!$C$38:$C$58)))","v":32683}]
[0,0,0,0,0,0,0,0,0,159,36,27,18,0,0,0,0,0,0,0,3,19002,{"$f":"SUM(A1710:U1710*(TRANSPOSE(CostCalculation!$D$38:$D$58)))","v":137160},{"$f":"V1710+SUM(A1710:U1710*(TRANSPOSE(CostCalculation!$C$38:$C$58)))","v":98049}]
[0,0,0,0,0,0,0,0,0,159,36,27,18,0,0,0,0,0,0,0,3,19002,{"$f":"SUM(A1711:U1711*(TRANSPOSE(CostCalculation!$D$38:$D$58)))","v":137160},{"$f":"V1711+SUM(A1711:U1711*(TRANSPOSE(CostCalculation!$C$38:$C$58)))","v":98049}]
[0,0,0,0,0,0,0,0,0,265,60,45,30,0,0,0,0,0,0,0,5,31670,{"$f":"SUM(A1712:U1712*(TRANSPOSE(CostCalculation!$D$38:$D$58)))","v":228600},{"$f":"V1712+SUM(A1712:U1712*(TRANSPOSE(CostCalculation!$C$38:$C$58)))","v":163415}]
[0,0,0,0,0,0,0,0,0,106,24,18,12,0,0,0,0,0,0,0,2,12668,{"$f":"SUM(A1713:U1713*(TRANSPOSE(CostCalculation!$D$38:$D$58)))","v":91440},{"$f":"V1713+SUM(A1713:U1713*(TRANSPOSE(CostCalculation!$C$38:$C$58)))","v":65366}]
[0,0,0,0,0,0,0,0,0,265,60,45,30,0,0,0,0,0,0,0,5,31670,{"$f":"SUM(A1714:U1714*(TRANSPOSE(CostCalculation!$D$38:$D$58)))","v":228600},{"$f":"V1714+SUM(A1714:U1714*(TRANSPOSE(CostCalculation!$C$38:$C$58)))","v":163415}]
[0,0,0,0,0,0,0,0,0,159,36,27,18,0,0,0,0,0,0,0,3,19002,{"$f":"SUM(A1715:U1715*(TRANSPOSE(CostCalculation!$D$38:$D$58)))","v":137160},{"$f":"V1715+SUM(A1715:U1715*(TRANSPOSE(CostCalculation!$C$38:$C$58)))","v":98049}]
[0,0,0,0,0,0,0,0,0,106,24,18,12,0,0,0,0,0,0,0,2,12668,{"$f":"SUM(A1716:U1716*(TRANSPOSE(CostCalculation!$D$38:$D$58)))","v":91440},{"$f":"V1716+SUM(A1716:U1716*(TRANSPOSE(CostCalculation!$C$38:$C$58)))","v":65366}]
[0,0,0,0,0,0,0,0,0,424,96,72,48,0,0,0,0,0,0,0,8,50672,{"$f":"SUM(A1717:U1717*(TRANSPOSE(CostCalculation!$D$38:$D$58)))","v":365760},{"$f":"V1717+SUM(A1717:U1717*(TRANSPOSE(CostCalculation!$C$38:$C$58)))","v":261464}]
[0,0,0,0,0,0,0,0,0,159,36,27,18,0,0,0,0,0,0,0,3,19002,{"$f":"SUM(A1718:U1718*(TRANSPOSE(CostCalculation!$D$38:$D$58)))","v":137160},{"$f":"V1718+SUM(A1718:U1718*(TRANSPOSE(CostCalculation!$C$38:$C$58)))","v":98049}]
[0,0,0,0,0,0,0,0,0,159,36,27,18,0,0,0,0,0,0,0,3,19002,{"$f":"SUM(A1719:U1719*(TRANSPOSE(CostCalculation!$D$38:$D$58)))","v":137160},{"$f":"V1719+SUM(A1719:U1719*(TRANSPOSE(CostCalculation!$C$38:$C$58)))","v":98049}]
[0,0,0,0,0,0,0,0,0,159,36,27,18,0,0,0,0,0,0,0,3,19002,{"$f":"SUM(A1720:U1720*(TRANSPOSE(CostCalculation!$D$38:$D$58)))","v":137160},{"$f":"V1720+SUM(A1720:U1720*(TRANSPOSE(CostCalculation!$C$38:$C$58)))","v":98049}]
[0,0,0,0,0,0,0,0,0,265,60,45,30,0,0,0,0,0,0,0,5,31670,{"$f":"SUM(A1721:U1721*(TRANSPOSE(CostCalculation!$D$38:$D$58)))","v":228600},{"$f":"V1721+SUM(A1721:U1721*(TRANSPOSE(CostCalculation!$C$38:$C$58)))","v":163415}]
[0,0,0,0,0,0,0,0,0,106,24,18,12,0,0,0,0,0,0,0,2,12668,{"$f":"SUM(A1722:U1722*(TRANSPOSE(CostCalculation!$D$38:$D$58)))","v":91440},{"$f":"V1722+SUM(A1722:U1722*(TRANSPOSE(CostCalculation!$C$38:$C$58)))","v":65366}]
[0,0,0,0,0,0,0,0,0,212,48,36,24,0,0,0,0,0,0,0,4,25336,{"$f":"SUM(A1723:U1723*(TRANSPOSE(CostCalculation!$D$38:$D$58)))","v":182880},{"$f":"V1723+SUM(A1723:U1723*(TRANSPOSE(CostCalculation!$C$38:$C$58)))","v":130732}]
[0,0,0,0,0,0,0,0,0,106,24,18,12,0,0,0,0,0,0,0,2,12668,{"$f":"SUM(A1724:U1724*(TRANSPOSE(CostCalculation!$D$38:$D$58)))","v":91440},{"$f":"V1724+SUM(A1724:U1724*(TRANSPOSE(CostCalculation!$C$38:$C$58)))","v":65366}]
[0,0,0,0,0,0,0,0,0,53,12,9,6,0,0,0,0,0,0,0,1,6334,{"$f":"SUM(A1725:U1725*(TRANSPOSE(CostCalculation!$D$38:$D$58)))","v":45720},{"$f":"V1725+SUM(A1725:U1725*(TRANSPOSE(CostCalculation!$C$38:$C$58)))","v":32683}]
[0,0,0,0,0,0,0,0,0,212,48,36,24,0,0,0,0,0,0,0,4,25336,{"$f":"SUM(A1726:U1726*(TRANSPOSE(CostCalculation!$D$38:$D$58)))","v":182880},{"$f":"V1726+SUM(A1726:U1726*(TRANSPOSE(CostCalculation!$C$38:$C$58)))","v":130732}]
[0,0,0,0,0,0,0,0,0,265,60,45,30,0,0,0,0,0,0,0,5,31670,{"$f":"SUM(A1727:U1727*(TRANSPOSE(CostCalculation!$D$38:$D$58)))","v":228600},{"$f":"V1727+SUM(A1727:U1727*(TRANSPOSE(CostCalculation!$C$38:$C$58)))","v":163415}]
[0,0,0,0,0,0,0,0,0,318,72,54,36,0,0,0,0,0,0,0,6,38004,{"$f":"SUM(A1728:U1728*(TRANSPOSE(CostCalculation!$D$38:$D$58)))","v":274320},{"$f":"V1728+SUM(A1728:U1728*(TRANSPOSE(CostCalculation!$C$38:$C$58)))","v":196098}]
[0,0,0,0,0,0,0,0,0,53,12,9,6,0,0,0,0,0,0,0,1,6334,{"$f":"SUM(A1729:U1729*(TRANSPOSE(CostCalculation!$D$38:$D$58)))","v":45720},{"$f":"V1729+SUM(A1729:U1729*(TRANSPOSE(CostCalculation!$C$38:$C$58)))","v":32683}]
[0,0,0,0,0,0,0,0,0,212,48,36,24,0,0,0,0,0,0,0,4,25336,{"$f":"SUM(A1730:U1730*(TRANSPOSE(CostCalculation!$D$38:$D$58)))","v":182880},{"$f":"V1730+SUM(A1730:U1730*(TRANSPOSE(CostCalculation!$C$38:$C$58)))","v":130732}]
[0,0,0,0,0,0,0,0,0,106,24,18,12,0,0,0,0,0,0,0,2,12668,{"$f":"SUM(A1731:U1731*(TRANSPOSE(CostCalculation!$D$38:$D$58)))","v":91440},{"$f":"V1731+SUM(A1731:U1731*(TRANSPOSE(CostCalculation!$C$38:$C$58)))","v":65366}]
[0,0,0,0,0,0,0,0,0,265,60,45,30,0,0,0,0,0,0,0,5,31670,{"$f":"SUM(A1732:U1732*(TRANSPOSE(CostCalculation!$D$38:$D$58)))","v":228600},{"$f":"V1732+SUM(A1732:U1732*(TRANSPOSE(CostCalculation!$C$38:$C$58)))","v":163415}]
[0,0,0,0,0,0,0,0,0,159,36,27,18,0,0,0,0,0,0,0,3,19002,{"$f":"SUM(A1733:U1733*(TRANSPOSE(CostCalculation!$D$38:$D$58)))","v":137160},{"$f":"V1733+SUM(A1733:U1733*(TRANSPOSE(CostCalculation!$C$38:$C$58)))","v":98049}]
[0,0,0,0,0,0,0,0,0,53,12,9,6,0,0,0,0,0,0,0,1,6334,{"$f":"SUM(A1734:U1734*(TRANSPOSE(CostCalculation!$D$38:$D$58)))","v":45720},{"$f":"V1734+SUM(A1734:U1734*(TRANSPOSE(CostCalculation!$C$38:$C$58)))","v":32683}]
[0,0,0,0,0,0,0,0,0,212,48,36,24,0,0,0,0,0,0,0,4,25336,{"$f":"SUM(A1735:U1735*(TRANSPOSE(CostCalculation!$D$38:$D$58)))","v":182880},{"$f":"V1735+SUM(A1735:U1735*(TRANSPOSE(CostCalculation!$C$38:$C$58)))","v":130732}]
[0,0,0,0,0,0,0,0,0,265,60,45,30,0,0,0,0,0,0,0,5,31670,{"$f":"SUM(A1736:U1736*(TRANSPOSE(CostCalculation!$D$38:$D$58)))","v":228600},{"$f":"V1736+SUM(A1736:U1736*(TRANSPOSE(CostCalculation!$C$38:$C$58)))","v":163415}]
[0,0,0,0,0,0,0,0,0,371,84,63,42,0,0,0,0,0,0,0,7,44338,{"$f":"SUM(A1737:U1737*(TRANSPOSE(CostCalculation!$D$38:$D$58)))","v":320040},{"$f":"V1737+SUM(A1737:U1737*(TRANSPOSE(CostCalculation!$C$38:$C$58)))","v":228781}]
[0,0,0,0,0,0,0,0,0,212,48,36,24,0,0,0,0,0,0,0,4,25336,{"$f":"SUM(A1738:U1738*(TRANSPOSE(CostCalculation!$D$38:$D$58)))","v":182880},{"$f":"V1738+SUM(A1738:U1738*(TRANSPOSE(CostCalculation!$C$38:$C$58)))","v":130732}]
[0,0,0,0,0,0,0,0,0,53,12,9,6,0,0,0,0,0,0,0,1,6334,{"$f":"SUM(A1739:U1739*(TRANSPOSE(CostCalculation!$D$38:$D$58)))","v":45720},{"$f":"V1739+SUM(A1739:U1739*(TRANSPOSE(CostCalculation!$C$38:$C$58)))","v":32683}]
[0,0,0,0,0,0,0,0,0,424,96,72,48,0,0,0,0,0,0,0,8,50672,{"$f":"SUM(A1740:U1740*(TRANSPOSE(CostCalculation!$D$38:$D$58)))","v":365760},{"$f":"V1740+SUM(A1740:U1740*(TRANSPOSE(CostCalculation!$C$38:$C$58)))","v":261464}]
[0,0,0,0,0,0,0,0,0,53,12,9,6,0,0,0,0,0,0,0,1,6334,{"$f":"SUM(A1741:U1741*(TRANSPOSE(CostCalculation!$D$38:$D$58)))","v":45720},{"$f":"V1741+SUM(A1741:U1741*(TRANSPOSE(CostCalculation!$C$38:$C$58)))","v":32683}]
[0,0,0,0,0,0,0,0,0,265,60,45,30,0,0,0,0,0,0,0,5,31670,{"$f":"SUM(A1742:U1742*(TRANSPOSE(CostCalculation!$D$38:$D$58)))","v":228600},{"$f":"V1742+SUM(A1742:U1742*(TRANSPOSE(CostCalculation!$C$38:$C$58)))","v":163415}]
[0,0,0,0,0,0,0,0,0,265,60,45,30,0,0,0,0,0,0,0,5,31670,{"$f":"SUM(A1743:U1743*(TRANSPOSE(CostCalculation!$D$38:$D$58)))","v":228600},{"$f":"V1743+SUM(A1743:U1743*(TRANSPOSE(CostCalculation!$C$38:$C$58)))","v":163415}]
[0,0,0,0,0,0,0,0,0,106,24,18,12,0,0,0,0,0,0,0,2,12668,{"$f":"SUM(A1744:U1744*(TRANSPOSE(CostCalculation!$D$38:$D$58)))","v":91440},{"$f":"V1744+SUM(A1744:U1744*(TRANSPOSE(CostCalculation!$C$38:$C$58)))","v":65366}]
[0,0,0,0,0,0,0,0,0,265,60,45,30,0,0,0,0,0,0,0,5,31670,{"$f":"SUM(A1745:U1745*(TRANSPOSE(CostCalculation!$D$38:$D$58)))","v":228600},{"$f":"V1745+SUM(A1745:U1745*(TRANSPOSE(CostCalculation!$C$38:$C$58)))","v":163415}]
[0,0,0,0,0,0,0,0,0,106,24,18,12,0,0,0,0,0,0,0,2,12668,{"$f":"SUM(A1746:U1746*(TRANSPOSE(CostCalculation!$D$38:$D$58)))","v":91440},{"$f":"V1746+SUM(A1746:U1746*(TRANSPOSE(CostCalculation!$C$38:$C$58)))","v":65366}]
[0,0,0,0,0,0,0,0,0,159,36,27,18,0,0,0,0,0,0,0,3,19002,{"$f":"SUM(A1747:U1747*(TRANSPOSE(CostCalculation!$D$38:$D$58)))","v":137160},{"$f":"V1747+SUM(A1747:U1747*(TRANSPOSE(CostCalculation!$C$38:$C$58)))","v":98049}]
[0,0,0,0,0,0,0,0,0,265,60,45,30,0,0,0,0,0,0,0,5,31670,{"$f":"SUM(A1748:U1748*(TRANSPOSE(CostCalculation!$D$38:$D$58)))","v":228600},{"$f":"V1748+SUM(A1748:U1748*(TRANSPOSE(CostCalculation!$C$38:$C$58)))","v":163415}]
[0,0,0,0,0,0,0,0,0,318,72,54,36,0,0,0,0,0,0,0,6,38004,{"$f":"SUM(A1749:U1749*(TRANSPOSE(CostCalculation!$D$38:$D$58)))","v":274320},{"$f":"V1749+SUM(A1749:U1749*(TRANSPOSE(CostCalculation!$C$38:$C$58)))","v":196098}]
[0,0,0,0,0,0,0,0,0,106,24,18,12,0,0,0,0,0,0,0,2,12668,{"$f":"SUM(A1750:U1750*(TRANSPOSE(CostCalculation!$D$38:$D$58)))","v":91440},{"$f":"V1750+SUM(A1750:U1750*(TRANSPOSE(CostCalculation!$C$38:$C$58)))","v":65366}]
[0,0,0,0,0,0,0,0,0,318,72,54,36,0,0,0,0,0,0,0,6,38004,{"$f":"SUM(A1751:U1751*(TRANSPOSE(CostCalculation!$D$38:$D$58)))","v":274320},{"$f":"V1751+SUM(A1751:U1751*(TRANSPOSE(CostCalculation!$C$38:$C$58)))","v":196098}]
[0,0,0,0,0,0,0,0,0,318,72,54,36,0,0,0,0,0,0,0,6,38004,{"$f":"SUM(A1752:U1752*(TRANSPOSE(CostCalculation!$D$38:$D$58)))","v":274320},{"$f":"V1752+SUM(A1752:U1752*(TRANSPOSE(CostCalculation!$C$38:$C$58)))","v":196098}]
[0,0,0,0,0,0,0,0,0,477,108,81,54,0,0,0,0,0,0,0,9,57006,{"$f":"SUM(A1753:U1753*(TRANSPOSE(CostCalculation!$D$38:$D$58)))","v":411480},{"$f":"V1753+SUM(A1753:U1753*(TRANSPOSE(CostCalculation!$C$38:$C$58)))","v":294147}]
[0,0,0,0,0,0,0,0,0,265,60,45,30,0,0,0,0,0,0,0,5,31670,{"$f":"SUM(A1754:U1754*(TRANSPOSE(CostCalculation!$D$38:$D$58)))","v":228600},{"$f":"V1754+SUM(A1754:U1754*(TRANSPOSE(CostCalculation!$C$38:$C$58)))","v":163415}]
[0,0,0,0,0,0,0,0,0,265,60,45,30,0,0,0,0,0,0,0,5,31670,{"$f":"SUM(A1755:U1755*(TRANSPOSE(CostCalculation!$D$38:$D$58)))","v":228600},{"$f":"V1755+SUM(A1755:U1755*(TRANSPOSE(CostCalculation!$C$38:$C$58)))","v":163415}]
[0,0,0,0,0,0,0,0,0,159,36,27,18,0,0,0,0,0,0,0,3,19002,{"$f":"SUM(A1756:U1756*(TRANSPOSE(CostCalculation!$D$38:$D$58)))","v":137160},{"$f":"V1756+SUM(A1756:U1756*(TRANSPOSE(CostCalculation!$C$38:$C$58)))","v":98049}]
[0,0,0,0,0,0,0,0,0,106,24,18,12,0,0,0,0,0,0,0,2,12668,{"$f":"SUM(A1757:U1757*(TRANSPOSE(CostCalculation!$D$38:$D$58)))","v":91440},{"$f":"V1757+SUM(A1757:U1757*(TRANSPOSE(CostCalculation!$C$38:$C$58)))","v":65366}]
[0,0,0,0,0,0,0,0,0,106,24,18,12,0,0,0,0,0,0,0,2,12668,{"$f":"SUM(A1758:U1758*(TRANSPOSE(CostCalculation!$D$38:$D$58)))","v":91440},{"$f":"V1758+SUM(A1758:U1758*(TRANSPOSE(CostCalculation!$C$38:$C$58)))","v":65366}]
[0,0,0,0,0,0,0,0,0,159,36,27,18,0,0,0,0,0,0,0,3,19002,{"$f":"SUM(A1759:U1759*(TRANSPOSE(CostCalculation!$D$38:$D$58)))","v":137160},{"$f":"V1759+SUM(A1759:U1759*(TRANSPOSE(CostCalculation!$C$38:$C$58)))","v":98049}]
[0,0,0,0,0,0,0,0,0,212,48,36,24,0,0,0,0,0,0,0,4,25336,{"$f":"SUM(A1760:U1760*(TRANSPOSE(CostCalculation!$D$38:$D$58)))","v":182880},{"$f":"V1760+SUM(A1760:U1760*(TRANSPOSE(CostCalculation!$C$38:$C$58)))","v":130732}]
[0,0,0,0,0,0,0,0,0,106,24,18,12,0,0,0,0,0,0,0,2,12668,{"$f":"SUM(A1761:U1761*(TRANSPOSE(CostCalculation!$D$38:$D$58)))","v":91440},{"$f":"V1761+SUM(A1761:U1761*(TRANSPOSE(CostCalculation!$C$38:$C$58)))","v":65366}]
[0,0,0,0,0,0,0,0,0,53,12,9,6,0,0,0,0,0,0,0,1,6334,{"$f":"SUM(A1762:U1762*(TRANSPOSE(CostCalculation!$D$38:$D$58)))","v":45720},{"$f":"V1762+SUM(A1762:U1762*(TRANSPOSE(CostCalculation!$C$38:$C$58)))","v":32683}]
[0,0,0,0,0,0,0,0,0,159,36,27,18,0,0,0,0,0,0,0,3,19002,{"$f":"SUM(A1763:U1763*(TRANSPOSE(CostCalculation!$D$38:$D$58)))","v":137160},{"$f":"V1763+SUM(A1763:U1763*(TRANSPOSE(CostCalculation!$C$38:$C$58)))","v":98049}]
[0,0,0,0,0,0,0,0,0,265,60,45,30,0,0,0,0,0,0,0,5,31670,{"$f":"SUM(A1764:U1764*(TRANSPOSE(CostCalculation!$D$38:$D$58)))","v":228600},{"$f":"V1764+SUM(A1764:U1764*(TRANSPOSE(CostCalculation!$C$38:$C$58)))","v":163415}]
[0,0,0,0,0,0,0,0,0,53,12,9,6,0,0,0,0,0,0,0,1,6334,{"$f":"SUM(A1765:U1765*(TRANSPOSE(CostCalculation!$D$38:$D$58)))","v":45720},{"$f":"V1765+SUM(A1765:U1765*(TRANSPOSE(CostCalculation!$C$38:$C$58)))","v":32683}]
[0,0,0,0,0,0,0,0,0,265,60,45,30,0,0,0,0,0,0,0,5,31670,{"$f":"SUM(A1766:U1766*(TRANSPOSE(CostCalculation!$D$38:$D$58)))","v":228600},{"$f":"V1766+SUM(A1766:U1766*(TRANSPOSE(CostCalculation!$C$38:$C$58)))","v":163415}]
[0,0,0,0,0,0,0,0,0,318,72,54,36,0,0,0,0,0,0,0,6,38004,{"$f":"SUM(A1767:U1767*(TRANSPOSE(CostCalculation!$D$38:$D$58)))","v":274320},{"$f":"V1767+SUM(A1767:U1767*(TRANSPOSE(CostCalculation!$C$38:$C$58)))","v":196098}]
[0,0,0,0,0,0,0,0,0,106,24,18,12,0,0,0,0,0,0,0,2,12668,{"$f":"SUM(A1768:U1768*(TRANSPOSE(CostCalculation!$D$38:$D$58)))","v":91440},{"$f":"V1768+SUM(A1768:U1768*(TRANSPOSE(CostCalculation!$C$38:$C$58)))","v":65366}]
[0,0,0,0,0,0,0,0,0,265,60,45,30,0,0,0,0,0,0,0,5,31670,{"$f":"SUM(A1769:U1769*(TRANSPOSE(CostCalculation!$D$38:$D$58)))","v":228600},{"$f":"V1769+SUM(A1769:U1769*(TRANSPOSE(CostCalculation!$C$38:$C$58)))","v":163415}]
[0,0,0,0,0,0,0,0,0,53,12,9,6,0,0,0,0,0,0,0,1,6334,{"$f":"SUM(A1770:U1770*(TRANSPOSE(CostCalculation!$D$38:$D$58)))","v":45720},{"$f":"V1770+SUM(A1770:U1770*(TRANSPOSE(CostCalculation!$C$38:$C$58)))","v":32683}]
[0,0,0,0,0,0,0,0,0,159,36,27,18,0,0,0,0,0,0,0,3,19002,{"$f":"SUM(A1771:U1771*(TRANSPOSE(CostCalculation!$D$38:$D$58)))","v":137160},{"$f":"V1771+SUM(A1771:U1771*(TRANSPOSE(CostCalculation!$C$38:$C$58)))","v":98049}]
[0,0,0,0,0,0,0,0,0,318,72,54,36,0,0,0,0,0,0,0,6,38004,{"$f":"SUM(A1772:U1772*(TRANSPOSE(CostCalculation!$D$38:$D$58)))","v":274320},{"$f":"V1772+SUM(A1772:U1772*(TRANSPOSE(CostCalculation!$C$38:$C$58)))","v":196098}]
[0,0,0,0,0,0,0,0,0,106,24,18,12,0,0,0,0,0,0,0,2,12668,{"$f":"SUM(A1773:U1773*(TRANSPOSE(CostCalculation!$D$38:$D$58)))","v":91440},{"$f":"V1773+SUM(A1773:U1773*(TRANSPOSE(CostCalculation!$C$38:$C$58)))","v":65366}]
[0,0,0,0,0,0,0,0,0,53,12,9,6,0,0,0,0,0,0,0,1,6334,{"$f":"SUM(A1774:U1774*(TRANSPOSE(CostCalculation!$D$38:$D$58)))","v":45720},{"$f":"V1774+SUM(A1774:U1774*(TRANSPOSE(CostCalculation!$C$38:$C$58)))","v":32683}]
[0,0,0,0,0,0,0,0,0,212,48,36,24,0,0,0,0,0,0,0,4,25336,{"$f":"SUM(A1775:U1775*(TRANSPOSE(CostCalculation!$D$38:$D$58)))","v":182880},{"$f":"V1775+SUM(A1775:U1775*(TRANSPOSE(CostCalculation!$C$38:$C$58)))","v":130732}]
[0,0,0,0,0,0,0,0,0,265,60,45,30,0,0,0,0,0,0,0,5,31670,{"$f":"SUM(A1776:U1776*(TRANSPOSE(CostCalculation!$D$38:$D$58)))","v":228600},{"$f":"V1776+SUM(A1776:U1776*(TRANSPOSE(CostCalculation!$C$38:$C$58)))","v":163415}]
[0,0,0,0,0,0,0,0,0,106,24,18,12,0,0,0,0,0,0,0,2,12668,{"$f":"SUM(A1777:U1777*(TRANSPOSE(CostCalculation!$D$38:$D$58)))","v":91440},{"$f":"V1777+SUM(A1777:U1777*(TRANSPOSE(CostCalculation!$C$38:$C$58)))","v":65366}]
[0,0,0,0,0,0,0,0,0,106,24,18,12,0,0,0,0,0,0,0,2,12668,{"$f":"SUM(A1778:U1778*(TRANSPOSE(CostCalculation!$D$38:$D$58)))","v":91440},{"$f":"V1778+SUM(A1778:U1778*(TRANSPOSE(CostCalculation!$C$38:$C$58)))","v":65366}]
[0,0,0,0,0,0,0,0,0,53,12,9,6,0,0,0,0,0,0,0,1,6334,{"$f":"SUM(A1779:U1779*(TRANSPOSE(CostCalculation!$D$38:$D$58)))","v":45720},{"$f":"V1779+SUM(A1779:U1779*(TRANSPOSE(CostCalculation!$C$38:$C$58)))","v":32683}]
[0,0,0,0,0,0,0,0,0,53,12,9,6,0,0,0,0,0,0,0,1,6334,{"$f":"SUM(A1780:U1780*(TRANSPOSE(CostCalculation!$D$38:$D$58)))","v":45720},{"$f":"V1780+SUM(A1780:U1780*(TRANSPOSE(CostCalculation!$C$38:$C$58)))","v":32683}]
[0,0,0,0,0,0,0,0,0,265,60,45,30,0,0,0,0,0,0,0,5,31670,{"$f":"SUM(A1781:U1781*(TRANSPOSE(CostCalculation!$D$38:$D$58)))","v":228600},{"$f":"V1781+SUM(A1781:U1781*(TRANSPOSE(CostCalculation!$C$38:$C$58)))","v":163415}]
[0,0,0,0,0,0,0,0,0,53,12,9,6,0,0,0,0,0,0,0,1,6334,{"$f":"SUM(A1782:U1782*(TRANSPOSE(CostCalculation!$D$38:$D$58)))","v":45720},{"$f":"V1782+SUM(A1782:U1782*(TRANSPOSE(CostCalculation!$C$38:$C$58)))","v":32683}]
[0,0,0,0,0,0,0,0,0,53,12,9,6,0,0,0,0,0,0,0,1,6334,{"$f":"SUM(A1783:U1783*(TRANSPOSE(CostCalculation!$D$38:$D$58)))","v":45720},{"$f":"V1783+SUM(A1783:U1783*(TRANSPOSE(CostCalculation!$C$38:$C$58)))","v":32683}]
[0,0,0,0,0,0,0,0,0,318,72,54,36,0,0,0,0,0,0,0,6,38004,{"$f":"SUM(A1784:U1784*(TRANSPOSE(CostCalculation!$D$38:$D$58)))","v":274320},{"$f":"V1784+SUM(A1784:U1784*(TRANSPOSE(CostCalculation!$C$38:$C$58)))","v":196098}]
[0,0,0,0,0,0,0,0,0,371,84,63,42,0,0,0,0,0,0,0,7,44338,{"$f":"SUM(A1785:U1785*(TRANSPOSE(CostCalculation!$D$38:$D$58)))","v":320040},{"$f":"V1785+SUM(A1785:U1785*(TRANSPOSE(CostCalculation!$C$38:$C$58)))","v":228781}]
[0,0,0,0,0,0,0,0,0,371,84,63,42,0,0,0,0,0,0,0,7,44338,{"$f":"SUM(A1786:U1786*(TRANSPOSE(CostCalculation!$D$38:$D$58)))","v":320040},{"$f":"V1786+SUM(A1786:U1786*(TRANSPOSE(CostCalculation!$C$38:$C$58)))","v":228781}]
[0,0,0,0,0,0,0,0,0,265,60,45,30,0,0,0,0,0,0,0,5,31670,{"$f":"SUM(A1787:U1787*(TRANSPOSE(CostCalculation!$D$38:$D$58)))","v":228600},{"$f":"V1787+SUM(A1787:U1787*(TRANSPOSE(CostCalculation!$C$38:$C$58)))","v":163415}]
[0,0,0,0,0,0,0,0,0,265,60,45,30,0,0,0,0,0,0,0,5,31670,{"$f":"SUM(A1788:U1788*(TRANSPOSE(CostCalculation!$D$38:$D$58)))","v":228600},{"$f":"V1788+SUM(A1788:U1788*(TRANSPOSE(CostCalculation!$C$38:$C$58)))","v":163415}]
[0,0,0,0,0,0,0,0,0,371,84,63,42,0,0,0,0,0,0,0,7,44338,{"$f":"SUM(A1789:U1789*(TRANSPOSE(CostCalculation!$D$38:$D$58)))","v":320040},{"$f":"V1789+SUM(A1789:U1789*(TRANSPOSE(CostCalculation!$C$38:$C$58)))","v":228781}]
[0,0,0,0,0,0,0,0,0,106,24,18,12,0,0,0,0,0,0,0,2,12668,{"$f":"SUM(A1790:U1790*(TRANSPOSE(CostCalculation!$D$38:$D$58)))","v":91440},{"$f":"V1790+SUM(A1790:U1790*(TRANSPOSE(CostCalculation!$C$38:$C$58)))","v":65366}]
[0,0,0,0,0,0,0,0,0,159,36,27,18,0,0,0,0,0,0,0,3,19002,{"$f":"SUM(A1791:U1791*(TRANSPOSE(CostCalculation!$D$38:$D$58)))","v":137160},{"$f":"V1791+SUM(A1791:U1791*(TRANSPOSE(CostCalculation!$C$38:$C$58)))","v":98049}]
[0,0,0,0,0,0,0,0,0,212,48,36,24,0,0,0,0,0,0,0,4,25336,{"$f":"SUM(A1792:U1792*(TRANSPOSE(CostCalculation!$D$38:$D$58)))","v":182880},{"$f":"V1792+SUM(A1792:U1792*(TRANSPOSE(CostCalculation!$C$38:$C$58)))","v":130732}]
[0,0,0,0,0,0,0,0,0,106,24,18,12,0,0,0,0,0,0,0,2,12668,{"$f":"SUM(A1793:U1793*(TRANSPOSE(CostCalculation!$D$38:$D$58)))","v":91440},{"$f":"V1793+SUM(A1793:U1793*(TRANSPOSE(CostCalculation!$C$38:$C$58)))","v":65366}]
[0,0,0,0,0,0,0,0,0,530,120,90,60,0,0,0,0,0,0,0,10,63340,{"$f":"SUM(A1794:U1794*(TRANSPOSE(CostCalculation!$D$38:$D$58)))","v":457200},{"$f":"V1794+SUM(A1794:U1794*(TRANSPOSE(CostCalculation!$C$38:$C$58)))","v":326830}]
[0,0,0,0,0,0,0,0,0,159,36,27,18,0,0,0,0,0,0,0,3,19002,{"$f":"SUM(A1795:U1795*(TRANSPOSE(CostCalculation!$D$38:$D$58)))","v":137160},{"$f":"V1795+SUM(A1795:U1795*(TRANSPOSE(CostCalculation!$C$38:$C$58)))","v":98049}]
[0,0,0,0,0,0,0,0,0,371,84,63,42,0,0,0,0,0,0,0,7,44338,{"$f":"SUM(A1796:U1796*(TRANSPOSE(CostCalculation!$D$38:$D$58)))","v":320040},{"$f":"V1796+SUM(A1796:U1796*(TRANSPOSE(CostCalculation!$C$38:$C$58)))","v":228781}]
[0,0,0,0,0,0,0,0,0,159,36,27,18,0,0,0,0,0,0,0,3,19002,{"$f":"SUM(A1797:U1797*(TRANSPOSE(CostCalculation!$D$38:$D$58)))","v":137160},{"$f":"V1797+SUM(A1797:U1797*(TRANSPOSE(CostCalculation!$C$38:$C$58)))","v":98049}]
[0,0,0,0,0,0,0,0,0,106,24,18,12,0,0,0,0,0,0,0,2,12668,{"$f":"SUM(A1798:U1798*(TRANSPOSE(CostCalculation!$D$38:$D$58)))","v":91440},{"$f":"V1798+SUM(A1798:U1798*(TRANSPOSE(CostCalculation!$C$38:$C$58)))","v":65366}]
[0,0,0,0,0,0,0,0,0,53,12,9,6,0,0,0,0,0,0,0,1,6334,{"$f":"SUM(A1799:U1799*(TRANSPOSE(CostCalculation!$D$38:$D$58)))","v":45720},{"$f":"V1799+SUM(A1799:U1799*(TRANSPOSE(CostCalculation!$C$38:$C$58)))","v":32683}]
[0,0,0,0,0,0,0,0,0,159,36,27,18,0,0,0,0,0,0,0,3,19002,{"$f":"SUM(A1800:U1800*(TRANSPOSE(CostCalculation!$D$38:$D$58)))","v":137160},{"$f":"V1800+SUM(A1800:U1800*(TRANSPOSE(CostCalculation!$C$38:$C$58)))","v":98049}]
[0,0,0,0,0,0,0,0,0,265,60,45,30,0,0,0,0,0,0,0,5,31670,{"$f":"SUM(A1801:U1801*(TRANSPOSE(CostCalculation!$D$38:$D$58)))","v":228600},{"$f":"V1801+SUM(A1801:U1801*(TRANSPOSE(CostCalculation!$C$38:$C$58)))","v":163415}]
[0,0,0,0,0,0,0,0,0,53,12,9,6,0,0,0,0,0,0,0,1,6334,{"$f":"SUM(A1802:U1802*(TRANSPOSE(CostCalculation!$D$38:$D$58)))","v":45720},{"$f":"V1802+SUM(A1802:U1802*(TRANSPOSE(CostCalculation!$C$38:$C$58)))","v":32683}]
[0,0,0,0,0,0,0,0,0,212,48,36,24,0,0,0,0,0,0,0,4,25336,{"$f":"SUM(A1803:U1803*(TRANSPOSE(CostCalculation!$D$38:$D$58)))","v":182880},{"$f":"V1803+SUM(A1803:U1803*(TRANSPOSE(CostCalculation!$C$38:$C$58)))","v":130732}]
[0,0,0,0,0,0,0,0,0,159,36,27,18,0,0,0,0,0,0,0,3,19002,{"$f":"SUM(A1804:U1804*(TRANSPOSE(CostCalculation!$D$38:$D$58)))","v":137160},{"$f":"V1804+SUM(A1804:U1804*(TRANSPOSE(CostCalculation!$C$38:$C$58)))","v":98049}]
[0,0,0,0,0,0,0,0,0,53,12,9,6,0,0,0,0,0,0,0,1,6334,{"$f":"SUM(A1805:U1805*(TRANSPOSE(CostCalculation!$D$38:$D$58)))","v":45720},{"$f":"V1805+SUM(A1805:U1805*(TRANSPOSE(CostCalculation!$C$38:$C$58)))","v":32683}]
[0,0,0,0,0,0,0,0,0,159,36,27,18,0,0,0,0,0,0,0,3,19002,{"$f":"SUM(A1806:U1806*(TRANSPOSE(CostCalculation!$D$38:$D$58)))","v":137160},{"$f":"V1806+SUM(A1806:U1806*(TRANSPOSE(CostCalculation!$C$38:$C$58)))","v":98049}]
[0,0,0,0,0,0,0,0,0,53,12,9,6,0,0,0,0,0,0,0,1,6334,{"$f":"SUM(A1807:U1807*(TRANSPOSE(CostCalculation!$D$38:$D$58)))","v":45720},{"$f":"V1807+SUM(A1807:U1807*(TRANSPOSE(CostCalculation!$C$38:$C$58)))","v":32683}]
[0,0,0,0,0,0,0,0,0,318,72,54,36,0,0,0,0,0,0,0,6,38004,{"$f":"SUM(A1808:U1808*(TRANSPOSE(CostCalculation!$D$38:$D$58)))","v":274320},{"$f":"V1808+SUM(A1808:U1808*(TRANSPOSE(CostCalculation!$C$38:$C$58)))","v":196098}]
[0,0,0,0,0,0,0,0,0,265,60,45,30,0,0,0,0,0,0,0,5,31670,{"$f":"SUM(A1809:U1809*(TRANSPOSE(CostCalculation!$D$38:$D$58)))","v":228600},{"$f":"V1809+SUM(A1809:U1809*(TRANSPOSE(CostCalculation!$C$38:$C$58)))","v":163415}]
[0,0,0,0,0,0,0,0,0,53,12,9,6,0,0,0,0,0,0,0,1,6334,{"$f":"SUM(A1810:U1810*(TRANSPOSE(CostCalculation!$D$38:$D$58)))","v":45720},{"$f":"V1810+SUM(A1810:U1810*(TRANSPOSE(CostCalculation!$C$38:$C$58)))","v":32683}]
[0,0,0,0,0,0,0,0,0,371,84,63,42,0,0,0,0,0,0,0,7,44338,{"$f":"SUM(A1811:U1811*(TRANSPOSE(CostCalculation!$D$38:$D$58)))","v":320040},{"$f":"V1811+SUM(A1811:U1811*(TRANSPOSE(CostCalculation!$C$38:$C$58)))","v":228781}]
[0,0,0,0,0,0,0,0,0,265,60,45,30,0,0,0,0,0,0,0,5,31670,{"$f":"SUM(A1812:U1812*(TRANSPOSE(CostCalculation!$D$38:$D$58)))","v":228600},{"$f":"V1812+SUM(A1812:U1812*(TRANSPOSE(CostCalculation!$C$38:$C$58)))","v":163415}]
[0,0,0,0,0,0,0,0,0,424,96,72,48,0,0,0,0,0,0,0,8,50672,{"$f":"SUM(A1813:U1813*(TRANSPOSE(CostCalculation!$D$38:$D$58)))","v":365760},{"$f":"V1813+SUM(A1813:U1813*(TRANSPOSE(CostCalculation!$C$38:$C$58)))","v":261464}]
[0,0,0,0,0,0,0,0,0,265,60,45,30,0,0,0,0,0,0,0,5,31670,{"$f":"SUM(A1814:U1814*(TRANSPOSE(CostCalculation!$D$38:$D$58)))","v":228600},{"$f":"V1814+SUM(A1814:U1814*(TRANSPOSE(CostCalculation!$C$38:$C$58)))","v":163415}]
[0,0,0,0,0,0,0,0,0,159,36,27,18,0,0,0,0,0,0,0,3,19002,{"$f":"SUM(A1815:U1815*(TRANSPOSE(CostCalculation!$D$38:$D$58)))","v":137160},{"$f":"V1815+SUM(A1815:U1815*(TRANSPOSE(CostCalculation!$C$38:$C$58)))","v":98049}]
[0,0,0,0,0,0,0,0,0,106,24,18,12,0,0,0,0,0,0,0,2,12668,{"$f":"SUM(A1816:U1816*(TRANSPOSE(CostCalculation!$D$38:$D$58)))","v":91440},{"$f":"V1816+SUM(A1816:U1816*(TRANSPOSE(CostCalculation!$C$38:$C$58)))","v":65366}]
[0,0,0,0,0,0,0,0,0,106,24,18,12,0,0,0,0,0,0,0,2,12668,{"$f":"SUM(A1817:U1817*(TRANSPOSE(CostCalculation!$D$38:$D$58)))","v":91440},{"$f":"V1817+SUM(A1817:U1817*(TRANSPOSE(CostCalculation!$C$38:$C$58)))","v":65366}]
[0,0,0,0,0,0,0,0,0,53,12,9,6,0,0,0,0,0,0,0,1,6334,{"$f":"SUM(A1818:U1818*(TRANSPOSE(CostCalculation!$D$38:$D$58)))","v":45720},{"$f":"V1818+SUM(A1818:U1818*(TRANSPOSE(CostCalculation!$C$38:$C$58)))","v":32683}]
[0,0,0,0,0,0,0,0,0,53,12,9,6,0,0,0,0,0,0,0,1,6334,{"$f":"SUM(A1819:U1819*(TRANSPOSE(CostCalculation!$D$38:$D$58)))","v":45720},{"$f":"V1819+SUM(A1819:U1819*(TRANSPOSE(CostCalculation!$C$38:$C$58)))","v":32683}]
[0,0,0,0,0,0,0,0,0,106,24,18,12,0,0,0,0,0,0,0,2,12668,{"$f":"SUM(A1820:U1820*(TRANSPOSE(CostCalculation!$D$38:$D$58)))","v":91440},{"$f":"V1820+SUM(A1820:U1820*(TRANSPOSE(CostCalculation!$C$38:$C$58)))","v":65366}]
[0,0,0,0,0,0,0,0,0,106,24,18,12,0,0,0,0,0,0,0,2,12668,{"$f":"SUM(A1821:U1821*(TRANSPOSE(CostCalculation!$D$38:$D$58)))","v":91440},{"$f":"V1821+SUM(A1821:U1821*(TRANSPOSE(CostCalculation!$C$38:$C$58)))","v":65366}]
[0,0,0,0,0,0,0,0,0,53,12,9,6,0,0,0,0,0,0,0,1,6334,{"$f":"SUM(A1822:U1822*(TRANSPOSE(CostCalculation!$D$38:$D$58)))","v":45720},{"$f":"V1822+SUM(A1822:U1822*(TRANSPOSE(CostCalculation!$C$38:$C$58)))","v":32683}]
[0,0,0,0,0,0,0,0,0,212,48,36,24,0,0,0,0,0,0,0,4,25336,{"$f":"SUM(A1823:U1823*(TRANSPOSE(CostCalculation!$D$38:$D$58)))","v":182880},{"$f":"V1823+SUM(A1823:U1823*(TRANSPOSE(CostCalculation!$C$38:$C$58)))","v":130732}]
[0,0,0,0,0,0,0,0,0,212,48,36,24,0,0,0,0,0,0,0,4,25336,{"$f":"SUM(A1824:U1824*(TRANSPOSE(CostCalculation!$D$38:$D$58)))","v":182880},{"$f":"V1824+SUM(A1824:U1824*(TRANSPOSE(CostCalculation!$C$38:$C$58)))","v":130732}]
[0,0,0,0,0,0,0,0,0,106,24,18,12,0,0,0,0,0,0,0,2,12668,{"$f":"SUM(A1825:U1825*(TRANSPOSE(CostCalculation!$D$38:$D$58)))","v":91440},{"$f":"V1825+SUM(A1825:U1825*(TRANSPOSE(CostCalculation!$C$38:$C$58)))","v":65366}]
[0,0,0,0,0,0,0,0,0,53,12,9,6,0,0,0,0,0,0,0,1,6334,{"$f":"SUM(A1826:U1826*(TRANSPOSE(CostCalculation!$D$38:$D$58)))","v":45720},{"$f":"V1826+SUM(A1826:U1826*(TRANSPOSE(CostCalculation!$C$38:$C$58)))","v":32683}]
[0,0,0,0,0,0,0,0,0,53,12,9,6,0,0,0,0,0,0,0,1,6334,{"$f":"SUM(A1827:U1827*(TRANSPOSE(CostCalculation!$D$38:$D$58)))","v":45720},{"$f":"V1827+SUM(A1827:U1827*(TRANSPOSE(CostCalculation!$C$38:$C$58)))","v":32683}]
[0,0,0,0,0,0,0,0,0,106,24,18,12,0,0,0,0,0,0,0,2,12668,{"$f":"SUM(A1828:U1828*(TRANSPOSE(CostCalculation!$D$38:$D$58)))","v":91440},{"$f":"V1828+SUM(A1828:U1828*(TRANSPOSE(CostCalculation!$C$38:$C$58)))","v":65366}]
[0,0,0,0,0,0,0,0,0,212,48,36,24,0,0,0,0,0,0,0,4,25336,{"$f":"SUM(A1829:U1829*(TRANSPOSE(CostCalculation!$D$38:$D$58)))","v":182880},{"$f":"V1829+SUM(A1829:U1829*(TRANSPOSE(CostCalculation!$C$38:$C$58)))","v":130732}]
[0,0,0,0,0,0,0,0,0,318,72,54,36,0,0,0,0,0,0,0,6,38004,{"$f":"SUM(A1830:U1830*(TRANSPOSE(CostCalculation!$D$38:$D$58)))","v":274320},{"$f":"V1830+SUM(A1830:U1830*(TRANSPOSE(CostCalculation!$C$38:$C$58)))","v":196098}]
[0,0,0,0,0,0,0,0,0,159,36,27,18,0,0,0,0,0,0,0,3,19002,{"$f":"SUM(A1831:U1831*(TRANSPOSE(CostCalculation!$D$38:$D$58)))","v":137160},{"$f":"V1831+SUM(A1831:U1831*(TRANSPOSE(CostCalculation!$C$38:$C$58)))","v":98049}]
[0,0,0,0,0,0,0,0,0,371,84,63,42,0,0,0,0,0,0,0,7,44338,{"$f":"SUM(A1832:U1832*(TRANSPOSE(CostCalculation!$D$38:$D$58)))","v":320040},{"$f":"V1832+SUM(A1832:U1832*(TRANSPOSE(CostCalculation!$C$38:$C$58)))","v":228781}]
[0,0,0,0,0,0,0,0,0,212,48,36,24,0,0,0,0,0,0,0,4,25336,{"$f":"SUM(A1833:U1833*(TRANSPOSE(CostCalculation!$D$38:$D$58)))","v":182880},{"$f":"V1833+SUM(A1833:U1833*(TRANSPOSE(CostCalculation!$C$38:$C$58)))","v":130732}]
[0,0,0,0,0,0,0,0,0,212,48,36,24,0,0,0,0,0,0,0,4,25336,{"$f":"SUM(A1834:U1834*(TRANSPOSE(CostCalculation!$D$38:$D$58)))","v":182880},{"$f":"V1834+SUM(A1834:U1834*(TRANSPOSE(CostCalculation!$C$38:$C$58)))","v":130732}]
[0,0,0,0,0,0,0,0,0,53,12,9,6,0,0,0,0,0,0,0,1,6334,{"$f":"SUM(A1835:U1835*(TRANSPOSE(CostCalculation!$D$38:$D$58)))","v":45720},{"$f":"V1835+SUM(A1835:U1835*(TRANSPOSE(CostCalculation!$C$38:$C$58)))","v":32683}]
[0,0,0,0,0,0,0,0,0,53,12,9,6,0,0,0,0,0,0,0,1,6334,{"$f":"SUM(A1836:U1836*(TRANSPOSE(CostCalculation!$D$38:$D$58)))","v":45720},{"$f":"V1836+SUM(A1836:U1836*(TRANSPOSE(CostCalculation!$C$38:$C$58)))","v":32683}]
[0,0,0,0,0,0,0,0,0,265,60,45,30,0,0,0,0,0,0,0,5,31670,{"$f":"SUM(A1837:U1837*(TRANSPOSE(CostCalculation!$D$38:$D$58)))","v":228600},{"$f":"V1837+SUM(A1837:U1837*(TRANSPOSE(CostCalculation!$C$38:$C$58)))","v":163415}]
[0,0,0,0,0,0,0,0,0,371,84,63,42,0,0,0,0,0,0,0,7,44338,{"$f":"SUM(A1838:U1838*(TRANSPOSE(CostCalculation!$D$38:$D$58)))","v":320040},{"$f":"V1838+SUM(A1838:U1838*(TRANSPOSE(CostCalculation!$C$38:$C$58)))","v":228781}]
[0,0,0,0,0,0,0,0,0,212,48,36,24,0,0,0,0,0,0,0,4,25336,{"$f":"SUM(A1839:U1839*(TRANSPOSE(CostCalculation!$D$38:$D$58)))","v":182880},{"$f":"V1839+SUM(A1839:U1839*(TRANSPOSE(CostCalculation!$C$38:$C$58)))","v":130732}]
[0,0,0,0,0,0,0,0,0,53,12,9,6,0,0,0,0,0,0,0,1,6334,{"$f":"SUM(A1840:U1840*(TRANSPOSE(CostCalculation!$D$38:$D$58)))","v":45720},{"$f":"V1840+SUM(A1840:U1840*(TRANSPOSE(CostCalculation!$C$38:$C$58)))","v":32683}]
[0,0,0,0,0,0,0,0,0,53,12,9,6,0,0,0,0,0,0,0,1,6334,{"$f":"SUM(A1841:U1841*(TRANSPOSE(CostCalculation!$D$38:$D$58)))","v":45720},{"$f":"V1841+SUM(A1841:U1841*(TRANSPOSE(CostCalculation!$C$38:$C$58)))","v":32683}]
[0,0,0,0,0,0,0,0,0,106,24,18,12,0,0,0,0,0,0,0,2,12668,{"$f":"SUM(A1842:U1842*(TRANSPOSE(CostCalculation!$D$38:$D$58)))","v":91440},{"$f":"V1842+SUM(A1842:U1842*(TRANSPOSE(CostCalculation!$C$38:$C$58)))","v":65366}]
[0,0,0,0,0,0,0,0,0,159,36,27,18,0,0,0,0,0,0,0,3,19002,{"$f":"SUM(A1843:U1843*(TRANSPOSE(CostCalculation!$D$38:$D$58)))","v":137160},{"$f":"V1843+SUM(A1843:U1843*(TRANSPOSE(CostCalculation!$C$38:$C$58)))","v":98049}]
[0,0,0,0,0,0,0,0,0,212,48,36,24,0,0,0,0,0,0,0,4,25336,{"$f":"SUM(A1844:U1844*(TRANSPOSE(CostCalculation!$D$38:$D$58)))","v":182880},{"$f":"V1844+SUM(A1844:U1844*(TRANSPOSE(CostCalculation!$C$38:$C$58)))","v":130732}]
[0,0,0,0,0,0,0,0,0,265,60,45,30,0,0,0,0,0,0,0,5,31670,{"$f":"SUM(A1845:U1845*(TRANSPOSE(CostCalculation!$D$38:$D$58)))","v":228600},{"$f":"V1845+SUM(A1845:U1845*(TRANSPOSE(CostCalculation!$C$38:$C$58)))","v":163415}]
[0,0,0,0,0,0,0,0,0,106,24,18,12,0,0,0,0,0,0,0,2,12668,{"$f":"SUM(A1846:U1846*(TRANSPOSE(CostCalculation!$D$38:$D$58)))","v":91440},{"$f":"V1846+SUM(A1846:U1846*(TRANSPOSE(CostCalculation!$C$38:$C$58)))","v":65366}]
[0,0,0,0,0,0,0,0,0,106,24,18,12,0,0,0,0,0,0,0,2,12668,{"$f":"SUM(A1847:U1847*(TRANSPOSE(CostCalculation!$D$38:$D$58)))","v":91440},{"$f":"V1847+SUM(A1847:U1847*(TRANSPOSE(CostCalculation!$C$38:$C$58)))","v":65366}]
[0,0,0,0,0,0,0,0,0,318,72,54,36,0,0,0,0,0,0,0,6,38004,{"$f":"SUM(A1848:U1848*(TRANSPOSE(CostCalculation!$D$38:$D$58)))","v":274320},{"$f":"V1848+SUM(A1848:U1848*(TRANSPOSE(CostCalculation!$C$38:$C$58)))","v":196098}]
[0,0,0,0,0,0,0,0,0,106,24,18,12,0,0,0,0,0,0,0,2,12668,{"$f":"SUM(A1849:U1849*(TRANSPOSE(CostCalculation!$D$38:$D$58)))","v":91440},{"$f":"V1849+SUM(A1849:U1849*(TRANSPOSE(CostCalculation!$C$38:$C$58)))","v":65366}]
[0,0,0,0,0,0,0,0,0,318,72,54,36,0,0,0,0,0,0,0,6,38004,{"$f":"SUM(A1850:U1850*(TRANSPOSE(CostCalculation!$D$38:$D$58)))","v":274320},{"$f":"V1850+SUM(A1850:U1850*(TRANSPOSE(CostCalculation!$C$38:$C$58)))","v":196098}]
[0,0,0,0,0,0,0,0,0,212,48,36,24,0,0,0,0,0,0,0,4,25336,{"$f":"SUM(A1851:U1851*(TRANSPOSE(CostCalculation!$D$38:$D$58)))","v":182880},{"$f":"V1851+SUM(A1851:U1851*(TRANSPOSE(CostCalculation!$C$38:$C$58)))","v":130732}]
[0,0,0,0,0,0,0,0,0,159,36,27,18,0,0,0,0,0,0,0,3,19002,{"$f":"SUM(A1852:U1852*(TRANSPOSE(CostCalculation!$D$38:$D$58)))","v":137160},{"$f":"V1852+SUM(A1852:U1852*(TRANSPOSE(CostCalculation!$C$38:$C$58)))","v":98049}]
[0,0,0,0,0,0,0,0,0,212,48,36,24,0,0,0,0,0,0,0,4,25336,{"$f":"SUM(A1853:U1853*(TRANSPOSE(CostCalculation!$D$38:$D$58)))","v":182880},{"$f":"V1853+SUM(A1853:U1853*(TRANSPOSE(CostCalculation!$C$38:$C$58)))","v":130732}]
[0,0,0,0,0,0,0,0,0,53,12,9,6,0,0,0,0,0,0,0,1,6334,{"$f":"SUM(A1854:U1854*(TRANSPOSE(CostCalculation!$D$38:$D$58)))","v":45720},{"$f":"V1854+SUM(A1854:U1854*(TRANSPOSE(CostCalculation!$C$38:$C$58)))","v":32683}]
[0,0,0,0,0,0,0,0,0,106,24,18,12,0,0,0,0,0,0,0,2,12668,{"$f":"SUM(A1855:U1855*(TRANSPOSE(CostCalculation!$D$38:$D$58)))","v":91440},{"$f":"V1855+SUM(A1855:U1855*(TRANSPOSE(CostCalculation!$C$38:$C$58)))","v":65366}]
[0,0,0,0,0,0,0,0,0,106,24,18,12,0,0,0,0,0,0,0,2,12668,{"$f":"SUM(A1856:U1856*(TRANSPOSE(CostCalculation!$D$38:$D$58)))","v":91440},{"$f":"V1856+SUM(A1856:U1856*(TRANSPOSE(CostCalculation!$C$38:$C$58)))","v":65366}]
[0,0,0,0,0,0,0,0,0,53,12,9,6,0,0,0,0,0,0,0,1,6334,{"$f":"SUM(A1857:U1857*(TRANSPOSE(CostCalculation!$D$38:$D$58)))","v":45720},{"$f":"V1857+SUM(A1857:U1857*(TRANSPOSE(CostCalculation!$C$38:$C$58)))","v":32683}]
[0,0,0,0,0,0,0,0,0,212,48,36,24,0,0,0,0,0,0,0,4,25336,{"$f":"SUM(A1858:U1858*(TRANSPOSE(CostCalculation!$D$38:$D$58)))","v":182880},{"$f":"V1858+SUM(A1858:U1858*(TRANSPOSE(CostCalculation!$C$38:$C$58)))","v":130732}]
[0,0,0,0,0,0,0,0,0,212,48,36,24,0,0,0,0,0,0,0,4,25336,{"$f":"SUM(A1859:U1859*(TRANSPOSE(CostCalculation!$D$38:$D$58)))","v":182880},{"$f":"V1859+SUM(A1859:U1859*(TRANSPOSE(CostCalculation!$C$38:$C$58)))","v":130732}]
[0,0,0,0,0,0,0,0,0,53,12,9,6,0,0,0,0,0,0,0,1,6334,{"$f":"SUM(A1860:U1860*(TRANSPOSE(CostCalculation!$D$38:$D$58)))","v":45720},{"$f":"V1860+SUM(A1860:U1860*(TRANSPOSE(CostCalculation!$C$38:$C$58)))","v":32683}]
[0,0,0,0,0,0,0,0,0,53,12,9,6,0,0,0,0,0,0,0,1,6334,{"$f":"SUM(A1861:U1861*(TRANSPOSE(CostCalculation!$D$38:$D$58)))","v":45720},{"$f":"V1861+SUM(A1861:U1861*(TRANSPOSE(CostCalculation!$C$38:$C$58)))","v":32683}]
[0,0,0,0,0,0,0,0,0,53,12,9,6,0,0,0,0,0,0,0,1,6334,{"$f":"SUM(A1862:U1862*(TRANSPOSE(CostCalculation!$D$38:$D$58)))","v":45720},{"$f":"V1862+SUM(A1862:U1862*(TRANSPOSE(CostCalculation!$C$38:$C$58)))","v":32683}]
[0,0,0,0,0,0,0,0,0,53,12,9,6,0,0,0,0,0,0,0,1,6334,{"$f":"SUM(A1863:U1863*(TRANSPOSE(CostCalculation!$D$38:$D$58)))","v":45720},{"$f":"V1863+SUM(A1863:U1863*(TRANSPOSE(CostCalculation!$C$38:$C$58)))","v":32683}]
[0,0,0,0,0,0,0,0,0,106,24,18,12,0,0,0,0,0,0,0,2,12668,{"$f":"SUM(A1864:U1864*(TRANSPOSE(CostCalculation!$D$38:$D$58)))","v":91440},{"$f":"V1864+SUM(A1864:U1864*(TRANSPOSE(CostCalculation!$C$38:$C$58)))","v":65366}]
[0,0,0,0,0,0,0,0,0,159,36,27,18,0,0,0,0,0,0,0,3,19002,{"$f":"SUM(A1865:U1865*(TRANSPOSE(CostCalculation!$D$38:$D$58)))","v":137160},{"$f":"V1865+SUM(A1865:U1865*(TRANSPOSE(CostCalculation!$C$38:$C$58)))","v":98049}]
[0,0,0,0,0,0,0,0,0,212,48,36,24,0,0,0,0,0,0,0,4,25336,{"$f":"SUM(A1866:U1866*(TRANSPOSE(CostCalculation!$D$38:$D$58)))","v":182880},{"$f":"V1866+SUM(A1866:U1866*(TRANSPOSE(CostCalculation!$C$38:$C$58)))","v":130732}]
[0,0,0,0,0,0,0,0,0,106,24,18,12,0,0,0,0,0,0,0,2,12668,{"$f":"SUM(A1867:U1867*(TRANSPOSE(CostCalculation!$D$38:$D$58)))","v":91440},{"$f":"V1867+SUM(A1867:U1867*(TRANSPOSE(CostCalculation!$C$38:$C$58)))","v":65366}]
[0,0,0,0,0,0,0,0,0,318,72,54,36,0,0,0,0,0,0,0,6,38004,{"$f":"SUM(A1868:U1868*(TRANSPOSE(CostCalculation!$D$38:$D$58)))","v":274320},{"$f":"V1868+SUM(A1868:U1868*(TRANSPOSE(CostCalculation!$C$38:$C$58)))","v":196098}]
[0,0,0,0,0,0,0,0,0,265,60,45,30,0,0,0,0,0,0,0,5,31670,{"$f":"SUM(A1869:U1869*(TRANSPOSE(CostCalculation!$D$38:$D$58)))","v":228600},{"$f":"V1869+SUM(A1869:U1869*(TRANSPOSE(CostCalculation!$C$38:$C$58)))","v":163415}]
[0,0,0,0,0,0,0,0,0,53,12,9,6,0,0,0,0,0,0,0,1,6334,{"$f":"SUM(A1870:U1870*(TRANSPOSE(CostCalculation!$D$38:$D$58)))","v":45720},{"$f":"V1870+SUM(A1870:U1870*(TRANSPOSE(CostCalculation!$C$38:$C$58)))","v":32683}]
[0,0,0,0,0,0,0,0,0,371,84,63,42,0,0,0,0,0,0,0,7,44338,{"$f":"SUM(A1871:U1871*(TRANSPOSE(CostCalculation!$D$38:$D$58)))","v":320040},{"$f":"V1871+SUM(A1871:U1871*(TRANSPOSE(CostCalculation!$C$38:$C$58)))","v":228781}]
[0,0,0,0,0,0,0,0,0,212,48,36,24,0,0,0,0,0,0,0,4,25336,{"$f":"SUM(A1872:U1872*(TRANSPOSE(CostCalculation!$D$38:$D$58)))","v":182880},{"$f":"V1872+SUM(A1872:U1872*(TRANSPOSE(CostCalculation!$C$38:$C$58)))","v":130732}]
[0,0,0,0,0,0,0,0,0,424,96,72,48,0,0,0,0,0,0,0,8,50672,{"$f":"SUM(A1873:U1873*(TRANSPOSE(CostCalculation!$D$38:$D$58)))","v":365760},{"$f":"V1873+SUM(A1873:U1873*(TRANSPOSE(CostCalculation!$C$38:$C$58)))","v":261464}]
[0,0,0,0,0,0,0,0,0,106,24,18,12,0,0,0,0,0,0,0,2,12668,{"$f":"SUM(A1874:U1874*(TRANSPOSE(CostCalculation!$D$38:$D$58)))","v":91440},{"$f":"V1874+SUM(A1874:U1874*(TRANSPOSE(CostCalculation!$C$38:$C$58)))","v":65366}]
[0,0,0,0,0,0,0,0,0,159,36,27,18,0,0,0,0,0,0,0,3,19002,{"$f":"SUM(A1875:U1875*(TRANSPOSE(CostCalculation!$D$38:$D$58)))","v":137160},{"$f":"V1875+SUM(A1875:U1875*(TRANSPOSE(CostCalculation!$C$38:$C$58)))","v":98049}]
[0,0,0,0,0,0,0,0,0,106,24,18,12,0,0,0,0,0,0,0,2,12668,{"$f":"SUM(A1876:U1876*(TRANSPOSE(CostCalculation!$D$38:$D$58)))","v":91440},{"$f":"V1876+SUM(A1876:U1876*(TRANSPOSE(CostCalculation!$C$38:$C$58)))","v":65366}]
[0,0,0,0,0,0,0,0,0,159,36,27,18,0,0,0,0,0,0,0,3,19002,{"$f":"SUM(A1877:U1877*(TRANSPOSE(CostCalculation!$D$38:$D$58)))","v":137160},{"$f":"V1877+SUM(A1877:U1877*(TRANSPOSE(CostCalculation!$C$38:$C$58)))","v":98049}]
[0,0,0,0,0,0,0,0,0,159,36,27,18,0,0,0,0,0,0,0,3,19002,{"$f":"SUM(A1878:U1878*(TRANSPOSE(CostCalculation!$D$38:$D$58)))","v":137160},{"$f":"V1878+SUM(A1878:U1878*(TRANSPOSE(CostCalculation!$C$38:$C$58)))","v":98049}]
[0,0,0,0,0,0,0,0,0,53,12,9,6,0,0,0,0,0,0,0,1,6334,{"$f":"SUM(A1879:U1879*(TRANSPOSE(CostCalculation!$D$38:$D$58)))","v":45720},{"$f":"V1879+SUM(A1879:U1879*(TRANSPOSE(CostCalculation!$C$38:$C$58)))","v":32683}]
[0,0,0,0,0,0,0,0,0,53,12,9,6,0,0,0,0,0,0,0,1,6334,{"$f":"SUM(A1880:U1880*(TRANSPOSE(CostCalculation!$D$38:$D$58)))","v":45720},{"$f":"V1880+SUM(A1880:U1880*(TRANSPOSE(CostCalculation!$C$38:$C$58)))","v":32683}]
[0,0,0,0,0,0,0,0,0,106,24,18,12,0,0,0,0,0,0,0,2,12668,{"$f":"SUM(A1881:U1881*(TRANSPOSE(CostCalculation!$D$38:$D$58)))","v":91440},{"$f":"V1881+SUM(A1881:U1881*(TRANSPOSE(CostCalculation!$C$38:$C$58)))","v":65366}]
[0,0,0,0,0,0,0,0,0,212,48,36,24,0,0,0,0,0,0,0,4,25336,{"$f":"SUM(A1882:U1882*(TRANSPOSE(CostCalculation!$D$38:$D$58)))","v":182880},{"$f":"V1882+SUM(A1882:U1882*(TRANSPOSE(CostCalculation!$C$38:$C$58)))","v":130732}]
[0,0,0,0,0,0,0,0,0,371,84,63,42,0,0,0,0,0,0,0,7,44338,{"$f":"SUM(A1883:U1883*(TRANSPOSE(CostCalculation!$D$38:$D$58)))","v":320040},{"$f":"V1883+SUM(A1883:U1883*(TRANSPOSE(CostCalculation!$C$38:$C$58)))","v":228781}]
[0,0,0,0,0,0,0,0,0,106,24,18,12,0,0,0,0,0,0,0,2,12668,{"$f":"SUM(A1884:U1884*(TRANSPOSE(CostCalculation!$D$38:$D$58)))","v":91440},{"$f":"V1884+SUM(A1884:U1884*(TRANSPOSE(CostCalculation!$C$38:$C$58)))","v":65366}]
[0,0,0,0,0,0,0,0,0,159,36,27,18,0,0,0,0,0,0,0,3,19002,{"$f":"SUM(A1885:U1885*(TRANSPOSE(CostCalculation!$D$38:$D$58)))","v":137160},{"$f":"V1885+SUM(A1885:U1885*(TRANSPOSE(CostCalculation!$C$38:$C$58)))","v":98049}]
[0,0,0,0,0,0,0,0,0,212,48,36,24,0,0,0,0,0,0,0,4,25336,{"$f":"SUM(A1886:U1886*(TRANSPOSE(CostCalculation!$D$38:$D$58)))","v":182880},{"$f":"V1886+SUM(A1886:U1886*(TRANSPOSE(CostCalculation!$C$38:$C$58)))","v":130732}]
[0,0,0,0,0,0,0,0,0,106,24,18,12,0,0,0,0,0,0,0,2,12668,{"$f":"SUM(A1887:U1887*(TRANSPOSE(CostCalculation!$D$38:$D$58)))","v":91440},{"$f":"V1887+SUM(A1887:U1887*(TRANSPOSE(CostCalculation!$C$38:$C$58)))","v":65366}]
[0,0,0,0,0,0,0,0,0,106,24,18,12,0,0,0,0,0,0,0,2,12668,{"$f":"SUM(A1888:U1888*(TRANSPOSE(CostCalculation!$D$38:$D$58)))","v":91440},{"$f":"V1888+SUM(A1888:U1888*(TRANSPOSE(CostCalculation!$C$38:$C$58)))","v":65366}]
[0,0,0,0,0,0,0,0,0,159,36,27,18,0,0,0,0,0,0,0,3,19002,{"$f":"SUM(A1889:U1889*(TRANSPOSE(CostCalculation!$D$38:$D$58)))","v":137160},{"$f":"V1889+SUM(A1889:U1889*(TRANSPOSE(CostCalculation!$C$38:$C$58)))","v":98049}]
[0,0,0,0,0,0,0,0,0,106,24,18,12,0,0,0,0,0,0,0,2,12668,{"$f":"SUM(A1890:U1890*(TRANSPOSE(CostCalculation!$D$38:$D$58)))","v":91440},{"$f":"V1890+SUM(A1890:U1890*(TRANSPOSE(CostCalculation!$C$38:$C$58)))","v":65366}]
[0,0,0,0,0,0,0,0,0,371,84,63,42,0,0,0,0,0,0,0,7,44338,{"$f":"SUM(A1891:U1891*(TRANSPOSE(CostCalculation!$D$38:$D$58)))","v":320040},{"$f":"V1891+SUM(A1891:U1891*(TRANSPOSE(CostCalculation!$C$38:$C$58)))","v":228781}]
[0,0,0,0,0,0,0,0,0,212,48,36,24,0,0,0,0,0,0,0,4,25336,{"$f":"SUM(A1892:U1892*(TRANSPOSE(CostCalculation!$D$38:$D$58)))","v":182880},{"$f":"V1892+SUM(A1892:U1892*(TRANSPOSE(CostCalculation!$C$38:$C$58)))","v":130732}]
[0,0,0,0,0,0,0,0,0,106,24,18,12,0,0,0,0,0,0,0,2,12668,{"$f":"SUM(A1893:U1893*(TRANSPOSE(CostCalculation!$D$38:$D$58)))","v":91440},{"$f":"V1893+SUM(A1893:U1893*(TRANSPOSE(CostCalculation!$C$38:$C$58)))","v":65366}]
[0,0,0,0,0,0,0,0,0,106,24,18,12,0,0,0,0,0,0,0,2,12668,{"$f":"SUM(A1894:U1894*(TRANSPOSE(CostCalculation!$D$38:$D$58)))","v":91440},{"$f":"V1894+SUM(A1894:U1894*(TRANSPOSE(CostCalculation!$C$38:$C$58)))","v":65366}]
[0,0,0,0,0,0,0,0,0,53,12,9,6,0,0,0,0,0,0,0,1,6334,{"$f":"SUM(A1895:U1895*(TRANSPOSE(CostCalculation!$D$38:$D$58)))","v":45720},{"$f":"V1895+SUM(A1895:U1895*(TRANSPOSE(CostCalculation!$C$38:$C$58)))","v":32683}]
[0,0,0,0,0,0,0,0,0,106,24,18,12,0,0,0,0,0,0,0,2,12668,{"$f":"SUM(A1896:U1896*(TRANSPOSE(CostCalculation!$D$38:$D$58)))","v":91440},{"$f":"V1896+SUM(A1896:U1896*(TRANSPOSE(CostCalculation!$C$38:$C$58)))","v":65366}]
[0,0,0,0,0,0,0,0,0,371,84,63,42,0,0,0,0,0,0,0,7,44338,{"$f":"SUM(A1897:U1897*(TRANSPOSE(CostCalculation!$D$38:$D$58)))","v":320040},{"$f":"V1897+SUM(A1897:U1897*(TRANSPOSE(CostCalculation!$C$38:$C$58)))","v":228781}]
[0,0,0,0,0,0,0,0,0,106,24,18,12,0,0,0,0,0,0,0,2,12668,{"$f":"SUM(A1898:U1898*(TRANSPOSE(CostCalculation!$D$38:$D$58)))","v":91440},{"$f":"V1898+SUM(A1898:U1898*(TRANSPOSE(CostCalculation!$C$38:$C$58)))","v":65366}]
[0,0,0,0,0,0,0,0,0,53,12,9,6,0,0,0,0,0,0,0,1,6334,{"$f":"SUM(A1899:U1899*(TRANSPOSE(CostCalculation!$D$38:$D$58)))","v":45720},{"$f":"V1899+SUM(A1899:U1899*(TRANSPOSE(CostCalculation!$C$38:$C$58)))","v":32683}]
[0,0,0,0,0,0,0,0,0,53,12,9,6,0,0,0,0,0,0,0,1,6334,{"$f":"SUM(A1900:U1900*(TRANSPOSE(CostCalculation!$D$38:$D$58)))","v":45720},{"$f":"V1900+SUM(A1900:U1900*(TRANSPOSE(CostCalculation!$C$38:$C$58)))","v":32683}]
[0,0,0,0,0,0,0,0,0,106,24,18,12,0,0,0,0,0,0,0,2,12668,{"$f":"SUM(A1901:U1901*(TRANSPOSE(CostCalculation!$D$38:$D$58)))","v":91440},{"$f":"V1901+SUM(A1901:U1901*(TRANSPOSE(CostCalculation!$C$38:$C$58)))","v":65366}]
[0,0,0,0,0,0,0,0,0,159,36,27,18,0,0,0,0,0,0,0,3,19002,{"$f":"SUM(A1902:U1902*(TRANSPOSE(CostCalculation!$D$38:$D$58)))","v":137160},{"$f":"V1902+SUM(A1902:U1902*(TRANSPOSE(CostCalculation!$C$38:$C$58)))","v":98049}]
[0,0,0,0,0,0,0,0,0,106,24,18,12,0,0,0,0,0,0,0,2,12668,{"$f":"SUM(A1903:U1903*(TRANSPOSE(CostCalculation!$D$38:$D$58)))","v":91440},{"$f":"V1903+SUM(A1903:U1903*(TRANSPOSE(CostCalculation!$C$38:$C$58)))","v":65366}]
[0,0,0,0,0,0,0,0,0,265,60,45,30,0,0,0,0,0,0,0,5,31670,{"$f":"SUM(A1904:U1904*(TRANSPOSE(CostCalculation!$D$38:$D$58)))","v":228600},{"$f":"V1904+SUM(A1904:U1904*(TRANSPOSE(CostCalculation!$C$38:$C$58)))","v":163415}]
[0,0,0,0,0,0,0,0,0,106,24,18,12,0,0,0,0,0,0,0,2,12668,{"$f":"SUM(A1905:U1905*(TRANSPOSE(CostCalculation!$D$38:$D$58)))","v":91440},{"$f":"V1905+SUM(A1905:U1905*(TRANSPOSE(CostCalculation!$C$38:$C$58)))","v":65366}]
[0,0,0,0,0,0,0,0,0,159,36,27,18,0,0,0,0,0,0,0,3,19002,{"$f":"SUM(A1906:U1906*(TRANSPOSE(CostCalculation!$D$38:$D$58)))","v":137160},{"$f":"V1906+SUM(A1906:U1906*(TRANSPOSE(CostCalculation!$C$38:$C$58)))","v":98049}]
[0,0,0,0,0,0,0,0,0,159,36,27,18,0,0,0,0,0,0,0,3,19002,{"$f":"SUM(A1907:U1907*(TRANSPOSE(CostCalculation!$D$38:$D$58)))","v":137160},{"$f":"V1907+SUM(A1907:U1907*(TRANSPOSE(CostCalculation!$C$38:$C$58)))","v":98049}]
[0,0,0,0,0,0,0,0,0,212,48,36,24,0,0,0,0,0,0,0,4,25336,{"$f":"SUM(A1908:U1908*(TRANSPOSE(CostCalculation!$D$38:$D$58)))","v":182880},{"$f":"V1908+SUM(A1908:U1908*(TRANSPOSE(CostCalculation!$C$38:$C$58)))","v":130732}]
[0,0,0,0,0,0,0,0,0,212,48,36,24,0,0,0,0,0,0,0,4,25336,{"$f":"SUM(A1909:U1909*(TRANSPOSE(CostCalculation!$D$38:$D$58)))","v":182880},{"$f":"V1909+SUM(A1909:U1909*(TRANSPOSE(CostCalculation!$C$38:$C$58)))","v":130732}]
[0,0,0,0,0,0,0,0,0,212,48,36,24,0,0,0,0,0,0,0,4,25336,{"$f":"SUM(A1910:U1910*(TRANSPOSE(CostCalculation!$D$38:$D$58)))","v":182880},{"$f":"V1910+SUM(A1910:U1910*(TRANSPOSE(CostCalculation!$C$38:$C$58)))","v":130732}]
[0,0,0,0,0,0,0,0,0,159,36,27,18,0,0,0,0,0,0,0,3,19002,{"$f":"SUM(A1911:U1911*(TRANSPOSE(CostCalculation!$D$38:$D$58)))","v":137160},{"$f":"V1911+SUM(A1911:U1911*(TRANSPOSE(CostCalculation!$C$38:$C$58)))","v":98049}]
[0,0,0,0,0,0,0,0,0,53,12,9,6,0,0,0,0,0,0,0,1,6334,{"$f":"SUM(A1912:U1912*(TRANSPOSE(CostCalculation!$D$38:$D$58)))","v":45720},{"$f":"V1912+SUM(A1912:U1912*(TRANSPOSE(CostCalculation!$C$38:$C$58)))","v":32683}]
[0,0,0,0,0,0,0,0,0,212,48,36,24,0,0,0,0,0,0,0,4,25336,{"$f":"SUM(A1913:U1913*(TRANSPOSE(CostCalculation!$D$38:$D$58)))","v":182880},{"$f":"V1913+SUM(A1913:U1913*(TRANSPOSE(CostCalculation!$C$38:$C$58)))","v":130732}]
[0,0,0,0,0,0,0,0,0,371,84,63,42,0,0,0,0,0,0,0,7,44338,{"$f":"SUM(A1914:U1914*(TRANSPOSE(CostCalculation!$D$38:$D$58)))","v":320040},{"$f":"V1914+SUM(A1914:U1914*(TRANSPOSE(CostCalculation!$C$38:$C$58)))","v":228781}]
[0,0,0,0,0,0,0,0,0,106,24,18,12,0,0,0,0,0,0,0,2,12668,{"$f":"SUM(A1915:U1915*(TRANSPOSE(CostCalculation!$D$38:$D$58)))","v":91440},{"$f":"V1915+SUM(A1915:U1915*(TRANSPOSE(CostCalculation!$C$38:$C$58)))","v":65366}]
[0,0,0,0,0,0,0,0,0,106,24,18,12,0,0,0,0,0,0,0,2,12668,{"$f":"SUM(A1916:U1916*(TRANSPOSE(CostCalculation!$D$38:$D$58)))","v":91440},{"$f":"V1916+SUM(A1916:U1916*(TRANSPOSE(CostCalculation!$C$38:$C$58)))","v":65366}]
[0,0,0,0,0,0,0,0,0,53,12,9,6,0,0,0,0,0,0,0,1,6334,{"$f":"SUM(A1917:U1917*(TRANSPOSE(CostCalculation!$D$38:$D$58)))","v":45720},{"$f":"V1917+SUM(A1917:U1917*(TRANSPOSE(CostCalculation!$C$38:$C$58)))","v":32683}]
[0,0,0,0,0,0,0,0,0,159,36,27,18,0,0,0,0,0,0,0,3,19002,{"$f":"SUM(A1918:U1918*(TRANSPOSE(CostCalculation!$D$38:$D$58)))","v":137160},{"$f":"V1918+SUM(A1918:U1918*(TRANSPOSE(CostCalculation!$C$38:$C$58)))","v":98049}]
[0,0,0,0,0,0,0,0,0,424,96,72,48,0,0,0,0,0,0,0,8,50672,{"$f":"SUM(A1919:U1919*(TRANSPOSE(CostCalculation!$D$38:$D$58)))","v":365760},{"$f":"V1919+SUM(A1919:U1919*(TRANSPOSE(CostCalculation!$C$38:$C$58)))","v":261464}]
[0,0,0,0,0,0,0,0,0,159,36,27,18,0,0,0,0,0,0,0,3,19002,{"$f":"SUM(A1920:U1920*(TRANSPOSE(CostCalculation!$D$38:$D$58)))","v":137160},{"$f":"V1920+SUM(A1920:U1920*(TRANSPOSE(CostCalculation!$C$38:$C$58)))","v":98049}]
[0,0,0,0,0,0,0,0,0,53,12,9,6,0,0,0,0,0,0,0,1,6334,{"$f":"SUM(A1921:U1921*(TRANSPOSE(CostCalculation!$D$38:$D$58)))","v":45720},{"$f":"V1921+SUM(A1921:U1921*(TRANSPOSE(CostCalculation!$C$38:$C$58)))","v":32683}]
[0,0,0,0,0,0,0,0,0,106,24,18,12,0,0,0,0,0,0,0,2,12668,{"$f":"SUM(A1922:U1922*(TRANSPOSE(CostCalculation!$D$38:$D$58)))","v":91440},{"$f":"V1922+SUM(A1922:U1922*(TRANSPOSE(CostCalculation!$C$38:$C$58)))","v":65366}]
[0,0,0,0,0,0,0,0,0,159,36,27,18,0,0,0,0,0,0,0,3,19002,{"$f":"SUM(A1923:U1923*(TRANSPOSE(CostCalculation!$D$38:$D$58)))","v":137160},{"$f":"V1923+SUM(A1923:U1923*(TRANSPOSE(CostCalculation!$C$38:$C$58)))","v":98049}]
[0,0,0,0,0,0,0,0,0,53,12,9,6,0,0,0,0,0,0,0,1,6334,{"$f":"SUM(A1924:U1924*(TRANSPOSE(CostCalculation!$D$38:$D$58)))","v":45720},{"$f":"V1924+SUM(A1924:U1924*(TRANSPOSE(CostCalculation!$C$38:$C$58)))","v":32683}]
[0,0,0,0,0,0,0,0,0,159,36,27,18,0,0,0,0,0,0,0,3,19002,{"$f":"SUM(A1925:U1925*(TRANSPOSE(CostCalculation!$D$38:$D$58)))","v":137160},{"$f":"V1925+SUM(A1925:U1925*(TRANSPOSE(CostCalculation!$C$38:$C$58)))","v":98049}]
[0,0,0,0,0,0,0,0,0,53,12,9,6,0,0,0,0,0,0,0,1,6334,{"$f":"SUM(A1926:U1926*(TRANSPOSE(CostCalculation!$D$38:$D$58)))","v":45720},{"$f":"V1926+SUM(A1926:U1926*(TRANSPOSE(CostCalculation!$C$38:$C$58)))","v":32683}]
[0,0,0,0,0,0,0,0,0,212,48,36,24,0,0,0,0,0,0,0,4,25336,{"$f":"SUM(A1927:U1927*(TRANSPOSE(CostCalculation!$D$38:$D$58)))","v":182880},{"$f":"V1927+SUM(A1927:U1927*(TRANSPOSE(CostCalculation!$C$38:$C$58)))","v":130732}]
[0,0,0,0,0,0,0,0,0,318,72,54,36,0,0,0,0,0,0,0,6,38004,{"$f":"SUM(A1928:U1928*(TRANSPOSE(CostCalculation!$D$38:$D$58)))","v":274320},{"$f":"V1928+SUM(A1928:U1928*(TRANSPOSE(CostCalculation!$C$38:$C$58)))","v":196098}]
[0,0,0,0,0,0,0,0,0,318,72,54,36,0,0,0,0,0,0,0,6,38004,{"$f":"SUM(A1929:U1929*(TRANSPOSE(CostCalculation!$D$38:$D$58)))","v":274320},{"$f":"V1929+SUM(A1929:U1929*(TRANSPOSE(CostCalculation!$C$38:$C$58)))","v":196098}]
[0,0,0,0,0,0,0,0,0,106,24,18,12,0,0,0,0,0,0,0,2,12668,{"$f":"SUM(A1930:U1930*(TRANSPOSE(CostCalculation!$D$38:$D$58)))","v":91440},{"$f":"V1930+SUM(A1930:U1930*(TRANSPOSE(CostCalculation!$C$38:$C$58)))","v":65366}]
[0,0,0,0,0,0,0,0,0,318,72,54,36,0,0,0,0,0,0,0,6,38004,{"$f":"SUM(A1931:U1931*(TRANSPOSE(CostCalculation!$D$38:$D$58)))","v":274320},{"$f":"V1931+SUM(A1931:U1931*(TRANSPOSE(CostCalculation!$C$38:$C$58)))","v":196098}]
[0,0,0,0,0,0,0,0,0,265,60,45,30,0,0,0,0,0,0,0,5,31670,{"$f":"SUM(A1932:U1932*(TRANSPOSE(CostCalculation!$D$38:$D$58)))","v":228600},{"$f":"V1932+SUM(A1932:U1932*(TRANSPOSE(CostCalculation!$C$38:$C$58)))","v":163415}]
[0,0,0,0,0,0,0,0,0,371,84,63,42,0,0,0,0,0,0,0,7,44338,{"$f":"SUM(A1933:U1933*(TRANSPOSE(CostCalculation!$D$38:$D$58)))","v":320040},{"$f":"V1933+SUM(A1933:U1933*(TRANSPOSE(CostCalculation!$C$38:$C$58)))","v":228781}]
[0,0,0,0,0,0,0,0,0,159,36,27,18,0,0,0,0,0,0,0,3,19002,{"$f":"SUM(A1934:U1934*(TRANSPOSE(CostCalculation!$D$38:$D$58)))","v":137160},{"$f":"V1934+SUM(A1934:U1934*(TRANSPOSE(CostCalculation!$C$38:$C$58)))","v":98049}]
[0,0,0,0,0,0,0,0,0,212,48,36,24,0,0,0,0,0,0,0,4,25336,{"$f":"SUM(A1935:U1935*(TRANSPOSE(CostCalculation!$D$38:$D$58)))","v":182880},{"$f":"V1935+SUM(A1935:U1935*(TRANSPOSE(CostCalculation!$C$38:$C$58)))","v":130732}]
[0,0,0,0,0,0,0,0,0,106,24,18,12,0,0,0,0,0,0,0,2,12668,{"$f":"SUM(A1936:U1936*(TRANSPOSE(CostCalculation!$D$38:$D$58)))","v":91440},{"$f":"V1936+SUM(A1936:U1936*(TRANSPOSE(CostCalculation!$C$38:$C$58)))","v":65366}]
[0,0,0,0,0,0,0,0,0,53,12,9,6,0,0,0,0,0,0,0,1,6334,{"$f":"SUM(A1937:U1937*(TRANSPOSE(CostCalculation!$D$38:$D$58)))","v":45720},{"$f":"V1937+SUM(A1937:U1937*(TRANSPOSE(CostCalculation!$C$38:$C$58)))","v":32683}]
[0,0,0,0,0,0,0,0,0,106,24,18,12,0,0,0,0,0,0,0,2,12668,{"$f":"SUM(A1938:U1938*(TRANSPOSE(CostCalculation!$D$38:$D$58)))","v":91440},{"$f":"V1938+SUM(A1938:U1938*(TRANSPOSE(CostCalculation!$C$38:$C$58)))","v":65366}]
[0,0,0,0,0,0,0,0,0,53,12,9,6,0,0,0,0,0,0,0,1,6334,{"$f":"SUM(A1939:U1939*(TRANSPOSE(CostCalculation!$D$38:$D$58)))","v":45720},{"$f":"V1939+SUM(A1939:U1939*(TRANSPOSE(CostCalculation!$C$38:$C$58)))","v":32683}]
[0,0,0,0,0,0,0,0,0,53,12,9,6,0,0,0,0,0,0,0,1,6334,{"$f":"SUM(A1940:U1940*(TRANSPOSE(CostCalculation!$D$38:$D$58)))","v":45720},{"$f":"V1940+SUM(A1940:U1940*(TRANSPOSE(CostCalculation!$C$38:$C$58)))","v":32683}]
[0,0,0,0,0,0,0,0,0,106,24,18,12,0,0,0,0,0,0,0,2,12668,{"$f":"SUM(A1941:U1941*(TRANSPOSE(CostCalculation!$D$38:$D$58)))","v":91440},{"$f":"V1941+SUM(A1941:U1941*(TRANSPOSE(CostCalculation!$C$38:$C$58)))","v":65366}]
[0,0,0,0,0,0,0,0,0,159,36,27,18,0,0,0,0,0,0,0,3,19002,{"$f":"SUM(A1942:U1942*(TRANSPOSE(CostCalculation!$D$38:$D$58)))","v":137160},{"$f":"V1942+SUM(A1942:U1942*(TRANSPOSE(CostCalculation!$C$38:$C$58)))","v":98049}]
[0,0,0,0,0,0,0,0,0,106,24,18,12,0,0,0,0,0,0,0,2,12668,{"$f":"SUM(A1943:U1943*(TRANSPOSE(CostCalculation!$D$38:$D$58)))","v":91440},{"$f":"V1943+SUM(A1943:U1943*(TRANSPOSE(CostCalculation!$C$38:$C$58)))","v":65366}]
[0,0,0,0,0,0,0,0,0,106,24,18,12,0,0,0,0,0,0,0,2,12668,{"$f":"SUM(A1944:U1944*(TRANSPOSE(CostCalculation!$D$38:$D$58)))","v":91440},{"$f":"V1944+SUM(A1944:U1944*(TRANSPOSE(CostCalculation!$C$38:$C$58)))","v":65366}]
[0,0,0,0,0,0,0,0,0,265,60,45,30,0,0,0,0,0,0,0,5,31670,{"$f":"SUM(A1945:U1945*(TRANSPOSE(CostCalculation!$D$38:$D$58)))","v":228600},{"$f":"V1945+SUM(A1945:U1945*(TRANSPOSE(CostCalculation!$C$38:$C$58)))","v":163415}]
[0,0,0,0,0,0,0,0,0,53,12,9,6,0,0,0,0,0,0,0,1,6334,{"$f":"SUM(A1946:U1946*(TRANSPOSE(CostCalculation!$D$38:$D$58)))","v":45720},{"$f":"V1946+SUM(A1946:U1946*(TRANSPOSE(CostCalculation!$C$38:$C$58)))","v":32683}]
[0,0,0,0,0,0,0,0,0,212,48,36,24,0,0,0,0,0,0,0,4,25336,{"$f":"SUM(A1947:U1947*(TRANSPOSE(CostCalculation!$D$38:$D$58)))","v":182880},{"$f":"V1947+SUM(A1947:U1947*(TRANSPOSE(CostCalculation!$C$38:$C$58)))","v":130732}]
[0,0,0,0,0,0,0,0,0,159,36,27,18,0,0,0,0,0,0,0,3,19002,{"$f":"SUM(A1948:U1948*(TRANSPOSE(CostCalculation!$D$38:$D$58)))","v":137160},{"$f":"V1948+SUM(A1948:U1948*(TRANSPOSE(CostCalculation!$C$38:$C$58)))","v":98049}]
[0,0,0,0,0,0,0,0,0,583,132,99,66,0,0,0,0,0,0,0,11,69674,{"$f":"SUM(A1949:U1949*(TRANSPOSE(CostCalculation!$D$38:$D$58)))","v":502920},{"$f":"V1949+SUM(A1949:U1949*(TRANSPOSE(CostCalculation!$C$38:$C$58)))","v":359513}]
[0,0,0,0,0,0,0,0,0,318,72,54,36,0,0,0,0,0,0,0,6,38004,{"$f":"SUM(A1950:U1950*(TRANSPOSE(CostCalculation!$D$38:$D$58)))","v":274320},{"$f":"V1950+SUM(A1950:U1950*(TRANSPOSE(CostCalculation!$C$38:$C$58)))","v":196098}]
[0,0,0,0,0,0,0,0,0,53,12,9,6,0,0,0,0,0,0,0,1,6334,{"$f":"SUM(A1951:U1951*(TRANSPOSE(CostCalculation!$D$38:$D$58)))","v":45720},{"$f":"V1951+SUM(A1951:U1951*(TRANSPOSE(CostCalculation!$C$38:$C$58)))","v":32683}]
[0,0,0,0,0,0,0,0,0,159,36,27,18,0,0,0,0,0,0,0,3,19002,{"$f":"SUM(A1952:U1952*(TRANSPOSE(CostCalculation!$D$38:$D$58)))","v":137160},{"$f":"V1952+SUM(A1952:U1952*(TRANSPOSE(CostCalculation!$C$38:$C$58)))","v":98049}]
[0,0,0,0,0,0,0,0,0,53,12,9,6,0,0,0,0,0,0,0,1,6334,{"$f":"SUM(A1953:U1953*(TRANSPOSE(CostCalculation!$D$38:$D$58)))","v":45720},{"$f":"V1953+SUM(A1953:U1953*(TRANSPOSE(CostCalculation!$C$38:$C$58)))","v":32683}]
[0,0,0,0,0,0,0,0,0,159,36,27,18,0,0,0,0,0,0,0,3,19002,{"$f":"SUM(A1954:U1954*(TRANSPOSE(CostCalculation!$D$38:$D$58)))","v":137160},{"$f":"V1954+SUM(A1954:U1954*(TRANSPOSE(CostCalculation!$C$38:$C$58)))","v":98049}]
[0,0,0,0,0,0,0,0,0,371,84,63,42,0,0,0,0,0,0,0,7,44338,{"$f":"SUM(A1955:U1955*(TRANSPOSE(CostCalculation!$D$38:$D$58)))","v":320040},{"$f":"V1955+SUM(A1955:U1955*(TRANSPOSE(CostCalculation!$C$38:$C$58)))","v":228781}]
[0,0,0,0,0,0,0,0,0,265,60,45,30,0,0,0,0,0,0,0,5,31670,{"$f":"SUM(A1956:U1956*(TRANSPOSE(CostCalculation!$D$38:$D$58)))","v":228600},{"$f":"V1956+SUM(A1956:U1956*(TRANSPOSE(CostCalculation!$C$38:$C$58)))","v":163415}]
[0,0,0,0,0,0,0,0,0,477,108,81,54,0,0,0,0,0,0,0,9,57006,{"$f":"SUM(A1957:U1957*(TRANSPOSE(CostCalculation!$D$38:$D$58)))","v":411480},{"$f":"V1957+SUM(A1957:U1957*(TRANSPOSE(CostCalculation!$C$38:$C$58)))","v":294147}]
[0,0,0,0,0,0,0,0,0,212,48,36,24,0,0,0,0,0,0,0,4,25336,{"$f":"SUM(A1958:U1958*(TRANSPOSE(CostCalculation!$D$38:$D$58)))","v":182880},{"$f":"V1958+SUM(A1958:U1958*(TRANSPOSE(CostCalculation!$C$38:$C$58)))","v":130732}]
[0,0,0,0,0,0,0,0,0,212,48,36,24,0,0,0,0,0,0,0,4,25336,{"$f":"SUM(A1959:U1959*(TRANSPOSE(CostCalculation!$D$38:$D$58)))","v":182880},{"$f":"V1959+SUM(A1959:U1959*(TRANSPOSE(CostCalculation!$C$38:$C$58)))","v":130732}]
[0,0,0,0,0,0,0,0,0,159,36,27,18,0,0,0,0,0,0,0,3,19002,{"$f":"SUM(A1960:U1960*(TRANSPOSE(CostCalculation!$D$38:$D$58)))","v":137160},{"$f":"V1960+SUM(A1960:U1960*(TRANSPOSE(CostCalculation!$C$38:$C$58)))","v":98049}]
[0,0,0,0,0,0,0,0,0,53,12,9,6,0,0,0,0,0,0,0,1,6334,{"$f":"SUM(A1961:U1961*(TRANSPOSE(CostCalculation!$D$38:$D$58)))","v":45720},{"$f":"V1961+SUM(A1961:U1961*(TRANSPOSE(CostCalculation!$C$38:$C$58)))","v":32683}]
[0,0,0,0,0,0,0,0,0,371,84,63,42,0,0,0,0,0,0,0,7,44338,{"$f":"SUM(A1962:U1962*(TRANSPOSE(CostCalculation!$D$38:$D$58)))","v":320040},{"$f":"V1962+SUM(A1962:U1962*(TRANSPOSE(CostCalculation!$C$38:$C$58)))","v":228781}]
[0,0,0,0,0,0,0,0,0,106,24,18,12,0,0,0,0,0,0,0,2,12668,{"$f":"SUM(A1963:U1963*(TRANSPOSE(CostCalculation!$D$38:$D$58)))","v":91440},{"$f":"V1963+SUM(A1963:U1963*(TRANSPOSE(CostCalculation!$C$38:$C$58)))","v":65366}]
[0,0,0,0,0,0,0,0,0,106,24,18,12,0,0,0,0,0,0,0,2,12668,{"$f":"SUM(A1964:U1964*(TRANSPOSE(CostCalculation!$D$38:$D$58)))","v":91440},{"$f":"V1964+SUM(A1964:U1964*(TRANSPOSE(CostCalculation!$C$38:$C$58)))","v":65366}]
[0,0,0,0,0,0,0,0,0,265,60,45,30,0,0,0,0,0,0,0,5,31670,{"$f":"SUM(A1965:U1965*(TRANSPOSE(CostCalculation!$D$38:$D$58)))","v":228600},{"$f":"V1965+SUM(A1965:U1965*(TRANSPOSE(CostCalculation!$C$38:$C$58)))","v":163415}]
[0,0,0,0,0,0,0,0,0,159,36,27,18,0,0,0,0,0,0,0,3,19002,{"$f":"SUM(A1966:U1966*(TRANSPOSE(CostCalculation!$D$38:$D$58)))","v":137160},{"$f":"V1966+SUM(A1966:U1966*(TRANSPOSE(CostCalculation!$C$38:$C$58)))","v":98049}]
[0,0,0,0,0,0,0,0,0,53,12,9,6,0,0,0,0,0,0,0,1,6334,{"$f":"SUM(A1967:U1967*(TRANSPOSE(CostCalculation!$D$38:$D$58)))","v":45720},{"$f":"V1967+SUM(A1967:U1967*(TRANSPOSE(CostCalculation!$C$38:$C$58)))","v":32683}]
[0,0,0,0,0,0,0,0,0,53,12,9,6,0,0,0,0,0,0,0,1,6334,{"$f":"SUM(A1968:U1968*(TRANSPOSE(CostCalculation!$D$38:$D$58)))","v":45720},{"$f":"V1968+SUM(A1968:U1968*(TRANSPOSE(CostCalculation!$C$38:$C$58)))","v":32683}]
[0,0,0,0,0,0,0,0,0,53,12,9,6,0,0,0,0,0,0,0,1,6334,{"$f":"SUM(A1969:U1969*(TRANSPOSE(CostCalculation!$D$38:$D$58)))","v":45720},{"$f":"V1969+SUM(A1969:U1969*(TRANSPOSE(CostCalculation!$C$38:$C$58)))","v":32683}]
[0,0,0,0,0,0,0,0,0,159,36,27,18,0,0,0,0,0,0,0,3,19002,{"$f":"SUM(A1970:U1970*(TRANSPOSE(CostCalculation!$D$38:$D$58)))","v":137160},{"$f":"V1970+SUM(A1970:U1970*(TRANSPOSE(CostCalculation!$C$38:$C$58)))","v":98049}]
[0,0,0,0,0,0,0,0,0,265,60,45,30,0,0,0,0,0,0,0,5,31670,{"$f":"SUM(A1971:U1971*(TRANSPOSE(CostCalculation!$D$38:$D$58)))","v":228600},{"$f":"V1971+SUM(A1971:U1971*(TRANSPOSE(CostCalculation!$C$38:$C$58)))","v":163415}]
[0,0,0,0,0,0,0,0,0,212,48,36,24,0,0,0,0,0,0,0,4,25336,{"$f":"SUM(A1972:U1972*(TRANSPOSE(CostCalculation!$D$38:$D$58)))","v":182880},{"$f":"V1972+SUM(A1972:U1972*(TRANSPOSE(CostCalculation!$C$38:$C$58)))","v":130732}]
[0,0,0,0,0,0,0,0,0,53,12,9,6,0,0,0,0,0,0,0,1,6334,{"$f":"SUM(A1973:U1973*(TRANSPOSE(CostCalculation!$D$38:$D$58)))","v":45720},{"$f":"V1973+SUM(A1973:U1973*(TRANSPOSE(CostCalculation!$C$38:$C$58)))","v":32683}]
[0,0,0,0,0,0,0,0,0,53,12,9,6,0,0,0,0,0,0,0,1,6334,{"$f":"SUM(A1974:U1974*(TRANSPOSE(CostCalculation!$D$38:$D$58)))","v":45720},{"$f":"V1974+SUM(A1974:U1974*(TRANSPOSE(CostCalculation!$C$38:$C$58)))","v":32683}]
[0,0,0,0,0,0,0,0,0,265,60,45,30,0,0,0,0,0,0,0,5,31670,{"$f":"SUM(A1975:U1975*(TRANSPOSE(CostCalculation!$D$38:$D$58)))","v":228600},{"$f":"V1975+SUM(A1975:U1975*(TRANSPOSE(CostCalculation!$C$38:$C$58)))","v":163415}]
[0,0,0,0,0,0,0,0,0,159,36,27,18,0,0,0,0,0,0,0,3,19002,{"$f":"SUM(A1976:U1976*(TRANSPOSE(CostCalculation!$D$38:$D$58)))","v":137160},{"$f":"V1976+SUM(A1976:U1976*(TRANSPOSE(CostCalculation!$C$38:$C$58)))","v":98049}]
[0,0,0,0,0,0,0,0,0,212,48,36,24,0,0,0,0,0,0,0,4,25336,{"$f":"SUM(A1977:U1977*(TRANSPOSE(CostCalculation!$D$38:$D$58)))","v":182880},{"$f":"V1977+SUM(A1977:U1977*(TRANSPOSE(CostCalculation!$C$38:$C$58)))","v":130732}]
[0,0,0,0,0,0,0,0,0,265,60,45,30,0,0,0,0,0,0,0,5,31670,{"$f":"SUM(A1978:U1978*(TRANSPOSE(CostCalculation!$D$38:$D$58)))","v":228600},{"$f":"V1978+SUM(A1978:U1978*(TRANSPOSE(CostCalculation!$C$38:$C$58)))","v":163415}]
[0,0,0,0,0,0,0,0,0,106,24,18,12,0,0,0,0,0,0,0,2,12668,{"$f":"SUM(A1979:U1979*(TRANSPOSE(CostCalculation!$D$38:$D$58)))","v":91440},{"$f":"V1979+SUM(A1979:U1979*(TRANSPOSE(CostCalculation!$C$38:$C$58)))","v":65366}]
[0,0,0,0,0,0,0,0,0,636,144,108,72,0,0,0,0,0,0,0,12,76008,{"$f":"SUM(A1980:U1980*(TRANSPOSE(CostCalculation!$D$38:$D$58)))","v":548640},{"$f":"V1980+SUM(A1980:U1980*(TRANSPOSE(CostCalculation!$C$38:$C$58)))","v":392196}]
[0,0,0,0,0,0,0,0,0,106,24,18,12,0,0,0,0,0,0,0,2,12668,{"$f":"SUM(A1981:U1981*(TRANSPOSE(CostCalculation!$D$38:$D$58)))","v":91440},{"$f":"V1981+SUM(A1981:U1981*(TRANSPOSE(CostCalculation!$C$38:$C$58)))","v":65366}]
[0,0,0,0,0,0,0,0,0,159,36,27,18,0,0,0,0,0,0,0,3,19002,{"$f":"SUM(A1982:U1982*(TRANSPOSE(CostCalculation!$D$38:$D$58)))","v":137160},{"$f":"V1982+SUM(A1982:U1982*(TRANSPOSE(CostCalculation!$C$38:$C$58)))","v":98049}]
[0,0,0,0,0,0,0,0,0,53,12,9,6,0,0,0,0,0,0,0,1,6334,{"$f":"SUM(A1983:U1983*(TRANSPOSE(CostCalculation!$D$38:$D$58)))","v":45720},{"$f":"V1983+SUM(A1983:U1983*(TRANSPOSE(CostCalculation!$C$38:$C$58)))","v":32683}]
[0,0,0,0,0,0,0,0,0,53,12,9,6,0,0,0,0,0,0,0,1,6334,{"$f":"SUM(A1984:U1984*(TRANSPOSE(CostCalculation!$D$38:$D$58)))","v":45720},{"$f":"V1984+SUM(A1984:U1984*(TRANSPOSE(CostCalculation!$C$38:$C$58)))","v":32683}]
[0,0,0,0,0,0,0,0,0,106,24,18,12,0,0,0,0,0,0,0,2,12668,{"$f":"SUM(A1985:U1985*(TRANSPOSE(CostCalculation!$D$38:$D$58)))","v":91440},{"$f":"V1985+SUM(A1985:U1985*(TRANSPOSE(CostCalculation!$C$38:$C$58)))","v":65366}]
[0,0,0,0,0,0,0,0,0,53,12,9,6,0,0,0,0,0,0,0,1,6334,{"$f":"SUM(A1986:U1986*(TRANSPOSE(CostCalculation!$D$38:$D$58)))","v":45720},{"$f":"V1986+SUM(A1986:U1986*(TRANSPOSE(CostCalculation!$C$38:$C$58)))","v":32683}]
[0,0,0,0,0,0,0,0,0,265,60,45,30,0,0,0,0,0,0,0,5,31670,{"$f":"SUM(A1987:U1987*(TRANSPOSE(CostCalculation!$D$38:$D$58)))","v":228600},{"$f":"V1987+SUM(A1987:U1987*(TRANSPOSE(CostCalculation!$C$38:$C$58)))","v":163415}]
[0,0,0,0,0,0,0,0,0,212,48,36,24,0,0,0,0,0,0,0,4,25336,{"$f":"SUM(A1988:U1988*(TRANSPOSE(CostCalculation!$D$38:$D$58)))","v":182880},{"$f":"V1988+SUM(A1988:U1988*(TRANSPOSE(CostCalculation!$C$38:$C$58)))","v":130732}]
[0,0,0,0,0,0,0,0,0,53,12,9,6,0,0,0,0,0,0,0,1,6334,{"$f":"SUM(A1989:U1989*(TRANSPOSE(CostCalculation!$D$38:$D$58)))","v":45720},{"$f":"V1989+SUM(A1989:U1989*(TRANSPOSE(CostCalculation!$C$38:$C$58)))","v":32683}]
[0,0,0,0,0,0,0,0,0,53,12,9,6,0,0,0,0,0,0,0,1,6334,{"$f":"SUM(A1990:U1990*(TRANSPOSE(CostCalculation!$D$38:$D$58)))","v":45720},{"$f":"V1990+SUM(A1990:U1990*(TRANSPOSE(CostCalculation!$C$38:$C$58)))","v":32683}]
[0,0,0,0,0,0,0,0,0,106,24,18,12,0,0,0,0,0,0,0,2,12668,{"$f":"SUM(A1991:U1991*(TRANSPOSE(CostCalculation!$D$38:$D$58)))","v":91440},{"$f":"V1991+SUM(A1991:U1991*(TRANSPOSE(CostCalculation!$C$38:$C$58)))","v":65366}]
[0,0,0,0,0,0,0,0,0,371,84,63,42,0,0,0,0,0,0,0,7,44338,{"$f":"SUM(A1992:U1992*(TRANSPOSE(CostCalculation!$D$38:$D$58)))","v":320040},{"$f":"V1992+SUM(A1992:U1992*(TRANSPOSE(CostCalculation!$C$38:$C$58)))","v":228781}]
[0,0,0,0,0,0,0,0,0,212,48,36,24,0,0,0,0,0,0,0,4,25336,{"$f":"SUM(A1993:U1993*(TRANSPOSE(CostCalculation!$D$38:$D$58)))","v":182880},{"$f":"V1993+SUM(A1993:U1993*(TRANSPOSE(CostCalculation!$C$38:$C$58)))","v":130732}]
[0,0,0,0,0,0,0,0,0,265,60,45,30,0,0,0,0,0,0,0,5,31670,{"$f":"SUM(A1994:U1994*(TRANSPOSE(CostCalculation!$D$38:$D$58)))","v":228600},{"$f":"V1994+SUM(A1994:U1994*(TRANSPOSE(CostCalculation!$C$38:$C$58)))","v":163415}]
[0,0,0,0,0,0,0,0,0,424,96,72,48,0,0,0,0,0,0,0,8,50672,{"$f":"SUM(A1995:U1995*(TRANSPOSE(CostCalculation!$D$38:$D$58)))","v":365760},{"$f":"V1995+SUM(A1995:U1995*(TRANSPOSE(CostCalculation!$C$38:$C$58)))","v":261464}]
[0,0,0,0,0,0,0,0,0,371,84,63,42,0,0,0,0,0,0,0,7,44338,{"$f":"SUM(A1996:U1996*(TRANSPOSE(CostCalculation!$D$38:$D$58)))","v":320040},{"$f":"V1996+SUM(A1996:U1996*(TRANSPOSE(CostCalculation!$C$38:$C$58)))","v":228781}]
[0,0,0,0,0,0,0,0,0,106,24,18,12,0,0,0,0,0,0,0,2,12668,{"$f":"SUM(A1997:U1997*(TRANSPOSE(CostCalculation!$D$38:$D$58)))","v":91440},{"$f":"V1997+SUM(A1997:U1997*(TRANSPOSE(CostCalculation!$C$38:$C$58)))","v":65366}]
[0,0,0,0,0,0,0,0,0,106,24,18,12,0,0,0,0,0,0,0,2,12668,{"$f":"SUM(A1998:U1998*(TRANSPOSE(CostCalculation!$D$38:$D$58)))","v":91440},{"$f":"V1998+SUM(A1998:U1998*(TRANSPOSE(CostCalculation!$C$38:$C$58)))","v":65366}]
[0,0,0,0,0,0,0,0,0,53,12,9,6,0,0,0,0,0,0,0,1,6334,{"$f":"SUM(A1999:U1999*(TRANSPOSE(CostCalculation!$D$38:$D$58)))","v":45720},{"$f":"V1999+SUM(A1999:U1999*(TRANSPOSE(CostCalculation!$C$38:$C$58)))","v":32683}]
[0,0,0,0,0,0,0,0,0,318,72,54,36,0,0,0,0,0,0,0,6,38004,{"$f":"SUM(A2000:U2000*(TRANSPOSE(CostCalculation!$D$38:$D$58)))","v":274320},{"$f":"V2000+SUM(A2000:U2000*(TRANSPOSE(CostCalculation!$C$38:$C$58)))","v":196098}]
[0,0,0,0,0,0,0,0,0,53,12,9,6,0,0,0,0,0,0,0,1,6334,{"$f":"SUM(A2001:U2001*(TRANSPOSE(CostCalculation!$D$38:$D$58)))","v":45720},{"$f":"V2001+SUM(A2001:U2001*(TRANSPOSE(CostCalculation!$C$38:$C$58)))","v":32683}]
[0,0,0,0,0,0,0,0,0,106,24,18,12,0,0,0,0,0,0,0,2,12668,{"$f":"SUM(A2002:U2002*(TRANSPOSE(CostCalculation!$D$38:$D$58)))","v":91440},{"$f":"V2002+SUM(A2002:U2002*(TRANSPOSE(CostCalculation!$C$38:$C$58)))","v":65366}]

{"sheet":"EnchantmentcostWeapon","index":2,"n_rows":28,"n_cols":42,"rows_kept":28,"cut":false,"hidden":false,"merged":[[13,0,13,1],[14,0,14,1],[3,0,3,1],[4,0,4,1],[5,0,5,1],[6,0,6,1],[7,0,7,1],[8,0,8,1],[26,0,26,1],[0,2,0,37],[1,2,1,7],[1,8,1,17],[1,18,1,27],[1,28,1,37],[15,0,15,1],[16,0,16,1],[22,0,22,1],[23,0,23,1],[24,0,24,1],[25,0,25,1],[9,0,9,1],[10,0,10,1],[11,0,11,1],[12,0,12,1],[17,0,17,1],[18,0,18,1],[19,0,19,1],[20,0,20,1],[21,0,21,1],[23,42,23,43],[14,42,14,43],[15,42,15,43],[16,42,16,43],[17,42,17,43],[18,42,18,43],[3,42,3,43],[19,42,19,43],[20,42,20,43],[21,42,21,43],[22,42,22,43],[9,42,9,43],[10,42,10,43],[11,42,11,43],[12,42,12,43],[13,42,13,43],[4,42,4,43],[5,42,5,43],[6,42,6,43],[7,42,7,43],[8,42,8,43]]}
[null,null,"Weapon"]
[null,null,"Low",null,null,null,null,null,"Mid",null,null,null,null,null,null,null,null,null,"High",null,null,null,null,null,null,null,null,null,"Top",null,null,null,null,null,null,null,null,null,"\"Ultra\""]
["Materials",null,1,2,3,4,5,6,10,11,12,13,14,15,16,17,18,19,20,21,22,23,24,25,26,27,28,29,30,31,32,33,34,35,36,37,38,39,40,41,42,43]
["Goldkristall",null,9,11,16,18,20,26,9,31,29,32,37,38,36,42,50,51,7,0,0,0,0,0,0,0,0,0,0,0,0,0,0,0,0,0,0,0,0,0,0,0]
["Gewöhnliches Holzstück",null,6,9,10,13,18,26,39,0,0,0,0,0,0,0,0,0,0,0,0,0,0,0,0,0,0,0,0,0,0,0,0,0,0,0,0,0,0,0,0,0]
["Minderwertige Erzdevaner-Flüssigkeit",null,0,0,0,0,0,0,9,0,0,0,0,0,0,0,0,0,0,0,0,0,0,0,0,0,0,0,0,0,0,0,0,0,0,0,0,0,0,0,0,0]
["Gereinigtes Erzdevaner-Erz",null,0,0,0,0,0,0,0,3,4,5,6,8,11,14,18,24,7,0,0,0,0,0,0,0,0,0,0,0,0,0,0,0,0,0,0,0,0,0,0,0]
["Normale Erzdevaner-Flüssigkeit",null,0,0,0,0,0,0,0,0,0,0,0,0,0,0,0,0,9,0,0,0,0,0,0,0,0,0,0,0,0,0,0,0,0,0,0,0,0,0,0,0]
["Arboreas Goldstück",null,0,0,0,0,0,0,0,0,0,0,0,0,0,0,0,0,0,35,37,38,39,45,50,56,64,68,1,0,0,0,0,0,0,0,0,0,0,0,0,0]
["Unbekannte metallische Flüssigkeit",null,0,0,0,0,0,0,0,0,0,0,0,0,0,0,0,0,0,5,5,5,6,6,6,6,8,10,1,0,0,0,0,0,0,0,0,0,0,0,0,0]
["Dunkler Unterwerfer",null,0,0,0,0,0,0,0,0,0,0,0,0,0,0,0,0,0,3,3,3,3,3,4,5,6,9,1,0,0,0,0,0,0,0,0,0,0,0,0,0]
["Herausragende Erzdevaner-Flüssigkeit",null,0,0,0,0,0,0,0,0,0,0,0,0,0,0,0,0,0,0,0,0,0,0,0,0,0,0,5,0,0,0,0,0,0,0,0,0,0,0,0,0]
["Arboreas Goldbarren",null,0,0,0,0,0,0,0,0,0,0,0,0,0,0,0,0,0,0,0,0,0,0,0,0,0,0,0,20,23,36,48,56,64,79,85,93,244,0,0,0]
["Verzauberungsverkzeug des Meisters",null,0,0,0,0,0,0,0,0,0,0,0,0,0,0,0,0,0,0,0,0,0,0,0,0,0,0,0,7,7,7,7,8,11,18,15,16,30,0,0,0]
["Blutige Metallstruktur",null,0,0,0,0,0,0,0,0,0,0,0,0,0,0,0,0,0,0,0,0,0,0,0,0,0,0,0,3,3,3,3,5,7,12,9,10,18,0,0,0]
["Staub der Stille",null,0,0,0,0,0,0,0,0,0,0,0,0,0,0,0,0,0,0,0,0,0,0,0,0,0,0,0,0,0,0,0,0,5,8,7,8,14,0,0,0]
["Rätselhafter Trank",null,0,0,0,0,0,0,0,0,0,0,0,0,0,0,0,0,0,0,0,0,0,0,0,0,0,0,0,0,0,0,0,0,0,0,3,6,7,0,0,0]
["Letztes Element",null,0,0,0,0,0,0,0,0,0,0,0,0,0,0,0,0,0,0,0,0,0,0,0,0,0,0,0,0,0,0,0,0,0,0,0,0,4,0,0,0]
["Placeholder_2",null,0,0,0,0,0,0,0,0,0,0,0,0,0,0,0,0,0,0,0,0,0,0,0,0,0,0,0,0,0,0,0,0,0,0,0,0,0,0,0,0]
["Placeholder_3",null,0,0,0,0,0,0,0,0,0,0,0,0,0,0,0,0,0,0,0,0,0,0,0,0,0,0,0,0,0,0,0,0,0,0,0,0,0,0,0,0]
["Placeholder_4",null,0,0,0,0,0,0,0,0,0,0,0,0,0,0,0,0,0,0,0,0,0,0,0,0,0,0,0,0,0,0,0,0,0,0,0,0,0,0,0,0]
["Placeholder_5",null,0,0,0,0,0,0,0,0,0,0,0,0,0,0,0,0,0,0,0,0,0,0,0,0,0,0,0,0,0,0,0,0,0,0,0,0,0,0,0,0]
["Smaragd",null,0,0,0,0,0,0,0,0,0,0,0,0,0,0,0,0,0,0,3,3,3,3,4,5,6,7,9,5,5,6,7,8,0,0,0,0,0,0,0,0]
["Diamant",null,0,0,0,0,0,0,0,0,0,0,0,0,0,0,0,0,0,0,0,0,0,0,0,0,0,0,0,0,0,0,0,0,1,2,3,4,5,0,0,0]
["Basic Success %",null,1,1,1,1,1,1,1,0.5,0.5,0.5,0.5,0.5,0.5,0.5,0.5,0.5,0.5,0.3,0.3,0.28000000000000003,0.28000000000000003,0.26,0.26,0.24,0.24,0.22,0.22,0.15,0.14000000000000001,0.13,0.12,0.11,0.1,0.09,7.0000000000000007E-2,0.05,0.05,0.05,0.05,0.05]
["Gold",null,373,527,634,789,1029,1449,2173,784,887,1054,1247,1517,1877,2340,2957,3741,4847,407,467,496,741,921,500,109,206,410,964,138,340,218,28,993,6245,2841,274,2699,6328,0,0,0]
["Exp",null,0,0,0,0,0,0,0,328,376,441,525,639,786,985,1241,1571,2045,1588,1629,1705,1828,2016,2311,2747,3341,4213,5490,4244,4565,5386,6931,9523,13645,19978,28883,41253,59404,75000,100000,250000]
["Total ExP",null,{"$f":"SUM($C$27:C27)","v":0},{"$f":"SUM($C$27:D27)","v":0},{"$f":"SUM($C$27:E27)","v":0},{"$f":"SUM($C$27:F27)","v":0},{"$f":"SUM($C$27:G27)","v":0},{"$f":"SUM($C$27:H27)","v":0},{"$f":"SUM($C$27:I27)","v":0},{"$f":"SUM($C$27:J27)","v":328},{"$f":"SUM($C$27:K27)","v":704},{"$f":"SUM($C$27:L27)","v":1145},{"$f":"SUM($C$27:M27)","v":1670},{"$f":"SUM($C$27:N27)","v":2309},{"$f":"SUM($C$27:O27)","v":3095},{"$f":"SUM($C$27:P27)","v":4080},{"$f":"SUM($C$27:Q27)","v":5321},{"$f":"SUM($C$27:R27)","v":6892},{"$f":"SUM($C$27:S27)","v":8937},{"$f":"SUM($C$27:T27)","v":10525},{"$f":"SUM($C$27:U27)","v":12154},{"$f":"SUM($C$27:V27)","v":13859},{"$f":"SUM($C$27:W27)","v":15687},{"$f":"SUM($C$27:X27)","v":17703},{"$f":"SUM($C$27:Y27)","v":20014},{"$f":"SUM($C$27:Z27)","v":22761},{"$f":"SUM($C$27:AA27)","v":26102},{"$f":"SUM($C$27:AB27)","v":30315},{"$f":"SUM($C$27:AC27)","v":35805},{"$f":"SUM($C$27:AD27)","v":40049},{"$f":"SUM($C$27:AE27)","v":44614},{"$f":"SUM($C$27:AF27)","v":50000},{"$f":"SUM($C$27:AG27)","v":56931},{"$f":"SUM($C$27:AH27)","v":66454},{"$f":"SUM($C$27:AI27)","v":80099},{"$f":"SUM($C$27:AJ27)","v":100077},{"$f":"SUM($C$27:AK27)","v":128960},{"$f":"SUM($C$27:AL27)","v":170213},{"$f":"SUM($C$27:AM27)","v":229617},{"$f":"SUM($C$27:AN27)","v":304617},{"$f":"SUM($C$27:AO27)","v":404617},{"$f":"SUM($C$27:AP27)","v":654617}]

{"sheet":"EnchantmentcostChest","index":3,"n_rows":27,"n_cols":42,"rows_kept":27,"cut":false,"hidden":false,"merged":[[23,0,23,1],[24,0,24,1],[26,0,26,1],[13,0,13,1],[14,0,14,1],[15,0,15,1],[16,0,16,1],[22,0,22,1],[25,0,25,1],[17,0,17,1],[20,0,20,1],[21,0,21,1],[18,0,18,1],[19,0,19,1],[10,0,10,1],[11,0,11,1],[12,0,12,1],[0,2,0,37],[1,2,1,7],[1,8,1,17],[1,18,1,27],[1,28,1,37],[3,0,3,1],[4,0,4,1],[5,0,5,1],[6,0,6,1],[7,0,7,1],[8,0,8,1],[9,0,9,1]]}
[null,null,"Chest"]
[null,null,"Low",null,null,null,null,null,"Mid",null,null,null,null,null,null,null,null,null,"High",null,null,null,null,null,null,null,null,null,"Top",null,null,null,null,null,null,null,null,null,"\"Ultra\""]
["Materials",null,1,2,3,4,5,6,10,11,12,13,14,15,16,17,18,19,20,21,22,23,24,25,26,27,28,29,30,31,32,33,34,35,36,37,38,39,40,41,42,43]
["Goldkristall",null,7,10,12,14,14,17,6,23,20,28,29,24,24,30,34,38,4,0,0,0,0,0,0,0,0,0,0,0,0,0,0,0,0,0,0,0,0,0,0,0]
["Gewöhnliches Holzstück",null,4,6,7,9,13,19,6,0,0,0,0,0,0,0,0,0,0,0,0,0,0,0,0,0,0,0,0,0,0,0,0,0,0,0,0,0,0,0,0,0]
["Minderwertige Erzdevaner-Flüssigkeit",null,0,0,0,0,0,0,28,0,0,0,0,0,0,0,0,0,0,0,0,0,0,0,0,0,0,0,0,0,0,0,0,0,0,0,0,0,0,0,0,0]
["Gereinigtes Erzdevaner-Erz",null,0,0,0,0,0,0,0,2,3,3,4,6,8,10,13,17,4,0,0,0,0,0,0,0,0,0,0,0,0,0,0,0,0,0,0,0,0,0,0,0]
["Normale Erzdevaner-Flüssigkeit",null,0,0,0,0,0,0,0,0,0,0,0,0,0,0,0,0,7,0,0,0,0,0,0,0,0,0,0,0,0,0,0,0,0,0,0,0,0,0,0,0]
["Arboreas Goldstück",null,0,0,0,0,0,0,0,0,0,0,0,0,0,0,0,0,0,22,24,24,29,32,26,34,36,39,1,0,0,0,0,0,0,0,0,0,0,0,0,0]
["Unbekannte metallische Flüssigkeit",null,0,0,0,0,0,0,0,0,0,0,0,0,0,0,0,0,0,3,3,3,3,3,3,4,5,7,1,0,0,0,0,0,0,0,0,0,0,0,0,0]
["Dunkler Unterwerfer",null,0,0,0,0,0,0,0,0,0,0,0,0,0,0,0,0,0,2,2,2,2,2,2,3,4,6,1,0,0,0,0,0,0,0,0,0,0,0,0,0]
["Herausragende Erzdevaner-Flüssigkeit",null,0,0,0,0,0,0,0,0,0,0,0,0,0,0,0,0,0,0,0,0,0,0,0,0,0,0,3,0,0,0,0,0,0,0,0,0,0,0,0,0]
["Arboreas Goldbarren",null,0,0,0,0,0,0,0,0,0,0,0,0,0,0,0,0,0,0,0,0,0,0,0,0,0,0,0,11,14,23,33,41,44,53,62,60,167,0,0,0]
["Verzauberungsverkzeug des Meisters",null,0,0,0,0,0,0,0,0,0,0,0,0,0,0,0,0,0,0,0,0,0,0,0,0,0,0,0,5,5,5,5,8,7,12,11,10,20,0,0,0]
["Blutige Metallstruktur",null,0,0,0,0,0,0,0,0,0,0,0,0,0,0,0,0,0,0,0,0,0,0,0,0,0,0,0,2,2,2,3,4,5,9,7,7,13,0,0,0]
["Staub der Stille",null,0,0,0,0,0,0,0,0,0,0,0,0,0,0,0,0,0,0,0,0,0,0,0,0,0,0,0,0,0,0,0,0,4,6,5,5,10,0,0,0]
["Rätselhafter Trank",null,0,0,0,0,0,0,0,0,0,0,0,0,0,0,0,0,0,0,0,0,0,0,0,0,0,0,0,0,0,0,0,0,0,0,2,5,5,0,0,0]
["Letztes Element",null,0,0,0,0,0,0,0,0,0,0,0,0,0,0,0,0,0,0,0,0,0,0,0,0,0,0,0,0,0,0,0,0,0,0,0,0,3,0,0,0]
["Placeholder_2",null,0,0,0,0,0,0,0,0,0,0,0,0,0,0,0,0,0,0,0,0,0,0,0,0,0,0,0,0,0,0,0,0,0,0,0,0,0,0,0,0]
["Placeholder_3",null,0,0,0,0,0,0,0,0,0,0,0,0,0,0,0,0,0,0,0,0,0,0,0,0,0,0,0,0,0,0,0,0,0,0,0,0,0,0,0,0]
["Placeholder_4",null,0,0,0,0,0,0,0,0,0,0,0,0,0,0,0,0,0,0,0,0,0,0,0,0,0,0,0,0,0,0,0,0,0,0,0,0,0,0,0,0]
["Placeholder_5",null,0,0,0,0,0,0,0,0,0,0,0,0,0,0,0,0,0,0,0,0,0,0,0,0,0,0,0,0,0,0,0,0,0,0,0,0,0,0,0,0]
["Smaragd",null,0,0,0,0,0,0,0,0,0,0,0,0,0,0,0,0,0,2,2,2,2,2,2,3,3,4,6,3,3,4,5,6,0,0,0,0,0,0,0,0]
["Diamant",null,0,0,0,0,0,0,0,0,0,0,0,0,0,0,0,0,0,0,0,0,0,0,0,0,0,0,0,0,0,0,0,0,1,1,2,3,4,0,0,0]
["Basic Success %",null,1,1,1,1,1,1,1,0.5,0.5,0.5,0.5,0.5,0.5,0.5,0.5,0.5,0.5,0.3,0.3,0.28000000000000003,0.28000000000000003,0.26,0.26,0.24,0.24,0.22,0.22,0.15,0.14000000000000001,0.13,0.12,0.11,0.1,0.09,7.0000000000000007E-2,0.05,0.05,0.05,0.05,0.05]
["Gold",null,261,386,454,566,737,1033,1534,553,643,746,887,1080,1337,1671,2109,2674,3566,160,220,220,370,460,280,160,866,586,600,368,570,178,415,518,1633,6334,1586,1474,1017,0,0,0]
["Exp",null,0,0,0,0,0,0,0,328,376,441,525,639,786,985,1241,1571,2045,1588,1629,1705,1828,2016,2311,2747,3341,4213,5490,4244,4565,5386,6931,9523,13645,19978,28883,41253,59404,75000,100000,250000]

{"sheet":"EnchantmentcostGlovesBoots","index":4,"n_rows":27,"n_cols":42,"rows_kept":27,"cut":false,"hidden":false,"merged":[[25,0,25,1],[26,0,26,1],[14,0,14,1],[15,0,15,1],[16,0,16,1],[22,0,22,1],[23,0,23,1],[24,0,24,1],[17,0,17,1],[18,0,18,1],[19,0,19,1],[20,0,20,1],[21,0,21,1],[1,8,1,17],[1,18,1,27],[1,28,1,37],[0,2,0,37],[13,0,13,1],[3,0,3,1],[4,0,4,1],[5,0,5,1],[6,0,6,1],[7,0,7,1],[8,0,8,1],[9,0,9,1],[10,0,10,1],[11,0,11,1],[12,0,12,1],[1,2,1,7]]}
[null,null,"Handwear/Footwear"]
[null,null,"Low",null,null,null,null,null,"Mid",null,null,null,null,null,null,null,null,null,"High",null,null,null,null,null,null,null,null,null,"Top",null,null,null,null,null,null,null,null,null,"\"Ultra\""]
["Materials",null,1,2,3,4,5,6,10,11,12,13,14,15,16,17,18,19,20,21,22,23,24,25,26,27,28,29,30,31,32,33,34,35,36,37,38,39,40,41,42,43]
["Goldkristall",null,6,7,8,12,13,15,5,15,20,17,15,18,23,24,31,26,4,0,0,0,0,0,0,0,0,0,0,0,0,0,0,0,0,0,0,0,0,0,0,0]
["Gewöhnliches Holzstück",null,3,5,6,7,10,15,5,0,0,0,0,0,0,0,0,0,0,0,0,0,0,0,0,0,0,0,0,0,0,0,0,0,0,0,0,0,0,0,0,0]
["Minderwertige Erzdevaner-Flüssigkeit",null,0,0,0,0,0,0,22,0,0,0,0,0,0,0,0,0,0,0,0,0,0,0,0,0,0,0,0,0,0,0,0,0,0,0,0,0,0,0,0,0]
["Gereinigtes Erzdevaner-Erz",null,0,0,0,0,0,0,0,2,2,3,4,5,6,8,10,14,4,0,0,0,0,0,0,0,0,0,0,0,0,0,0,0,0,0,0,0,0,0,0,0]
["Normale Erzdevaner-Flüssigkeit",null,0,0,0,0,0,0,0,0,0,0,0,0,0,0,0,0,5,0,0,0,0,0,0,0,0,0,0,0,0,0,0,0,0,0,0,0,0,0,0,0]
["Arboreas Goldstück",null,0,0,0,0,0,0,0,0,0,0,0,0,0,0,0,0,0,15,16,17,20,23,24,20,17,33,2,0,0,0,0,0,0,0,0,0,0,0,0,0]
["Unbekannte metallische Flüssigkeit",null,0,0,0,0,0,0,0,0,0,0,0,0,0,0,0,0,0,2,2,2,2,2,3,3,4,5,1,0,0,0,0,0,0,0,0,0,0,0,0,0]
["Dunkler Unterwerfer",null,0,0,0,0,0,0,0,0,0,0,0,0,0,0,0,0,0,2,2,2,2,2,2,3,4,5,2,0,0,0,0,0,0,0,0,0,0,0,0,0]
["Herausragende Erzdevaner-Flüssigkeit",null,0,0,0,0,0,0,0,0,0,0,0,0,0,0,0,0,0,0,0,0,0,0,0,0,0,0,2,0,0,0,0,0,0,0,0,0,0,0,0,0]
["Arboreas Goldbarren",null,0,0,0,0,0,0,0,0,0,0,0,0,0,0,0,0,0,0,0,0,0,0,0,0,0,0,0,7,9,12,19,29,36,44,36,53,123,0,0,0]
["Verzauberungsverkzeug des Meisters",null,0,0,0,0,0,0,0,0,0,0,0,0,0,0,0,0,0,0,0,0,0,0,0,0,0,0,0,3,3,4,4,4,6,9,8,9,16,0,0,0]
["Blutige Metallstruktur",null,0,0,0,0,0,0,0,0,0,0,0,0,0,0,0,0,0,0,0,0,0,0,0,0,0,0,0,2,2,2,3,3,4,7,5,6,11,0,0,0]
["Staub der Stille",null,0,0,0,0,0,0,0,0,0,0,0,0,0,0,0,0,0,0,0,0,0,0,0,0,0,0,0,0,0,0,0,0,3,5,4,4,8,0,0,0]
["Rätselhafter Trank",null,0,0,0,0,0,0,0,0,0,0,0,0,0,0,0,0,0,0,0,0,0,0,0,0,0,0,0,0,0,0,0,0,0,0,2,4,4,0,0,0]
["Letztes Element",null,0,0,0,0,0,0,0,0,0,0,0,0,0,0,0,0,0,0,0,0,0,0,0,0,0,0,0,0,0,0,0,0,0,0,0,0,2,0,0,0]
["Placeholder_2",null,0,0,0,0,0,0,0,0,0,0,0,0,0,0,0,0,0,0,0,0,0,0,0,0,0,0,0,0,0,0,0,0,0,0,0,0,0,0,0,0]
["Placeholder_3",null,0,0,0,0,0,0,0,0,0,0,0,0,0,0,0,0,0,0,0,0,0,0,0,0,0,0,0,0,0,0,0,0,0,0,0,0,0,0,0,0]
["Placeholder_4",null,0,0,0,0,0,0,0,0,0,0,0,0,0,0,0,0,0,0,0,0,0,0,0,0,0,0,0,0,0,0,0,0,0,0,0,0,0,0,0,0]
["Placeholder_5",null,0,0,0,0,0,0,0,0,0,0,0,0,0,0,0,0,0,0,0,0,0,0,0,0,0,0,0,0,0,0,0,0,0,0,0,0,0,0,0,0]
["Smaragd",null,0,0,0,0,0,0,0,0,0,0,0,0,0,0,0,0,0,1,1,1,1,1,2,2,3,3,4,2,2,3,4,4,9,0,0,0,0,0,0,0]
["Diamant",null,0,0,0,0,0,0,0,0,0,0,0,0,0,0,0,0,0,0,0,0,0,0,0,0,0,0,0,0,0,0,0,0,0,1,1,2,3,0,0,0]
["Basic Success %",null,1,1,1,1,1,1,1,0.5,0.5,0.5,0.5,0.5,0.5,0.5,0.5,0.5,0.5,0.3,0.3,0.28000000000000003,0.28000000000000003,0.26,0.26,0.24,0.24,0.22,0.22,0.15,0.14000000000000001,0.13,0.12,0.11,0.1,0.09,7.0000000000000007E-2,0.05,0.05,0.05,0.05,0.05]
["Gold",null,206,304,360,454,596,836,1221,450,514,604,707,874,1067,1337,1684,2134,2709,736,766,796,886,976,280,527,81,679,740,498,633,135,170,845,293,3070,7273,5968,3118,0,0,0]
["Exp",null,0,0,0,0,0,0,0,328,376,441,525,639,786,985,1241,1571,2045,1588,1629,1705,1828,2016,2311,2747,3341,4213,5490,4244,4565,5386,6931,9523,13645,19978,28883,41253,59404,75000,100000,250000]

{"sheet":"calculation Stuff, dont change ","index":5,"n_rows":338,"n_cols":41,"rows_kept":338,"cut":false,"hidden":false,"merged":[]}
["Low +0","Low +1","Low +2","Low +3","Low +4","Low +5","Low +6","Mid +0 ","Mid +1","Mid +2","Mid +3","Mid +4","Mid +5","Mid +6","Mid +7","Mid +8","Mid +9","High +0","High +1","High +2","High +3","High +4","High +5","High +6","High +7","High +8","High +9","Top +0","Top +1","Top +2","Top +3","Top +4","Top +5","Top +6","Top +7","Top +8","Top +9","Ultra +0","Ultra +1","Ultra +2","Ultra +3"]
[1,1,2,3,4,5,6,7,8,9,10,11,12,13,14,15,16,17,18,19,20,21,22,23,24,25,26,27,28,29,30,31,32,33,34,35,36,37,38,39,40]
[null,0,0,0,0,0,0,0,328,376,441,525,639,786,985,1241,1571,2045,1588,1629,1705,1828,2016,2311,2747,3341,4213,5490,4244,4565,5386,6931,9523,13645,19978,28883,41253,59404,75000,100000,250000]
[null,null,null,null,null,null,null,null,null,null,null,null,null,"Waffe","Rüstung","Schuhe/Handschuhe"]
["Tabelle","y","x",null,null,null,null,null,null,"Goldkristall","a",11,null,1,2,3]
[null,null,null,null,null,null,null,null,null,"Gewöhnliches Holzstück","b",12]
[0,{"$f":"ROUND(INDIRECT(\"CostCalculation!D\"&CostCalculation!$O$10,TRUE)*A7,0)","v":0},{"$f":"IF((COUNTIF(INDIRECT(\"MonteCarlo!\"&CostCalculation!$N$10&3,TRUE):INDIRECT(\"MonteCarlo!\"&CostCalculation!$N$10&CostCalculation!$E$4+2,TRUE),\"<=\"&B7))/CostCalculation!$E$4=0,#N/A,(COUNTIF(INDIRECT(\"MonteCarlo!\"&CostCalculation!$N$10&3,TRUE):INDIRECT(\"MonteCarlo!\"&CostCalculation!$N$10&CostCalculation!$E$4+2,TRUE),\"<=\"&B7))/CostCalculation!$E$4)","v":{"$error":"#N/A"}},{"$f":"B7","v":0},{"$f":"IF((COUNTIF(INDIRECT(\"MonteCarlo!\"&CostCalculation!$N$10&3,TRUE):INDIRECT(\"MonteCarlo!\"&CostCalculation!$N$10&CostCalculation!$E$4+2,TRUE),\">\"&B7)-COUNTIF(INDIRECT(\"MonteCarlo!\"&CostCalculation!$N$10&3,TRUE):INDIRECT(\"MonteCarlo!\"&CostCalculation!$N$10&CostCalculation!$E$4+2,TRUE),\">\"&B8))/CostCalculation!$E$4=0,#N/A,(COUNTIF(INDIRECT(\"MonteCarlo!\"&CostCalculation!$N$10&3,TRUE):INDIRECT(\"MonteCarlo!\"&CostCalculation!$N$10&CostCalculation!$E$4+2,TRUE),\">\"&B7)-COUNTIF(INDIRECT(\"MonteCarlo!\"&CostCalculation!$N$10&3,TRUE):INDIRECT(\"MonteCarlo!\"&CostCalculation!$N$10&CostCalculation!$E$4+2,TRUE),\">\"&B8))/CostCalculation!$E$4)","v":{"$error":"#N/A"}},null,null,null,null,"Minderwertige Erzdevaner-Flüssigkeit","c",13]
[3.0000000000000001E-3,{"$f":"ROUND(INDIRECT(\"CostCalculation!D\"&CostCalculation!$O$10,TRUE)*A8,0)","v":1471},{"$f":"IF((COUNTIF(INDIRECT(\"MonteCarlo!\"&CostCalculation!$N$10&3,TRUE):INDIRECT(\"MonteCarlo!\"&CostCalculation!$N$10&CostCalculation!$E$4+2,TRUE),\"<=\"&B8))/CostCalculation!$E$4=0,#N/A,(COUNTIF(INDIRECT(\"MonteCarlo!\"&CostCalculation!$N$10&3,TRUE):INDIRECT(\"MonteCarlo!\"&CostCalculation!$N$10&CostCalculation!$E$4+2,TRUE),\"<=\"&B8))/CostCalculation!$E$4)","v":{"$error":"#N/A"}},{"$f":"B8","v":1471},{"$f":"IF((COUNTIF(INDIRECT(\"MonteCarlo!\"&CostCalculation!$N$10&3,TRUE):INDIRECT(\"MonteCarlo!\"&CostCalculation!$N$10&CostCalculation!$E$4+2,TRUE),\">\"&B8)-COUNTIF(INDIRECT(\"MonteCarlo!\"&CostCalculation!$N$10&3,TRUE):INDIRECT(\"MonteCarlo!\"&CostCalculation!$N$10&CostCalculation!$E$4+2,TRUE),\">\"&B9))/CostCalculation!$E$4=0,#N/A,(COUNTIF(INDIRECT(\"MonteCarlo!\"&CostCalculation!$N$10&3,TRUE):INDIRECT(\"MonteCarlo!\"&CostCalculation!$N$10&CostCalculation!$E$4+2,TRUE),\">\"&B8)-COUNTIF(INDIRECT(\"MonteCarlo!\"&CostCalculation!$N$10&3,TRUE):INDIRECT(\"MonteCarlo!\"&CostCalculation!$N$10&CostCalculation!$E$4+2,TRUE),\">\"&B9))/CostCalculation!$E$4)","v":{"$error":"#N/A"}},null,null,null,null,"Gereinigtes Erzdevaner-Erz","d",14,null,"Keine XP",0]
[6.0000000000000001E-3,{"$f":"ROUND(INDIRECT(\"CostCalculation!D\"&CostCalculation!$O$10,TRUE)*A9,0)","v":2941},{"$f":"IF((COUNTIF(INDIRECT(\"MonteCarlo!\"&CostCalculation!$N$10&3,TRUE):INDIRECT(\"MonteCarlo!\"&CostCalculation!$N$10&CostCalculation!$E$4+2,TRUE),\"<=\"&B9))/CostCalculation!$E$4=0,#N/A,(COUNTIF(INDIRECT(\"MonteCarlo!\"&CostCalculation!$N$10&3,TRUE):INDIRECT(\"MonteCarlo!\"&CostCalculation!$N$10&CostCalculation!$E$4+2,TRUE),\"<=\"&B9))/CostCalculation!$E$4)","v":{"$error":"#N/A"}},2941,{"$f":"IF((COUNTIF(INDIRECT(\"MonteCarlo!\"&CostCalculation!$N$10&3,TRUE):INDIRECT(\"MonteCarlo!\"&CostCalculation!$N$10&CostCalculation!$E$4+2,TRUE),\">\"&B9)-COUNTIF(INDIRECT(\"MonteCarlo!\"&CostCalculation!$N$10&3,TRUE):INDIRECT(\"MonteCarlo!\"&CostCalculation!$N$10&CostCalculation!$E$4+2,TRUE),\">\"&B10))/CostCalculation!$E$4=0,#N/A,(COUNTIF(INDIRECT(\"MonteCarlo!\"&CostCalculation!$N$10&3,TRUE):INDIRECT(\"MonteCarlo!\"&CostCalculation!$N$10&CostCalculation!$E$4+2,TRUE),\">\"&B9)-COUNTIF(INDIRECT(\"MonteCarlo!\"&CostCalculation!$N$10&3,TRUE):INDIRECT(\"MonteCarlo!\"&CostCalculation!$N$10&CostCalculation!$E$4+2,TRUE),\">\"&B10))/CostCalculation!$E$4)","v":{"$error":"#N/A"}},null,null,null,null,"Normale Erzdevaner-Flüssigkeit","e",15,null,"Volle XP",{"$f":"CostCalculation!A8+50000","v":69978}]
[8.9999999999999993E-3,{"$f":"ROUND(INDIRECT(\"CostCalculation!D\"&CostCalculation!$O$10,TRUE)*A10,0)","v":4412},{"$f":"IF((COUNTIF(INDIRECT(\"MonteCarlo!\"&CostCalculation!$N$10&3,TRUE):INDIRECT(\"MonteCarlo!\"&CostCalculation!$N$10&CostCalculation!$E$4+2,TRUE),\"<=\"&B10))/CostCalculation!$E$4=0,#N/A,(COUNTIF(INDIRECT(\"MonteCarlo!\"&CostCalculation!$N$10&3,TRUE):INDIRECT(\"MonteCarlo!\"&CostCalculation!$N$10&CostCalculation!$E$4+2,TRUE),\"<=\"&B10))/CostCalculation!$E$4)","v":{"$error":"#N/A"}},4412,{"$f":"IF((COUNTIF(INDIRECT(\"MonteCarlo!\"&CostCalculation!$N$10&3,TRUE):INDIRECT(\"MonteCarlo!\"&CostCalculation!$N$10&CostCalculation!$E$4+2,TRUE),\">\"&B10)-COUNTIF(INDIRECT(\"MonteCarlo!\"&CostCalculation!$N$10&3,TRUE):INDIRECT(\"MonteCarlo!\"&CostCalculation!$N$10&CostCalculation!$E$4+2,TRUE),\">\"&B11))/CostCalculation!$E$4=0,#N/A,(COUNTIF(INDIRECT(\"MonteCarlo!\"&CostCalculation!$N$10&3,TRUE):INDIRECT(\"MonteCarlo!\"&CostCalculation!$N$10&CostCalculation!$E$4+2,TRUE),\">\"&B10)-COUNTIF(INDIRECT(\"MonteCarlo!\"&CostCalculation!$N$10&3,TRUE):INDIRECT(\"MonteCarlo!\"&CostCalculation!$N$10&CostCalculation!$E$4+2,TRUE),\">\"&B11))/CostCalculation!$E$4)","v":{"$error":"#N/A"}},null,null,null,null,"Arboreas Goldstück","f",16,null,"% XP",{"$f":"CostCalculation!B8","v":0.5}]
[1.2E-2,{"$f":"ROUND(INDIRECT(\"CostCalculation!D\"&CostCalculation!$O$10,TRUE)*A11,0)","v":5883},{"$f":"IF((COUNTIF(INDIRECT(\"MonteCarlo!\"&CostCalculation!$N$10&3,TRUE):INDIRECT(\"MonteCarlo!\"&CostCalculation!$N$10&CostCalculation!$E$4+2,TRUE),\"<=\"&B11))/CostCalculation!$E$4=0,#N/A,(COUNTIF(INDIRECT(\"MonteCarlo!\"&CostCalculation!$N$10&3,TRUE):INDIRECT(\"MonteCarlo!\"&CostCalculation!$N$10&CostCalculation!$E$4+2,TRUE),\"<=\"&B11))/CostCalculation!$E$4)","v":{"$error":"#N/A"}},5883,{"$f":"IF((COUNTIF(INDIRECT(\"MonteCarlo!\"&CostCalculation!$N$10&3,TRUE):INDIRECT(\"MonteCarlo!\"&CostCalculation!$N$10&CostCalculation!$E$4+2,TRUE),\">\"&B11)-COUNTIF(INDIRECT(\"MonteCarlo!\"&CostCalculation!$N$10&3,TRUE):INDIRECT(\"MonteCarlo!\"&CostCalculation!$N$10&CostCalculation!$E$4+2,TRUE),\">\"&B12))/CostCalculation!$E$4=0,#N/A,(COUNTIF(INDIRECT(\"MonteCarlo!\"&CostCalculation!$N$10&3,TRUE):INDIRECT(\"MonteCarlo!\"&CostCalculation!$N$10&CostCalculation!$E$4+2,TRUE),\">\"&B11)-COUNTIF(INDIRECT(\"MonteCarlo!\"&CostCalculation!$N$10&3,TRUE):INDIRECT(\"MonteCarlo!\"&CostCalculation!$N$10&CostCalculation!$E$4+2,TRUE),\">\"&B12))/CostCalculation!$E$4)","v":{"$error":"#N/A"}},null,null,null,null,"Unbekannte metallische Flüssigkeit","g",17,null,"Absolute XP",{"$f":"CostCalculation!C8","v":0}]
[1.4999999999999999E-2,{"$f":"ROUND(INDIRECT(\"CostCalculation!D\"&CostCalculation!$O$10,TRUE)*A12,0)","v":7354},{"$f":"IF((COUNTIF(INDIRECT(\"MonteCarlo!\"&CostCalculation!$N$10&3,TRUE):INDIRECT(\"MonteCarlo!\"&CostCalculation!$N$10&CostCalculation!$E$4+2,TRUE),\"<=\"&B12))/CostCalculation!$E$4=0,#N/A,(COUNTIF(INDIRECT(\"MonteCarlo!\"&CostCalculation!$N$10&3,TRUE):INDIRECT(\"MonteCarlo!\"&CostCalculation!$N$10&CostCalculation!$E$4+2,TRUE),\"<=\"&B12))/CostCalculation!$E$4)","v":{"$error":"#N/A"}},7354,{"$f":"IF((COUNTIF(INDIRECT(\"MonteCarlo!\"&CostCalculation!$N$10&3,TRUE):INDIRECT(\"MonteCarlo!\"&CostCalculation!$N$10&CostCalculation!$E$4+2,TRUE),\">\"&B12)-COUNTIF(INDIRECT(\"MonteCarlo!\"&CostCalculation!$N$10&3,TRUE):INDIRECT(\"MonteCarlo!\"&CostCalculation!$N$10&CostCalculation!$E$4+2,TRUE),\">\"&B13))/CostCalculation!$E$4=0,#N/A,(COUNTIF(INDIRECT(\"MonteCarlo!\"&CostCalculation!$N$10&3,TRUE):INDIRECT(\"MonteCarlo!\"&CostCalculation!$N$10&CostCalculation!$E$4+2,TRUE),\">\"&B12)-COUNTIF(INDIRECT(\"MonteCarlo!\"&CostCalculation!$N$10&3,TRUE):INDIRECT(\"MonteCarlo!\"&CostCalculation!$N$10&CostCalculation!$E$4+2,TRUE),\">\"&B13))/CostCalculation!$E$4)","v":{"$error":"#N/A"}},null,null,null,null,"Dunkler Unterwerfer","h",18]
[1.7999999999999999E-2,{"$f":"ROUND(INDIRECT(\"CostCalculation!D\"&CostCalculation!$O$10,TRUE)*A13,0)","v":8824},{"$f":"IF((COUNTIF(INDIRECT(\"MonteCarlo!\"&CostCalculation!$N$10&3,TRUE):INDIRECT(\"MonteCarlo!\"&CostCalculation!$N$10&CostCalculation!$E$4+2,TRUE),\"<=\"&B13))/CostCalculation!$E$4=0,#N/A,(COUNTIF(INDIRECT(\"MonteCarlo!\"&CostCalculation!$N$10&3,TRUE):INDIRECT(\"MonteCarlo!\"&CostCalculation!$N$10&CostCalculation!$E$4+2,TRUE),\"<=\"&B13))/CostCalculation!$E$4)","v":{"$error":"#N/A"}},8824,{"$f":"IF((COUNTIF(INDIRECT(\"MonteCarlo!\"&CostCalculation!$N$10&3,TRUE):INDIRECT(\"MonteCarlo!\"&CostCalculation!$N$10&CostCalculation!$E$4+2,TRUE),\">\"&B13)-COUNTIF(INDIRECT(\"MonteCarlo!\"&CostCalculation!$N$10&3,TRUE):INDIRECT(\"MonteCarlo!\"&CostCalculation!$N$10&CostCalculation!$E$4+2,TRUE),\">\"&B14))/CostCalculation!$E$4=0,#N/A,(COUNTIF(INDIRECT(\"MonteCarlo!\"&CostCalculation!$N$10&3,TRUE):INDIRECT(\"MonteCarlo!\"&CostCalculation!$N$10&CostCalculation!$E$4+2,TRUE),\">\"&B13)-COUNTIF(INDIRECT(\"MonteCarlo!\"&CostCalculation!$N$10&3,TRUE):INDIRECT(\"MonteCarlo!\"&CostCalculation!$N$10&CostCalculation!$E$4+2,TRUE),\">\"&B14))/CostCalculation!$E$4)","v":{"$error":"#N/A"}},null,null,null,null,"Herausragende Erzdevaner-Flüssigkeit","i",19]
[2.1000000000000001E-2,{"$f":"ROUND(INDIRECT(\"CostCalculation!D\"&CostCalculation!$O$10,TRUE)*A14,0)","v":10295},{"$f":"IF((COUNTIF(INDIRECT(\"MonteCarlo!\"&CostCalculation!$N$10&3,TRUE):INDIRECT(\"MonteCarlo!\"&CostCalculation!$N$10&CostCalculation!$E$4+2,TRUE),\"<=\"&B14))/CostCalculation!$E$4=0,#N/A,(COUNTIF(INDIRECT(\"MonteCarlo!\"&CostCalculation!$N$10&3,TRUE):INDIRECT(\"MonteCarlo!\"&CostCalculation!$N$10&CostCalculation!$E$4+2,TRUE),\"<=\"&B14))/CostCalculation!$E$4)","v":{"$error":"#N/A"}},10295,{"$f":"IF((COUNTIF(INDIRECT(\"MonteCarlo!\"&CostCalculation!$N$10&3,TRUE):INDIRECT(\"MonteCarlo!\"&CostCalculation!$N$10&CostCalculation!$E$4+2,TRUE),\">\"&B14)-COUNTIF(INDIRECT(\"MonteCarlo!\"&CostCalculation!$N$10&3,TRUE):INDIRECT(\"MonteCarlo!\"&CostCalculation!$N$10&CostCalculation!$E$4+2,TRUE),\">\"&B15))/CostCalculation!$E$4=0,#N/A,(COUNTIF(INDIRECT(\"MonteCarlo!\"&CostCalculation!$N$10&3,TRUE):INDIRECT(\"MonteCarlo!\"&CostCalculation!$N$10&CostCalculation!$E$4+2,TRUE),\">\"&B14)-COUNTIF(INDIRECT(\"MonteCarlo!\"&CostCalculation!$N$10&3,TRUE):INDIRECT(\"MonteCarlo!\"&CostCalculation!$N$10&CostCalculation!$E$4+2,TRUE),\">\"&B15))/CostCalculation!$E$4)","v":{"$error":"#N/A"}},null,null,null,null,"Arboreas Goldbarren","j",20]
[2.4E-2,{"$f":"ROUND(INDIRECT(\"CostCalculation!D\"&CostCalculation!$O$10,TRUE)*A15,0)","v":11766},{"$f":"IF((COUNTIF(INDIRECT(\"MonteCarlo!\"&CostCalculation!$N$10&3,TRUE):INDIRECT(\"MonteCarlo!\"&CostCalculation!$N$10&CostCalculation!$E$4+2,TRUE),\"<=\"&B15))/CostCalculation!$E$4=0,#N/A,(COUNTIF(INDIRECT(\"MonteCarlo!\"&CostCalculation!$N$10&3,TRUE):INDIRECT(\"MonteCarlo!\"&CostCalculation!$N$10&CostCalculation!$E$4+2,TRUE),\"<=\"&B15))/CostCalculation!$E$4)","v":{"$error":"#N/A"}},11766,{"$f":"IF((COUNTIF(INDIRECT(\"MonteCarlo!\"&CostCalculation!$N$10&3,TRUE):INDIRECT(\"MonteCarlo!\"&CostCalculation!$N$10&CostCalculation!$E$4+2,TRUE),\">\"&B15)-COUNTIF(INDIRECT(\"MonteCarlo!\"&CostCalculation!$N$10&3,TRUE):INDIRECT(\"MonteCarlo!\"&CostCalculation!$N$10&CostCalculation!$E$4+2,TRUE),\">\"&B16))/CostCalculation!$E$4=0,#N/A,(COUNTIF(INDIRECT(\"MonteCarlo!\"&CostCalculation!$N$10&3,TRUE):INDIRECT(\"MonteCarlo!\"&CostCalculation!$N$10&CostCalculation!$E$4+2,TRUE),\">\"&B15)-COUNTIF(INDIRECT(\"MonteCarlo!\"&CostCalculation!$N$10&3,TRUE):INDIRECT(\"MonteCarlo!\"&CostCalculation!$N$10&CostCalculation!$E$4+2,TRUE),\">\"&B16))/CostCalculation!$E$4)","v":{"$error":"#N/A"}},null,null,null,null,"Verzauberungswerkzeug des Meisters","k",21]
[2.7E-2,{"$f":"ROUND(INDIRECT(\"CostCalculation!D\"&CostCalculation!$O$10,TRUE)*A16,0)","v":13237},{"$f":"IF((COUNTIF(INDIRECT(\"MonteCarlo!\"&CostCalculation!$N$10&3,TRUE):INDIRECT(\"MonteCarlo!\"&CostCalculation!$N$10&CostCalculation!$E$4+2,TRUE),\"<=\"&B16))/CostCalculation!$E$4=0,#N/A,(COUNTIF(INDIRECT(\"MonteCarlo!\"&CostCalculation!$N$10&3,TRUE):INDIRECT(\"MonteCarlo!\"&CostCalculation!$N$10&CostCalculation!$E$4+2,TRUE),\"<=\"&B16))/CostCalculation!$E$4)","v":{"$error":"#N/A"}},13237,{"$f":"IF((COUNTIF(INDIRECT(\"MonteCarlo!\"&CostCalculation!$N$10&3,TRUE):INDIRECT(\"MonteCarlo!\"&CostCalculation!$N$10&CostCalculation!$E$4+2,TRUE),\">\"&B16)-COUNTIF(INDIRECT(\"MonteCarlo!\"&CostCalculation!$N$10&3,TRUE):INDIRECT(\"MonteCarlo!\"&CostCalculation!$N$10&CostCalculation!$E$4+2,TRUE),\">\"&B17))/CostCalculation!$E$4=0,#N/A,(COUNTIF(INDIRECT(\"MonteCarlo!\"&CostCalculation!$N$10&3,TRUE):INDIRECT(\"MonteCarlo!\"&CostCalculation!$N$10&CostCalculation!$E$4+2,TRUE),\">\"&B16)-COUNTIF(INDIRECT(\"MonteCarlo!\"&CostCalculation!$N$10&3,TRUE):INDIRECT(\"MonteCarlo!\"&CostCalculation!$N$10&CostCalculation!$E$4+2,TRUE),\">\"&B17))/CostCalculation!$E$4)","v":{"$error":"#N/A"}},null,null,null,null,"Blutige Metallstruktur","l",22]
[0.03,{"$f":"ROUND(INDIRECT(\"CostCalculation!D\"&CostCalculation!$O$10,TRUE)*A17,0)","v":14707},{"$f":"IF((COUNTIF(INDIRECT(\"MonteCarlo!\"&CostCalculation!$N$10&3,TRUE):INDIRECT(\"MonteCarlo!\"&CostCalculation!$N$10&CostCalculation!$E$4+2,TRUE),\"<=\"&B17))/CostCalculation!$E$4=0,#N/A,(COUNTIF(INDIRECT(\"MonteCarlo!\"&CostCalculation!$N$10&3,TRUE):INDIRECT(\"MonteCarlo!\"&CostCalculation!$N$10&CostCalculation!$E$4+2,TRUE),\"<=\"&B17))/CostCalculation!$E$4)","v":{"$error":"#N/A"}},14707,{"$f":"IF((COUNTIF(INDIRECT(\"MonteCarlo!\"&CostCalculation!$N$10&3,TRUE):INDIRECT(\"MonteCarlo!\"&CostCalculation!$N$10&CostCalculation!$E$4+2,TRUE),\">\"&B17)-COUNTIF(INDIRECT(\"MonteCarlo!\"&CostCalculation!$N$10&3,TRUE):INDIRECT(\"MonteCarlo!\"&CostCalculation!$N$10&CostCalculation!$E$4+2,TRUE),\">\"&B18))/CostCalculation!$E$4=0,#N/A,(COUNTIF(INDIRECT(\"MonteCarlo!\"&CostCalculation!$N$10&3,TRUE):INDIRECT(\"MonteCarlo!\"&CostCalculation!$N$10&CostCalculation!$E$4+2,TRUE),\">\"&B17)-COUNTIF(INDIRECT(\"MonteCarlo!\"&CostCalculation!$N$10&3,TRUE):INDIRECT(\"MonteCarlo!\"&CostCalculation!$N$10&CostCalculation!$E$4+2,TRUE),\">\"&B18))/CostCalculation!$E$4)","v":{"$error":"#N/A"}},null,null,null,null,"Staub der Stille","m",23]
[3.3000000000000002E-2,{"$f":"ROUND(INDIRECT(\"CostCalculation!D\"&CostCalculation!$O$10,TRUE)*A18,0)","v":16178},{"$f":"IF((COUNTIF(INDIRECT(\"MonteCarlo!\"&CostCalculation!$N$10&3,TRUE):INDIRECT(\"MonteCarlo!\"&CostCalculation!$N$10&CostCalculation!$E$4+2,TRUE),\"<=\"&B18))/CostCalculation!$E$4=0,#N/A,(COUNTIF(INDIRECT(\"MonteCarlo!\"&CostCalculation!$N$10&3,TRUE):INDIRECT(\"MonteCarlo!\"&CostCalculation!$N$10&CostCalculation!$E$4+2,TRUE),\"<=\"&B18))/CostCalculation!$E$4)","v":{"$error":"#N/A"}},16178,{"$f":"IF((COUNTIF(INDIRECT(\"MonteCarlo!\"&CostCalculation!$N$10&3,TRUE):INDIRECT(\"MonteCarlo!\"&CostCalculation!$N$10&CostCalculation!$E$4+2,TRUE),\">\"&B18)-COUNTIF(INDIRECT(\"MonteCarlo!\"&CostCalculation!$N$10&3,TRUE):INDIRECT(\"MonteCarlo!\"&CostCalculation!$N$10&CostCalculation!$E$4+2,TRUE),\">\"&B19))/CostCalculation!$E$4=0,#N/A,(COUNTIF(INDIRECT(\"MonteCarlo!\"&CostCalculation!$N$10&3,TRUE):INDIRECT(\"MonteCarlo!\"&CostCalculation!$N$10&CostCalculation!$E$4+2,TRUE),\">\"&B18)-COUNTIF(INDIRECT(\"MonteCarlo!\"&CostCalculation!$N$10&3,TRUE):INDIRECT(\"MonteCarlo!\"&CostCalculation!$N$10&CostCalculation!$E$4+2,TRUE),\">\"&B19))/CostCalculation!$E$4)","v":{"$error":"#N/A"}},null,null,null,null,"Rätselhafter Trank","n",24]
[3.5999999999999997E-2,{"$f":"ROUND(INDIRECT(\"CostCalculation!D\"&CostCalculation!$O$10,TRUE)*A19,0)","v":17649},{"$f":"IF((COUNTIF(INDIRECT(\"MonteCarlo!\"&CostCalculation!$N$10&3,TRUE):INDIRECT(\"MonteCarlo!\"&CostCalculation!$N$10&CostCalculation!$E$4+2,TRUE),\"<=\"&B19))/CostCalculation!$E$4=0,#N/A,(COUNTIF(INDIRECT(\"MonteCarlo!\"&CostCalculation!$N$10&3,TRUE):INDIRECT(\"MonteCarlo!\"&CostCalculation!$N$10&CostCalculation!$E$4+2,TRUE),\"<=\"&B19))/CostCalculation!$E$4)","v":{"$error":"#N/A"}},17649,{"$f":"IF((COUNTIF(INDIRECT(\"MonteCarlo!\"&CostCalculation!$N$10&3,TRUE):INDIRECT(\"MonteCarlo!\"&CostCalculation!$N$10&CostCalculation!$E$4+2,TRUE),\">\"&B19)-COUNTIF(INDIRECT(\"MonteCarlo!\"&CostCalculation!$N$10&3,TRUE):INDIRECT(\"MonteCarlo!\"&CostCalculation!$N$10&CostCalculation!$E$4+2,TRUE),\">\"&B20))/CostCalculation!$E$4=0,#N/A,(COUNTIF(INDIRECT(\"MonteCarlo!\"&CostCalculation!$N$10&3,TRUE):INDIRECT(\"MonteCarlo!\"&CostCalculation!$N$10&CostCalculation!$E$4+2,TRUE),\">\"&B19)-COUNTIF(INDIRECT(\"MonteCarlo!\"&CostCalculation!$N$10&3,TRUE):INDIRECT(\"MonteCarlo!\"&CostCalculation!$N$10&CostCalculation!$E$4+2,TRUE),\">\"&B20))/CostCalculation!$E$4)","v":{"$error":"#N/A"}},null,null,null,null,"Letztes Element","o",25]
[3.9E-2,{"$f":"ROUND(INDIRECT(\"CostCalculation!D\"&CostCalculation!$O$10,TRUE)*A20,0)","v":19120},{"$f":"IF((COUNTIF(INDIRECT(\"MonteCarlo!\"&CostCalculation!$N$10&3,TRUE):INDIRECT(\"MonteCarlo!\"&CostCalculation!$N$10&CostCalculation!$E$4+2,TRUE),\"<=\"&B20))/CostCalculation!$E$4=0,#N/A,(COUNTIF(INDIRECT(\"MonteCarlo!\"&CostCalculation!$N$10&3,TRUE):INDIRECT(\"MonteCarlo!\"&CostCalculation!$N$10&CostCalculation!$E$4+2,TRUE),\"<=\"&B20))/CostCalculation!$E$4)","v":{"$error":"#N/A"}},19120,{"$f":"IF((COUNTIF(INDIRECT(\"MonteCarlo!\"&CostCalculation!$N$10&3,TRUE):INDIRECT(\"MonteCarlo!\"&CostCalculation!$N$10&CostCalculation!$E$4+2,TRUE),\">\"&B20)-COUNTIF(INDIRECT(\"MonteCarlo!\"&CostCalculation!$N$10&3,TRUE):INDIRECT(\"MonteCarlo!\"&CostCalculation!$N$10&CostCalculation!$E$4+2,TRUE),\">\"&B21))/CostCalculation!$E$4=0,#N/A,(COUNTIF(INDIRECT(\"MonteCarlo!\"&CostCalculation!$N$10&3,TRUE):INDIRECT(\"MonteCarlo!\"&CostCalculation!$N$10&CostCalculation!$E$4+2,TRUE),\">\"&B20)-COUNTIF(INDIRECT(\"MonteCarlo!\"&CostCalculation!$N$10&3,TRUE):INDIRECT(\"MonteCarlo!\"&CostCalculation!$N$10&CostCalculation!$E$4+2,TRUE),\">\"&B21))/CostCalculation!$E$4)","v":{"$error":"#N/A"}},null,null,null,null,"Placeholder_2","p",26]
[4.2000000000000003E-2,{"$f":"ROUND(INDIRECT(\"CostCalculation!D\"&CostCalculation!$O$10,TRUE)*A21,0)","v":20590},{"$f":"IF((COUNTIF(INDIRECT(\"MonteCarlo!\"&CostCalculation!$N$10&3,TRUE):INDIRECT(\"MonteCarlo!\"&CostCalculation!$N$10&CostCalculation!$E$4+2,TRUE),\"<=\"&B21))/CostCalculation!$E$4=0,#N/A,(COUNTIF(INDIRECT(\"MonteCarlo!\"&CostCalculation!$N$10&3,TRUE):INDIRECT(\"MonteCarlo!\"&CostCalculation!$N$10&CostCalculation!$E$4+2,TRUE),\"<=\"&B21))/CostCalculation!$E$4)","v":{"$error":"#N/A"}},20590,{"$f":"IF((COUNTIF(INDIRECT(\"MonteCarlo!\"&CostCalculation!$N$10&3,TRUE):INDIRECT(\"MonteCarlo!\"&CostCalculation!$N$10&CostCalculation!$E$4+2,TRUE),\">\"&B21)-COUNTIF(INDIRECT(\"MonteCarlo!\"&CostCalculation!$N$10&3,TRUE):INDIRECT(\"MonteCarlo!\"&CostCalculation!$N$10&CostCalculation!$E$4+2,TRUE),\">\"&B22))/CostCalculation!$E$4=0,#N/A,(COUNTIF(INDIRECT(\"MonteCarlo!\"&CostCalculation!$N$10&3,TRUE):INDIRECT(\"MonteCarlo!\"&CostCalculation!$N$10&CostCalculation!$E$4+2,TRUE),\">\"&B21)-COUNTIF(INDIRECT(\"MonteCarlo!\"&CostCalculation!$N$10&3,TRUE):INDIRECT(\"MonteCarlo!\"&CostCalculation!$N$10&CostCalculation!$E$4+2,TRUE),\">\"&B22))/CostCalculation!$E$4)","v":{"$error":"#N/A"}},null,null,null,null,"Placeholder_3","q",27]
[4.4999999999999998E-2,{"$f":"ROUND(INDIRECT(\"CostCalculation!D\"&CostCalculation!$O$10,TRUE)*A22,0)","v":22061},{"$f":"IF((COUNTIF(INDIRECT(\"MonteCarlo!\"&CostCalculation!$N$10&3,TRUE):INDIRECT(\"MonteCarlo!\"&CostCalculation!$N$10&CostCalculation!$E$4+2,TRUE),\"<=\"&B22))/CostCalculation!$E$4=0,#N/A,(COUNTIF(INDIRECT(\"MonteCarlo!\"&CostCalculation!$N$10&3,TRUE):INDIRECT(\"MonteCarlo!\"&CostCalculation!$N$10&CostCalculation!$E$4+2,TRUE),\"<=\"&B22))/CostCalculation!$E$4)","v":{"$error":"#N/A"}},22061,{"$f":"IF((COUNTIF(INDIRECT(\"MonteCarlo!\"&CostCalculation!$N$10&3,TRUE):INDIRECT(\"MonteCarlo!\"&CostCalculation!$N$10&CostCalculation!$E$4+2,TRUE),\">\"&B22)-COUNTIF(INDIRECT(\"MonteCarlo!\"&CostCalculation!$N$10&3,TRUE):INDIRECT(\"MonteCarlo!\"&CostCalculation!$N$10&CostCalculation!$E$4+2,TRUE),\">\"&B23))/CostCalculation!$E$4=0,#N/A,(COUNTIF(INDIRECT(\"MonteCarlo!\"&CostCalculation!$N$10&3,TRUE):INDIRECT(\"MonteCarlo!\"&CostCalculation!$N$10&CostCalculation!$E$4+2,TRUE),\">\"&B22)-COUNTIF(INDIRECT(\"MonteCarlo!\"&CostCalculation!$N$10&3,TRUE):INDIRECT(\"MonteCarlo!\"&CostCalculation!$N$10&CostCalculation!$E$4+2,TRUE),\">\"&B23))/CostCalculation!$E$4)","v":{"$error":"#N/A"}},null,null,null,null,"Placeholder_4","r",28]
[4.8000000000000001E-2,{"$f":"ROUND(INDIRECT(\"CostCalculation!D\"&CostCalculation!$O$10,TRUE)*A23,0)","v":23532},{"$f":"IF((COUNTIF(INDIRECT(\"MonteCarlo!\"&CostCalculation!$N$10&3,TRUE):INDIRECT(\"MonteCarlo!\"&CostCalculation!$N$10&CostCalculation!$E$4+2,TRUE),\"<=\"&B23))/CostCalculation!$E$4=0,#N/A,(COUNTIF(INDIRECT(\"MonteCarlo!\"&CostCalculation!$N$10&3,TRUE):INDIRECT(\"MonteCarlo!\"&CostCalculation!$N$10&CostCalculation!$E$4+2,TRUE),\"<=\"&B23))/CostCalculation!$E$4)","v":{"$error":"#N/A"}},23532,{"$f":"IF((COUNTIF(INDIRECT(\"MonteCarlo!\"&CostCalculation!$N$10&3,TRUE):INDIRECT(\"MonteCarlo!\"&CostCalculation!$N$10&CostCalculation!$E$4+2,TRUE),\">\"&B23)-COUNTIF(INDIRECT(\"MonteCarlo!\"&CostCalculation!$N$10&3,TRUE):INDIRECT(\"MonteCarlo!\"&CostCalculation!$N$10&CostCalculation!$E$4+2,TRUE),\">\"&B24))/CostCalculation!$E$4=0,#N/A,(COUNTIF(INDIRECT(\"MonteCarlo!\"&CostCalculation!$N$10&3,TRUE):INDIRECT(\"MonteCarlo!\"&CostCalculation!$N$10&CostCalculation!$E$4+2,TRUE),\">\"&B23)-COUNTIF(INDIRECT(\"MonteCarlo!\"&CostCalculation!$N$10&3,TRUE):INDIRECT(\"MonteCarlo!\"&CostCalculation!$N$10&CostCalculation!$E$4+2,TRUE),\">\"&B24))/CostCalculation!$E$4)","v":{"$error":"#N/A"}},null,null,null,null,"Placeholder_5","s",29]
[5.0999999999999997E-2,{"$f":"ROUND(INDIRECT(\"CostCalculation!D\"&CostCalculation!$O$10,TRUE)*A24,0)","v":25002},{"$f":"IF((COUNTIF(INDIRECT(\"MonteCarlo!\"&CostCalculation!$N$10&3,TRUE):INDIRECT(\"MonteCarlo!\"&CostCalculation!$N$10&CostCalculation!$E$4+2,TRUE),\"<=\"&B24))/CostCalculation!$E$4=0,#N/A,(COUNTIF(INDIRECT(\"MonteCarlo!\"&CostCalculation!$N$10&3,TRUE):INDIRECT(\"MonteCarlo!\"&CostCalculation!$N$10&CostCalculation!$E$4+2,TRUE),\"<=\"&B24))/CostCalculation!$E$4)","v":{"$error":"#N/A"}},25002,{"$f":"IF((COUNTIF(INDIRECT(\"MonteCarlo!\"&CostCalculation!$N$10&3,TRUE):INDIRECT(\"MonteCarlo!\"&CostCalculation!$N$10&CostCalculation!$E$4+2,TRUE),\">\"&B24)-COUNTIF(INDIRECT(\"MonteCarlo!\"&CostCalculation!$N$10&3,TRUE):INDIRECT(\"MonteCarlo!\"&CostCalculation!$N$10&CostCalculation!$E$4+2,TRUE),\">\"&B25))/CostCalculation!$E$4=0,#N/A,(COUNTIF(INDIRECT(\"MonteCarlo!\"&CostCalculation!$N$10&3,TRUE):INDIRECT(\"MonteCarlo!\"&CostCalculation!$N$10&CostCalculation!$E$4+2,TRUE),\">\"&B24)-COUNTIF(INDIRECT(\"MonteCarlo!\"&CostCalculation!$N$10&3,TRUE):INDIRECT(\"MonteCarlo!\"&CostCalculation!$N$10&CostCalculation!$E$4+2,TRUE),\">\"&B25))/CostCalculation!$E$4)","v":{"$error":"#N/A"}},null,null,null,null,"Smaragd","t",30]
[5.3999999999999999E-2,{"$f":"ROUND(INDIRECT(\"CostCalculation!D\"&CostCalculation!$O$10,TRUE)*A25,0)","v":26473},{"$f":"IF((COUNTIF(INDIRECT(\"MonteCarlo!\"&CostCalculation!$N$10&3,TRUE):INDIRECT(\"MonteCarlo!\"&CostCalculation!$N$10&CostCalculation!$E$4+2,TRUE),\"<=\"&B25))/CostCalculation!$E$4=0,#N/A,(COUNTIF(INDIRECT(\"MonteCarlo!\"&CostCalculation!$N$10&3,TRUE):INDIRECT(\"MonteCarlo!\"&CostCalculation!$N$10&CostCalculation!$E$4+2,TRUE),\"<=\"&B25))/CostCalculation!$E$4)","v":{"$error":"#N/A"}},26473,{"$f":"IF((COUNTIF(INDIRECT(\"MonteCarlo!\"&CostCalculation!$N$10&3,TRUE):INDIRECT(\"MonteCarlo!\"&CostCalculation!$N$10&CostCalculation!$E$4+2,TRUE),\">\"&B25)-COUNTIF(INDIRECT(\"MonteCarlo!\"&CostCalculation!$N$10&3,TRUE):INDIRECT(\"MonteCarlo!\"&CostCalculation!$N$10&CostCalculation!$E$4+2,TRUE),\">\"&B26))/CostCalculation!$E$4=0,#N/A,(COUNTIF(INDIRECT(\"MonteCarlo!\"&CostCalculation!$N$10&3,TRUE):INDIRECT(\"MonteCarlo!\"&CostCalculation!$N$10&CostCalculation!$E$4+2,TRUE),\">\"&B25)-COUNTIF(INDIRECT(\"MonteCarlo!\"&CostCalculation!$N$10&3,TRUE):INDIRECT(\"MonteCarlo!\"&CostCalculation!$N$10&CostCalculation!$E$4+2,TRUE),\">\"&B26))/CostCalculation!$E$4)","v":{"$error":"#N/A"}},null,null,null,null,"Diamant","u",31,null,null,{"$f":"1/(4*10^-13)","v":2500000000000}]
[5.7000000000000002E-2,{"$f":"ROUND(INDIRECT(\"CostCalculation!D\"&CostCalculation!$O$10,TRUE)*A26,0)","v":27944},{"$f":"IF((COUNTIF(INDIRECT(\"MonteCarlo!\"&CostCalculation!$N$10&3,TRUE):INDIRECT(\"MonteCarlo!\"&CostCalculation!$N$10&CostCalculation!$E$4+2,TRUE),\"<=\"&B26))/CostCalculation!$E$4=0,#N/A,(COUNTIF(INDIRECT(\"MonteCarlo!\"&CostCalculation!$N$10&3,TRUE):INDIRECT(\"MonteCarlo!\"&CostCalculation!$N$10&CostCalculation!$E$4+2,TRUE),\"<=\"&B26))/CostCalculation!$E$4)","v":{"$error":"#N/A"}},27944,{"$f":"IF((COUNTIF(INDIRECT(\"MonteCarlo!\"&CostCalculation!$N$10&3,TRUE):INDIRECT(\"MonteCarlo!\"&CostCalculation!$N$10&CostCalculation!$E$4+2,TRUE),\">\"&B26)-COUNTIF(INDIRECT(\"MonteCarlo!\"&CostCalculation!$N$10&3,TRUE):INDIRECT(\"MonteCarlo!\"&CostCalculation!$N$10&CostCalculation!$E$4+2,TRUE),\">\"&B27))/CostCalculation!$E$4=0,#N/A,(COUNTIF(INDIRECT(\"MonteCarlo!\"&CostCalculation!$N$10&3,TRUE):INDIRECT(\"MonteCarlo!\"&CostCalculation!$N$10&CostCalculation!$E$4+2,TRUE),\">\"&B26)-COUNTIF(INDIRECT(\"MonteCarlo!\"&CostCalculation!$N$10&3,TRUE):INDIRECT(\"MonteCarlo!\"&CostCalculation!$N$10&CostCalculation!$E$4+2,TRUE),\">\"&B27))/CostCalculation!$E$4)","v":{"$error":"#N/A"}},null,null,null,null,"Gold","v",32]
[0.06,{"$f":"ROUND(INDIRECT(\"CostCalculation!D\"&CostCalculation!$O$10,TRUE)*A27,0)","v":29415},{"$f":"IF((COUNTIF(INDIRECT(\"MonteCarlo!\"&CostCalculation!$N$10&3,TRUE):INDIRECT(\"MonteCarlo!\"&CostCalculation!$N$10&CostCalculation!$E$4+2,TRUE),\"<=\"&B27))/CostCalculation!$E$4=0,#N/A,(COUNTIF(INDIRECT(\"MonteCarlo!\"&CostCalculation!$N$10&3,TRUE):INDIRECT(\"MonteCarlo!\"&CostCalculation!$N$10&CostCalculation!$E$4+2,TRUE),\"<=\"&B27))/CostCalculation!$E$4)","v":{"$error":"#N/A"}},29415,{"$f":"IF((COUNTIF(INDIRECT(\"MonteCarlo!\"&CostCalculation!$N$10&3,TRUE):INDIRECT(\"MonteCarlo!\"&CostCalculation!$N$10&CostCalculation!$E$4+2,TRUE),\">\"&B27)-COUNTIF(INDIRECT(\"MonteCarlo!\"&CostCalculation!$N$10&3,TRUE):INDIRECT(\"MonteCarlo!\"&CostCalculation!$N$10&CostCalculation!$E$4+2,TRUE),\">\"&B28))/CostCalculation!$E$4=0,#N/A,(COUNTIF(INDIRECT(\"MonteCarlo!\"&CostCalculation!$N$10&3,TRUE):INDIRECT(\"MonteCarlo!\"&CostCalculation!$N$10&CostCalculation!$E$4+2,TRUE),\">\"&B27)-COUNTIF(INDIRECT(\"MonteCarlo!\"&CostCalculation!$N$10&3,TRUE):INDIRECT(\"MonteCarlo!\"&CostCalculation!$N$10&CostCalculation!$E$4+2,TRUE),\">\"&B28))/CostCalculation!$E$4)","v":{"$error":"#N/A"}},null,null,null,null,"Metamorph","w",33,null,null,{"$f":"14*10^6","v":14000000}]
[6.3E-2,{"$f":"ROUND(INDIRECT(\"CostCalculation!D\"&CostCalculation!$O$10,TRUE)*A28,0)","v":30885},{"$f":"IF((COUNTIF(INDIRECT(\"MonteCarlo!\"&CostCalculation!$N$10&3,TRUE):INDIRECT(\"MonteCarlo!\"&CostCalculation!$N$10&CostCalculation!$E$4+2,TRUE),\"<=\"&B28))/CostCalculation!$E$4=0,#N/A,(COUNTIF(INDIRECT(\"MonteCarlo!\"&CostCalculation!$N$10&3,TRUE):INDIRECT(\"MonteCarlo!\"&CostCalculation!$N$10&CostCalculation!$E$4+2,TRUE),\"<=\"&B28))/CostCalculation!$E$4)","v":{"$error":"#N/A"}},30885,{"$f":"IF((COUNTIF(INDIRECT(\"MonteCarlo!\"&CostCalculation!$N$10&3,TRUE):INDIRECT(\"MonteCarlo!\"&CostCalculation!$N$10&CostCalculation!$E$4+2,TRUE),\">\"&B28)-COUNTIF(INDIRECT(\"MonteCarlo!\"&CostCalculation!$N$10&3,TRUE):INDIRECT(\"MonteCarlo!\"&CostCalculation!$N$10&CostCalculation!$E$4+2,TRUE),\">\"&B29))/CostCalculation!$E$4=0,#N/A,(COUNTIF(INDIRECT(\"MonteCarlo!\"&CostCalculation!$N$10&3,TRUE):INDIRECT(\"MonteCarlo!\"&CostCalculation!$N$10&CostCalculation!$E$4+2,TRUE),\">\"&B28)-COUNTIF(INDIRECT(\"MonteCarlo!\"&CostCalculation!$N$10&3,TRUE):INDIRECT(\"MonteCarlo!\"&CostCalculation!$N$10&CostCalculation!$E$4+2,TRUE),\">\"&B29))/CostCalculation!$E$4)","v":{"$error":"#N/A"}},null,null,null,null,"Goldwert","x",34,null,null,{"$f":"O27^2","v":196000000000000}]
[6.6000000000000003E-2,{"$f":"ROUND(INDIRECT(\"CostCalculation!D\"&CostCalculation!$O$10,TRUE)*A29,0)","v":32356},{"$f":"IF((COUNTIF(INDIRECT(\"MonteCarlo!\"&CostCalculation!$N$10&3,TRUE):INDIRECT(\"MonteCarlo!\"&CostCalculation!$N$10&CostCalculation!$E$4+2,TRUE),\"<=\"&B29))/CostCalculation!$E$4=0,#N/A,(COUNTIF(INDIRECT(\"MonteCarlo!\"&CostCalculation!$N$10&3,TRUE):INDIRECT(\"MonteCarlo!\"&CostCalculation!$N$10&CostCalculation!$E$4+2,TRUE),\"<=\"&B29))/CostCalculation!$E$4)","v":{"$error":"#N/A"}},32356,{"$f":"IF((COUNTIF(INDIRECT(\"MonteCarlo!\"&CostCalculation!$N$10&3,TRUE):INDIRECT(\"MonteCarlo!\"&CostCalculation!$N$10&CostCalculation!$E$4+2,TRUE),\">\"&B29)-COUNTIF(INDIRECT(\"MonteCarlo!\"&CostCalculation!$N$10&3,TRUE):INDIRECT(\"MonteCarlo!\"&CostCalculation!$N$10&CostCalculation!$E$4+2,TRUE),\">\"&B30))/CostCalculation!$E$4=0,#N/A,(COUNTIF(INDIRECT(\"MonteCarlo!\"&CostCalculation!$N$10&3,TRUE):INDIRECT(\"MonteCarlo!\"&CostCalculation!$N$10&CostCalculation!$E$4+2,TRUE),\">\"&B29)-COUNTIF(INDIRECT(\"MonteCarlo!\"&CostCalculation!$N$10&3,TRUE):INDIRECT(\"MonteCarlo!\"&CostCalculation!$N$10&CostCalculation!$E$4+2,TRUE),\">\"&B30))/CostCalculation!$E$4)","v":0.23400000000000001}]
[6.9000000000000006E-2,{"$f":"ROUND(INDIRECT(\"CostCalculation!D\"&CostCalculation!$O$10,TRUE)*A30,0)","v":33827},{"$f":"IF((COUNTIF(INDIRECT(\"MonteCarlo!\"&CostCalculation!$N$10&3,TRUE):INDIRECT(\"MonteCarlo!\"&CostCalculation!$N$10&CostCalculation!$E$4+2,TRUE),\"<=\"&B30))/CostCalculation!$E$4=0,#N/A,(COUNTIF(INDIRECT(\"MonteCarlo!\"&CostCalculation!$N$10&3,TRUE):INDIRECT(\"MonteCarlo!\"&CostCalculation!$N$10&CostCalculation!$E$4+2,TRUE),\"<=\"&B30))/CostCalculation!$E$4)","v":0.23400000000000001},33827,{"$f":"IF((COUNTIF(INDIRECT(\"MonteCarlo!\"&CostCalculation!$N$10&3,TRUE):INDIRECT(\"MonteCarlo!\"&CostCalculation!$N$10&CostCalculation!$E$4+2,TRUE),\">\"&B30)-COUNTIF(INDIRECT(\"MonteCarlo!\"&CostCalculation!$N$10&3,TRUE):INDIRECT(\"MonteCarlo!\"&CostCalculation!$N$10&CostCalculation!$E$4+2,TRUE),\">\"&B31))/CostCalculation!$E$4=0,#N/A,(COUNTIF(INDIRECT(\"MonteCarlo!\"&CostCalculation!$N$10&3,TRUE):INDIRECT(\"MonteCarlo!\"&CostCalculation!$N$10&CostCalculation!$E$4+2,TRUE),\">\"&B30)-COUNTIF(INDIRECT(\"MonteCarlo!\"&CostCalculation!$N$10&3,TRUE):INDIRECT(\"MonteCarlo!\"&CostCalculation!$N$10&CostCalculation!$E$4+2,TRUE),\">\"&B31))/CostCalculation!$E$4)","v":{"$error":"#N/A"}}]
[7.1999999999999995E-2,{"$f":"ROUND(INDIRECT(\"CostCalculation!D\"&CostCalculation!$O$10,TRUE)*A31,0)","v":35298},{"$f":"IF((COUNTIF(INDIRECT(\"MonteCarlo!\"&CostCalculation!$N$10&3,TRUE):INDIRECT(\"MonteCarlo!\"&CostCalculation!$N$10&CostCalculation!$E$4+2,TRUE),\"<=\"&B31))/CostCalculation!$E$4=0,#N/A,(COUNTIF(INDIRECT(\"MonteCarlo!\"&CostCalculation!$N$10&3,TRUE):INDIRECT(\"MonteCarlo!\"&CostCalculation!$N$10&CostCalculation!$E$4+2,TRUE),\"<=\"&B31))/CostCalculation!$E$4)","v":0.23400000000000001},35298,{"$f":"IF((COUNTIF(INDIRECT(\"MonteCarlo!\"&CostCalculation!$N$10&3,TRUE):INDIRECT(\"MonteCarlo!\"&CostCalculation!$N$10&CostCalculation!$E$4+2,TRUE),\">\"&B31)-COUNTIF(INDIRECT(\"MonteCarlo!\"&CostCalculation!$N$10&3,TRUE):INDIRECT(\"MonteCarlo!\"&CostCalculation!$N$10&CostCalculation!$E$4+2,TRUE),\">\"&B32))/CostCalculation!$E$4=0,#N/A,(COUNTIF(INDIRECT(\"MonteCarlo!\"&CostCalculation!$N$10&3,TRUE):INDIRECT(\"MonteCarlo!\"&CostCalculation!$N$10&CostCalculation!$E$4+2,TRUE),\">\"&B31)-COUNTIF(INDIRECT(\"MonteCarlo!\"&CostCalculation!$N$10&3,TRUE):INDIRECT(\"MonteCarlo!\"&CostCalculation!$N$10&CostCalculation!$E$4+2,TRUE),\">\"&B32))/CostCalculation!$E$4)","v":{"$error":"#N/A"}}]
[7.4999999999999997E-2,{"$f":"ROUND(INDIRECT(\"CostCalculation!D\"&CostCalculation!$O$10,TRUE)*A32,0)","v":36768},{"$f":"IF((COUNTIF(INDIRECT(\"MonteCarlo!\"&CostCalculation!$N$10&3,TRUE):INDIRECT(\"MonteCarlo!\"&CostCalculation!$N$10&CostCalculation!$E$4+2,TRUE),\"<=\"&B32))/CostCalculation!$E$4=0,#N/A,(COUNTIF(INDIRECT(\"MonteCarlo!\"&CostCalculation!$N$10&3,TRUE):INDIRECT(\"MonteCarlo!\"&CostCalculation!$N$10&CostCalculation!$E$4+2,TRUE),\"<=\"&B32))/CostCalculation!$E$4)","v":0.23400000000000001},36768,{"$f":"IF((COUNTIF(INDIRECT(\"MonteCarlo!\"&CostCalculation!$N$10&3,TRUE):INDIRECT(\"MonteCarlo!\"&CostCalculation!$N$10&CostCalculation!$E$4+2,TRUE),\">\"&B32)-COUNTIF(INDIRECT(\"MonteCarlo!\"&CostCalculation!$N$10&3,TRUE):INDIRECT(\"MonteCarlo!\"&CostCalculation!$N$10&CostCalculation!$E$4+2,TRUE),\">\"&B33))/CostCalculation!$E$4=0,#N/A,(COUNTIF(INDIRECT(\"MonteCarlo!\"&CostCalculation!$N$10&3,TRUE):INDIRECT(\"MonteCarlo!\"&CostCalculation!$N$10&CostCalculation!$E$4+2,TRUE),\">\"&B32)-COUNTIF(INDIRECT(\"MonteCarlo!\"&CostCalculation!$N$10&3,TRUE):INDIRECT(\"MonteCarlo!\"&CostCalculation!$N$10&CostCalculation!$E$4+2,TRUE),\">\"&B33))/CostCalculation!$E$4)","v":{"$error":"#N/A"}}]
[7.8E-2,{"$f":"ROUND(INDIRECT(\"CostCalculation!D\"&CostCalculation!$O$10,TRUE)*A33,0)","v":38239},{"$f":"IF((COUNTIF(INDIRECT(\"MonteCarlo!\"&CostCalculation!$N$10&3,TRUE):INDIRECT(\"MonteCarlo!\"&CostCalculation!$N$10&CostCalculation!$E$4+2,TRUE),\"<=\"&B33))/CostCalculation!$E$4=0,#N/A,(COUNTIF(INDIRECT(\"MonteCarlo!\"&CostCalculation!$N$10&3,TRUE):INDIRECT(\"MonteCarlo!\"&CostCalculation!$N$10&CostCalculation!$E$4+2,TRUE),\"<=\"&B33))/CostCalculation!$E$4)","v":0.23400000000000001},38239,{"$f":"IF((COUNTIF(INDIRECT(\"MonteCarlo!\"&CostCalculation!$N$10&3,TRUE):INDIRECT(\"MonteCarlo!\"&CostCalculation!$N$10&CostCalculation!$E$4+2,TRUE),\">\"&B33)-COUNTIF(INDIRECT(\"MonteCarlo!\"&CostCalculation!$N$10&3,TRUE):INDIRECT(\"MonteCarlo!\"&CostCalculation!$N$10&CostCalculation!$E$4+2,TRUE),\">\"&B34))/CostCalculation!$E$4=0,#N/A,(COUNTIF(INDIRECT(\"MonteCarlo!\"&CostCalculation!$N$10&3,TRUE):INDIRECT(\"MonteCarlo!\"&CostCalculation!$N$10&CostCalculation!$E$4+2,TRUE),\">\"&B33)-COUNTIF(INDIRECT(\"MonteCarlo!\"&CostCalculation!$N$10&3,TRUE):INDIRECT(\"MonteCarlo!\"&CostCalculation!$N$10&CostCalculation!$E$4+2,TRUE),\">\"&B34))/CostCalculation!$E$4)","v":{"$error":"#N/A"}}]
[8.1000000000000003E-2,{"$f":"ROUND(INDIRECT(\"CostCalculation!D\"&CostCalculation!$O$10,TRUE)*A34,0)","v":39710},{"$f":"IF((COUNTIF(INDIRECT(\"MonteCarlo!\"&CostCalculation!$N$10&3,TRUE):INDIRECT(\"MonteCarlo!\"&CostCalculation!$N$10&CostCalculation!$E$4+2,TRUE),\"<=\"&B34))/CostCalculation!$E$4=0,#N/A,(COUNTIF(INDIRECT(\"MonteCarlo!\"&CostCalculation!$N$10&3,TRUE):INDIRECT(\"MonteCarlo!\"&CostCalculation!$N$10&CostCalculation!$E$4+2,TRUE),\"<=\"&B34))/CostCalculation!$E$4)","v":0.23400000000000001},39710,{"$f":"IF((COUNTIF(INDIRECT(\"MonteCarlo!\"&CostCalculation!$N$10&3,TRUE):INDIRECT(\"MonteCarlo!\"&CostCalculation!$N$10&CostCalculation!$E$4+2,TRUE),\">\"&B34)-COUNTIF(INDIRECT(\"MonteCarlo!\"&CostCalculation!$N$10&3,TRUE):INDIRECT(\"MonteCarlo!\"&CostCalculation!$N$10&CostCalculation!$E$4+2,TRUE),\">\"&B35))/CostCalculation!$E$4=0,#N/A,(COUNTIF(INDIRECT(\"MonteCarlo!\"&CostCalculation!$N$10&3,TRUE):INDIRECT(\"MonteCarlo!\"&CostCalculation!$N$10&CostCalculation!$E$4+2,TRUE),\">\"&B34)-COUNTIF(INDIRECT(\"MonteCarlo!\"&CostCalculation!$N$10&3,TRUE):INDIRECT(\"MonteCarlo!\"&CostCalculation!$N$10&CostCalculation!$E$4+2,TRUE),\">\"&B35))/CostCalculation!$E$4)","v":{"$error":"#N/A"}}]
[8.4000000000000005E-2,{"$f":"ROUND(INDIRECT(\"CostCalculation!D\"&CostCalculation!$O$10,TRUE)*A35,0)","v":41181},{"$f":"IF((COUNTIF(INDIRECT(\"MonteCarlo!\"&CostCalculation!$N$10&3,TRUE):INDIRECT(\"MonteCarlo!\"&CostCalculation!$N$10&CostCalculation!$E$4+2,TRUE),\"<=\"&B35))/CostCalculation!$E$4=0,#N/A,(COUNTIF(INDIRECT(\"MonteCarlo!\"&CostCalculation!$N$10&3,TRUE):INDIRECT(\"MonteCarlo!\"&CostCalculation!$N$10&CostCalculation!$E$4+2,TRUE),\"<=\"&B35))/CostCalculation!$E$4)","v":0.23400000000000001},41181,{"$f":"IF((COUNTIF(INDIRECT(\"MonteCarlo!\"&CostCalculation!$N$10&3,TRUE):INDIRECT(\"MonteCarlo!\"&CostCalculation!$N$10&CostCalculation!$E$4+2,TRUE),\">\"&B35)-COUNTIF(INDIRECT(\"MonteCarlo!\"&CostCalculation!$N$10&3,TRUE):INDIRECT(\"MonteCarlo!\"&CostCalculation!$N$10&CostCalculation!$E$4+2,TRUE),\">\"&B36))/CostCalculation!$E$4=0,#N/A,(COUNTIF(INDIRECT(\"MonteCarlo!\"&CostCalculation!$N$10&3,TRUE):INDIRECT(\"MonteCarlo!\"&CostCalculation!$N$10&CostCalculation!$E$4+2,TRUE),\">\"&B35)-COUNTIF(INDIRECT(\"MonteCarlo!\"&CostCalculation!$N$10&3,TRUE):INDIRECT(\"MonteCarlo!\"&CostCalculation!$N$10&CostCalculation!$E$4+2,TRUE),\">\"&B36))/CostCalculation!$E$4)","v":{"$error":"#N/A"}}]
[8.6999999999999994E-2,{"$f":"ROUND(INDIRECT(\"CostCalculation!D\"&CostCalculation!$O$10,TRUE)*A36,0)","v":42651},{"$f":"IF((COUNTIF(INDIRECT(\"MonteCarlo!\"&CostCalculation!$N$10&3,TRUE):INDIRECT(\"MonteCarlo!\"&CostCalculation!$N$10&CostCalculation!$E$4+2,TRUE),\"<=\"&B36))/CostCalculation!$E$4=0,#N/A,(COUNTIF(INDIRECT(\"MonteCarlo!\"&CostCalculation!$N$10&3,TRUE):INDIRECT(\"MonteCarlo!\"&CostCalculation!$N$10&CostCalculation!$E$4+2,TRUE),\"<=\"&B36))/CostCalculation!$E$4)","v":0.23400000000000001},42651,{"$f":"IF((COUNTIF(INDIRECT(\"MonteCarlo!\"&CostCalculation!$N$10&3,TRUE):INDIRECT(\"MonteCarlo!\"&CostCalculation!$N$10&CostCalculation!$E$4+2,TRUE),\">\"&B36)-COUNTIF(INDIRECT(\"MonteCarlo!\"&CostCalculation!$N$10&3,TRUE):INDIRECT(\"MonteCarlo!\"&CostCalculation!$N$10&CostCalculation!$E$4+2,TRUE),\">\"&B37))/CostCalculation!$E$4=0,#N/A,(COUNTIF(INDIRECT(\"MonteCarlo!\"&CostCalculation!$N$10&3,TRUE):INDIRECT(\"MonteCarlo!\"&CostCalculation!$N$10&CostCalculation!$E$4+2,TRUE),\">\"&B36)-COUNTIF(INDIRECT(\"MonteCarlo!\"&CostCalculation!$N$10&3,TRUE):INDIRECT(\"MonteCarlo!\"&CostCalculation!$N$10&CostCalculation!$E$4+2,TRUE),\">\"&B37))/CostCalculation!$E$4)","v":{"$error":"#N/A"}}]
[0.09,{"$f":"ROUND(INDIRECT(\"CostCalculation!D\"&CostCalculation!$O$10,TRUE)*A37,0)","v":44122},{"$f":"IF((COUNTIF(INDIRECT(\"MonteCarlo!\"&CostCalculation!$N$10&3,TRUE):INDIRECT(\"MonteCarlo!\"&CostCalculation!$N$10&CostCalculation!$E$4+2,TRUE),\"<=\"&B37))/CostCalculation!$E$4=0,#N/A,(COUNTIF(INDIRECT(\"MonteCarlo!\"&CostCalculation!$N$10&3,TRUE):INDIRECT(\"MonteCarlo!\"&CostCalculation!$N$10&CostCalculation!$E$4+2,TRUE),\"<=\"&B37))/CostCalculation!$E$4)","v":0.23400000000000001},44122,{"$f":"IF((COUNTIF(INDIRECT(\"MonteCarlo!\"&CostCalculation!$N$10&3,TRUE):INDIRECT(\"MonteCarlo!\"&CostCalculation!$N$10&CostCalculation!$E$4+2,TRUE),\">\"&B37)-COUNTIF(INDIRECT(\"MonteCarlo!\"&CostCalculation!$N$10&3,TRUE):INDIRECT(\"MonteCarlo!\"&CostCalculation!$N$10&CostCalculation!$E$4+2,TRUE),\">\"&B38))/CostCalculation!$E$4=0,#N/A,(COUNTIF(INDIRECT(\"MonteCarlo!\"&CostCalculation!$N$10&3,TRUE):INDIRECT(\"MonteCarlo!\"&CostCalculation!$N$10&CostCalculation!$E$4+2,TRUE),\">\"&B37)-COUNTIF(INDIRECT(\"MonteCarlo!\"&CostCalculation!$N$10&3,TRUE):INDIRECT(\"MonteCarlo!\"&CostCalculation!$N$10&CostCalculation!$E$4+2,TRUE),\">\"&B38))/CostCalculation!$E$4)","v":{"$error":"#N/A"}}]
[9.2999999999999999E-2,{"$f":"ROUND(INDIRECT(\"CostCalculation!D\"&CostCalculation!$O$10,TRUE)*A38,0)","v":45593},{"$f":"IF((COUNTIF(INDIRECT(\"MonteCarlo!\"&CostCalculation!$N$10&3,TRUE):INDIRECT(\"MonteCarlo!\"&CostCalculation!$N$10&CostCalculation!$E$4+2,TRUE),\"<=\"&B38))/CostCalculation!$E$4=0,#N/A,(COUNTIF(INDIRECT(\"MonteCarlo!\"&CostCalculation!$N$10&3,TRUE):INDIRECT(\"MonteCarlo!\"&CostCalculation!$N$10&CostCalculation!$E$4+2,TRUE),\"<=\"&B38))/CostCalculation!$E$4)","v":0.23400000000000001},45593,{"$f":"IF((COUNTIF(INDIRECT(\"MonteCarlo!\"&CostCalculation!$N$10&3,TRUE):INDIRECT(\"MonteCarlo!\"&CostCalculation!$N$10&CostCalculation!$E$4+2,TRUE),\">\"&B38)-COUNTIF(INDIRECT(\"MonteCarlo!\"&CostCalculation!$N$10&3,TRUE):INDIRECT(\"MonteCarlo!\"&CostCalculation!$N$10&CostCalculation!$E$4+2,TRUE),\">\"&B39))/CostCalculation!$E$4=0,#N/A,(COUNTIF(INDIRECT(\"MonteCarlo!\"&CostCalculation!$N$10&3,TRUE):INDIRECT(\"MonteCarlo!\"&CostCalculation!$N$10&CostCalculation!$E$4+2,TRUE),\">\"&B38)-COUNTIF(INDIRECT(\"MonteCarlo!\"&CostCalculation!$N$10&3,TRUE):INDIRECT(\"MonteCarlo!\"&CostCalculation!$N$10&CostCalculation!$E$4+2,TRUE),\">\"&B39))/CostCalculation!$E$4)","v":{"$error":"#N/A"}}]
[9.6000000000000002E-2,{"$f":"ROUND(INDIRECT(\"CostCalculation!D\"&CostCalculation!$O$10,TRUE)*A39,0)","v":47064},{"$f":"IF((COUNTIF(INDIRECT(\"MonteCarlo!\"&CostCalculation!$N$10&3,TRUE):INDIRECT(\"MonteCarlo!\"&CostCalculation!$N$10&CostCalculation!$E$4+2,TRUE),\"<=\"&B39))/CostCalculation!$E$4=0,#N/A,(COUNTIF(INDIRECT(\"MonteCarlo!\"&CostCalculation!$N$10&3,TRUE):INDIRECT(\"MonteCarlo!\"&CostCalculation!$N$10&CostCalculation!$E$4+2,TRUE),\"<=\"&B39))/CostCalculation!$E$4)","v":0.23400000000000001},47064,{"$f":"IF((COUNTIF(INDIRECT(\"MonteCarlo!\"&CostCalculation!$N$10&3,TRUE):INDIRECT(\"MonteCarlo!\"&CostCalculation!$N$10&CostCalculation!$E$4+2,TRUE),\">\"&B39)-COUNTIF(INDIRECT(\"MonteCarlo!\"&CostCalculation!$N$10&3,TRUE):INDIRECT(\"MonteCarlo!\"&CostCalculation!$N$10&CostCalculation!$E$4+2,TRUE),\">\"&B40))/CostCalculation!$E$4=0,#N/A,(COUNTIF(INDIRECT(\"MonteCarlo!\"&CostCalculation!$N$10&3,TRUE):INDIRECT(\"MonteCarlo!\"&CostCalculation!$N$10&CostCalculation!$E$4+2,TRUE),\">\"&B39)-COUNTIF(INDIRECT(\"MonteCarlo!\"&CostCalculation!$N$10&3,TRUE):INDIRECT(\"MonteCarlo!\"&CostCalculation!$N$10&CostCalculation!$E$4+2,TRUE),\">\"&B40))/CostCalculation!$E$4)","v":{"$error":"#N/A"}}]
[9.9000000000000005E-2,{"$f":"ROUND(INDIRECT(\"CostCalculation!D\"&CostCalculation!$O$10,TRUE)*A40,0)","v":48534},{"$f":"IF((COUNTIF(INDIRECT(\"MonteCarlo!\"&CostCalculation!$N$10&3,TRUE):INDIRECT(\"MonteCarlo!\"&CostCalculation!$N$10&CostCalculation!$E$4+2,TRUE),\"<=\"&B40))/CostCalculation!$E$4=0,#N/A,(COUNTIF(INDIRECT(\"MonteCarlo!\"&CostCalculation!$N$10&3,TRUE):INDIRECT(\"MonteCarlo!\"&CostCalculation!$N$10&CostCalculation!$E$4+2,TRUE),\"<=\"&B40))/CostCalculation!$E$4)","v":0.23400000000000001},48534,{"$f":"IF((COUNTIF(INDIRECT(\"MonteCarlo!\"&CostCalculation!$N$10&3,TRUE):INDIRECT(\"MonteCarlo!\"&CostCalculation!$N$10&CostCalculation!$E$4+2,TRUE),\">\"&B40)-COUNTIF(INDIRECT(\"MonteCarlo!\"&CostCalculation!$N$10&3,TRUE):INDIRECT(\"MonteCarlo!\"&CostCalculation!$N$10&CostCalculation!$E$4+2,TRUE),\">\"&B41))/CostCalculation!$E$4=0,#N/A,(COUNTIF(INDIRECT(\"MonteCarlo!\"&CostCalculation!$N$10&3,TRUE):INDIRECT(\"MonteCarlo!\"&CostCalculation!$N$10&CostCalculation!$E$4+2,TRUE),\">\"&B40)-COUNTIF(INDIRECT(\"MonteCarlo!\"&CostCalculation!$N$10&3,TRUE):INDIRECT(\"MonteCarlo!\"&CostCalculation!$N$10&CostCalculation!$E$4+2,TRUE),\">\"&B41))/CostCalculation!$E$4)","v":{"$error":"#N/A"}}]
[0.10199999999999999,{"$f":"ROUND(INDIRECT(\"CostCalculation!D\"&CostCalculation!$O$10,TRUE)*A41,0)","v":50005},{"$f":"IF((COUNTIF(INDIRECT(\"MonteCarlo!\"&CostCalculation!$N$10&3,TRUE):INDIRECT(\"MonteCarlo!\"&CostCalculation!$N$10&CostCalculation!$E$4+2,TRUE),\"<=\"&B41))/CostCalculation!$E$4=0,#N/A,(COUNTIF(INDIRECT(\"MonteCarlo!\"&CostCalculation!$N$10&3,TRUE):INDIRECT(\"MonteCarlo!\"&CostCalculation!$N$10&CostCalculation!$E$4+2,TRUE),\"<=\"&B41))/CostCalculation!$E$4)","v":0.23400000000000001},50005,{"$f":"IF((COUNTIF(INDIRECT(\"MonteCarlo!\"&CostCalculation!$N$10&3,TRUE):INDIRECT(\"MonteCarlo!\"&CostCalculation!$N$10&CostCalculation!$E$4+2,TRUE),\">\"&B41)-COUNTIF(INDIRECT(\"MonteCarlo!\"&CostCalculation!$N$10&3,TRUE):INDIRECT(\"MonteCarlo!\"&CostCalculation!$N$10&CostCalculation!$E$4+2,TRUE),\">\"&B42))/CostCalculation!$E$4=0,#N/A,(COUNTIF(INDIRECT(\"MonteCarlo!\"&CostCalculation!$N$10&3,TRUE):INDIRECT(\"MonteCarlo!\"&CostCalculation!$N$10&CostCalculation!$E$4+2,TRUE),\">\"&B41)-COUNTIF(INDIRECT(\"MonteCarlo!\"&CostCalculation!$N$10&3,TRUE):INDIRECT(\"MonteCarlo!\"&CostCalculation!$N$10&CostCalculation!$E$4+2,TRUE),\">\"&B42))/CostCalculation!$E$4)","v":{"$error":"#N/A"}}]
[0.105,{"$f":"ROUND(INDIRECT(\"CostCalculation!D\"&CostCalculation!$O$10,TRUE)*A42,0)","v":51476},{"$f":"IF((COUNTIF(INDIRECT(\"MonteCarlo!\"&CostCalculation!$N$10&3,TRUE):INDIRECT(\"MonteCarlo!\"&CostCalculation!$N$10&CostCalculation!$E$4+2,TRUE),\"<=\"&B42))/CostCalculation!$E$4=0,#N/A,(COUNTIF(INDIRECT(\"MonteCarlo!\"&CostCalculation!$N$10&3,TRUE):INDIRECT(\"MonteCarlo!\"&CostCalculation!$N$10&CostCalculation!$E$4+2,TRUE),\"<=\"&B42))/CostCalculation!$E$4)","v":0.23400000000000001},51476,{"$f":"IF((COUNTIF(INDIRECT(\"MonteCarlo!\"&CostCalculation!$N$10&3,TRUE):INDIRECT(\"MonteCarlo!\"&CostCalculation!$N$10&CostCalculation!$E$4+2,TRUE),\">\"&B42)-COUNTIF(INDIRECT(\"MonteCarlo!\"&CostCalculation!$N$10&3,TRUE):INDIRECT(\"MonteCarlo!\"&CostCalculation!$N$10&CostCalculation!$E$4+2,TRUE),\">\"&B43))/CostCalculation!$E$4=0,#N/A,(COUNTIF(INDIRECT(\"MonteCarlo!\"&CostCalculation!$N$10&3,TRUE):INDIRECT(\"MonteCarlo!\"&CostCalculation!$N$10&CostCalculation!$E$4+2,TRUE),\">\"&B42)-COUNTIF(INDIRECT(\"MonteCarlo!\"&CostCalculation!$N$10&3,TRUE):INDIRECT(\"MonteCarlo!\"&CostCalculation!$N$10&CostCalculation!$E$4+2,TRUE),\">\"&B43))/CostCalculation!$E$4)","v":{"$error":"#N/A"}}]
[0.108,{"$f":"ROUND(INDIRECT(\"CostCalculation!D\"&CostCalculation!$O$10,TRUE)*A43,0)","v":52946},{"$f":"IF((COUNTIF(INDIRECT(\"MonteCarlo!\"&CostCalculation!$N$10&3,TRUE):INDIRECT(\"MonteCarlo!\"&CostCalculation!$N$10&CostCalculation!$E$4+2,TRUE),\"<=\"&B43))/CostCalculation!$E$4=0,#N/A,(COUNTIF(INDIRECT(\"MonteCarlo!\"&CostCalculation!$N$10&3,TRUE):INDIRECT(\"MonteCarlo!\"&CostCalculation!$N$10&CostCalculation!$E$4+2,TRUE),\"<=\"&B43))/CostCalculation!$E$4)","v":0.23400000000000001},52946,{"$f":"IF((COUNTIF(INDIRECT(\"MonteCarlo!\"&CostCalculation!$N$10&3,TRUE):INDIRECT(\"MonteCarlo!\"&CostCalculation!$N$10&CostCalculation!$E$4+2,TRUE),\">\"&B43)-COUNTIF(INDIRECT(\"MonteCarlo!\"&CostCalculation!$N$10&3,TRUE):INDIRECT(\"MonteCarlo!\"&CostCalculation!$N$10&CostCalculation!$E$4+2,TRUE),\">\"&B44))/CostCalculation!$E$4=0,#N/A,(COUNTIF(INDIRECT(\"MonteCarlo!\"&CostCalculation!$N$10&3,TRUE):INDIRECT(\"MonteCarlo!\"&CostCalculation!$N$10&CostCalculation!$E$4+2,TRUE),\">\"&B43)-COUNTIF(INDIRECT(\"MonteCarlo!\"&CostCalculation!$N$10&3,TRUE):INDIRECT(\"MonteCarlo!\"&CostCalculation!$N$10&CostCalculation!$E$4+2,TRUE),\">\"&B44))/CostCalculation!$E$4)","v":{"$error":"#N/A"}}]
[0.111,{"$f":"ROUND(INDIRECT(\"CostCalculation!D\"&CostCalculation!$O$10,TRUE)*A44,0)","v":54417},{"$f":"IF((COUNTIF(INDIRECT(\"MonteCarlo!\"&CostCalculation!$N$10&3,TRUE):INDIRECT(\"MonteCarlo!\"&CostCalculation!$N$10&CostCalculation!$E$4+2,TRUE),\"<=\"&B44))/CostCalculation!$E$4=0,#N/A,(COUNTIF(INDIRECT(\"MonteCarlo!\"&CostCalculation!$N$10&3,TRUE):INDIRECT(\"MonteCarlo!\"&CostCalculation!$N$10&CostCalculation!$E$4+2,TRUE),\"<=\"&B44))/CostCalculation!$E$4)","v":0.23400000000000001},54417,{"$f":"IF((COUNTIF(INDIRECT(\"MonteCarlo!\"&CostCalculation!$N$10&3,TRUE):INDIRECT(\"MonteCarlo!\"&CostCalculation!$N$10&CostCalculation!$E$4+2,TRUE),\">\"&B44)-COUNTIF(INDIRECT(\"MonteCarlo!\"&CostCalculation!$N$10&3,TRUE):INDIRECT(\"MonteCarlo!\"&CostCalculation!$N$10&CostCalculation!$E$4+2,TRUE),\">\"&B45))/CostCalculation!$E$4=0,#N/A,(COUNTIF(INDIRECT(\"MonteCarlo!\"&CostCalculation!$N$10&3,TRUE):INDIRECT(\"MonteCarlo!\"&CostCalculation!$N$10&CostCalculation!$E$4+2,TRUE),\">\"&B44)-COUNTIF(INDIRECT(\"MonteCarlo!\"&CostCalculation!$N$10&3,TRUE):INDIRECT(\"MonteCarlo!\"&CostCalculation!$N$10&CostCalculation!$E$4+2,TRUE),\">\"&B45))/CostCalculation!$E$4)","v":{"$error":"#N/A"}}]
[0.114,{"$f":"ROUND(INDIRECT(\"CostCalculation!D\"&CostCalculation!$O$10,TRUE)*A45,0)","v":55888},{"$f":"IF((COUNTIF(INDIRECT(\"MonteCarlo!\"&CostCalculation!$N$10&3,TRUE):INDIRECT(\"MonteCarlo!\"&CostCalculation!$N$10&CostCalculation!$E$4+2,TRUE),\"<=\"&B45))/CostCalculation!$E$4=0,#N/A,(COUNTIF(INDIRECT(\"MonteCarlo!\"&CostCalculation!$N$10&3,TRUE):INDIRECT(\"MonteCarlo!\"&CostCalculation!$N$10&CostCalculation!$E$4+2,TRUE),\"<=\"&B45))/CostCalculation!$E$4)","v":0.23400000000000001},55888,{"$f":"IF((COUNTIF(INDIRECT(\"MonteCarlo!\"&CostCalculation!$N$10&3,TRUE):INDIRECT(\"MonteCarlo!\"&CostCalculation!$N$10&CostCalculation!$E$4+2,TRUE),\">\"&B45)-COUNTIF(INDIRECT(\"MonteCarlo!\"&CostCalculation!$N$10&3,TRUE):INDIRECT(\"MonteCarlo!\"&CostCalculation!$N$10&CostCalculation!$E$4+2,TRUE),\">\"&B46))/CostCalculation!$E$4=0,#N/A,(COUNTIF(INDIRECT(\"MonteCarlo!\"&CostCalculation!$N$10&3,TRUE):INDIRECT(\"MonteCarlo!\"&CostCalculation!$N$10&CostCalculation!$E$4+2,TRUE),\">\"&B45)-COUNTIF(INDIRECT(\"MonteCarlo!\"&CostCalculation!$N$10&3,TRUE):INDIRECT(\"MonteCarlo!\"&CostCalculation!$N$10&CostCalculation!$E$4+2,TRUE),\">\"&B46))/CostCalculation!$E$4)","v":{"$error":"#N/A"}}]
[0.11700000000000001,{"$f":"ROUND(INDIRECT(\"CostCalculation!D\"&CostCalculation!$O$10,TRUE)*A46,0)","v":57359},{"$f":"IF((COUNTIF(INDIRECT(\"MonteCarlo!\"&CostCalculation!$N$10&3,TRUE):INDIRECT(\"MonteCarlo!\"&CostCalculation!$N$10&CostCalculation!$E$4+2,TRUE),\"<=\"&B46))/CostCalculation!$E$4=0,#N/A,(COUNTIF(INDIRECT(\"MonteCarlo!\"&CostCalculation!$N$10&3,TRUE):INDIRECT(\"MonteCarlo!\"&CostCalculation!$N$10&CostCalculation!$E$4+2,TRUE),\"<=\"&B46))/CostCalculation!$E$4)","v":0.23400000000000001},57359,{"$f":"IF((COUNTIF(INDIRECT(\"MonteCarlo!\"&CostCalculation!$N$10&3,TRUE):INDIRECT(\"MonteCarlo!\"&CostCalculation!$N$10&CostCalculation!$E$4+2,TRUE),\">\"&B46)-COUNTIF(INDIRECT(\"MonteCarlo!\"&CostCalculation!$N$10&3,TRUE):INDIRECT(\"MonteCarlo!\"&CostCalculation!$N$10&CostCalculation!$E$4+2,TRUE),\">\"&B47))/CostCalculation!$E$4=0,#N/A,(COUNTIF(INDIRECT(\"MonteCarlo!\"&CostCalculation!$N$10&3,TRUE):INDIRECT(\"MonteCarlo!\"&CostCalculation!$N$10&CostCalculation!$E$4+2,TRUE),\">\"&B46)-COUNTIF(INDIRECT(\"MonteCarlo!\"&CostCalculation!$N$10&3,TRUE):INDIRECT(\"MonteCarlo!\"&CostCalculation!$N$10&CostCalculation!$E$4+2,TRUE),\">\"&B47))/CostCalculation!$E$4)","v":{"$error":"#N/A"}}]
[0.12,{"$f":"ROUND(INDIRECT(\"CostCalculation!D\"&CostCalculation!$O$10,TRUE)*A47,0)","v":58829},{"$f":"IF((COUNTIF(INDIRECT(\"MonteCarlo!\"&CostCalculation!$N$10&3,TRUE):INDIRECT(\"MonteCarlo!\"&CostCalculation!$N$10&CostCalculation!$E$4+2,TRUE),\"<=\"&B47))/CostCalculation!$E$4=0,#N/A,(COUNTIF(INDIRECT(\"MonteCarlo!\"&CostCalculation!$N$10&3,TRUE):INDIRECT(\"MonteCarlo!\"&CostCalculation!$N$10&CostCalculation!$E$4+2,TRUE),\"<=\"&B47))/CostCalculation!$E$4)","v":0.23400000000000001},58829,{"$f":"IF((COUNTIF(INDIRECT(\"MonteCarlo!\"&CostCalculation!$N$10&3,TRUE):INDIRECT(\"MonteCarlo!\"&CostCalculation!$N$10&CostCalculation!$E$4+2,TRUE),\">\"&B47)-COUNTIF(INDIRECT(\"MonteCarlo!\"&CostCalculation!$N$10&3,TRUE):INDIRECT(\"MonteCarlo!\"&CostCalculation!$N$10&CostCalculation!$E$4+2,TRUE),\">\"&B48))/CostCalculation!$E$4=0,#N/A,(COUNTIF(INDIRECT(\"MonteCarlo!\"&CostCalculation!$N$10&3,TRUE):INDIRECT(\"MonteCarlo!\"&CostCalculation!$N$10&CostCalculation!$E$4+2,TRUE),\">\"&B47)-COUNTIF(INDIRECT(\"MonteCarlo!\"&CostCalculation!$N$10&3,TRUE):INDIRECT(\"MonteCarlo!\"&CostCalculation!$N$10&CostCalculation!$E$4+2,TRUE),\">\"&B48))/CostCalculation!$E$4)","v":{"$error":"#N/A"}}]
[0.123,{"$f":"ROUND(INDIRECT(\"CostCalculation!D\"&CostCalculation!$O$10,TRUE)*A48,0)","v":60300},{"$f":"IF((COUNTIF(INDIRECT(\"MonteCarlo!\"&CostCalculation!$N$10&3,TRUE):INDIRECT(\"MonteCarlo!\"&CostCalculation!$N$10&CostCalculation!$E$4+2,TRUE),\"<=\"&B48))/CostCalculation!$E$4=0,#N/A,(COUNTIF(INDIRECT(\"MonteCarlo!\"&CostCalculation!$N$10&3,TRUE):INDIRECT(\"MonteCarlo!\"&CostCalculation!$N$10&CostCalculation!$E$4+2,TRUE),\"<=\"&B48))/CostCalculation!$E$4)","v":0.23400000000000001},60300,{"$f":"IF((COUNTIF(INDIRECT(\"MonteCarlo!\"&CostCalculation!$N$10&3,TRUE):INDIRECT(\"MonteCarlo!\"&CostCalculation!$N$10&CostCalculation!$E$4+2,TRUE),\">\"&B48)-COUNTIF(INDIRECT(\"MonteCarlo!\"&CostCalculation!$N$10&3,TRUE):INDIRECT(\"MonteCarlo!\"&CostCalculation!$N$10&CostCalculation!$E$4+2,TRUE),\">\"&B49))/CostCalculation!$E$4=0,#N/A,(COUNTIF(INDIRECT(\"MonteCarlo!\"&CostCalculation!$N$10&3,TRUE):INDIRECT(\"MonteCarlo!\"&CostCalculation!$N$10&CostCalculation!$E$4+2,TRUE),\">\"&B48)-COUNTIF(INDIRECT(\"MonteCarlo!\"&CostCalculation!$N$10&3,TRUE):INDIRECT(\"MonteCarlo!\"&CostCalculation!$N$10&CostCalculation!$E$4+2,TRUE),\">\"&B49))/CostCalculation!$E$4)","v":{"$error":"#N/A"}}]
[0.126,{"$f":"ROUND(INDIRECT(\"CostCalculation!D\"&CostCalculation!$O$10,TRUE)*A49,0)","v":61771},{"$f":"IF((COUNTIF(INDIRECT(\"MonteCarlo!\"&CostCalculation!$N$10&3,TRUE):INDIRECT(\"MonteCarlo!\"&CostCalculation!$N$10&CostCalculation!$E$4+2,TRUE),\"<=\"&B49))/CostCalculation!$E$4=0,#N/A,(COUNTIF(INDIRECT(\"MonteCarlo!\"&CostCalculation!$N$10&3,TRUE):INDIRECT(\"MonteCarlo!\"&CostCalculation!$N$10&CostCalculation!$E$4+2,TRUE),\"<=\"&B49))/CostCalculation!$E$4)","v":0.23400000000000001},61771,{"$f":"IF((COUNTIF(INDIRECT(\"MonteCarlo!\"&CostCalculation!$N$10&3,TRUE):INDIRECT(\"MonteCarlo!\"&CostCalculation!$N$10&CostCalculation!$E$4+2,TRUE),\">\"&B49)-COUNTIF(INDIRECT(\"MonteCarlo!\"&CostCalculation!$N$10&3,TRUE):INDIRECT(\"MonteCarlo!\"&CostCalculation!$N$10&CostCalculation!$E$4+2,TRUE),\">\"&B50))/CostCalculation!$E$4=0,#N/A,(COUNTIF(INDIRECT(\"MonteCarlo!\"&CostCalculation!$N$10&3,TRUE):INDIRECT(\"MonteCarlo!\"&CostCalculation!$N$10&CostCalculation!$E$4+2,TRUE),\">\"&B49)-COUNTIF(INDIRECT(\"MonteCarlo!\"&CostCalculation!$N$10&3,TRUE):INDIRECT(\"MonteCarlo!\"&CostCalculation!$N$10&CostCalculation!$E$4+2,TRUE),\">\"&B50))/CostCalculation!$E$4)","v":{"$error":"#N/A"}}]
[0.129,{"$f":"ROUND(INDIRECT(\"CostCalculation!D\"&CostCalculation!$O$10,TRUE)*A50,0)","v":63242},{"$f":"IF((COUNTIF(INDIRECT(\"MonteCarlo!\"&CostCalculation!$N$10&3,TRUE):INDIRECT(\"MonteCarlo!\"&CostCalculation!$N$10&CostCalculation!$E$4+2,TRUE),\"<=\"&B50))/CostCalculation!$E$4=0,#N/A,(COUNTIF(INDIRECT(\"MonteCarlo!\"&CostCalculation!$N$10&3,TRUE):INDIRECT(\"MonteCarlo!\"&CostCalculation!$N$10&CostCalculation!$E$4+2,TRUE),\"<=\"&B50))/CostCalculation!$E$4)","v":0.23400000000000001},63242,{"$f":"IF((COUNTIF(INDIRECT(\"MonteCarlo!\"&CostCalculation!$N$10&3,TRUE):INDIRECT(\"MonteCarlo!\"&CostCalculation!$N$10&CostCalculation!$E$4+2,TRUE),\">\"&B50)-COUNTIF(INDIRECT(\"MonteCarlo!\"&CostCalculation!$N$10&3,TRUE):INDIRECT(\"MonteCarlo!\"&CostCalculation!$N$10&CostCalculation!$E$4+2,TRUE),\">\"&B51))/CostCalculation!$E$4=0,#N/A,(COUNTIF(INDIRECT(\"MonteCarlo!\"&CostCalculation!$N$10&3,TRUE):INDIRECT(\"MonteCarlo!\"&CostCalculation!$N$10&CostCalculation!$E$4+2,TRUE),\">\"&B50)-COUNTIF(INDIRECT(\"MonteCarlo!\"&CostCalculation!$N$10&3,TRUE):INDIRECT(\"MonteCarlo!\"&CostCalculation!$N$10&CostCalculation!$E$4+2,TRUE),\">\"&B51))/CostCalculation!$E$4)","v":{"$error":"#N/A"}}]
[0.13200000000000001,{"$f":"ROUND(INDIRECT(\"CostCalculation!D\"&CostCalculation!$O$10,TRUE)*A51,0)","v":64712},{"$f":"IF((COUNTIF(INDIRECT(\"MonteCarlo!\"&CostCalculation!$N$10&3,TRUE):INDIRECT(\"MonteCarlo!\"&CostCalculation!$N$10&CostCalculation!$E$4+2,TRUE),\"<=\"&B51))/CostCalculation!$E$4=0,#N/A,(COUNTIF(INDIRECT(\"MonteCarlo!\"&CostCalculation!$N$10&3,TRUE):INDIRECT(\"MonteCarlo!\"&CostCalculation!$N$10&CostCalculation!$E$4+2,TRUE),\"<=\"&B51))/CostCalculation!$E$4)","v":0.23400000000000001},64712,{"$f":"IF((COUNTIF(INDIRECT(\"MonteCarlo!\"&CostCalculation!$N$10&3,TRUE):INDIRECT(\"MonteCarlo!\"&CostCalculation!$N$10&CostCalculation!$E$4+2,TRUE),\">\"&B51)-COUNTIF(INDIRECT(\"MonteCarlo!\"&CostCalculation!$N$10&3,TRUE):INDIRECT(\"MonteCarlo!\"&CostCalculation!$N$10&CostCalculation!$E$4+2,TRUE),\">\"&B52))/CostCalculation!$E$4=0,#N/A,(COUNTIF(INDIRECT(\"MonteCarlo!\"&CostCalculation!$N$10&3,TRUE):INDIRECT(\"MonteCarlo!\"&CostCalculation!$N$10&CostCalculation!$E$4+2,TRUE),\">\"&B51)-COUNTIF(INDIRECT(\"MonteCarlo!\"&CostCalculation!$N$10&3,TRUE):INDIRECT(\"MonteCarlo!\"&CostCalculation!$N$10&CostCalculation!$E$4+2,TRUE),\">\"&B52))/CostCalculation!$E$4)","v":0.19950000000000001}]
[0.13500000000000001,{"$f":"ROUND(INDIRECT(\"CostCalculation!D\"&CostCalculation!$O$10,TRUE)*A52,0)","v":66183},{"$f":"IF((COUNTIF(INDIRECT(\"MonteCarlo!\"&CostCalculation!$N$10&3,TRUE):INDIRECT(\"MonteCarlo!\"&CostCalculation!$N$10&CostCalculation!$E$4+2,TRUE),\"<=\"&B52))/CostCalculation!$E$4=0,#N/A,(COUNTIF(INDIRECT(\"MonteCarlo!\"&CostCalculation!$N$10&3,TRUE):INDIRECT(\"MonteCarlo!\"&CostCalculation!$N$10&CostCalculation!$E$4+2,TRUE),\"<=\"&B52))/CostCalculation!$E$4)","v":0.4335},66183,{"$f":"IF((COUNTIF(INDIRECT(\"MonteCarlo!\"&CostCalculation!$N$10&3,TRUE):INDIRECT(\"MonteCarlo!\"&CostCalculation!$N$10&CostCalculation!$E$4+2,TRUE),\">\"&B52)-COUNTIF(INDIRECT(\"MonteCarlo!\"&CostCalculation!$N$10&3,TRUE):INDIRECT(\"MonteCarlo!\"&CostCalculation!$N$10&CostCalculation!$E$4+2,TRUE),\">\"&B53))/CostCalculation!$E$4=0,#N/A,(COUNTIF(INDIRECT(\"MonteCarlo!\"&CostCalculation!$N$10&3,TRUE):INDIRECT(\"MonteCarlo!\"&CostCalculation!$N$10&CostCalculation!$E$4+2,TRUE),\">\"&B52)-COUNTIF(INDIRECT(\"MonteCarlo!\"&CostCalculation!$N$10&3,TRUE):INDIRECT(\"MonteCarlo!\"&CostCalculation!$N$10&CostCalculation!$E$4+2,TRUE),\">\"&B53))/CostCalculation!$E$4)","v":{"$error":"#N/A"}}]
[0.13800000000000001,{"$f":"ROUND(INDIRECT(\"CostCalculation!D\"&CostCalculation!$O$10,TRUE)*A53,0)","v":67654},{"$f":"IF((COUNTIF(INDIRECT(\"MonteCarlo!\"&CostCalculation!$N$10&3,TRUE):INDIRECT(\"MonteCarlo!\"&CostCalculation!$N$10&CostCalculation!$E$4+2,TRUE),\"<=\"&B53))/CostCalculation!$E$4=0,#N/A,(COUNTIF(INDIRECT(\"MonteCarlo!\"&CostCalculation!$N$10&3,TRUE):INDIRECT(\"MonteCarlo!\"&CostCalculation!$N$10&CostCalculation!$E$4+2,TRUE),\"<=\"&B53))/CostCalculation!$E$4)","v":0.4335},67654,{"$f":"IF((COUNTIF(INDIRECT(\"MonteCarlo!\"&CostCalculation!$N$10&3,TRUE):INDIRECT(\"MonteCarlo!\"&CostCalculation!$N$10&CostCalculation!$E$4+2,TRUE),\">\"&B53)-COUNTIF(INDIRECT(\"MonteCarlo!\"&CostCalculation!$N$10&3,TRUE):INDIRECT(\"MonteCarlo!\"&CostCalculation!$N$10&CostCalculation!$E$4+2,TRUE),\">\"&B54))/CostCalculation!$E$4=0,#N/A,(COUNTIF(INDIRECT(\"MonteCarlo!\"&CostCalculation!$N$10&3,TRUE):INDIRECT(\"MonteCarlo!\"&CostCalculation!$N$10&CostCalculation!$E$4+2,TRUE),\">\"&B53)-COUNTIF(INDIRECT(\"MonteCarlo!\"&CostCalculation!$N$10&3,TRUE):INDIRECT(\"MonteCarlo!\"&CostCalculation!$N$10&CostCalculation!$E$4+2,TRUE),\">\"&B54))/CostCalculation!$E$4)","v":{"$error":"#N/A"}}]
[0.14099999999999999,{"$f":"ROUND(INDIRECT(\"CostCalculation!D\"&CostCalculation!$O$10,TRUE)*A54,0)","v":69125},{"$f":"IF((COUNTIF(INDIRECT(\"MonteCarlo!\"&CostCalculation!$N$10&3,TRUE):INDIRECT(\"MonteCarlo!\"&CostCalculation!$N$10&CostCalculation!$E$4+2,TRUE),\"<=\"&B54))/CostCalculation!$E$4=0,#N/A,(COUNTIF(INDIRECT(\"MonteCarlo!\"&CostCalculation!$N$10&3,TRUE):INDIRECT(\"MonteCarlo!\"&CostCalculation!$N$10&CostCalculation!$E$4+2,TRUE),\"<=\"&B54))/CostCalculation!$E$4)","v":0.4335},69125,{"$f":"IF((COUNTIF(INDIRECT(\"MonteCarlo!\"&CostCalculation!$N$10&3,TRUE):INDIRECT(\"MonteCarlo!\"&CostCalculation!$N$10&CostCalculation!$E$4+2,TRUE),\">\"&B54)-COUNTIF(INDIRECT(\"MonteCarlo!\"&CostCalculation!$N$10&3,TRUE):INDIRECT(\"MonteCarlo!\"&CostCalculation!$N$10&CostCalculation!$E$4+2,TRUE),\">\"&B55))/CostCalculation!$E$4=0,#N/A,(COUNTIF(INDIRECT(\"MonteCarlo!\"&CostCalculation!$N$10&3,TRUE):INDIRECT(\"MonteCarlo!\"&CostCalculation!$N$10&CostCalculation!$E$4+2,TRUE),\">\"&B54)-COUNTIF(INDIRECT(\"MonteCarlo!\"&CostCalculation!$N$10&3,TRUE):INDIRECT(\"MonteCarlo!\"&CostCalculation!$N$10&CostCalculation!$E$4+2,TRUE),\">\"&B55))/CostCalculation!$E$4)","v":{"$error":"#N/A"}}]
[0.14399999999999999,{"$f":"ROUND(INDIRECT(\"CostCalculation!D\"&CostCalculation!$O$10,TRUE)*A55,0)","v":70595},{"$f":"IF((COUNTIF(INDIRECT(\"MonteCarlo!\"&CostCalculation!$N$10&3,TRUE):INDIRECT(\"MonteCarlo!\"&CostCalculation!$N$10&CostCalculation!$E$4+2,TRUE),\"<=\"&B55))/CostCalculation!$E$4=0,#N/A,(COUNTIF(INDIRECT(\"MonteCarlo!\"&CostCalculation!$N$10&3,TRUE):INDIRECT(\"MonteCarlo!\"&CostCalculation!$N$10&CostCalculation!$E$4+2,TRUE),\"<=\"&B55))/CostCalculation!$E$4)","v":0.4335},70595,{"$f":"IF((COUNTIF(INDIRECT(\"MonteCarlo!\"&CostCalculation!$N$10&3,TRUE):INDIRECT(\"MonteCarlo!\"&CostCalculation!$N$10&CostCalculation!$E$4+2,TRUE),\">\"&B55)-COUNTIF(INDIRECT(\"MonteCarlo!\"&CostCalculation!$N$10&3,TRUE):INDIRECT(\"MonteCarlo!\"&CostCalculation!$N$10&CostCalculation!$E$4+2,TRUE),\">\"&B56))/CostCalculation!$E$4=0,#N/A,(COUNTIF(INDIRECT(\"MonteCarlo!\"&CostCalculation!$N$10&3,TRUE):INDIRECT(\"MonteCarlo!\"&CostCalculation!$N$10&CostCalculation!$E$4+2,TRUE),\">\"&B55)-COUNTIF(INDIRECT(\"MonteCarlo!\"&CostCalculation!$N$10&3,TRUE):INDIRECT(\"MonteCarlo!\"&CostCalculation!$N$10&CostCalculation!$E$4+2,TRUE),\">\"&B56))/CostCalculation!$E$4)","v":{"$error":"#N/A"}}]
[0.14699999999999999,{"$f":"ROUND(INDIRECT(\"CostCalculation!D\"&CostCalculation!$O$10,TRUE)*A56,0)","v":72066},{"$f":"IF((COUNTIF(INDIRECT(\"MonteCarlo!\"&CostCalculation!$N$10&3,TRUE):INDIRECT(\"MonteCarlo!\"&CostCalculation!$N$10&CostCalculation!$E$4+2,TRUE),\"<=\"&B56))/CostCalculation!$E$4=0,#N/A,(COUNTIF(INDIRECT(\"MonteCarlo!\"&CostCalculation!$N$10&3,TRUE):INDIRECT(\"MonteCarlo!\"&CostCalculation!$N$10&CostCalculation!$E$4+2,TRUE),\"<=\"&B56))/CostCalculation!$E$4)","v":0.4335},72066,{"$f":"IF((COUNTIF(INDIRECT(\"MonteCarlo!\"&CostCalculation!$N$10&3,TRUE):INDIRECT(\"MonteCarlo!\"&CostCalculation!$N$10&CostCalculation!$E$4+2,TRUE),\">\"&B56)-COUNTIF(INDIRECT(\"MonteCarlo!\"&CostCalculation!$N$10&3,TRUE):INDIRECT(\"MonteCarlo!\"&CostCalculation!$N$10&CostCalculation!$E$4+2,TRUE),\">\"&B57))/CostCalculation!$E$4=0,#N/A,(COUNTIF(INDIRECT(\"MonteCarlo!\"&CostCalculation!$N$10&3,TRUE):INDIRECT(\"MonteCarlo!\"&CostCalculation!$N$10&CostCalculation!$E$4+2,TRUE),\">\"&B56)-COUNTIF(INDIRECT(\"MonteCarlo!\"&CostCalculation!$N$10&3,TRUE):INDIRECT(\"MonteCarlo!\"&CostCalculation!$N$10&CostCalculation!$E$4+2,TRUE),\">\"&B57))/CostCalculation!$E$4)","v":{"$error":"#N/A"}}]
[0.15,{"$f":"ROUND(INDIRECT(\"CostCalculation!D\"&CostCalculation!$O$10,TRUE)*A57,0)","v":73537},{"$f":"IF((COUNTIF(INDIRECT(\"MonteCarlo!\"&CostCalculation!$N$10&3,TRUE):INDIRECT(\"MonteCarlo!\"&CostCalculation!$N$10&CostCalculation!$E$4+2,TRUE),\"<=\"&B57))/CostCalculation!$E$4=0,#N/A,(COUNTIF(INDIRECT(\"MonteCarlo!\"&CostCalculation!$N$10&3,TRUE):INDIRECT(\"MonteCarlo!\"&CostCalculation!$N$10&CostCalculation!$E$4+2,TRUE),\"<=\"&B57))/CostCalculation!$E$4)","v":0.4335},73537,{"$f":"IF((COUNTIF(INDIRECT(\"MonteCarlo!\"&CostCalculation!$N$10&3,TRUE):INDIRECT(\"MonteCarlo!\"&CostCalculation!$N$10&CostCalculation!$E$4+2,TRUE),\">\"&B57)-COUNTIF(INDIRECT(\"MonteCarlo!\"&CostCalculation!$N$10&3,TRUE):INDIRECT(\"MonteCarlo!\"&CostCalculation!$N$10&CostCalculation!$E$4+2,TRUE),\">\"&B58))/CostCalculation!$E$4=0,#N/A,(COUNTIF(INDIRECT(\"MonteCarlo!\"&CostCalculation!$N$10&3,TRUE):INDIRECT(\"MonteCarlo!\"&CostCalculation!$N$10&CostCalculation!$E$4+2,TRUE),\">\"&B57)-COUNTIF(INDIRECT(\"MonteCarlo!\"&CostCalculation!$N$10&3,TRUE):INDIRECT(\"MonteCarlo!\"&CostCalculation!$N$10&CostCalculation!$E$4+2,TRUE),\">\"&B58))/CostCalculation!$E$4)","v":{"$error":"#N/A"}}]
[0.153,{"$f":"ROUND(INDIRECT(\"CostCalculation!D\"&CostCalculation!$O$10,TRUE)*A58,0)","v":75007},{"$f":"IF((COUNTIF(INDIRECT(\"MonteCarlo!\"&CostCalculation!$N$10&3,TRUE):INDIRECT(\"MonteCarlo!\"&CostCalculation!$N$10&CostCalculation!$E$4+2,TRUE),\"<=\"&B58))/CostCalculation!$E$4=0,#N/A,(COUNTIF(INDIRECT(\"MonteCarlo!\"&CostCalculation!$N$10&3,TRUE):INDIRECT(\"MonteCarlo!\"&CostCalculation!$N$10&CostCalculation!$E$4+2,TRUE),\"<=\"&B58))/CostCalculation!$E$4)","v":0.4335},75007,{"$f":"IF((COUNTIF(INDIRECT(\"MonteCarlo!\"&CostCalculation!$N$10&3,TRUE):INDIRECT(\"MonteCarlo!\"&CostCalculation!$N$10&CostCalculation!$E$4+2,TRUE),\">\"&B58)-COUNTIF(INDIRECT(\"MonteCarlo!\"&CostCalculation!$N$10&3,TRUE):INDIRECT(\"MonteCarlo!\"&CostCalculation!$N$10&CostCalculation!$E$4+2,TRUE),\">\"&B59))/CostCalculation!$E$4=0,#N/A,(COUNTIF(INDIRECT(\"MonteCarlo!\"&CostCalculation!$N$10&3,TRUE):INDIRECT(\"MonteCarlo!\"&CostCalculation!$N$10&CostCalculation!$E$4+2,TRUE),\">\"&B58)-COUNTIF(INDIRECT(\"MonteCarlo!\"&CostCalculation!$N$10&3,TRUE):INDIRECT(\"MonteCarlo!\"&CostCalculation!$N$10&CostCalculation!$E$4+2,TRUE),\">\"&B59))/CostCalculation!$E$4)","v":{"$error":"#N/A"}}]
[0.156,{"$f":"ROUND(INDIRECT(\"CostCalculation!D\"&CostCalculation!$O$10,TRUE)*A59,0)","v":76478},{"$f":"IF((COUNTIF(INDIRECT(\"MonteCarlo!\"&CostCalculation!$N$10&3,TRUE):INDIRECT(\"MonteCarlo!\"&CostCalculation!$N$10&CostCalculation!$E$4+2,TRUE),\"<=\"&B59))/CostCalculation!$E$4=0,#N/A,(COUNTIF(INDIRECT(\"MonteCarlo!\"&CostCalculation!$N$10&3,TRUE):INDIRECT(\"MonteCarlo!\"&CostCalculation!$N$10&CostCalculation!$E$4+2,TRUE),\"<=\"&B59))/CostCalculation!$E$4)","v":0.4335},76478,{"$f":"IF((COUNTIF(INDIRECT(\"MonteCarlo!\"&CostCalculation!$N$10&3,TRUE):INDIRECT(\"MonteCarlo!\"&CostCalculation!$N$10&CostCalculation!$E$4+2,TRUE),\">\"&B59)-COUNTIF(INDIRECT(\"MonteCarlo!\"&CostCalculation!$N$10&3,TRUE):INDIRECT(\"MonteCarlo!\"&CostCalculation!$N$10&CostCalculation!$E$4+2,TRUE),\">\"&B60))/CostCalculation!$E$4=0,#N/A,(COUNTIF(INDIRECT(\"MonteCarlo!\"&CostCalculation!$N$10&3,TRUE):INDIRECT(\"MonteCarlo!\"&CostCalculation!$N$10&CostCalculation!$E$4+2,TRUE),\">\"&B59)-COUNTIF(INDIRECT(\"MonteCarlo!\"&CostCalculation!$N$10&3,TRUE):INDIRECT(\"MonteCarlo!\"&CostCalculation!$N$10&CostCalculation!$E$4+2,TRUE),\">\"&B60))/CostCalculation!$E$4)","v":{"$error":"#N/A"}}]
[0.159,{"$f":"ROUND(INDIRECT(\"CostCalculation!D\"&CostCalculation!$O$10,TRUE)*A60,0)","v":77949},{"$f":"IF((COUNTIF(INDIRECT(\"MonteCarlo!\"&CostCalculation!$N$10&3,TRUE):INDIRECT(\"MonteCarlo!\"&CostCalculation!$N$10&CostCalculation!$E$4+2,TRUE),\"<=\"&B60))/CostCalculation!$E$4=0,#N/A,(COUNTIF(INDIRECT(\"MonteCarlo!\"&CostCalculation!$N$10&3,TRUE):INDIRECT(\"MonteCarlo!\"&CostCalculation!$N$10&CostCalculation!$E$4+2,TRUE),\"<=\"&B60))/CostCalculation!$E$4)","v":0.4335},77949,{"$f":"IF((COUNTIF(INDIRECT(\"MonteCarlo!\"&CostCalculation!$N$10&3,TRUE):INDIRECT(\"MonteCarlo!\"&CostCalculation!$N$10&CostCalculation!$E$4+2,TRUE),\">\"&B60)-COUNTIF(INDIRECT(\"MonteCarlo!\"&CostCalculation!$N$10&3,TRUE):INDIRECT(\"MonteCarlo!\"&CostCalculation!$N$10&CostCalculation!$E$4+2,TRUE),\">\"&B61))/CostCalculation!$E$4=0,#N/A,(COUNTIF(INDIRECT(\"MonteCarlo!\"&CostCalculation!$N$10&3,TRUE):INDIRECT(\"MonteCarlo!\"&CostCalculation!$N$10&CostCalculation!$E$4+2,TRUE),\">\"&B60)-COUNTIF(INDIRECT(\"MonteCarlo!\"&CostCalculation!$N$10&3,TRUE):INDIRECT(\"MonteCarlo!\"&CostCalculation!$N$10&CostCalculation!$E$4+2,TRUE),\">\"&B61))/CostCalculation!$E$4)","v":{"$error":"#N/A"}}]
[0.16200000000000001,{"$f":"ROUND(INDIRECT(\"CostCalculation!D\"&CostCalculation!$O$10,TRUE)*A61,0)","v":79420},{"$f":"IF((COUNTIF(INDIRECT(\"MonteCarlo!\"&CostCalculation!$N$10&3,TRUE):INDIRECT(\"MonteCarlo!\"&CostCalculation!$N$10&CostCalculation!$E$4+2,TRUE),\"<=\"&B61))/CostCalculation!$E$4=0,#N/A,(COUNTIF(INDIRECT(\"MonteCarlo!\"&CostCalculation!$N$10&3,TRUE):INDIRECT(\"MonteCarlo!\"&CostCalculation!$N$10&CostCalculation!$E$4+2,TRUE),\"<=\"&B61))/CostCalculation!$E$4)","v":0.4335},79420,{"$f":"IF((COUNTIF(INDIRECT(\"MonteCarlo!\"&CostCalculation!$N$10&3,TRUE):INDIRECT(\"MonteCarlo!\"&CostCalculation!$N$10&CostCalculation!$E$4+2,TRUE),\">\"&B61)-COUNTIF(INDIRECT(\"MonteCarlo!\"&CostCalculation!$N$10&3,TRUE):INDIRECT(\"MonteCarlo!\"&CostCalculation!$N$10&CostCalculation!$E$4+2,TRUE),\">\"&B62))/CostCalculation!$E$4=0,#N/A,(COUNTIF(INDIRECT(\"MonteCarlo!\"&CostCalculation!$N$10&3,TRUE):INDIRECT(\"MonteCarlo!\"&CostCalculation!$N$10&CostCalculation!$E$4+2,TRUE),\">\"&B61)-COUNTIF(INDIRECT(\"MonteCarlo!\"&CostCalculation!$N$10&3,TRUE):INDIRECT(\"MonteCarlo!\"&CostCalculation!$N$10&CostCalculation!$E$4+2,TRUE),\">\"&B62))/CostCalculation!$E$4)","v":{"$error":"#N/A"}}]
[0.16500000000000001,{"$f":"ROUND(INDIRECT(\"CostCalculation!D\"&CostCalculation!$O$10,TRUE)*A62,0)","v":80890},{"$f":"IF((COUNTIF(INDIRECT(\"MonteCarlo!\"&CostCalculation!$N$10&3,TRUE):INDIRECT(\"MonteCarlo!\"&CostCalculation!$N$10&CostCalculation!$E$4+2,TRUE),\"<=\"&B62))/CostCalculation!$E$4=0,#N/A,(COUNTIF(INDIRECT(\"MonteCarlo!\"&CostCalculation!$N$10&3,TRUE):INDIRECT(\"MonteCarlo!\"&CostCalculation!$N$10&CostCalculation!$E$4+2,TRUE),\"<=\"&B62))/CostCalculation!$E$4)","v":0.4335},80890,{"$f":"IF((COUNTIF(INDIRECT(\"MonteCarlo!\"&CostCalculation!$N$10&3,TRUE):INDIRECT(\"MonteCarlo!\"&CostCalculation!$N$10&CostCalculation!$E$4+2,TRUE),\">\"&B62)-COUNTIF(INDIRECT(\"MonteCarlo!\"&CostCalculation!$N$10&3,TRUE):INDIRECT(\"MonteCarlo!\"&CostCalculation!$N$10&CostCalculation!$E$4+2,TRUE),\">\"&B63))/CostCalculation!$E$4=0,#N/A,(COUNTIF(INDIRECT(\"MonteCarlo!\"&CostCalculation!$N$10&3,TRUE):INDIRECT(\"MonteCarlo!\"&CostCalculation!$N$10&CostCalculation!$E$4+2,TRUE),\">\"&B62)-COUNTIF(INDIRECT(\"MonteCarlo!\"&CostCalculation!$N$10&3,TRUE):INDIRECT(\"MonteCarlo!\"&CostCalculation!$N$10&CostCalculation!$E$4+2,TRUE),\">\"&B63))/CostCalculation!$E$4)","v":{"$error":"#N/A"}}]
[0.16800000000000001,{"$f":"ROUND(INDIRECT(\"CostCalculation!D\"&CostCalculation!$O$10,TRUE)*A63,0)","v":82361},{"$f":"IF((COUNTIF(INDIRECT(\"MonteCarlo!\"&CostCalculation!$N$10&3,TRUE):INDIRECT(\"MonteCarlo!\"&CostCalculation!$N$10&CostCalculation!$E$4+2,TRUE),\"<=\"&B63))/CostCalculation!$E$4=0,#N/A,(COUNTIF(INDIRECT(\"MonteCarlo!\"&CostCalculation!$N$10&3,TRUE):INDIRECT(\"MonteCarlo!\"&CostCalculation!$N$10&CostCalculation!$E$4+2,TRUE),\"<=\"&B63))/CostCalculation!$E$4)","v":0.4335},82361,{"$f":"IF((COUNTIF(INDIRECT(\"MonteCarlo!\"&CostCalculation!$N$10&3,TRUE):INDIRECT(\"MonteCarlo!\"&CostCalculation!$N$10&CostCalculation!$E$4+2,TRUE),\">\"&B63)-COUNTIF(INDIRECT(\"MonteCarlo!\"&CostCalculation!$N$10&3,TRUE):INDIRECT(\"MonteCarlo!\"&CostCalculation!$N$10&CostCalculation!$E$4+2,TRUE),\">\"&B64))/CostCalculation!$E$4=0,#N/A,(COUNTIF(INDIRECT(\"MonteCarlo!\"&CostCalculation!$N$10&3,TRUE):INDIRECT(\"MonteCarlo!\"&CostCalculation!$N$10&CostCalculation!$E$4+2,TRUE),\">\"&B63)-COUNTIF(INDIRECT(\"MonteCarlo!\"&CostCalculation!$N$10&3,TRUE):INDIRECT(\"MonteCarlo!\"&CostCalculation!$N$10&CostCalculation!$E$4+2,TRUE),\">\"&B64))/CostCalculation!$E$4)","v":{"$error":"#N/A"}}]
[0.17100000000000001,{"$f":"ROUND(INDIRECT(\"CostCalculation!D\"&CostCalculation!$O$10,TRUE)*A64,0)","v":83832},{"$f":"IF((COUNTIF(INDIRECT(\"MonteCarlo!\"&CostCalculation!$N$10&3,TRUE):INDIRECT(\"MonteCarlo!\"&CostCalculation!$N$10&CostCalculation!$E$4+2,TRUE),\"<=\"&B64))/CostCalculation!$E$4=0,#N/A,(COUNTIF(INDIRECT(\"MonteCarlo!\"&CostCalculation!$N$10&3,TRUE):INDIRECT(\"MonteCarlo!\"&CostCalculation!$N$10&CostCalculation!$E$4+2,TRUE),\"<=\"&B64))/CostCalculation!$E$4)","v":0.4335},83832,{"$f":"IF((COUNTIF(INDIRECT(\"MonteCarlo!\"&CostCalculation!$N$10&3,TRUE):INDIRECT(\"MonteCarlo!\"&CostCalculation!$N$10&CostCalculation!$E$4+2,TRUE),\">\"&B64)-COUNTIF(INDIRECT(\"MonteCarlo!\"&CostCalculation!$N$10&3,TRUE):INDIRECT(\"MonteCarlo!\"&CostCalculation!$N$10&CostCalculation!$E$4+2,TRUE),\">\"&B65))/CostCalculation!$E$4=0,#N/A,(COUNTIF(INDIRECT(\"MonteCarlo!\"&CostCalculation!$N$10&3,TRUE):INDIRECT(\"MonteCarlo!\"&CostCalculation!$N$10&CostCalculation!$E$4+2,TRUE),\">\"&B64)-COUNTIF(INDIRECT(\"MonteCarlo!\"&CostCalculation!$N$10&3,TRUE):INDIRECT(\"MonteCarlo!\"&CostCalculation!$N$10&CostCalculation!$E$4+2,TRUE),\">\"&B65))/CostCalculation!$E$4)","v":{"$error":"#N/A"}}]
[0.17399999999999999,{"$f":"ROUND(INDIRECT(\"CostCalculation!D\"&CostCalculation!$O$10,TRUE)*A65,0)","v":85303},{"$f":"IF((COUNTIF(INDIRECT(\"MonteCarlo!\"&CostCalculation!$N$10&3,TRUE):INDIRECT(\"MonteCarlo!\"&CostCalculation!$N$10&CostCalculation!$E$4+2,TRUE),\"<=\"&B65))/CostCalculation!$E$4=0,#N/A,(COUNTIF(INDIRECT(\"MonteCarlo!\"&CostCalculation!$N$10&3,TRUE):INDIRECT(\"MonteCarlo!\"&CostCalculation!$N$10&CostCalculation!$E$4+2,TRUE),\"<=\"&B65))/CostCalculation!$E$4)","v":0.4335},85303,{"$f":"IF((COUNTIF(INDIRECT(\"MonteCarlo!\"&CostCalculation!$N$10&3,TRUE):INDIRECT(\"MonteCarlo!\"&CostCalculation!$N$10&CostCalculation!$E$4+2,TRUE),\">\"&B65)-COUNTIF(INDIRECT(\"MonteCarlo!\"&CostCalculation!$N$10&3,TRUE):INDIRECT(\"MonteCarlo!\"&CostCalculation!$N$10&CostCalculation!$E$4+2,TRUE),\">\"&B66))/CostCalculation!$E$4=0,#N/A,(COUNTIF(INDIRECT(\"MonteCarlo!\"&CostCalculation!$N$10&3,TRUE):INDIRECT(\"MonteCarlo!\"&CostCalculation!$N$10&CostCalculation!$E$4+2,TRUE),\">\"&B65)-COUNTIF(INDIRECT(\"MonteCarlo!\"&CostCalculation!$N$10&3,TRUE):INDIRECT(\"MonteCarlo!\"&CostCalculation!$N$10&CostCalculation!$E$4+2,TRUE),\">\"&B66))/CostCalculation!$E$4)","v":{"$error":"#N/A"}}]
[0.17699999999999999,{"$f":"ROUND(INDIRECT(\"CostCalculation!D\"&CostCalculation!$O$10,TRUE)*A66,0)","v":86773},{"$f":"IF((COUNTIF(INDIRECT(\"MonteCarlo!\"&CostCalculation!$N$10&3,TRUE):INDIRECT(\"MonteCarlo!\"&CostCalculation!$N$10&CostCalculation!$E$4+2,TRUE),\"<=\"&B66))/CostCalculation!$E$4=0,#N/A,(COUNTIF(INDIRECT(\"MonteCarlo!\"&CostCalculation!$N$10&3,TRUE):INDIRECT(\"MonteCarlo!\"&CostCalculation!$N$10&CostCalculation!$E$4+2,TRUE),\"<=\"&B66))/CostCalculation!$E$4)","v":0.4335},86773,{"$f":"IF((COUNTIF(INDIRECT(\"MonteCarlo!\"&CostCalculation!$N$10&3,TRUE):INDIRECT(\"MonteCarlo!\"&CostCalculation!$N$10&CostCalculation!$E$4+2,TRUE),\">\"&B66)-COUNTIF(INDIRECT(\"MonteCarlo!\"&CostCalculation!$N$10&3,TRUE):INDIRECT(\"MonteCarlo!\"&CostCalculation!$N$10&CostCalculation!$E$4+2,TRUE),\">\"&B67))/CostCalculation!$E$4=0,#N/A,(COUNTIF(INDIRECT(\"MonteCarlo!\"&CostCalculation!$N$10&3,TRUE):INDIRECT(\"MonteCarlo!\"&CostCalculation!$N$10&CostCalculation!$E$4+2,TRUE),\">\"&B66)-COUNTIF(INDIRECT(\"MonteCarlo!\"&CostCalculation!$N$10&3,TRUE):INDIRECT(\"MonteCarlo!\"&CostCalculation!$N$10&CostCalculation!$E$4+2,TRUE),\">\"&B67))/CostCalculation!$E$4)","v":{"$error":"#N/A"}}]
[0.18,{"$f":"ROUND(INDIRECT(\"CostCalculation!D\"&CostCalculation!$O$10,TRUE)*A67,0)","v":88244},{"$f":"IF((COUNTIF(INDIRECT(\"MonteCarlo!\"&CostCalculation!$N$10&3,TRUE):INDIRECT(\"MonteCarlo!\"&CostCalculation!$N$10&CostCalculation!$E$4+2,TRUE),\"<=\"&B67))/CostCalculation!$E$4=0,#N/A,(COUNTIF(INDIRECT(\"MonteCarlo!\"&CostCalculation!$N$10&3,TRUE):INDIRECT(\"MonteCarlo!\"&CostCalculation!$N$10&CostCalculation!$E$4+2,TRUE),\"<=\"&B67))/CostCalculation!$E$4)","v":0.4335},88244,{"$f":"IF((COUNTIF(INDIRECT(\"MonteCarlo!\"&CostCalculation!$N$10&3,TRUE):INDIRECT(\"MonteCarlo!\"&CostCalculation!$N$10&CostCalculation!$E$4+2,TRUE),\">\"&B67)-COUNTIF(INDIRECT(\"MonteCarlo!\"&CostCalculation!$N$10&3,TRUE):INDIRECT(\"MonteCarlo!\"&CostCalculation!$N$10&CostCalculation!$E$4+2,TRUE),\">\"&B68))/CostCalculation!$E$4=0,#N/A,(COUNTIF(INDIRECT(\"MonteCarlo!\"&CostCalculation!$N$10&3,TRUE):INDIRECT(\"MonteCarlo!\"&CostCalculation!$N$10&CostCalculation!$E$4+2,TRUE),\">\"&B67)-COUNTIF(INDIRECT(\"MonteCarlo!\"&CostCalculation!$N$10&3,TRUE):INDIRECT(\"MonteCarlo!\"&CostCalculation!$N$10&CostCalculation!$E$4+2,TRUE),\">\"&B68))/CostCalculation!$E$4)","v":{"$error":"#N/A"}}]
[0.183,{"$f":"ROUND(INDIRECT(\"CostCalculation!D\"&CostCalculation!$O$10,TRUE)*A68,0)","v":89715},{"$f":"IF((COUNTIF(INDIRECT(\"MonteCarlo!\"&CostCalculation!$N$10&3,TRUE):INDIRECT(\"MonteCarlo!\"&CostCalculation!$N$10&CostCalculation!$E$4+2,TRUE),\"<=\"&B68))/CostCalculation!$E$4=0,#N/A,(COUNTIF(INDIRECT(\"MonteCarlo!\"&CostCalculation!$N$10&3,TRUE):INDIRECT(\"MonteCarlo!\"&CostCalculation!$N$10&CostCalculation!$E$4+2,TRUE),\"<=\"&B68))/CostCalculation!$E$4)","v":0.4335},89715,{"$f":"IF((COUNTIF(INDIRECT(\"MonteCarlo!\"&CostCalculation!$N$10&3,TRUE):INDIRECT(\"MonteCarlo!\"&CostCalculation!$N$10&CostCalculation!$E$4+2,TRUE),\">\"&B68)-COUNTIF(INDIRECT(\"MonteCarlo!\"&CostCalculation!$N$10&3,TRUE):INDIRECT(\"MonteCarlo!\"&CostCalculation!$N$10&CostCalculation!$E$4+2,TRUE),\">\"&B69))/CostCalculation!$E$4=0,#N/A,(COUNTIF(INDIRECT(\"MonteCarlo!\"&CostCalculation!$N$10&3,TRUE):INDIRECT(\"MonteCarlo!\"&CostCalculation!$N$10&CostCalculation!$E$4+2,TRUE),\">\"&B68)-COUNTIF(INDIRECT(\"MonteCarlo!\"&CostCalculation!$N$10&3,TRUE):INDIRECT(\"MonteCarlo!\"&CostCalculation!$N$10&CostCalculation!$E$4+2,TRUE),\">\"&B69))/CostCalculation!$E$4)","v":{"$error":"#N/A"}}]
[0.186,{"$f":"ROUND(INDIRECT(\"CostCalculation!D\"&CostCalculation!$O$10,TRUE)*A69,0)","v":91186},{"$f":"IF((COUNTIF(INDIRECT(\"MonteCarlo!\"&CostCalculation!$N$10&3,TRUE):INDIRECT(\"MonteCarlo!\"&CostCalculation!$N$10&CostCalculation!$E$4+2,TRUE),\"<=\"&B69))/CostCalculation!$E$4=0,#N/A,(COUNTIF(INDIRECT(\"MonteCarlo!\"&CostCalculation!$N$10&3,TRUE):INDIRECT(\"MonteCarlo!\"&CostCalculation!$N$10&CostCalculation!$E$4+2,TRUE),\"<=\"&B69))/CostCalculation!$E$4)","v":0.4335},91186,{"$f":"IF((COUNTIF(INDIRECT(\"MonteCarlo!\"&CostCalculation!$N$10&3,TRUE):INDIRECT(\"MonteCarlo!\"&CostCalculation!$N$10&CostCalculation!$E$4+2,TRUE),\">\"&B69)-COUNTIF(INDIRECT(\"MonteCarlo!\"&CostCalculation!$N$10&3,TRUE):INDIRECT(\"MonteCarlo!\"&CostCalculation!$N$10&CostCalculation!$E$4+2,TRUE),\">\"&B70))/CostCalculation!$E$4=0,#N/A,(COUNTIF(INDIRECT(\"MonteCarlo!\"&CostCalculation!$N$10&3,TRUE):INDIRECT(\"MonteCarlo!\"&CostCalculation!$N$10&CostCalculation!$E$4+2,TRUE),\">\"&B69)-COUNTIF(INDIRECT(\"MonteCarlo!\"&CostCalculation!$N$10&3,TRUE):INDIRECT(\"MonteCarlo!\"&CostCalculation!$N$10&CostCalculation!$E$4+2,TRUE),\">\"&B70))/CostCalculation!$E$4)","v":{"$error":"#N/A"}}]
[0.189,{"$f":"ROUND(INDIRECT(\"CostCalculation!D\"&CostCalculation!$O$10,TRUE)*A70,0)","v":92656},{"$f":"IF((COUNTIF(INDIRECT(\"MonteCarlo!\"&CostCalculation!$N$10&3,TRUE):INDIRECT(\"MonteCarlo!\"&CostCalculation!$N$10&CostCalculation!$E$4+2,TRUE),\"<=\"&B70))/CostCalculation!$E$4=0,#N/A,(COUNTIF(INDIRECT(\"MonteCarlo!\"&CostCalculation!$N$10&3,TRUE):INDIRECT(\"MonteCarlo!\"&CostCalculation!$N$10&CostCalculation!$E$4+2,TRUE),\"<=\"&B70))/CostCalculation!$E$4)","v":0.4335},92656,{"$f":"IF((COUNTIF(INDIRECT(\"MonteCarlo!\"&CostCalculation!$N$10&3,TRUE):INDIRECT(\"MonteCarlo!\"&CostCalculation!$N$10&CostCalculation!$E$4+2,TRUE),\">\"&B70)-COUNTIF(INDIRECT(\"MonteCarlo!\"&CostCalculation!$N$10&3,TRUE):INDIRECT(\"MonteCarlo!\"&CostCalculation!$N$10&CostCalculation!$E$4+2,TRUE),\">\"&B71))/CostCalculation!$E$4=0,#N/A,(COUNTIF(INDIRECT(\"MonteCarlo!\"&CostCalculation!$N$10&3,TRUE):INDIRECT(\"MonteCarlo!\"&CostCalculation!$N$10&CostCalculation!$E$4+2,TRUE),\">\"&B70)-COUNTIF(INDIRECT(\"MonteCarlo!\"&CostCalculation!$N$10&3,TRUE):INDIRECT(\"MonteCarlo!\"&CostCalculation!$N$10&CostCalculation!$E$4+2,TRUE),\">\"&B71))/CostCalculation!$E$4)","v":{"$error":"#N/A"}}]
[0.192,{"$f":"ROUND(INDIRECT(\"CostCalculation!D\"&CostCalculation!$O$10,TRUE)*A71,0)","v":94127},{"$f":"IF((COUNTIF(INDIRECT(\"MonteCarlo!\"&CostCalculation!$N$10&3,TRUE):INDIRECT(\"MonteCarlo!\"&CostCalculation!$N$10&CostCalculation!$E$4+2,TRUE),\"<=\"&B71))/CostCalculation!$E$4=0,#N/A,(COUNTIF(INDIRECT(\"MonteCarlo!\"&CostCalculation!$N$10&3,TRUE):INDIRECT(\"MonteCarlo!\"&CostCalculation!$N$10&CostCalculation!$E$4+2,TRUE),\"<=\"&B71))/CostCalculation!$E$4)","v":0.4335},94127,{"$f":"IF((COUNTIF(INDIRECT(\"MonteCarlo!\"&CostCalculation!$N$10&3,TRUE):INDIRECT(\"MonteCarlo!\"&CostCalculation!$N$10&CostCalculation!$E$4+2,TRUE),\">\"&B71)-COUNTIF(INDIRECT(\"MonteCarlo!\"&CostCalculation!$N$10&3,TRUE):INDIRECT(\"MonteCarlo!\"&CostCalculation!$N$10&CostCalculation!$E$4+2,TRUE),\">\"&B72))/CostCalculation!$E$4=0,#N/A,(COUNTIF(INDIRECT(\"MonteCarlo!\"&CostCalculation!$N$10&3,TRUE):INDIRECT(\"MonteCarlo!\"&CostCalculation!$N$10&CostCalculation!$E$4+2,TRUE),\">\"&B71)-COUNTIF(INDIRECT(\"MonteCarlo!\"&CostCalculation!$N$10&3,TRUE):INDIRECT(\"MonteCarlo!\"&CostCalculation!$N$10&CostCalculation!$E$4+2,TRUE),\">\"&B72))/CostCalculation!$E$4)","v":{"$error":"#N/A"}}]
[0.19500000000000001,{"$f":"ROUND(INDIRECT(\"CostCalculation!D\"&CostCalculation!$O$10,TRUE)*A72,0)","v":95598},{"$f":"IF((COUNTIF(INDIRECT(\"MonteCarlo!\"&CostCalculation!$N$10&3,TRUE):INDIRECT(\"MonteCarlo!\"&CostCalculation!$N$10&CostCalculation!$E$4+2,TRUE),\"<=\"&B72))/CostCalculation!$E$4=0,#N/A,(COUNTIF(INDIRECT(\"MonteCarlo!\"&CostCalculation!$N$10&3,TRUE):INDIRECT(\"MonteCarlo!\"&CostCalculation!$N$10&CostCalculation!$E$4+2,TRUE),\"<=\"&B72))/CostCalculation!$E$4)","v":0.4335},{"$f":"B72","v":95598},{"$f":"IF((COUNTIF(INDIRECT(\"MonteCarlo!\"&CostCalculation!$N$10&3,TRUE):INDIRECT(\"MonteCarlo!\"&CostCalculation!$N$10&CostCalculation!$E$4+2,TRUE),\">\"&B72)-COUNTIF(INDIRECT(\"MonteCarlo!\"&CostCalculation!$N$10&3,TRUE):INDIRECT(\"MonteCarlo!\"&CostCalculation!$N$10&CostCalculation!$E$4+2,TRUE),\">\"&B73))/CostCalculation!$E$4=0,#N/A,(COUNTIF(INDIRECT(\"MonteCarlo!\"&CostCalculation!$N$10&3,TRUE):INDIRECT(\"MonteCarlo!\"&CostCalculation!$N$10&CostCalculation!$E$4+2,TRUE),\">\"&B72)-COUNTIF(INDIRECT(\"MonteCarlo!\"&CostCalculation!$N$10&3,TRUE):INDIRECT(\"MonteCarlo!\"&CostCalculation!$N$10&CostCalculation!$E$4+2,TRUE),\">\"&B73))/CostCalculation!$E$4)","v":{"$error":"#N/A"}}]
[0.19800000000000001,{"$f":"ROUND(INDIRECT(\"CostCalculation!D\"&CostCalculation!$O$10,TRUE)*A73,0)","v":97069},{"$f":"IF((COUNTIF(INDIRECT(\"MonteCarlo!\"&CostCalculation!$N$10&3,TRUE):INDIRECT(\"MonteCarlo!\"&CostCalculation!$N$10&CostCalculation!$E$4+2,TRUE),\"<=\"&B73))/CostCalculation!$E$4=0,#N/A,(COUNTIF(INDIRECT(\"MonteCarlo!\"&CostCalculation!$N$10&3,TRUE):INDIRECT(\"MonteCarlo!\"&CostCalculation!$N$10&CostCalculation!$E$4+2,TRUE),\"<=\"&B73))/CostCalculation!$E$4)","v":0.4335},97069,{"$f":"IF((COUNTIF(INDIRECT(\"MonteCarlo!\"&CostCalculation!$N$10&3,TRUE):INDIRECT(\"MonteCarlo!\"&CostCalculation!$N$10&CostCalculation!$E$4+2,TRUE),\">\"&B73)-COUNTIF(INDIRECT(\"MonteCarlo!\"&CostCalculation!$N$10&3,TRUE):INDIRECT(\"MonteCarlo!\"&CostCalculation!$N$10&CostCalculation!$E$4+2,TRUE),\">\"&B74))/CostCalculation!$E$4=0,#N/A,(COUNTIF(INDIRECT(\"MonteCarlo!\"&CostCalculation!$N$10&3,TRUE):INDIRECT(\"MonteCarlo!\"&CostCalculation!$N$10&CostCalculation!$E$4+2,TRUE),\">\"&B73)-COUNTIF(INDIRECT(\"MonteCarlo!\"&CostCalculation!$N$10&3,TRUE):INDIRECT(\"MonteCarlo!\"&CostCalculation!$N$10&CostCalculation!$E$4+2,TRUE),\">\"&B74))/CostCalculation!$E$4)","v":0.17}]
[0.20100000000000001,{"$f":"ROUND(INDIRECT(\"CostCalculation!D\"&CostCalculation!$O$10,TRUE)*A74,0)","v":98539},{"$f":"IF((COUNTIF(INDIRECT(\"MonteCarlo!\"&CostCalculation!$N$10&3,TRUE):INDIRECT(\"MonteCarlo!\"&CostCalculation!$N$10&CostCalculation!$E$4+2,TRUE),\"<=\"&B74))/CostCalculation!$E$4=0,#N/A,(COUNTIF(INDIRECT(\"MonteCarlo!\"&CostCalculation!$N$10&3,TRUE):INDIRECT(\"MonteCarlo!\"&CostCalculation!$N$10&CostCalculation!$E$4+2,TRUE),\"<=\"&B74))/CostCalculation!$E$4)","v":0.60350000000000004},98539,{"$f":"IF((COUNTIF(INDIRECT(\"MonteCarlo!\"&CostCalculation!$N$10&3,TRUE):INDIRECT(\"MonteCarlo!\"&CostCalculation!$N$10&CostCalculation!$E$4+2,TRUE),\">\"&B74)-COUNTIF(INDIRECT(\"MonteCarlo!\"&CostCalculation!$N$10&3,TRUE):INDIRECT(\"MonteCarlo!\"&CostCalculation!$N$10&CostCalculation!$E$4+2,TRUE),\">\"&B75))/CostCalculation!$E$4=0,#N/A,(COUNTIF(INDIRECT(\"MonteCarlo!\"&CostCalculation!$N$10&3,TRUE):INDIRECT(\"MonteCarlo!\"&CostCalculation!$N$10&CostCalculation!$E$4+2,TRUE),\">\"&B74)-COUNTIF(INDIRECT(\"MonteCarlo!\"&CostCalculation!$N$10&3,TRUE):INDIRECT(\"MonteCarlo!\"&CostCalculation!$N$10&CostCalculation!$E$4+2,TRUE),\">\"&B75))/CostCalculation!$E$4)","v":{"$error":"#N/A"}}]
[0.20399999999999999,{"$f":"ROUND(INDIRECT(\"CostCalculation!D\"&CostCalculation!$O$10,TRUE)*A75,0)","v":100010},{"$f":"IF((COUNTIF(INDIRECT(\"MonteCarlo!\"&CostCalculation!$N$10&3,TRUE):INDIRECT(\"MonteCarlo!\"&CostCalculation!$N$10&CostCalculation!$E$4+2,TRUE),\"<=\"&B75))/CostCalculation!$E$4=0,#N/A,(COUNTIF(INDIRECT(\"MonteCarlo!\"&CostCalculation!$N$10&3,TRUE):INDIRECT(\"MonteCarlo!\"&CostCalculation!$N$10&CostCalculation!$E$4+2,TRUE),\"<=\"&B75))/CostCalculation!$E$4)","v":0.60350000000000004},100010,{"$f":"IF((COUNTIF(INDIRECT(\"MonteCarlo!\"&CostCalculation!$N$10&3,TRUE):INDIRECT(\"MonteCarlo!\"&CostCalculation!$N$10&CostCalculation!$E$4+2,TRUE),\">\"&B75)-COUNTIF(INDIRECT(\"MonteCarlo!\"&CostCalculation!$N$10&3,TRUE):INDIRECT(\"MonteCarlo!\"&CostCalculation!$N$10&CostCalculation!$E$4+2,TRUE),\">\"&B76))/CostCalculation!$E$4=0,#N/A,(COUNTIF(INDIRECT(\"MonteCarlo!\"&CostCalculation!$N$10&3,TRUE):INDIRECT(\"MonteCarlo!\"&CostCalculation!$N$10&CostCalculation!$E$4+2,TRUE),\">\"&B75)-COUNTIF(INDIRECT(\"MonteCarlo!\"&CostCalculation!$N$10&3,TRUE):INDIRECT(\"MonteCarlo!\"&CostCalculation!$N$10&CostCalculation!$E$4+2,TRUE),\">\"&B76))/CostCalculation!$E$4)","v":{"$error":"#N/A"}}]
[0.20699999999999999,{"$f":"ROUND(INDIRECT(\"CostCalculation!D\"&CostCalculation!$O$10,TRUE)*A76,0)","v":101481},{"$f":"IF((COUNTIF(INDIRECT(\"MonteCarlo!\"&CostCalculation!$N$10&3,TRUE):INDIRECT(\"MonteCarlo!\"&CostCalculation!$N$10&CostCalculation!$E$4+2,TRUE),\"<=\"&B76))/CostCalculation!$E$4=0,#N/A,(COUNTIF(INDIRECT(\"MonteCarlo!\"&CostCalculation!$N$10&3,TRUE):INDIRECT(\"MonteCarlo!\"&CostCalculation!$N$10&CostCalculation!$E$4+2,TRUE),\"<=\"&B76))/CostCalculation!$E$4)","v":0.60350000000000004},101481,{"$f":"IF((COUNTIF(INDIRECT(\"MonteCarlo!\"&CostCalculation!$N$10&3,TRUE):INDIRECT(\"MonteCarlo!\"&CostCalculation!$N$10&CostCalculation!$E$4+2,TRUE),\">\"&B76)-COUNTIF(INDIRECT(\"MonteCarlo!\"&CostCalculation!$N$10&3,TRUE):INDIRECT(\"MonteCarlo!\"&CostCalculation!$N$10&CostCalculation!$E$4+2,TRUE),\">\"&B77))/CostCalculation!$E$4=0,#N/A,(COUNTIF(INDIRECT(\"MonteCarlo!\"&CostCalculation!$N$10&3,TRUE):INDIRECT(\"MonteCarlo!\"&CostCalculation!$N$10&CostCalculation!$E$4+2,TRUE),\">\"&B76)-COUNTIF(INDIRECT(\"MonteCarlo!\"&CostCalculation!$N$10&3,TRUE):INDIRECT(\"MonteCarlo!\"&CostCalculation!$N$10&CostCalculation!$E$4+2,TRUE),\">\"&B77))/CostCalculation!$E$4)","v":{"$error":"#N/A"}}]
[0.21,{"$f":"ROUND(INDIRECT(\"CostCalculation!D\"&CostCalculation!$O$10,TRUE)*A77,0)","v":102951},{"$f":"IF((COUNTIF(INDIRECT(\"MonteCarlo!\"&CostCalculation!$N$10&3,TRUE):INDIRECT(\"MonteCarlo!\"&CostCalculation!$N$10&CostCalculation!$E$4+2,TRUE),\"<=\"&B77))/CostCalculation!$E$4=0,#N/A,(COUNTIF(INDIRECT(\"MonteCarlo!\"&CostCalculation!$N$10&3,TRUE):INDIRECT(\"MonteCarlo!\"&CostCalculation!$N$10&CostCalculation!$E$4+2,TRUE),\"<=\"&B77))/CostCalculation!$E$4)","v":0.60350000000000004},102951,{"$f":"IF((COUNTIF(INDIRECT(\"MonteCarlo!\"&CostCalculation!$N$10&3,TRUE):INDIRECT(\"MonteCarlo!\"&CostCalculation!$N$10&CostCalculation!$E$4+2,TRUE),\">\"&B77)-COUNTIF(INDIRECT(\"MonteCarlo!\"&CostCalculation!$N$10&3,TRUE):INDIRECT(\"MonteCarlo!\"&CostCalculation!$N$10&CostCalculation!$E$4+2,TRUE),\">\"&B78))/CostCalculation!$E$4=0,#N/A,(COUNTIF(INDIRECT(\"MonteCarlo!\"&CostCalculation!$N$10&3,TRUE):INDIRECT(\"MonteCarlo!\"&CostCalculation!$N$10&CostCalculation!$E$4+2,TRUE),\">\"&B77)-COUNTIF(INDIRECT(\"MonteCarlo!\"&CostCalculation!$N$10&3,TRUE):INDIRECT(\"MonteCarlo!\"&CostCalculation!$N$10&CostCalculation!$E$4+2,TRUE),\">\"&B78))/CostCalculation!$E$4)","v":{"$error":"#N/A"}}]
[0.21299999999999999,{"$f":"ROUND(INDIRECT(\"CostCalculation!D\"&CostCalculation!$O$10,TRUE)*A78,0)","v":104422},{"$f":"IF((COUNTIF(INDIRECT(\"MonteCarlo!\"&CostCalculation!$N$10&3,TRUE):INDIRECT(\"MonteCarlo!\"&CostCalculation!$N$10&CostCalculation!$E$4+2,TRUE),\"<=\"&B78))/CostCalculation!$E$4=0,#N/A,(COUNTIF(INDIRECT(\"MonteCarlo!\"&CostCalculation!$N$10&3,TRUE):INDIRECT(\"MonteCarlo!\"&CostCalculation!$N$10&CostCalculation!$E$4+2,TRUE),\"<=\"&B78))/CostCalculation!$E$4)","v":0.60350000000000004},104422,{"$f":"IF((COUNTIF(INDIRECT(\"MonteCarlo!\"&CostCalculation!$N$10&3,TRUE):INDIRECT(\"MonteCarlo!\"&CostCalculation!$N$10&CostCalculation!$E$4+2,TRUE),\">\"&B78)-COUNTIF(INDIRECT(\"MonteCarlo!\"&CostCalculation!$N$10&3,TRUE):INDIRECT(\"MonteCarlo!\"&CostCalculation!$N$10&CostCalculation!$E$4+2,TRUE),\">\"&B79))/CostCalculation!$E$4=0,#N/A,(COUNTIF(INDIRECT(\"MonteCarlo!\"&CostCalculation!$N$10&3,TRUE):INDIRECT(\"MonteCarlo!\"&CostCalculation!$N$10&CostCalculation!$E$4+2,TRUE),\">\"&B78)-COUNTIF(INDIRECT(\"MonteCarlo!\"&CostCalculation!$N$10&3,TRUE):INDIRECT(\"MonteCarlo!\"&CostCalculation!$N$10&CostCalculation!$E$4+2,TRUE),\">\"&B79))/CostCalculation!$E$4)","v":{"$error":"#N/A"}}]
[0.216,{"$f":"ROUND(INDIRECT(\"CostCalculation!D\"&CostCalculation!$O$10,TRUE)*A79,0)","v":105893},{"$f":"IF((COUNTIF(INDIRECT(\"MonteCarlo!\"&CostCalculation!$N$10&3,TRUE):INDIRECT(\"MonteCarlo!\"&CostCalculation!$N$10&CostCalculation!$E$4+2,TRUE),\"<=\"&B79))/CostCalculation!$E$4=0,#N/A,(COUNTIF(INDIRECT(\"MonteCarlo!\"&CostCalculation!$N$10&3,TRUE):INDIRECT(\"MonteCarlo!\"&CostCalculation!$N$10&CostCalculation!$E$4+2,TRUE),\"<=\"&B79))/CostCalculation!$E$4)","v":0.60350000000000004},105893,{"$f":"IF((COUNTIF(INDIRECT(\"MonteCarlo!\"&CostCalculation!$N$10&3,TRUE):INDIRECT(\"MonteCarlo!\"&CostCalculation!$N$10&CostCalculation!$E$4+2,TRUE),\">\"&B79)-COUNTIF(INDIRECT(\"MonteCarlo!\"&CostCalculation!$N$10&3,TRUE):INDIRECT(\"MonteCarlo!\"&CostCalculation!$N$10&CostCalculation!$E$4+2,TRUE),\">\"&B80))/CostCalculation!$E$4=0,#N/A,(COUNTIF(INDIRECT(\"MonteCarlo!\"&CostCalculation!$N$10&3,TRUE):INDIRECT(\"MonteCarlo!\"&CostCalculation!$N$10&CostCalculation!$E$4+2,TRUE),\">\"&B79)-COUNTIF(INDIRECT(\"MonteCarlo!\"&CostCalculation!$N$10&3,TRUE):INDIRECT(\"MonteCarlo!\"&CostCalculation!$N$10&CostCalculation!$E$4+2,TRUE),\">\"&B80))/CostCalculation!$E$4)","v":{"$error":"#N/A"}}]
[0.219,{"$f":"ROUND(INDIRECT(\"CostCalculation!D\"&CostCalculation!$O$10,TRUE)*A80,0)","v":107364},{"$f":"IF((COUNTIF(INDIRECT(\"MonteCarlo!\"&CostCalculation!$N$10&3,TRUE):INDIRECT(\"MonteCarlo!\"&CostCalculation!$N$10&CostCalculation!$E$4+2,TRUE),\"<=\"&B80))/CostCalculation!$E$4=0,#N/A,(COUNTIF(INDIRECT(\"MonteCarlo!\"&CostCalculation!$N$10&3,TRUE):INDIRECT(\"MonteCarlo!\"&CostCalculation!$N$10&CostCalculation!$E$4+2,TRUE),\"<=\"&B80))/CostCalculation!$E$4)","v":0.60350000000000004},107364,{"$f":"IF((COUNTIF(INDIRECT(\"MonteCarlo!\"&CostCalculation!$N$10&3,TRUE):INDIRECT(\"MonteCarlo!\"&CostCalculation!$N$10&CostCalculation!$E$4+2,TRUE),\">\"&B80)-COUNTIF(INDIRECT(\"MonteCarlo!\"&CostCalculation!$N$10&3,TRUE):INDIRECT(\"MonteCarlo!\"&CostCalculation!$N$10&CostCalculation!$E$4+2,TRUE),\">\"&B81))/CostCalculation!$E$4=0,#N/A,(COUNTIF(INDIRECT(\"MonteCarlo!\"&CostCalculation!$N$10&3,TRUE):INDIRECT(\"MonteCarlo!\"&CostCalculation!$N$10&CostCalculation!$E$4+2,TRUE),\">\"&B80)-COUNTIF(INDIRECT(\"MonteCarlo!\"&CostCalculation!$N$10&3,TRUE):INDIRECT(\"MonteCarlo!\"&CostCalculation!$N$10&CostCalculation!$E$4+2,TRUE),\">\"&B81))/CostCalculation!$E$4)","v":{"$error":"#N/A"}}]
[0.222,{"$f":"ROUND(INDIRECT(\"CostCalculation!D\"&CostCalculation!$O$10,TRUE)*A81,0)","v":108834},{"$f":"IF((COUNTIF(INDIRECT(\"MonteCarlo!\"&CostCalculation!$N$10&3,TRUE):INDIRECT(\"MonteCarlo!\"&CostCalculation!$N$10&CostCalculation!$E$4+2,TRUE),\"<=\"&B81))/CostCalculation!$E$4=0,#N/A,(COUNTIF(INDIRECT(\"MonteCarlo!\"&CostCalculation!$N$10&3,TRUE):INDIRECT(\"MonteCarlo!\"&CostCalculation!$N$10&CostCalculation!$E$4+2,TRUE),\"<=\"&B81))/CostCalculation!$E$4)","v":0.60350000000000004},108834,{"$f":"IF((COUNTIF(INDIRECT(\"MonteCarlo!\"&CostCalculation!$N$10&3,TRUE):INDIRECT(\"MonteCarlo!\"&CostCalculation!$N$10&CostCalculation!$E$4+2,TRUE),\">\"&B81)-COUNTIF(INDIRECT(\"MonteCarlo!\"&CostCalculation!$N$10&3,TRUE):INDIRECT(\"MonteCarlo!\"&CostCalculation!$N$10&CostCalculation!$E$4+2,TRUE),\">\"&B82))/CostCalculation!$E$4=0,#N/A,(COUNTIF(INDIRECT(\"MonteCarlo!\"&CostCalculation!$N$10&3,TRUE):INDIRECT(\"MonteCarlo!\"&CostCalculation!$N$10&CostCalculation!$E$4+2,TRUE),\">\"&B81)-COUNTIF(INDIRECT(\"MonteCarlo!\"&CostCalculation!$N$10&3,TRUE):INDIRECT(\"MonteCarlo!\"&CostCalculation!$N$10&CostCalculation!$E$4+2,TRUE),\">\"&B82))/CostCalculation!$E$4)","v":{"$error":"#N/A"}}]
[0.22500000000000001,{"$f":"ROUND(INDIRECT(\"CostCalculation!D\"&CostCalculation!$O$10,TRUE)*A82,0)","v":110305},{"$f":"IF((COUNTIF(INDIRECT(\"MonteCarlo!\"&CostCalculation!$N$10&3,TRUE):INDIRECT(\"MonteCarlo!\"&CostCalculation!$N$10&CostCalculation!$E$4+2,TRUE),\"<=\"&B82))/CostCalculation!$E$4=0,#N/A,(COUNTIF(INDIRECT(\"MonteCarlo!\"&CostCalculation!$N$10&3,TRUE):INDIRECT(\"MonteCarlo!\"&CostCalculation!$N$10&CostCalculation!$E$4+2,TRUE),\"<=\"&B82))/CostCalculation!$E$4)","v":0.60350000000000004},110305,{"$f":"IF((COUNTIF(INDIRECT(\"MonteCarlo!\"&CostCalculation!$N$10&3,TRUE):INDIRECT(\"MonteCarlo!\"&CostCalculation!$N$10&CostCalculation!$E$4+2,TRUE),\">\"&B82)-COUNTIF(INDIRECT(\"MonteCarlo!\"&CostCalculation!$N$10&3,TRUE):INDIRECT(\"MonteCarlo!\"&CostCalculation!$N$10&CostCalculation!$E$4+2,TRUE),\">\"&B83))/CostCalculation!$E$4=0,#N/A,(COUNTIF(INDIRECT(\"MonteCarlo!\"&CostCalculation!$N$10&3,TRUE):INDIRECT(\"MonteCarlo!\"&CostCalculation!$N$10&CostCalculation!$E$4+2,TRUE),\">\"&B82)-COUNTIF(INDIRECT(\"MonteCarlo!\"&CostCalculation!$N$10&3,TRUE):INDIRECT(\"MonteCarlo!\"&CostCalculation!$N$10&CostCalculation!$E$4+2,TRUE),\">\"&B83))/CostCalculation!$E$4)","v":{"$error":"#N/A"}}]
[0.22800000000000001,{"$f":"ROUND(INDIRECT(\"CostCalculation!D\"&CostCalculation!$O$10,TRUE)*A83,0)","v":111776},{"$f":"IF((COUNTIF(INDIRECT(\"MonteCarlo!\"&CostCalculation!$N$10&3,TRUE):INDIRECT(\"MonteCarlo!\"&CostCalculation!$N$10&CostCalculation!$E$4+2,TRUE),\"<=\"&B83))/CostCalculation!$E$4=0,#N/A,(COUNTIF(INDIRECT(\"MonteCarlo!\"&CostCalculation!$N$10&3,TRUE):INDIRECT(\"MonteCarlo!\"&CostCalculation!$N$10&CostCalculation!$E$4+2,TRUE),\"<=\"&B83))/CostCalculation!$E$4)","v":0.60350000000000004},111776,{"$f":"IF((COUNTIF(INDIRECT(\"MonteCarlo!\"&CostCalculation!$N$10&3,TRUE):INDIRECT(\"MonteCarlo!\"&CostCalculation!$N$10&CostCalculation!$E$4+2,TRUE),\">\"&B83)-COUNTIF(INDIRECT(\"MonteCarlo!\"&CostCalculation!$N$10&3,TRUE):INDIRECT(\"MonteCarlo!\"&CostCalculation!$N$10&CostCalculation!$E$4+2,TRUE),\">\"&B84))/CostCalculation!$E$4=0,#N/A,(COUNTIF(INDIRECT(\"MonteCarlo!\"&CostCalculation!$N$10&3,TRUE):INDIRECT(\"MonteCarlo!\"&CostCalculation!$N$10&CostCalculation!$E$4+2,TRUE),\">\"&B83)-COUNTIF(INDIRECT(\"MonteCarlo!\"&CostCalculation!$N$10&3,TRUE):INDIRECT(\"MonteCarlo!\"&CostCalculation!$N$10&CostCalculation!$E$4+2,TRUE),\">\"&B84))/CostCalculation!$E$4)","v":{"$error":"#N/A"}}]
[0.23100000000000001,{"$f":"ROUND(INDIRECT(\"CostCalculation!D\"&CostCalculation!$O$10,TRUE)*A84,0)","v":113247},{"$f":"IF((COUNTIF(INDIRECT(\"MonteCarlo!\"&CostCalculation!$N$10&3,TRUE):INDIRECT(\"MonteCarlo!\"&CostCalculation!$N$10&CostCalculation!$E$4+2,TRUE),\"<=\"&B84))/CostCalculation!$E$4=0,#N/A,(COUNTIF(INDIRECT(\"MonteCarlo!\"&CostCalculation!$N$10&3,TRUE):INDIRECT(\"MonteCarlo!\"&CostCalculation!$N$10&CostCalculation!$E$4+2,TRUE),\"<=\"&B84))/CostCalculation!$E$4)","v":0.60350000000000004},113247,{"$f":"IF((COUNTIF(INDIRECT(\"MonteCarlo!\"&CostCalculation!$N$10&3,TRUE):INDIRECT(\"MonteCarlo!\"&CostCalculation!$N$10&CostCalculation!$E$4+2,TRUE),\">\"&B84)-COUNTIF(INDIRECT(\"MonteCarlo!\"&CostCalculation!$N$10&3,TRUE):INDIRECT(\"MonteCarlo!\"&CostCalculation!$N$10&CostCalculation!$E$4+2,TRUE),\">\"&B85))/CostCalculation!$E$4=0,#N/A,(COUNTIF(INDIRECT(\"MonteCarlo!\"&CostCalculation!$N$10&3,TRUE):INDIRECT(\"MonteCarlo!\"&CostCalculation!$N$10&CostCalculation!$E$4+2,TRUE),\">\"&B84)-COUNTIF(INDIRECT(\"MonteCarlo!\"&CostCalculation!$N$10&3,TRUE):INDIRECT(\"MonteCarlo!\"&CostCalculation!$N$10&CostCalculation!$E$4+2,TRUE),\">\"&B85))/CostCalculation!$E$4)","v":{"$error":"#N/A"}}]
[0.23400000000000001,{"$f":"ROUND(INDIRECT(\"CostCalculation!D\"&CostCalculation!$O$10,TRUE)*A85,0)","v":114717},{"$f":"IF((COUNTIF(INDIRECT(\"MonteCarlo!\"&CostCalculation!$N$10&3,TRUE):INDIRECT(\"MonteCarlo!\"&CostCalculation!$N$10&CostCalculation!$E$4+2,TRUE),\"<=\"&B85))/CostCalculation!$E$4=0,#N/A,(COUNTIF(INDIRECT(\"MonteCarlo!\"&CostCalculation!$N$10&3,TRUE):INDIRECT(\"MonteCarlo!\"&CostCalculation!$N$10&CostCalculation!$E$4+2,TRUE),\"<=\"&B85))/CostCalculation!$E$4)","v":0.60350000000000004},114717,{"$f":"IF((COUNTIF(INDIRECT(\"MonteCarlo!\"&CostCalculation!$N$10&3,TRUE):INDIRECT(\"MonteCarlo!\"&CostCalculation!$N$10&CostCalculation!$E$4+2,TRUE),\">\"&B85)-COUNTIF(INDIRECT(\"MonteCarlo!\"&CostCalculation!$N$10&3,TRUE):INDIRECT(\"MonteCarlo!\"&CostCalculation!$N$10&CostCalculation!$E$4+2,TRUE),\">\"&B86))/CostCalculation!$E$4=0,#N/A,(COUNTIF(INDIRECT(\"MonteCarlo!\"&CostCalculation!$N$10&3,TRUE):INDIRECT(\"MonteCarlo!\"&CostCalculation!$N$10&CostCalculation!$E$4+2,TRUE),\">\"&B85)-COUNTIF(INDIRECT(\"MonteCarlo!\"&CostCalculation!$N$10&3,TRUE):INDIRECT(\"MonteCarlo!\"&CostCalculation!$N$10&CostCalculation!$E$4+2,TRUE),\">\"&B86))/CostCalculation!$E$4)","v":{"$error":"#N/A"}}]
[0.23699999999999999,{"$f":"ROUND(INDIRECT(\"CostCalculation!D\"&CostCalculation!$O$10,TRUE)*A86,0)","v":116188},{"$f":"IF((COUNTIF(INDIRECT(\"MonteCarlo!\"&CostCalculation!$N$10&3,TRUE):INDIRECT(\"MonteCarlo!\"&CostCalculation!$N$10&CostCalculation!$E$4+2,TRUE),\"<=\"&B86))/CostCalculation!$E$4=0,#N/A,(COUNTIF(INDIRECT(\"MonteCarlo!\"&CostCalculation!$N$10&3,TRUE):INDIRECT(\"MonteCarlo!\"&CostCalculation!$N$10&CostCalculation!$E$4+2,TRUE),\"<=\"&B86))/CostCalculation!$E$4)","v":0.60350000000000004},116188,{"$f":"IF((COUNTIF(INDIRECT(\"MonteCarlo!\"&CostCalculation!$N$10&3,TRUE):INDIRECT(\"MonteCarlo!\"&CostCalculation!$N$10&CostCalculation!$E$4+2,TRUE),\">\"&B86)-COUNTIF(INDIRECT(\"MonteCarlo!\"&CostCalculation!$N$10&3,TRUE):INDIRECT(\"MonteCarlo!\"&CostCalculation!$N$10&CostCalculation!$E$4+2,TRUE),\">\"&B87))/CostCalculation!$E$4=0,#N/A,(COUNTIF(INDIRECT(\"MonteCarlo!\"&CostCalculation!$N$10&3,TRUE):INDIRECT(\"MonteCarlo!\"&CostCalculation!$N$10&CostCalculation!$E$4+2,TRUE),\">\"&B86)-COUNTIF(INDIRECT(\"MonteCarlo!\"&CostCalculation!$N$10&3,TRUE):INDIRECT(\"MonteCarlo!\"&CostCalculation!$N$10&CostCalculation!$E$4+2,TRUE),\">\"&B87))/CostCalculation!$E$4)","v":{"$error":"#N/A"}}]
[0.24,{"$f":"ROUND(INDIRECT(\"CostCalculation!D\"&CostCalculation!$O$10,TRUE)*A87,0)","v":117659},{"$f":"IF((COUNTIF(INDIRECT(\"MonteCarlo!\"&CostCalculation!$N$10&3,TRUE):INDIRECT(\"MonteCarlo!\"&CostCalculation!$N$10&CostCalculation!$E$4+2,TRUE),\"<=\"&B87))/CostCalculation!$E$4=0,#N/A,(COUNTIF(INDIRECT(\"MonteCarlo!\"&CostCalculation!$N$10&3,TRUE):INDIRECT(\"MonteCarlo!\"&CostCalculation!$N$10&CostCalculation!$E$4+2,TRUE),\"<=\"&B87))/CostCalculation!$E$4)","v":0.60350000000000004},117659,{"$f":"IF((COUNTIF(INDIRECT(\"MonteCarlo!\"&CostCalculation!$N$10&3,TRUE):INDIRECT(\"MonteCarlo!\"&CostCalculation!$N$10&CostCalculation!$E$4+2,TRUE),\">\"&B87)-COUNTIF(INDIRECT(\"MonteCarlo!\"&CostCalculation!$N$10&3,TRUE):INDIRECT(\"MonteCarlo!\"&CostCalculation!$N$10&CostCalculation!$E$4+2,TRUE),\">\"&B88))/CostCalculation!$E$4=0,#N/A,(COUNTIF(INDIRECT(\"MonteCarlo!\"&CostCalculation!$N$10&3,TRUE):INDIRECT(\"MonteCarlo!\"&CostCalculation!$N$10&CostCalculation!$E$4+2,TRUE),\">\"&B87)-COUNTIF(INDIRECT(\"MonteCarlo!\"&CostCalculation!$N$10&3,TRUE):INDIRECT(\"MonteCarlo!\"&CostCalculation!$N$10&CostCalculation!$E$4+2,TRUE),\">\"&B88))/CostCalculation!$E$4)","v":{"$error":"#N/A"}}]
[0.24299999999999999,{"$f":"ROUND(INDIRECT(\"CostCalculation!D\"&CostCalculation!$O$10,TRUE)*A88,0)","v":119130},{"$f":"IF((COUNTIF(INDIRECT(\"MonteCarlo!\"&CostCalculation!$N$10&3,TRUE):INDIRECT(\"MonteCarlo!\"&CostCalculation!$N$10&CostCalculation!$E$4+2,TRUE),\"<=\"&B88))/CostCalculation!$E$4=0,#N/A,(COUNTIF(INDIRECT(\"MonteCarlo!\"&CostCalculation!$N$10&3,TRUE):INDIRECT(\"MonteCarlo!\"&CostCalculation!$N$10&CostCalculation!$E$4+2,TRUE),\"<=\"&B88))/CostCalculation!$E$4)","v":0.60350000000000004},119130,{"$f":"IF((COUNTIF(INDIRECT(\"MonteCarlo!\"&CostCalculation!$N$10&3,TRUE):INDIRECT(\"MonteCarlo!\"&CostCalculation!$N$10&CostCalculation!$E$4+2,TRUE),\">\"&B88)-COUNTIF(INDIRECT(\"MonteCarlo!\"&CostCalculation!$N$10&3,TRUE):INDIRECT(\"MonteCarlo!\"&CostCalculation!$N$10&CostCalculation!$E$4+2,TRUE),\">\"&B89))/CostCalculation!$E$4=0,#N/A,(COUNTIF(INDIRECT(\"MonteCarlo!\"&CostCalculation!$N$10&3,TRUE):INDIRECT(\"MonteCarlo!\"&CostCalculation!$N$10&CostCalculation!$E$4+2,TRUE),\">\"&B88)-COUNTIF(INDIRECT(\"MonteCarlo!\"&CostCalculation!$N$10&3,TRUE):INDIRECT(\"MonteCarlo!\"&CostCalculation!$N$10&CostCalculation!$E$4+2,TRUE),\">\"&B89))/CostCalculation!$E$4)","v":{"$error":"#N/A"}}]
[0.246,{"$f":"ROUND(INDIRECT(\"CostCalculation!D\"&CostCalculation!$O$10,TRUE)*A89,0)","v":120600},{"$f":"IF((COUNTIF(INDIRECT(\"MonteCarlo!\"&CostCalculation!$N$10&3,TRUE):INDIRECT(\"MonteCarlo!\"&CostCalculation!$N$10&CostCalculation!$E$4+2,TRUE),\"<=\"&B89))/CostCalculation!$E$4=0,#N/A,(COUNTIF(INDIRECT(\"MonteCarlo!\"&CostCalculation!$N$10&3,TRUE):INDIRECT(\"MonteCarlo!\"&CostCalculation!$N$10&CostCalculation!$E$4+2,TRUE),\"<=\"&B89))/CostCalculation!$E$4)","v":0.60350000000000004},120600,{"$f":"IF((COUNTIF(INDIRECT(\"MonteCarlo!\"&CostCalculation!$N$10&3,TRUE):INDIRECT(\"MonteCarlo!\"&CostCalculation!$N$10&CostCalculation!$E$4+2,TRUE),\">\"&B89)-COUNTIF(INDIRECT(\"MonteCarlo!\"&CostCalculation!$N$10&3,TRUE):INDIRECT(\"MonteCarlo!\"&CostCalculation!$N$10&CostCalculation!$E$4+2,TRUE),\">\"&B90))/CostCalculation!$E$4=0,#N/A,(COUNTIF(INDIRECT(\"MonteCarlo!\"&CostCalculation!$N$10&3,TRUE):INDIRECT(\"MonteCarlo!\"&CostCalculation!$N$10&CostCalculation!$E$4+2,TRUE),\">\"&B89)-COUNTIF(INDIRECT(\"MonteCarlo!\"&CostCalculation!$N$10&3,TRUE):INDIRECT(\"MonteCarlo!\"&CostCalculation!$N$10&CostCalculation!$E$4+2,TRUE),\">\"&B90))/CostCalculation!$E$4)","v":{"$error":"#N/A"}}]
[0.249,{"$f":"ROUND(INDIRECT(\"CostCalculation!D\"&CostCalculation!$O$10,TRUE)*A90,0)","v":122071},{"$f":"IF((COUNTIF(INDIRECT(\"MonteCarlo!\"&CostCalculation!$N$10&3,TRUE):INDIRECT(\"MonteCarlo!\"&CostCalculation!$N$10&CostCalculation!$E$4+2,TRUE),\"<=\"&B90))/CostCalculation!$E$4=0,#N/A,(COUNTIF(INDIRECT(\"MonteCarlo!\"&CostCalculation!$N$10&3,TRUE):INDIRECT(\"MonteCarlo!\"&CostCalculation!$N$10&CostCalculation!$E$4+2,TRUE),\"<=\"&B90))/CostCalculation!$E$4)","v":0.60350000000000004},122071,{"$f":"IF((COUNTIF(INDIRECT(\"MonteCarlo!\"&CostCalculation!$N$10&3,TRUE):INDIRECT(\"MonteCarlo!\"&CostCalculation!$N$10&CostCalculation!$E$4+2,TRUE),\">\"&B90)-COUNTIF(INDIRECT(\"MonteCarlo!\"&CostCalculation!$N$10&3,TRUE):INDIRECT(\"MonteCarlo!\"&CostCalculation!$N$10&CostCalculation!$E$4+2,TRUE),\">\"&B91))/CostCalculation!$E$4=0,#N/A,(COUNTIF(INDIRECT(\"MonteCarlo!\"&CostCalculation!$N$10&3,TRUE):INDIRECT(\"MonteCarlo!\"&CostCalculation!$N$10&CostCalculation!$E$4+2,TRUE),\">\"&B90)-COUNTIF(INDIRECT(\"MonteCarlo!\"&CostCalculation!$N$10&3,TRUE):INDIRECT(\"MonteCarlo!\"&CostCalculation!$N$10&CostCalculation!$E$4+2,TRUE),\">\"&B91))/CostCalculation!$E$4)","v":{"$error":"#N/A"}}]
[0.252,{"$f":"ROUND(INDIRECT(\"CostCalculation!D\"&CostCalculation!$O$10,TRUE)*A91,0)","v":123542},{"$f":"IF((COUNTIF(INDIRECT(\"MonteCarlo!\"&CostCalculation!$N$10&3,TRUE):INDIRECT(\"MonteCarlo!\"&CostCalculation!$N$10&CostCalculation!$E$4+2,TRUE),\"<=\"&B91))/CostCalculation!$E$4=0,#N/A,(COUNTIF(INDIRECT(\"MonteCarlo!\"&CostCalculation!$N$10&3,TRUE):INDIRECT(\"MonteCarlo!\"&CostCalculation!$N$10&CostCalculation!$E$4+2,TRUE),\"<=\"&B91))/CostCalculation!$E$4)","v":0.60350000000000004},123542,{"$f":"IF((COUNTIF(INDIRECT(\"MonteCarlo!\"&CostCalculation!$N$10&3,TRUE):INDIRECT(\"MonteCarlo!\"&CostCalculation!$N$10&CostCalculation!$E$4+2,TRUE),\">\"&B91)-COUNTIF(INDIRECT(\"MonteCarlo!\"&CostCalculation!$N$10&3,TRUE):INDIRECT(\"MonteCarlo!\"&CostCalculation!$N$10&CostCalculation!$E$4+2,TRUE),\">\"&B92))/CostCalculation!$E$4=0,#N/A,(COUNTIF(INDIRECT(\"MonteCarlo!\"&CostCalculation!$N$10&3,TRUE):INDIRECT(\"MonteCarlo!\"&CostCalculation!$N$10&CostCalculation!$E$4+2,TRUE),\">\"&B91)-COUNTIF(INDIRECT(\"MonteCarlo!\"&CostCalculation!$N$10&3,TRUE):INDIRECT(\"MonteCarlo!\"&CostCalculation!$N$10&CostCalculation!$E$4+2,TRUE),\">\"&B92))/CostCalculation!$E$4)","v":{"$error":"#N/A"}}]
[0.255,{"$f":"ROUND(INDIRECT(\"CostCalculation!D\"&CostCalculation!$O$10,TRUE)*A92,0)","v":125012},{"$f":"IF((COUNTIF(INDIRECT(\"MonteCarlo!\"&CostCalculation!$N$10&3,TRUE):INDIRECT(\"MonteCarlo!\"&CostCalculation!$N$10&CostCalculation!$E$4+2,TRUE),\"<=\"&B92))/CostCalculation!$E$4=0,#N/A,(COUNTIF(INDIRECT(\"MonteCarlo!\"&CostCalculation!$N$10&3,TRUE):INDIRECT(\"MonteCarlo!\"&CostCalculation!$N$10&CostCalculation!$E$4+2,TRUE),\"<=\"&B92))/CostCalculation!$E$4)","v":0.60350000000000004},125012,{"$f":"IF((COUNTIF(INDIRECT(\"MonteCarlo!\"&CostCalculation!$N$10&3,TRUE):INDIRECT(\"MonteCarlo!\"&CostCalculation!$N$10&CostCalculation!$E$4+2,TRUE),\">\"&B92)-COUNTIF(INDIRECT(\"MonteCarlo!\"&CostCalculation!$N$10&3,TRUE):INDIRECT(\"MonteCarlo!\"&CostCalculation!$N$10&CostCalculation!$E$4+2,TRUE),\">\"&B93))/CostCalculation!$E$4=0,#N/A,(COUNTIF(INDIRECT(\"MonteCarlo!\"&CostCalculation!$N$10&3,TRUE):INDIRECT(\"MonteCarlo!\"&CostCalculation!$N$10&CostCalculation!$E$4+2,TRUE),\">\"&B92)-COUNTIF(INDIRECT(\"MonteCarlo!\"&CostCalculation!$N$10&3,TRUE):INDIRECT(\"MonteCarlo!\"&CostCalculation!$N$10&CostCalculation!$E$4+2,TRUE),\">\"&B93))/CostCalculation!$E$4)","v":{"$error":"#N/A"}}]
[0.25800000000000001,{"$f":"ROUND(INDIRECT(\"CostCalculation!D\"&CostCalculation!$O$10,TRUE)*A93,0)","v":126483},{"$f":"IF((COUNTIF(INDIRECT(\"MonteCarlo!\"&CostCalculation!$N$10&3,TRUE):INDIRECT(\"MonteCarlo!\"&CostCalculation!$N$10&CostCalculation!$E$4+2,TRUE),\"<=\"&B93))/CostCalculation!$E$4=0,#N/A,(COUNTIF(INDIRECT(\"MonteCarlo!\"&CostCalculation!$N$10&3,TRUE):INDIRECT(\"MonteCarlo!\"&CostCalculation!$N$10&CostCalculation!$E$4+2,TRUE),\"<=\"&B93))/CostCalculation!$E$4)","v":0.60350000000000004},126483,{"$f":"IF((COUNTIF(INDIRECT(\"MonteCarlo!\"&CostCalculation!$N$10&3,TRUE):INDIRECT(\"MonteCarlo!\"&CostCalculation!$N$10&CostCalculation!$E$4+2,TRUE),\">\"&B93)-COUNTIF(INDIRECT(\"MonteCarlo!\"&CostCalculation!$N$10&3,TRUE):INDIRECT(\"MonteCarlo!\"&CostCalculation!$N$10&CostCalculation!$E$4+2,TRUE),\">\"&B94))/CostCalculation!$E$4=0,#N/A,(COUNTIF(INDIRECT(\"MonteCarlo!\"&CostCalculation!$N$10&3,TRUE):INDIRECT(\"MonteCarlo!\"&CostCalculation!$N$10&CostCalculation!$E$4+2,TRUE),\">\"&B93)-COUNTIF(INDIRECT(\"MonteCarlo!\"&CostCalculation!$N$10&3,TRUE):INDIRECT(\"MonteCarlo!\"&CostCalculation!$N$10&CostCalculation!$E$4+2,TRUE),\">\"&B94))/CostCalculation!$E$4)","v":{"$error":"#N/A"}}]
[0.26100000000000001,{"$f":"ROUND(INDIRECT(\"CostCalculation!D\"&CostCalculation!$O$10,TRUE)*A94,0)","v":127954},{"$f":"IF((COUNTIF(INDIRECT(\"MonteCarlo!\"&CostCalculation!$N$10&3,TRUE):INDIRECT(\"MonteCarlo!\"&CostCalculation!$N$10&CostCalculation!$E$4+2,TRUE),\"<=\"&B94))/CostCalculation!$E$4=0,#N/A,(COUNTIF(INDIRECT(\"MonteCarlo!\"&CostCalculation!$N$10&3,TRUE):INDIRECT(\"MonteCarlo!\"&CostCalculation!$N$10&CostCalculation!$E$4+2,TRUE),\"<=\"&B94))/CostCalculation!$E$4)","v":0.60350000000000004},127954,{"$f":"IF((COUNTIF(INDIRECT(\"MonteCarlo!\"&CostCalculation!$N$10&3,TRUE):INDIRECT(\"MonteCarlo!\"&CostCalculation!$N$10&CostCalculation!$E$4+2,TRUE),\">\"&B94)-COUNTIF(INDIRECT(\"MonteCarlo!\"&CostCalculation!$N$10&3,TRUE):INDIRECT(\"MonteCarlo!\"&CostCalculation!$N$10&CostCalculation!$E$4+2,TRUE),\">\"&B95))/CostCalculation!$E$4=0,#N/A,(COUNTIF(INDIRECT(\"MonteCarlo!\"&CostCalculation!$N$10&3,TRUE):INDIRECT(\"MonteCarlo!\"&CostCalculation!$N$10&CostCalculation!$E$4+2,TRUE),\">\"&B94)-COUNTIF(INDIRECT(\"MonteCarlo!\"&CostCalculation!$N$10&3,TRUE):INDIRECT(\"MonteCarlo!\"&CostCalculation!$N$10&CostCalculation!$E$4+2,TRUE),\">\"&B95))/CostCalculation!$E$4)","v":{"$error":"#N/A"}}]
[0.26400000000000001,{"$f":"ROUND(INDIRECT(\"CostCalculation!D\"&CostCalculation!$O$10,TRUE)*A95,0)","v":129425},{"$f":"IF((COUNTIF(INDIRECT(\"MonteCarlo!\"&CostCalculation!$N$10&3,TRUE):INDIRECT(\"MonteCarlo!\"&CostCalculation!$N$10&CostCalculation!$E$4+2,TRUE),\"<=\"&B95))/CostCalculation!$E$4=0,#N/A,(COUNTIF(INDIRECT(\"MonteCarlo!\"&CostCalculation!$N$10&3,TRUE):INDIRECT(\"MonteCarlo!\"&CostCalculation!$N$10&CostCalculation!$E$4+2,TRUE),\"<=\"&B95))/CostCalculation!$E$4)","v":0.60350000000000004},129425,{"$f":"IF((COUNTIF(INDIRECT(\"MonteCarlo!\"&CostCalculation!$N$10&3,TRUE):INDIRECT(\"MonteCarlo!\"&CostCalculation!$N$10&CostCalculation!$E$4+2,TRUE),\">\"&B95)-COUNTIF(INDIRECT(\"MonteCarlo!\"&CostCalculation!$N$10&3,TRUE):INDIRECT(\"MonteCarlo!\"&CostCalculation!$N$10&CostCalculation!$E$4+2,TRUE),\">\"&B96))/CostCalculation!$E$4=0,#N/A,(COUNTIF(INDIRECT(\"MonteCarlo!\"&CostCalculation!$N$10&3,TRUE):INDIRECT(\"MonteCarlo!\"&CostCalculation!$N$10&CostCalculation!$E$4+2,TRUE),\">\"&B95)-COUNTIF(INDIRECT(\"MonteCarlo!\"&CostCalculation!$N$10&3,TRUE):INDIRECT(\"MonteCarlo!\"&CostCalculation!$N$10&CostCalculation!$E$4+2,TRUE),\">\"&B96))/CostCalculation!$E$4)","v":0.14000000000000001}]
[0.26700000000000002,{"$f":"ROUND(INDIRECT(\"CostCalculation!D\"&CostCalculation!$O$10,TRUE)*A96,0)","v":130895},{"$f":"IF((COUNTIF(INDIRECT(\"MonteCarlo!\"&CostCalculation!$N$10&3,TRUE):INDIRECT(\"MonteCarlo!\"&CostCalculation!$N$10&CostCalculation!$E$4+2,TRUE),\"<=\"&B96))/CostCalculation!$E$4=0,#N/A,(COUNTIF(INDIRECT(\"MonteCarlo!\"&CostCalculation!$N$10&3,TRUE):INDIRECT(\"MonteCarlo!\"&CostCalculation!$N$10&CostCalculation!$E$4+2,TRUE),\"<=\"&B96))/CostCalculation!$E$4)","v":0.74350000000000005},130895,{"$f":"IF((COUNTIF(INDIRECT(\"MonteCarlo!\"&CostCalculation!$N$10&3,TRUE):INDIRECT(\"MonteCarlo!\"&CostCalculation!$N$10&CostCalculation!$E$4+2,TRUE),\">\"&B96)-COUNTIF(INDIRECT(\"MonteCarlo!\"&CostCalculation!$N$10&3,TRUE):INDIRECT(\"MonteCarlo!\"&CostCalculation!$N$10&CostCalculation!$E$4+2,TRUE),\">\"&B97))/CostCalculation!$E$4=0,#N/A,(COUNTIF(INDIRECT(\"MonteCarlo!\"&CostCalculation!$N$10&3,TRUE):INDIRECT(\"MonteCarlo!\"&CostCalculation!$N$10&CostCalculation!$E$4+2,TRUE),\">\"&B96)-COUNTIF(INDIRECT(\"MonteCarlo!\"&CostCalculation!$N$10&3,TRUE):INDIRECT(\"MonteCarlo!\"&CostCalculation!$N$10&CostCalculation!$E$4+2,TRUE),\">\"&B97))/CostCalculation!$E$4)","v":{"$error":"#N/A"}}]
[0.27,{"$f":"ROUND(INDIRECT(\"CostCalculation!D\"&CostCalculation!$O$10,TRUE)*A97,0)","v":132366},{"$f":"IF((COUNTIF(INDIRECT(\"MonteCarlo!\"&CostCalculation!$N$10&3,TRUE):INDIRECT(\"MonteCarlo!\"&CostCalculation!$N$10&CostCalculation!$E$4+2,TRUE),\"<=\"&B97))/CostCalculation!$E$4=0,#N/A,(COUNTIF(INDIRECT(\"MonteCarlo!\"&CostCalculation!$N$10&3,TRUE):INDIRECT(\"MonteCarlo!\"&CostCalculation!$N$10&CostCalculation!$E$4+2,TRUE),\"<=\"&B97))/CostCalculation!$E$4)","v":0.74350000000000005},132366,{"$f":"IF((COUNTIF(INDIRECT(\"MonteCarlo!\"&CostCalculation!$N$10&3,TRUE):INDIRECT(\"MonteCarlo!\"&CostCalculation!$N$10&CostCalculation!$E$4+2,TRUE),\">\"&B97)-COUNTIF(INDIRECT(\"MonteCarlo!\"&CostCalculation!$N$10&3,TRUE):INDIRECT(\"MonteCarlo!\"&CostCalculation!$N$10&CostCalculation!$E$4+2,TRUE),\">\"&B98))/CostCalculation!$E$4=0,#N/A,(COUNTIF(INDIRECT(\"MonteCarlo!\"&CostCalculation!$N$10&3,TRUE):INDIRECT(\"MonteCarlo!\"&CostCalculation!$N$10&CostCalculation!$E$4+2,TRUE),\">\"&B97)-COUNTIF(INDIRECT(\"MonteCarlo!\"&CostCalculation!$N$10&3,TRUE):INDIRECT(\"MonteCarlo!\"&CostCalculation!$N$10&CostCalculation!$E$4+2,TRUE),\">\"&B98))/CostCalculation!$E$4)","v":{"$error":"#N/A"}}]
[0.27300000000000002,{"$f":"ROUND(INDIRECT(\"CostCalculation!D\"&CostCalculation!$O$10,TRUE)*A98,0)","v":133837},{"$f":"IF((COUNTIF(INDIRECT(\"MonteCarlo!\"&CostCalculation!$N$10&3,TRUE):INDIRECT(\"MonteCarlo!\"&CostCalculation!$N$10&CostCalculation!$E$4+2,TRUE),\"<=\"&B98))/CostCalculation!$E$4=0,#N/A,(COUNTIF(INDIRECT(\"MonteCarlo!\"&CostCalculation!$N$10&3,TRUE):INDIRECT(\"MonteCarlo!\"&CostCalculation!$N$10&CostCalculation!$E$4+2,TRUE),\"<=\"&B98))/CostCalculation!$E$4)","v":0.74350000000000005},133837,{"$f":"IF((COUNTIF(INDIRECT(\"MonteCarlo!\"&CostCalculation!$N$10&3,TRUE):INDIRECT(\"MonteCarlo!\"&CostCalculation!$N$10&CostCalculation!$E$4+2,TRUE),\">\"&B98)-COUNTIF(INDIRECT(\"MonteCarlo!\"&CostCalculation!$N$10&3,TRUE):INDIRECT(\"MonteCarlo!\"&CostCalculation!$N$10&CostCalculation!$E$4+2,TRUE),\">\"&B99))/CostCalculation!$E$4=0,#N/A,(COUNTIF(INDIRECT(\"MonteCarlo!\"&CostCalculation!$N$10&3,TRUE):INDIRECT(\"MonteCarlo!\"&CostCalculation!$N$10&CostCalculation!$E$4+2,TRUE),\">\"&B98)-COUNTIF(INDIRECT(\"MonteCarlo!\"&CostCalculation!$N$10&3,TRUE):INDIRECT(\"MonteCarlo!\"&CostCalculation!$N$10&CostCalculation!$E$4+2,TRUE),\">\"&B99))/CostCalculation!$E$4)","v":{"$error":"#N/A"}}]
[0.27600000000000002,{"$f":"ROUND(INDIRECT(\"CostCalculation!D\"&CostCalculation!$O$10,TRUE)*A99,0)","v":135308},{"$f":"IF((COUNTIF(INDIRECT(\"MonteCarlo!\"&CostCalculation!$N$10&3,TRUE):INDIRECT(\"MonteCarlo!\"&CostCalculation!$N$10&CostCalculation!$E$4+2,TRUE),\"<=\"&B99))/CostCalculation!$E$4=0,#N/A,(COUNTIF(INDIRECT(\"MonteCarlo!\"&CostCalculation!$N$10&3,TRUE):INDIRECT(\"MonteCarlo!\"&CostCalculation!$N$10&CostCalculation!$E$4+2,TRUE),\"<=\"&B99))/CostCalculation!$E$4)","v":0.74350000000000005},135308,{"$f":"IF((COUNTIF(INDIRECT(\"MonteCarlo!\"&CostCalculation!$N$10&3,TRUE):INDIRECT(\"MonteCarlo!\"&CostCalculation!$N$10&CostCalculation!$E$4+2,TRUE),\">\"&B99)-COUNTIF(INDIRECT(\"MonteCarlo!\"&CostCalculation!$N$10&3,TRUE):INDIRECT(\"MonteCarlo!\"&CostCalculation!$N$10&CostCalculation!$E$4+2,TRUE),\">\"&B100))/CostCalculation!$E$4=0,#N/A,(COUNTIF(INDIRECT(\"MonteCarlo!\"&CostCalculation!$N$10&3,TRUE):INDIRECT(\"MonteCarlo!\"&CostCalculation!$N$10&CostCalculation!$E$4+2,TRUE),\">\"&B99)-COUNTIF(INDIRECT(\"MonteCarlo!\"&CostCalculation!$N$10&3,TRUE):INDIRECT(\"MonteCarlo!\"&CostCalculation!$N$10&CostCalculation!$E$4+2,TRUE),\">\"&B100))/CostCalculation!$E$4)","v":{"$error":"#N/A"}}]
[0.27900000000000003,{"$f":"ROUND(INDIRECT(\"CostCalculation!D\"&CostCalculation!$O$10,TRUE)*A100,0)","v":136778},{"$f":"IF((COUNTIF(INDIRECT(\"MonteCarlo!\"&CostCalculation!$N$10&3,TRUE):INDIRECT(\"MonteCarlo!\"&CostCalculation!$N$10&CostCalculation!$E$4+2,TRUE),\"<=\"&B100))/CostCalculation!$E$4=0,#N/A,(COUNTIF(INDIRECT(\"MonteCarlo!\"&CostCalculation!$N$10&3,TRUE):INDIRECT(\"MonteCarlo!\"&CostCalculation!$N$10&CostCalculation!$E$4+2,TRUE),\"<=\"&B100))/CostCalculation!$E$4)","v":0.74350000000000005},136778,{"$f":"IF((COUNTIF(INDIRECT(\"MonteCarlo!\"&CostCalculation!$N$10&3,TRUE):INDIRECT(\"MonteCarlo!\"&CostCalculation!$N$10&CostCalculation!$E$4+2,TRUE),\">\"&B100)-COUNTIF(INDIRECT(\"MonteCarlo!\"&CostCalculation!$N$10&3,TRUE):INDIRECT(\"MonteCarlo!\"&CostCalculation!$N$10&CostCalculation!$E$4+2,TRUE),\">\"&B101))/CostCalculation!$E$4=0,#N/A,(COUNTIF(INDIRECT(\"MonteCarlo!\"&CostCalculation!$N$10&3,TRUE):INDIRECT(\"MonteCarlo!\"&CostCalculation!$N$10&CostCalculation!$E$4+2,TRUE),\">\"&B100)-COUNTIF(INDIRECT(\"MonteCarlo!\"&CostCalculation!$N$10&3,TRUE):INDIRECT(\"MonteCarlo!\"&CostCalculation!$N$10&CostCalculation!$E$4+2,TRUE),\">\"&B101))/CostCalculation!$E$4)","v":{"$error":"#N/A"}}]
[0.28199999999999997,{"$f":"ROUND(INDIRECT(\"CostCalculation!D\"&CostCalculation!$O$10,TRUE)*A101,0)","v":138249},{"$f":"IF((COUNTIF(INDIRECT(\"MonteCarlo!\"&CostCalculation!$N$10&3,TRUE):INDIRECT(\"MonteCarlo!\"&CostCalculation!$N$10&CostCalculation!$E$4+2,TRUE),\"<=\"&B101))/CostCalculation!$E$4=0,#N/A,(COUNTIF(INDIRECT(\"MonteCarlo!\"&CostCalculation!$N$10&3,TRUE):INDIRECT(\"MonteCarlo!\"&CostCalculation!$N$10&CostCalculation!$E$4+2,TRUE),\"<=\"&B101))/CostCalculation!$E$4)","v":0.74350000000000005},138249,{"$f":"IF((COUNTIF(INDIRECT(\"MonteCarlo!\"&CostCalculation!$N$10&3,TRUE):INDIRECT(\"MonteCarlo!\"&CostCalculation!$N$10&CostCalculation!$E$4+2,TRUE),\">\"&B101)-COUNTIF(INDIRECT(\"MonteCarlo!\"&CostCalculation!$N$10&3,TRUE):INDIRECT(\"MonteCarlo!\"&CostCalculation!$N$10&CostCalculation!$E$4+2,TRUE),\">\"&B102))/CostCalculation!$E$4=0,#N/A,(COUNTIF(INDIRECT(\"MonteCarlo!\"&CostCalculation!$N$10&3,TRUE):INDIRECT(\"MonteCarlo!\"&CostCalculation!$N$10&CostCalculation!$E$4+2,TRUE),\">\"&B101)-COUNTIF(INDIRECT(\"MonteCarlo!\"&CostCalculation!$N$10&3,TRUE):INDIRECT(\"MonteCarlo!\"&CostCalculation!$N$10&CostCalculation!$E$4+2,TRUE),\">\"&B102))/CostCalculation!$E$4)","v":{"$error":"#N/A"}}]
[0.28499999999999998,{"$f":"ROUND(INDIRECT(\"CostCalculation!D\"&CostCalculation!$O$10,TRUE)*A102,0)","v":139720},{"$f":"IF((COUNTIF(INDIRECT(\"MonteCarlo!\"&CostCalculation!$N$10&3,TRUE):INDIRECT(\"MonteCarlo!\"&CostCalculation!$N$10&CostCalculation!$E$4+2,TRUE),\"<=\"&B102))/CostCalculation!$E$4=0,#N/A,(COUNTIF(INDIRECT(\"MonteCarlo!\"&CostCalculation!$N$10&3,TRUE):INDIRECT(\"MonteCarlo!\"&CostCalculation!$N$10&CostCalculation!$E$4+2,TRUE),\"<=\"&B102))/CostCalculation!$E$4)","v":0.74350000000000005},139720,{"$f":"IF((COUNTIF(INDIRECT(\"MonteCarlo!\"&CostCalculation!$N$10&3,TRUE):INDIRECT(\"MonteCarlo!\"&CostCalculation!$N$10&CostCalculation!$E$4+2,TRUE),\">\"&B102)-COUNTIF(INDIRECT(\"MonteCarlo!\"&CostCalculation!$N$10&3,TRUE):INDIRECT(\"MonteCarlo!\"&CostCalculation!$N$10&CostCalculation!$E$4+2,TRUE),\">\"&B103))/CostCalculation!$E$4=0,#N/A,(COUNTIF(INDIRECT(\"MonteCarlo!\"&CostCalculation!$N$10&3,TRUE):INDIRECT(\"MonteCarlo!\"&CostCalculation!$N$10&CostCalculation!$E$4+2,TRUE),\">\"&B102)-COUNTIF(INDIRECT(\"MonteCarlo!\"&CostCalculation!$N$10&3,TRUE):INDIRECT(\"MonteCarlo!\"&CostCalculation!$N$10&CostCalculation!$E$4+2,TRUE),\">\"&B103))/CostCalculation!$E$4)","v":{"$error":"#N/A"}}]
[0.28799999999999998,{"$f":"ROUND(INDIRECT(\"CostCalculation!D\"&CostCalculation!$O$10,TRUE)*A103,0)","v":141191},{"$f":"IF((COUNTIF(INDIRECT(\"MonteCarlo!\"&CostCalculation!$N$10&3,TRUE):INDIRECT(\"MonteCarlo!\"&CostCalculation!$N$10&CostCalculation!$E$4+2,TRUE),\"<=\"&B103))/CostCalculation!$E$4=0,#N/A,(COUNTIF(INDIRECT(\"MonteCarlo!\"&CostCalculation!$N$10&3,TRUE):INDIRECT(\"MonteCarlo!\"&CostCalculation!$N$10&CostCalculation!$E$4+2,TRUE),\"<=\"&B103))/CostCalculation!$E$4)","v":0.74350000000000005},141191,{"$f":"IF((COUNTIF(INDIRECT(\"MonteCarlo!\"&CostCalculation!$N$10&3,TRUE):INDIRECT(\"MonteCarlo!\"&CostCalculation!$N$10&CostCalculation!$E$4+2,TRUE),\">\"&B103)-COUNTIF(INDIRECT(\"MonteCarlo!\"&CostCalculation!$N$10&3,TRUE):INDIRECT(\"MonteCarlo!\"&CostCalculation!$N$10&CostCalculation!$E$4+2,TRUE),\">\"&B104))/CostCalculation!$E$4=0,#N/A,(COUNTIF(INDIRECT(\"MonteCarlo!\"&CostCalculation!$N$10&3,TRUE):INDIRECT(\"MonteCarlo!\"&CostCalculation!$N$10&CostCalculation!$E$4+2,TRUE),\">\"&B103)-COUNTIF(INDIRECT(\"MonteCarlo!\"&CostCalculation!$N$10&3,TRUE):INDIRECT(\"MonteCarlo!\"&CostCalculation!$N$10&CostCalculation!$E$4+2,TRUE),\">\"&B104))/CostCalculation!$E$4)","v":{"$error":"#N/A"}}]
[0.29099999999999998,{"$f":"ROUND(INDIRECT(\"CostCalculation!D\"&CostCalculation!$O$10,TRUE)*A104,0)","v":142661},{"$f":"IF((COUNTIF(INDIRECT(\"MonteCarlo!\"&CostCalculation!$N$10&3,TRUE):INDIRECT(\"MonteCarlo!\"&CostCalculation!$N$10&CostCalculation!$E$4+2,TRUE),\"<=\"&B104))/CostCalculation!$E$4=0,#N/A,(COUNTIF(INDIRECT(\"MonteCarlo!\"&CostCalculation!$N$10&3,TRUE):INDIRECT(\"MonteCarlo!\"&CostCalculation!$N$10&CostCalculation!$E$4+2,TRUE),\"<=\"&B104))/CostCalculation!$E$4)","v":0.74350000000000005},142661,{"$f":"IF((COUNTIF(INDIRECT(\"MonteCarlo!\"&CostCalculation!$N$10&3,TRUE):INDIRECT(\"MonteCarlo!\"&CostCalculation!$N$10&CostCalculation!$E$4+2,TRUE),\">\"&B104)-COUNTIF(INDIRECT(\"MonteCarlo!\"&CostCalculation!$N$10&3,TRUE):INDIRECT(\"MonteCarlo!\"&CostCalculation!$N$10&CostCalculation!$E$4+2,TRUE),\">\"&B105))/CostCalculation!$E$4=0,#N/A,(COUNTIF(INDIRECT(\"MonteCarlo!\"&CostCalculation!$N$10&3,TRUE):INDIRECT(\"MonteCarlo!\"&CostCalculation!$N$10&CostCalculation!$E$4+2,TRUE),\">\"&B104)-COUNTIF(INDIRECT(\"MonteCarlo!\"&CostCalculation!$N$10&3,TRUE):INDIRECT(\"MonteCarlo!\"&CostCalculation!$N$10&CostCalculation!$E$4+2,TRUE),\">\"&B105))/CostCalculation!$E$4)","v":{"$error":"#N/A"}}]
[0.29399999999999998,{"$f":"ROUND(INDIRECT(\"CostCalculation!D\"&CostCalculation!$O$10,TRUE)*A105,0)","v":144132},{"$f":"IF((COUNTIF(INDIRECT(\"MonteCarlo!\"&CostCalculation!$N$10&3,TRUE):INDIRECT(\"MonteCarlo!\"&CostCalculation!$N$10&CostCalculation!$E$4+2,TRUE),\"<=\"&B105))/CostCalculation!$E$4=0,#N/A,(COUNTIF(INDIRECT(\"MonteCarlo!\"&CostCalculation!$N$10&3,TRUE):INDIRECT(\"MonteCarlo!\"&CostCalculation!$N$10&CostCalculation!$E$4+2,TRUE),\"<=\"&B105))/CostCalculation!$E$4)","v":0.74350000000000005},144132,{"$f":"IF((COUNTIF(INDIRECT(\"MonteCarlo!\"&CostCalculation!$N$10&3,TRUE):INDIRECT(\"MonteCarlo!\"&CostCalculation!$N$10&CostCalculation!$E$4+2,TRUE),\">\"&B105)-COUNTIF(INDIRECT(\"MonteCarlo!\"&CostCalculation!$N$10&3,TRUE):INDIRECT(\"MonteCarlo!\"&CostCalculation!$N$10&CostCalculation!$E$4+2,TRUE),\">\"&B106))/CostCalculation!$E$4=0,#N/A,(COUNTIF(INDIRECT(\"MonteCarlo!\"&CostCalculation!$N$10&3,TRUE):INDIRECT(\"MonteCarlo!\"&CostCalculation!$N$10&CostCalculation!$E$4+2,TRUE),\">\"&B105)-COUNTIF(INDIRECT(\"MonteCarlo!\"&CostCalculation!$N$10&3,TRUE):INDIRECT(\"MonteCarlo!\"&CostCalculation!$N$10&CostCalculation!$E$4+2,TRUE),\">\"&B106))/CostCalculation!$E$4)","v":{"$error":"#N/A"}}]
[0.29699999999999999,{"$f":"ROUND(INDIRECT(\"CostCalculation!D\"&CostCalculation!$O$10,TRUE)*A106,0)","v":145603},{"$f":"IF((COUNTIF(INDIRECT(\"MonteCarlo!\"&CostCalculation!$N$10&3,TRUE):INDIRECT(\"MonteCarlo!\"&CostCalculation!$N$10&CostCalculation!$E$4+2,TRUE),\"<=\"&B106))/CostCalculation!$E$4=0,#N/A,(COUNTIF(INDIRECT(\"MonteCarlo!\"&CostCalculation!$N$10&3,TRUE):INDIRECT(\"MonteCarlo!\"&CostCalculation!$N$10&CostCalculation!$E$4+2,TRUE),\"<=\"&B106))/CostCalculation!$E$4)","v":0.74350000000000005},145603,{"$f":"IF((COUNTIF(INDIRECT(\"MonteCarlo!\"&CostCalculation!$N$10&3,TRUE):INDIRECT(\"MonteCarlo!\"&CostCalculation!$N$10&CostCalculation!$E$4+2,TRUE),\">\"&B106)-COUNTIF(INDIRECT(\"MonteCarlo!\"&CostCalculation!$N$10&3,TRUE):INDIRECT(\"MonteCarlo!\"&CostCalculation!$N$10&CostCalculation!$E$4+2,TRUE),\">\"&B107))/CostCalculation!$E$4=0,#N/A,(COUNTIF(INDIRECT(\"MonteCarlo!\"&CostCalculation!$N$10&3,TRUE):INDIRECT(\"MonteCarlo!\"&CostCalculation!$N$10&CostCalculation!$E$4+2,TRUE),\">\"&B106)-COUNTIF(INDIRECT(\"MonteCarlo!\"&CostCalculation!$N$10&3,TRUE):INDIRECT(\"MonteCarlo!\"&CostCalculation!$N$10&CostCalculation!$E$4+2,TRUE),\">\"&B107))/CostCalculation!$E$4)","v":{"$error":"#N/A"}}]
[0.3,{"$f":"ROUND(INDIRECT(\"CostCalculation!D\"&CostCalculation!$O$10,TRUE)*A107,0)","v":147074},{"$f":"IF((COUNTIF(INDIRECT(\"MonteCarlo!\"&CostCalculation!$N$10&3,TRUE):INDIRECT(\"MonteCarlo!\"&CostCalculation!$N$10&CostCalculation!$E$4+2,TRUE),\"<=\"&B107))/CostCalculation!$E$4=0,#N/A,(COUNTIF(INDIRECT(\"MonteCarlo!\"&CostCalculation!$N$10&3,TRUE):INDIRECT(\"MonteCarlo!\"&CostCalculation!$N$10&CostCalculation!$E$4+2,TRUE),\"<=\"&B107))/CostCalculation!$E$4)","v":0.74350000000000005},147074,{"$f":"IF((COUNTIF(INDIRECT(\"MonteCarlo!\"&CostCalculation!$N$10&3,TRUE):INDIRECT(\"MonteCarlo!\"&CostCalculation!$N$10&CostCalculation!$E$4+2,TRUE),\">\"&B107)-COUNTIF(INDIRECT(\"MonteCarlo!\"&CostCalculation!$N$10&3,TRUE):INDIRECT(\"MonteCarlo!\"&CostCalculation!$N$10&CostCalculation!$E$4+2,TRUE),\">\"&B108))/CostCalculation!$E$4=0,#N/A,(COUNTIF(INDIRECT(\"MonteCarlo!\"&CostCalculation!$N$10&3,TRUE):INDIRECT(\"MonteCarlo!\"&CostCalculation!$N$10&CostCalculation!$E$4+2,TRUE),\">\"&B107)-COUNTIF(INDIRECT(\"MonteCarlo!\"&CostCalculation!$N$10&3,TRUE):INDIRECT(\"MonteCarlo!\"&CostCalculation!$N$10&CostCalculation!$E$4+2,TRUE),\">\"&B108))/CostCalculation!$E$4)","v":{"$error":"#N/A"}}]
[0.30299999999999999,{"$f":"ROUND(INDIRECT(\"CostCalculation!D\"&CostCalculation!$O$10,TRUE)*A108,0)","v":148544},{"$f":"IF((COUNTIF(INDIRECT(\"MonteCarlo!\"&CostCalculation!$N$10&3,TRUE):INDIRECT(\"MonteCarlo!\"&CostCalculation!$N$10&CostCalculation!$E$4+2,TRUE),\"<=\"&B108))/CostCalculation!$E$4=0,#N/A,(COUNTIF(INDIRECT(\"MonteCarlo!\"&CostCalculation!$N$10&3,TRUE):INDIRECT(\"MonteCarlo!\"&CostCalculation!$N$10&CostCalculation!$E$4+2,TRUE),\"<=\"&B108))/CostCalculation!$E$4)","v":0.74350000000000005},148544,{"$f":"IF((COUNTIF(INDIRECT(\"MonteCarlo!\"&CostCalculation!$N$10&3,TRUE):INDIRECT(\"MonteCarlo!\"&CostCalculation!$N$10&CostCalculation!$E$4+2,TRUE),\">\"&B108)-COUNTIF(INDIRECT(\"MonteCarlo!\"&CostCalculation!$N$10&3,TRUE):INDIRECT(\"MonteCarlo!\"&CostCalculation!$N$10&CostCalculation!$E$4+2,TRUE),\">\"&B109))/CostCalculation!$E$4=0,#N/A,(COUNTIF(INDIRECT(\"MonteCarlo!\"&CostCalculation!$N$10&3,TRUE):INDIRECT(\"MonteCarlo!\"&CostCalculation!$N$10&CostCalculation!$E$4+2,TRUE),\">\"&B108)-COUNTIF(INDIRECT(\"MonteCarlo!\"&CostCalculation!$N$10&3,TRUE):INDIRECT(\"MonteCarlo!\"&CostCalculation!$N$10&CostCalculation!$E$4+2,TRUE),\">\"&B109))/CostCalculation!$E$4)","v":{"$error":"#N/A"}}]
[0.30599999999999999,{"$f":"ROUND(INDIRECT(\"CostCalculation!D\"&CostCalculation!$O$10,TRUE)*A109,0)","v":150015},{"$f":"IF((COUNTIF(INDIRECT(\"MonteCarlo!\"&CostCalculation!$N$10&3,TRUE):INDIRECT(\"MonteCarlo!\"&CostCalculation!$N$10&CostCalculation!$E$4+2,TRUE),\"<=\"&B109))/CostCalculation!$E$4=0,#N/A,(COUNTIF(INDIRECT(\"MonteCarlo!\"&CostCalculation!$N$10&3,TRUE):INDIRECT(\"MonteCarlo!\"&CostCalculation!$N$10&CostCalculation!$E$4+2,TRUE),\"<=\"&B109))/CostCalculation!$E$4)","v":0.74350000000000005},150015,{"$f":"IF((COUNTIF(INDIRECT(\"MonteCarlo!\"&CostCalculation!$N$10&3,TRUE):INDIRECT(\"MonteCarlo!\"&CostCalculation!$N$10&CostCalculation!$E$4+2,TRUE),\">\"&B109)-COUNTIF(INDIRECT(\"MonteCarlo!\"&CostCalculation!$N$10&3,TRUE):INDIRECT(\"MonteCarlo!\"&CostCalculation!$N$10&CostCalculation!$E$4+2,TRUE),\">\"&B110))/CostCalculation!$E$4=0,#N/A,(COUNTIF(INDIRECT(\"MonteCarlo!\"&CostCalculation!$N$10&3,TRUE):INDIRECT(\"MonteCarlo!\"&CostCalculation!$N$10&CostCalculation!$E$4+2,TRUE),\">\"&B109)-COUNTIF(INDIRECT(\"MonteCarlo!\"&CostCalculation!$N$10&3,TRUE):INDIRECT(\"MonteCarlo!\"&CostCalculation!$N$10&CostCalculation!$E$4+2,TRUE),\">\"&B110))/CostCalculation!$E$4)","v":{"$error":"#N/A"}}]
[0.309,{"$f":"ROUND(INDIRECT(\"CostCalculation!D\"&CostCalculation!$O$10,TRUE)*A110,0)","v":151486},{"$f":"IF((COUNTIF(INDIRECT(\"MonteCarlo!\"&CostCalculation!$N$10&3,TRUE):INDIRECT(\"MonteCarlo!\"&CostCalculation!$N$10&CostCalculation!$E$4+2,TRUE),\"<=\"&B110))/CostCalculation!$E$4=0,#N/A,(COUNTIF(INDIRECT(\"MonteCarlo!\"&CostCalculation!$N$10&3,TRUE):INDIRECT(\"MonteCarlo!\"&CostCalculation!$N$10&CostCalculation!$E$4+2,TRUE),\"<=\"&B110))/CostCalculation!$E$4)","v":0.74350000000000005},151486,{"$f":"IF((COUNTIF(INDIRECT(\"MonteCarlo!\"&CostCalculation!$N$10&3,TRUE):INDIRECT(\"MonteCarlo!\"&CostCalculation!$N$10&CostCalculation!$E$4+2,TRUE),\">\"&B110)-COUNTIF(INDIRECT(\"MonteCarlo!\"&CostCalculation!$N$10&3,TRUE):INDIRECT(\"MonteCarlo!\"&CostCalculation!$N$10&CostCalculation!$E$4+2,TRUE),\">\"&B111))/CostCalculation!$E$4=0,#N/A,(COUNTIF(INDIRECT(\"MonteCarlo!\"&CostCalculation!$N$10&3,TRUE):INDIRECT(\"MonteCarlo!\"&CostCalculation!$N$10&CostCalculation!$E$4+2,TRUE),\">\"&B110)-COUNTIF(INDIRECT(\"MonteCarlo!\"&CostCalculation!$N$10&3,TRUE):INDIRECT(\"MonteCarlo!\"&CostCalculation!$N$10&CostCalculation!$E$4+2,TRUE),\">\"&B111))/CostCalculation!$E$4)","v":{"$error":"#N/A"}}]
[0.312,{"$f":"ROUND(INDIRECT(\"CostCalculation!D\"&CostCalculation!$O$10,TRUE)*A111,0)","v":152956},{"$f":"IF((COUNTIF(INDIRECT(\"MonteCarlo!\"&CostCalculation!$N$10&3,TRUE):INDIRECT(\"MonteCarlo!\"&CostCalculation!$N$10&CostCalculation!$E$4+2,TRUE),\"<=\"&B111))/CostCalculation!$E$4=0,#N/A,(COUNTIF(INDIRECT(\"MonteCarlo!\"&CostCalculation!$N$10&3,TRUE):INDIRECT(\"MonteCarlo!\"&CostCalculation!$N$10&CostCalculation!$E$4+2,TRUE),\"<=\"&B111))/CostCalculation!$E$4)","v":0.74350000000000005},152956,{"$f":"IF((COUNTIF(INDIRECT(\"MonteCarlo!\"&CostCalculation!$N$10&3,TRUE):INDIRECT(\"MonteCarlo!\"&CostCalculation!$N$10&CostCalculation!$E$4+2,TRUE),\">\"&B111)-COUNTIF(INDIRECT(\"MonteCarlo!\"&CostCalculation!$N$10&3,TRUE):INDIRECT(\"MonteCarlo!\"&CostCalculation!$N$10&CostCalculation!$E$4+2,TRUE),\">\"&B112))/CostCalculation!$E$4=0,#N/A,(COUNTIF(INDIRECT(\"MonteCarlo!\"&CostCalculation!$N$10&3,TRUE):INDIRECT(\"MonteCarlo!\"&CostCalculation!$N$10&CostCalculation!$E$4+2,TRUE),\">\"&B111)-COUNTIF(INDIRECT(\"MonteCarlo!\"&CostCalculation!$N$10&3,TRUE):INDIRECT(\"MonteCarlo!\"&CostCalculation!$N$10&CostCalculation!$E$4+2,TRUE),\">\"&B112))/CostCalculation!$E$4)","v":{"$error":"#N/A"}}]
[0.315,{"$f":"ROUND(INDIRECT(\"CostCalculation!D\"&CostCalculation!$O$10,TRUE)*A112,0)","v":154427},{"$f":"IF((COUNTIF(INDIRECT(\"MonteCarlo!\"&CostCalculation!$N$10&3,TRUE):INDIRECT(\"MonteCarlo!\"&CostCalculation!$N$10&CostCalculation!$E$4+2,TRUE),\"<=\"&B112))/CostCalculation!$E$4=0,#N/A,(COUNTIF(INDIRECT(\"MonteCarlo!\"&CostCalculation!$N$10&3,TRUE):INDIRECT(\"MonteCarlo!\"&CostCalculation!$N$10&CostCalculation!$E$4+2,TRUE),\"<=\"&B112))/CostCalculation!$E$4)","v":0.74350000000000005},154427,{"$f":"IF((COUNTIF(INDIRECT(\"MonteCarlo!\"&CostCalculation!$N$10&3,TRUE):INDIRECT(\"MonteCarlo!\"&CostCalculation!$N$10&CostCalculation!$E$4+2,TRUE),\">\"&B112)-COUNTIF(INDIRECT(\"MonteCarlo!\"&CostCalculation!$N$10&3,TRUE):INDIRECT(\"MonteCarlo!\"&CostCalculation!$N$10&CostCalculation!$E$4+2,TRUE),\">\"&B113))/CostCalculation!$E$4=0,#N/A,(COUNTIF(INDIRECT(\"MonteCarlo!\"&CostCalculation!$N$10&3,TRUE):INDIRECT(\"MonteCarlo!\"&CostCalculation!$N$10&CostCalculation!$E$4+2,TRUE),\">\"&B112)-COUNTIF(INDIRECT(\"MonteCarlo!\"&CostCalculation!$N$10&3,TRUE):INDIRECT(\"MonteCarlo!\"&CostCalculation!$N$10&CostCalculation!$E$4+2,TRUE),\">\"&B113))/CostCalculation!$E$4)","v":{"$error":"#N/A"}}]
[0.318,{"$f":"ROUND(INDIRECT(\"CostCalculation!D\"&CostCalculation!$O$10,TRUE)*A113,0)","v":155898},{"$f":"IF((COUNTIF(INDIRECT(\"MonteCarlo!\"&CostCalculation!$N$10&3,TRUE):INDIRECT(\"MonteCarlo!\"&CostCalculation!$N$10&CostCalculation!$E$4+2,TRUE),\"<=\"&B113))/CostCalculation!$E$4=0,#N/A,(COUNTIF(INDIRECT(\"MonteCarlo!\"&CostCalculation!$N$10&3,TRUE):INDIRECT(\"MonteCarlo!\"&CostCalculation!$N$10&CostCalculation!$E$4+2,TRUE),\"<=\"&B113))/CostCalculation!$E$4)","v":0.74350000000000005},155898,{"$f":"IF((COUNTIF(INDIRECT(\"MonteCarlo!\"&CostCalculation!$N$10&3,TRUE):INDIRECT(\"MonteCarlo!\"&CostCalculation!$N$10&CostCalculation!$E$4+2,TRUE),\">\"&B113)-COUNTIF(INDIRECT(\"MonteCarlo!\"&CostCalculation!$N$10&3,TRUE):INDIRECT(\"MonteCarlo!\"&CostCalculation!$N$10&CostCalculation!$E$4+2,TRUE),\">\"&B114))/CostCalculation!$E$4=0,#N/A,(COUNTIF(INDIRECT(\"MonteCarlo!\"&CostCalculation!$N$10&3,TRUE):INDIRECT(\"MonteCarlo!\"&CostCalculation!$N$10&CostCalculation!$E$4+2,TRUE),\">\"&B113)-COUNTIF(INDIRECT(\"MonteCarlo!\"&CostCalculation!$N$10&3,TRUE):INDIRECT(\"MonteCarlo!\"&CostCalculation!$N$10&CostCalculation!$E$4+2,TRUE),\">\"&B114))/CostCalculation!$E$4)","v":{"$error":"#N/A"}}]
[0.32100000000000001,{"$f":"ROUND(INDIRECT(\"CostCalculation!D\"&CostCalculation!$O$10,TRUE)*A114,0)","v":157369},{"$f":"IF((COUNTIF(INDIRECT(\"MonteCarlo!\"&CostCalculation!$N$10&3,TRUE):INDIRECT(\"MonteCarlo!\"&CostCalculation!$N$10&CostCalculation!$E$4+2,TRUE),\"<=\"&B114))/CostCalculation!$E$4=0,#N/A,(COUNTIF(INDIRECT(\"MonteCarlo!\"&CostCalculation!$N$10&3,TRUE):INDIRECT(\"MonteCarlo!\"&CostCalculation!$N$10&CostCalculation!$E$4+2,TRUE),\"<=\"&B114))/CostCalculation!$E$4)","v":0.74350000000000005},157369,{"$f":"IF((COUNTIF(INDIRECT(\"MonteCarlo!\"&CostCalculation!$N$10&3,TRUE):INDIRECT(\"MonteCarlo!\"&CostCalculation!$N$10&CostCalculation!$E$4+2,TRUE),\">\"&B114)-COUNTIF(INDIRECT(\"MonteCarlo!\"&CostCalculation!$N$10&3,TRUE):INDIRECT(\"MonteCarlo!\"&CostCalculation!$N$10&CostCalculation!$E$4+2,TRUE),\">\"&B115))/CostCalculation!$E$4=0,#N/A,(COUNTIF(INDIRECT(\"MonteCarlo!\"&CostCalculation!$N$10&3,TRUE):INDIRECT(\"MonteCarlo!\"&CostCalculation!$N$10&CostCalculation!$E$4+2,TRUE),\">\"&B114)-COUNTIF(INDIRECT(\"MonteCarlo!\"&CostCalculation!$N$10&3,TRUE):INDIRECT(\"MonteCarlo!\"&CostCalculation!$N$10&CostCalculation!$E$4+2,TRUE),\">\"&B115))/CostCalculation!$E$4)","v":{"$error":"#N/A"}}]
[0.32400000000000001,{"$f":"ROUND(INDIRECT(\"CostCalculation!D\"&CostCalculation!$O$10,TRUE)*A115,0)","v":158839},{"$f":"IF((COUNTIF(INDIRECT(\"MonteCarlo!\"&CostCalculation!$N$10&3,TRUE):INDIRECT(\"MonteCarlo!\"&CostCalculation!$N$10&CostCalculation!$E$4+2,TRUE),\"<=\"&B115))/CostCalculation!$E$4=0,#N/A,(COUNTIF(INDIRECT(\"MonteCarlo!\"&CostCalculation!$N$10&3,TRUE):INDIRECT(\"MonteCarlo!\"&CostCalculation!$N$10&CostCalculation!$E$4+2,TRUE),\"<=\"&B115))/CostCalculation!$E$4)","v":0.74350000000000005},158839,{"$f":"IF((COUNTIF(INDIRECT(\"MonteCarlo!\"&CostCalculation!$N$10&3,TRUE):INDIRECT(\"MonteCarlo!\"&CostCalculation!$N$10&CostCalculation!$E$4+2,TRUE),\">\"&B115)-COUNTIF(INDIRECT(\"MonteCarlo!\"&CostCalculation!$N$10&3,TRUE):INDIRECT(\"MonteCarlo!\"&CostCalculation!$N$10&CostCalculation!$E$4+2,TRUE),\">\"&B116))/CostCalculation!$E$4=0,#N/A,(COUNTIF(INDIRECT(\"MonteCarlo!\"&CostCalculation!$N$10&3,TRUE):INDIRECT(\"MonteCarlo!\"&CostCalculation!$N$10&CostCalculation!$E$4+2,TRUE),\">\"&B115)-COUNTIF(INDIRECT(\"MonteCarlo!\"&CostCalculation!$N$10&3,TRUE):INDIRECT(\"MonteCarlo!\"&CostCalculation!$N$10&CostCalculation!$E$4+2,TRUE),\">\"&B116))/CostCalculation!$E$4)","v":{"$error":"#N/A"}}]
[0.32700000000000001,{"$f":"ROUND(INDIRECT(\"CostCalculation!D\"&CostCalculation!$O$10,TRUE)*A116,0)","v":160310},{"$f":"IF((COUNTIF(INDIRECT(\"MonteCarlo!\"&CostCalculation!$N$10&3,TRUE):INDIRECT(\"MonteCarlo!\"&CostCalculation!$N$10&CostCalculation!$E$4+2,TRUE),\"<=\"&B116))/CostCalculation!$E$4=0,#N/A,(COUNTIF(INDIRECT(\"MonteCarlo!\"&CostCalculation!$N$10&3,TRUE):INDIRECT(\"MonteCarlo!\"&CostCalculation!$N$10&CostCalculation!$E$4+2,TRUE),\"<=\"&B116))/CostCalculation!$E$4)","v":0.74350000000000005},160310,{"$f":"IF((COUNTIF(INDIRECT(\"MonteCarlo!\"&CostCalculation!$N$10&3,TRUE):INDIRECT(\"MonteCarlo!\"&CostCalculation!$N$10&CostCalculation!$E$4+2,TRUE),\">\"&B116)-COUNTIF(INDIRECT(\"MonteCarlo!\"&CostCalculation!$N$10&3,TRUE):INDIRECT(\"MonteCarlo!\"&CostCalculation!$N$10&CostCalculation!$E$4+2,TRUE),\">\"&B117))/CostCalculation!$E$4=0,#N/A,(COUNTIF(INDIRECT(\"MonteCarlo!\"&CostCalculation!$N$10&3,TRUE):INDIRECT(\"MonteCarlo!\"&CostCalculation!$N$10&CostCalculation!$E$4+2,TRUE),\">\"&B116)-COUNTIF(INDIRECT(\"MonteCarlo!\"&CostCalculation!$N$10&3,TRUE):INDIRECT(\"MonteCarlo!\"&CostCalculation!$N$10&CostCalculation!$E$4+2,TRUE),\">\"&B117))/CostCalculation!$E$4)","v":{"$error":"#N/A"}}]
[0.33,{"$f":"ROUND(INDIRECT(\"CostCalculation!D\"&CostCalculation!$O$10,TRUE)*A117,0)","v":161781},{"$f":"IF((COUNTIF(INDIRECT(\"MonteCarlo!\"&CostCalculation!$N$10&3,TRUE):INDIRECT(\"MonteCarlo!\"&CostCalculation!$N$10&CostCalculation!$E$4+2,TRUE),\"<=\"&B117))/CostCalculation!$E$4=0,#N/A,(COUNTIF(INDIRECT(\"MonteCarlo!\"&CostCalculation!$N$10&3,TRUE):INDIRECT(\"MonteCarlo!\"&CostCalculation!$N$10&CostCalculation!$E$4+2,TRUE),\"<=\"&B117))/CostCalculation!$E$4)","v":0.74350000000000005},161781,{"$f":"IF((COUNTIF(INDIRECT(\"MonteCarlo!\"&CostCalculation!$N$10&3,TRUE):INDIRECT(\"MonteCarlo!\"&CostCalculation!$N$10&CostCalculation!$E$4+2,TRUE),\">\"&B117)-COUNTIF(INDIRECT(\"MonteCarlo!\"&CostCalculation!$N$10&3,TRUE):INDIRECT(\"MonteCarlo!\"&CostCalculation!$N$10&CostCalculation!$E$4+2,TRUE),\">\"&B118))/CostCalculation!$E$4=0,#N/A,(COUNTIF(INDIRECT(\"MonteCarlo!\"&CostCalculation!$N$10&3,TRUE):INDIRECT(\"MonteCarlo!\"&CostCalculation!$N$10&CostCalculation!$E$4+2,TRUE),\">\"&B117)-COUNTIF(INDIRECT(\"MonteCarlo!\"&CostCalculation!$N$10&3,TRUE):INDIRECT(\"MonteCarlo!\"&CostCalculation!$N$10&CostCalculation!$E$4+2,TRUE),\">\"&B118))/CostCalculation!$E$4)","v":{"$error":"#N/A"}}]
[0.33300000000000002,{"$f":"ROUND(INDIRECT(\"CostCalculation!D\"&CostCalculation!$O$10,TRUE)*A118,0)","v":163252},{"$f":"IF((COUNTIF(INDIRECT(\"MonteCarlo!\"&CostCalculation!$N$10&3,TRUE):INDIRECT(\"MonteCarlo!\"&CostCalculation!$N$10&CostCalculation!$E$4+2,TRUE),\"<=\"&B118))/CostCalculation!$E$4=0,#N/A,(COUNTIF(INDIRECT(\"MonteCarlo!\"&CostCalculation!$N$10&3,TRUE):INDIRECT(\"MonteCarlo!\"&CostCalculation!$N$10&CostCalculation!$E$4+2,TRUE),\"<=\"&B118))/CostCalculation!$E$4)","v":0.74350000000000005},163252,{"$f":"IF((COUNTIF(INDIRECT(\"MonteCarlo!\"&CostCalculation!$N$10&3,TRUE):INDIRECT(\"MonteCarlo!\"&CostCalculation!$N$10&CostCalculation!$E$4+2,TRUE),\">\"&B118)-COUNTIF(INDIRECT(\"MonteCarlo!\"&CostCalculation!$N$10&3,TRUE):INDIRECT(\"MonteCarlo!\"&CostCalculation!$N$10&CostCalculation!$E$4+2,TRUE),\">\"&B119))/CostCalculation!$E$4=0,#N/A,(COUNTIF(INDIRECT(\"MonteCarlo!\"&CostCalculation!$N$10&3,TRUE):INDIRECT(\"MonteCarlo!\"&CostCalculation!$N$10&CostCalculation!$E$4+2,TRUE),\">\"&B118)-COUNTIF(INDIRECT(\"MonteCarlo!\"&CostCalculation!$N$10&3,TRUE):INDIRECT(\"MonteCarlo!\"&CostCalculation!$N$10&CostCalculation!$E$4+2,TRUE),\">\"&B119))/CostCalculation!$E$4)","v":0.10050000000000001}]
[0.33600000000000002,{"$f":"ROUND(INDIRECT(\"CostCalculation!D\"&CostCalculation!$O$10,TRUE)*A119,0)","v":164722},{"$f":"IF((COUNTIF(INDIRECT(\"MonteCarlo!\"&CostCalculation!$N$10&3,TRUE):INDIRECT(\"MonteCarlo!\"&CostCalculation!$N$10&CostCalculation!$E$4+2,TRUE),\"<=\"&B119))/CostCalculation!$E$4=0,#N/A,(COUNTIF(INDIRECT(\"MonteCarlo!\"&CostCalculation!$N$10&3,TRUE):INDIRECT(\"MonteCarlo!\"&CostCalculation!$N$10&CostCalculation!$E$4+2,TRUE),\"<=\"&B119))/CostCalculation!$E$4)","v":0.84399999999999997},164722,{"$f":"IF((COUNTIF(INDIRECT(\"MonteCarlo!\"&CostCalculation!$N$10&3,TRUE):INDIRECT(\"MonteCarlo!\"&CostCalculation!$N$10&CostCalculation!$E$4+2,TRUE),\">\"&B119)-COUNTIF(INDIRECT(\"MonteCarlo!\"&CostCalculation!$N$10&3,TRUE):INDIRECT(\"MonteCarlo!\"&CostCalculation!$N$10&CostCalculation!$E$4+2,TRUE),\">\"&B120))/CostCalculation!$E$4=0,#N/A,(COUNTIF(INDIRECT(\"MonteCarlo!\"&CostCalculation!$N$10&3,TRUE):INDIRECT(\"MonteCarlo!\"&CostCalculation!$N$10&CostCalculation!$E$4+2,TRUE),\">\"&B119)-COUNTIF(INDIRECT(\"MonteCarlo!\"&CostCalculation!$N$10&3,TRUE):INDIRECT(\"MonteCarlo!\"&CostCalculation!$N$10&CostCalculation!$E$4+2,TRUE),\">\"&B120))/CostCalculation!$E$4)","v":{"$error":"#N/A"}}]
[0.33900000000000002,{"$f":"ROUND(INDIRECT(\"CostCalculation!D\"&CostCalculation!$O$10,TRUE)*A120,0)","v":166193},{"$f":"IF((COUNTIF(INDIRECT(\"MonteCarlo!\"&CostCalculation!$N$10&3,TRUE):INDIRECT(\"MonteCarlo!\"&CostCalculation!$N$10&CostCalculation!$E$4+2,TRUE),\"<=\"&B120))/CostCalculation!$E$4=0,#N/A,(COUNTIF(INDIRECT(\"MonteCarlo!\"&CostCalculation!$N$10&3,TRUE):INDIRECT(\"MonteCarlo!\"&CostCalculation!$N$10&CostCalculation!$E$4+2,TRUE),\"<=\"&B120))/CostCalculation!$E$4)","v":0.84399999999999997},166193,{"$f":"IF((COUNTIF(INDIRECT(\"MonteCarlo!\"&CostCalculation!$N$10&3,TRUE):INDIRECT(\"MonteCarlo!\"&CostCalculation!$N$10&CostCalculation!$E$4+2,TRUE),\">\"&B120)-COUNTIF(INDIRECT(\"MonteCarlo!\"&CostCalculation!$N$10&3,TRUE):INDIRECT(\"MonteCarlo!\"&CostCalculation!$N$10&CostCalculation!$E$4+2,TRUE),\">\"&B121))/CostCalculation!$E$4=0,#N/A,(COUNTIF(INDIRECT(\"MonteCarlo!\"&CostCalculation!$N$10&3,TRUE):INDIRECT(\"MonteCarlo!\"&CostCalculation!$N$10&CostCalculation!$E$4+2,TRUE),\">\"&B120)-COUNTIF(INDIRECT(\"MonteCarlo!\"&CostCalculation!$N$10&3,TRUE):INDIRECT(\"MonteCarlo!\"&CostCalculation!$N$10&CostCalculation!$E$4+2,TRUE),\">\"&B121))/CostCalculation!$E$4)","v":{"$error":"#N/A"}}]
[0.34200000000000003,{"$f":"ROUND(INDIRECT(\"CostCalculation!D\"&CostCalculation!$O$10,TRUE)*A121,0)","v":167664},{"$f":"IF((COUNTIF(INDIRECT(\"MonteCarlo!\"&CostCalculation!$N$10&3,TRUE):INDIRECT(\"MonteCarlo!\"&CostCalculation!$N$10&CostCalculation!$E$4+2,TRUE),\"<=\"&B121))/CostCalculation!$E$4=0,#N/A,(COUNTIF(INDIRECT(\"MonteCarlo!\"&CostCalculation!$N$10&3,TRUE):INDIRECT(\"MonteCarlo!\"&CostCalculation!$N$10&CostCalculation!$E$4+2,TRUE),\"<=\"&B121))/CostCalculation!$E$4)","v":0.84399999999999997},167664,{"$f":"IF((COUNTIF(INDIRECT(\"MonteCarlo!\"&CostCalculation!$N$10&3,TRUE):INDIRECT(\"MonteCarlo!\"&CostCalculation!$N$10&CostCalculation!$E$4+2,TRUE),\">\"&B121)-COUNTIF(INDIRECT(\"MonteCarlo!\"&CostCalculation!$N$10&3,TRUE):INDIRECT(\"MonteCarlo!\"&CostCalculation!$N$10&CostCalculation!$E$4+2,TRUE),\">\"&B122))/CostCalculation!$E$4=0,#N/A,(COUNTIF(INDIRECT(\"MonteCarlo!\"&CostCalculation!$N$10&3,TRUE):INDIRECT(\"MonteCarlo!\"&CostCalculation!$N$10&CostCalculation!$E$4+2,TRUE),\">\"&B121)-COUNTIF(INDIRECT(\"MonteCarlo!\"&CostCalculation!$N$10&3,TRUE):INDIRECT(\"MonteCarlo!\"&CostCalculation!$N$10&CostCalculation!$E$4+2,TRUE),\">\"&B122))/CostCalculation!$E$4)","v":{"$error":"#N/A"}}]
[0.34499999999999997,{"$f":"ROUND(INDIRECT(\"CostCalculation!D\"&CostCalculation!$O$10,TRUE)*A122,0)","v":169135},{"$f":"IF((COUNTIF(INDIRECT(\"MonteCarlo!\"&CostCalculation!$N$10&3,TRUE):INDIRECT(\"MonteCarlo!\"&CostCalculation!$N$10&CostCalculation!$E$4+2,TRUE),\"<=\"&B122))/CostCalculation!$E$4=0,#N/A,(COUNTIF(INDIRECT(\"MonteCarlo!\"&CostCalculation!$N$10&3,TRUE):INDIRECT(\"MonteCarlo!\"&CostCalculation!$N$10&CostCalculation!$E$4+2,TRUE),\"<=\"&B122))/CostCalculation!$E$4)","v":0.84399999999999997},169135,{"$f":"IF((COUNTIF(INDIRECT(\"MonteCarlo!\"&CostCalculation!$N$10&3,TRUE):INDIRECT(\"MonteCarlo!\"&CostCalculation!$N$10&CostCalculation!$E$4+2,TRUE),\">\"&B122)-COUNTIF(INDIRECT(\"MonteCarlo!\"&CostCalculation!$N$10&3,TRUE):INDIRECT(\"MonteCarlo!\"&CostCalculation!$N$10&CostCalculation!$E$4+2,TRUE),\">\"&B123))/CostCalculation!$E$4=0,#N/A,(COUNTIF(INDIRECT(\"MonteCarlo!\"&CostCalculation!$N$10&3,TRUE):INDIRECT(\"MonteCarlo!\"&CostCalculation!$N$10&CostCalculation!$E$4+2,TRUE),\">\"&B122)-COUNTIF(INDIRECT(\"MonteCarlo!\"&CostCalculation!$N$10&3,TRUE):INDIRECT(\"MonteCarlo!\"&CostCalculation!$N$10&CostCalculation!$E$4+2,TRUE),\">\"&B123))/CostCalculation!$E$4)","v":{"$error":"#N/A"}}]
[0.34799999999999998,{"$f":"ROUND(INDIRECT(\"CostCalculation!D\"&CostCalculation!$O$10,TRUE)*A123,0)","v":170605},{"$f":"IF((COUNTIF(INDIRECT(\"MonteCarlo!\"&CostCalculation!$N$10&3,TRUE):INDIRECT(\"MonteCarlo!\"&CostCalculation!$N$10&CostCalculation!$E$4+2,TRUE),\"<=\"&B123))/CostCalculation!$E$4=0,#N/A,(COUNTIF(INDIRECT(\"MonteCarlo!\"&CostCalculation!$N$10&3,TRUE):INDIRECT(\"MonteCarlo!\"&CostCalculation!$N$10&CostCalculation!$E$4+2,TRUE),\"<=\"&B123))/CostCalculation!$E$4)","v":0.84399999999999997},170605,{"$f":"IF((COUNTIF(INDIRECT(\"MonteCarlo!\"&CostCalculation!$N$10&3,TRUE):INDIRECT(\"MonteCarlo!\"&CostCalculation!$N$10&CostCalculation!$E$4+2,TRUE),\">\"&B123)-COUNTIF(INDIRECT(\"MonteCarlo!\"&CostCalculation!$N$10&3,TRUE):INDIRECT(\"MonteCarlo!\"&CostCalculation!$N$10&CostCalculation!$E$4+2,TRUE),\">\"&B124))/CostCalculation!$E$4=0,#N/A,(COUNTIF(INDIRECT(\"MonteCarlo!\"&CostCalculation!$N$10&3,TRUE):INDIRECT(\"MonteCarlo!\"&CostCalculation!$N$10&CostCalculation!$E$4+2,TRUE),\">\"&B123)-COUNTIF(INDIRECT(\"MonteCarlo!\"&CostCalculation!$N$10&3,TRUE):INDIRECT(\"MonteCarlo!\"&CostCalculation!$N$10&CostCalculation!$E$4+2,TRUE),\">\"&B124))/CostCalculation!$E$4)","v":{"$error":"#N/A"}}]
[0.35099999999999998,{"$f":"ROUND(INDIRECT(\"CostCalculation!D\"&CostCalculation!$O$10,TRUE)*A124,0)","v":172076},{"$f":"IF((COUNTIF(INDIRECT(\"MonteCarlo!\"&CostCalculation!$N$10&3,TRUE):INDIRECT(\"MonteCarlo!\"&CostCalculation!$N$10&CostCalculation!$E$4+2,TRUE),\"<=\"&B124))/CostCalculation!$E$4=0,#N/A,(COUNTIF(INDIRECT(\"MonteCarlo!\"&CostCalculation!$N$10&3,TRUE):INDIRECT(\"MonteCarlo!\"&CostCalculation!$N$10&CostCalculation!$E$4+2,TRUE),\"<=\"&B124))/CostCalculation!$E$4)","v":0.84399999999999997},172076,{"$f":"IF((COUNTIF(INDIRECT(\"MonteCarlo!\"&CostCalculation!$N$10&3,TRUE):INDIRECT(\"MonteCarlo!\"&CostCalculation!$N$10&CostCalculation!$E$4+2,TRUE),\">\"&B124)-COUNTIF(INDIRECT(\"MonteCarlo!\"&CostCalculation!$N$10&3,TRUE):INDIRECT(\"MonteCarlo!\"&CostCalculation!$N$10&CostCalculation!$E$4+2,TRUE),\">\"&B125))/CostCalculation!$E$4=0,#N/A,(COUNTIF(INDIRECT(\"MonteCarlo!\"&CostCalculation!$N$10&3,TRUE):INDIRECT(\"MonteCarlo!\"&CostCalculation!$N$10&CostCalculation!$E$4+2,TRUE),\">\"&B124)-COUNTIF(INDIRECT(\"MonteCarlo!\"&CostCalculation!$N$10&3,TRUE):INDIRECT(\"MonteCarlo!\"&CostCalculation!$N$10&CostCalculation!$E$4+2,TRUE),\">\"&B125))/CostCalculation!$E$4)","v":{"$error":"#N/A"}}]
[0.35399999999999998,{"$f":"ROUND(INDIRECT(\"CostCalculation!D\"&CostCalculation!$O$10,TRUE)*A125,0)","v":173547},{"$f":"IF((COUNTIF(INDIRECT(\"MonteCarlo!\"&CostCalculation!$N$10&3,TRUE):INDIRECT(\"MonteCarlo!\"&CostCalculation!$N$10&CostCalculation!$E$4+2,TRUE),\"<=\"&B125))/CostCalculation!$E$4=0,#N/A,(COUNTIF(INDIRECT(\"MonteCarlo!\"&CostCalculation!$N$10&3,TRUE):INDIRECT(\"MonteCarlo!\"&CostCalculation!$N$10&CostCalculation!$E$4+2,TRUE),\"<=\"&B125))/CostCalculation!$E$4)","v":0.84399999999999997},173547,{"$f":"IF((COUNTIF(INDIRECT(\"MonteCarlo!\"&CostCalculation!$N$10&3,TRUE):INDIRECT(\"MonteCarlo!\"&CostCalculation!$N$10&CostCalculation!$E$4+2,TRUE),\">\"&B125)-COUNTIF(INDIRECT(\"MonteCarlo!\"&CostCalculation!$N$10&3,TRUE):INDIRECT(\"MonteCarlo!\"&CostCalculation!$N$10&CostCalculation!$E$4+2,TRUE),\">\"&B126))/CostCalculation!$E$4=0,#N/A,(COUNTIF(INDIRECT(\"MonteCarlo!\"&CostCalculation!$N$10&3,TRUE):INDIRECT(\"MonteCarlo!\"&CostCalculation!$N$10&CostCalculation!$E$4+2,TRUE),\">\"&B125)-COUNTIF(INDIRECT(\"MonteCarlo!\"&CostCalculation!$N$10&3,TRUE):INDIRECT(\"MonteCarlo!\"&CostCalculation!$N$10&CostCalculation!$E$4+2,TRUE),\">\"&B126))/CostCalculation!$E$4)","v":{"$error":"#N/A"}}]
[0.35699999999999998,{"$f":"ROUND(INDIRECT(\"CostCalculation!D\"&CostCalculation!$O$10,TRUE)*A126,0)","v":175017},{"$f":"IF((COUNTIF(INDIRECT(\"MonteCarlo!\"&CostCalculation!$N$10&3,TRUE):INDIRECT(\"MonteCarlo!\"&CostCalculation!$N$10&CostCalculation!$E$4+2,TRUE),\"<=\"&B126))/CostCalculation!$E$4=0,#N/A,(COUNTIF(INDIRECT(\"MonteCarlo!\"&CostCalculation!$N$10&3,TRUE):INDIRECT(\"MonteCarlo!\"&CostCalculation!$N$10&CostCalculation!$E$4+2,TRUE),\"<=\"&B126))/CostCalculation!$E$4)","v":0.84399999999999997},175017,{"$f":"IF((COUNTIF(INDIRECT(\"MonteCarlo!\"&CostCalculation!$N$10&3,TRUE):INDIRECT(\"MonteCarlo!\"&CostCalculation!$N$10&CostCalculation!$E$4+2,TRUE),\">\"&B126)-COUNTIF(INDIRECT(\"MonteCarlo!\"&CostCalculation!$N$10&3,TRUE):INDIRECT(\"MonteCarlo!\"&CostCalculation!$N$10&CostCalculation!$E$4+2,TRUE),\">\"&B127))/CostCalculation!$E$4=0,#N/A,(COUNTIF(INDIRECT(\"MonteCarlo!\"&CostCalculation!$N$10&3,TRUE):INDIRECT(\"MonteCarlo!\"&CostCalculation!$N$10&CostCalculation!$E$4+2,TRUE),\">\"&B126)-COUNTIF(INDIRECT(\"MonteCarlo!\"&CostCalculation!$N$10&3,TRUE):INDIRECT(\"MonteCarlo!\"&CostCalculation!$N$10&CostCalculation!$E$4+2,TRUE),\">\"&B127))/CostCalculation!$E$4)","v":{"$error":"#N/A"}}]
[0.36,{"$f":"ROUND(INDIRECT(\"CostCalculation!D\"&CostCalculation!$O$10,TRUE)*A127,0)","v":176488},{"$f":"IF((COUNTIF(INDIRECT(\"MonteCarlo!\"&CostCalculation!$N$10&3,TRUE):INDIRECT(\"MonteCarlo!\"&CostCalculation!$N$10&CostCalculation!$E$4+2,TRUE),\"<=\"&B127))/CostCalculation!$E$4=0,#N/A,(COUNTIF(INDIRECT(\"MonteCarlo!\"&CostCalculation!$N$10&3,TRUE):INDIRECT(\"MonteCarlo!\"&CostCalculation!$N$10&CostCalculation!$E$4+2,TRUE),\"<=\"&B127))/CostCalculation!$E$4)","v":0.84399999999999997},176488,{"$f":"IF((COUNTIF(INDIRECT(\"MonteCarlo!\"&CostCalculation!$N$10&3,TRUE):INDIRECT(\"MonteCarlo!\"&CostCalculation!$N$10&CostCalculation!$E$4+2,TRUE),\">\"&B127)-COUNTIF(INDIRECT(\"MonteCarlo!\"&CostCalculation!$N$10&3,TRUE):INDIRECT(\"MonteCarlo!\"&CostCalculation!$N$10&CostCalculation!$E$4+2,TRUE),\">\"&B128))/CostCalculation!$E$4=0,#N/A,(COUNTIF(INDIRECT(\"MonteCarlo!\"&CostCalculation!$N$10&3,TRUE):INDIRECT(\"MonteCarlo!\"&CostCalculation!$N$10&CostCalculation!$E$4+2,TRUE),\">\"&B127)-COUNTIF(INDIRECT(\"MonteCarlo!\"&CostCalculation!$N$10&3,TRUE):INDIRECT(\"MonteCarlo!\"&CostCalculation!$N$10&CostCalculation!$E$4+2,TRUE),\">\"&B128))/CostCalculation!$E$4)","v":{"$error":"#N/A"}}]
[0.36299999999999999,{"$f":"ROUND(INDIRECT(\"CostCalculation!D\"&CostCalculation!$O$10,TRUE)*A128,0)","v":177959},{"$f":"IF((COUNTIF(INDIRECT(\"MonteCarlo!\"&CostCalculation!$N$10&3,TRUE):INDIRECT(\"MonteCarlo!\"&CostCalculation!$N$10&CostCalculation!$E$4+2,TRUE),\"<=\"&B128))/CostCalculation!$E$4=0,#N/A,(COUNTIF(INDIRECT(\"MonteCarlo!\"&CostCalculation!$N$10&3,TRUE):INDIRECT(\"MonteCarlo!\"&CostCalculation!$N$10&CostCalculation!$E$4+2,TRUE),\"<=\"&B128))/CostCalculation!$E$4)","v":0.84399999999999997},177959,{"$f":"IF((COUNTIF(INDIRECT(\"MonteCarlo!\"&CostCalculation!$N$10&3,TRUE):INDIRECT(\"MonteCarlo!\"&CostCalculation!$N$10&CostCalculation!$E$4+2,TRUE),\">\"&B128)-COUNTIF(INDIRECT(\"MonteCarlo!\"&CostCalculation!$N$10&3,TRUE):INDIRECT(\"MonteCarlo!\"&CostCalculation!$N$10&CostCalculation!$E$4+2,TRUE),\">\"&B129))/CostCalculation!$E$4=0,#N/A,(COUNTIF(INDIRECT(\"MonteCarlo!\"&CostCalculation!$N$10&3,TRUE):INDIRECT(\"MonteCarlo!\"&CostCalculation!$N$10&CostCalculation!$E$4+2,TRUE),\">\"&B128)-COUNTIF(INDIRECT(\"MonteCarlo!\"&CostCalculation!$N$10&3,TRUE):INDIRECT(\"MonteCarlo!\"&CostCalculation!$N$10&CostCalculation!$E$4+2,TRUE),\">\"&B129))/CostCalculation!$E$4)","v":{"$error":"#N/A"}}]
[0.36599999999999999,{"$f":"ROUND(INDIRECT(\"CostCalculation!D\"&CostCalculation!$O$10,TRUE)*A129,0)","v":179430},{"$f":"IF((COUNTIF(INDIRECT(\"MonteCarlo!\"&CostCalculation!$N$10&3,TRUE):INDIRECT(\"MonteCarlo!\"&CostCalculation!$N$10&CostCalculation!$E$4+2,TRUE),\"<=\"&B129))/CostCalculation!$E$4=0,#N/A,(COUNTIF(INDIRECT(\"MonteCarlo!\"&CostCalculation!$N$10&3,TRUE):INDIRECT(\"MonteCarlo!\"&CostCalculation!$N$10&CostCalculation!$E$4+2,TRUE),\"<=\"&B129))/CostCalculation!$E$4)","v":0.84399999999999997},179430,{"$f":"IF((COUNTIF(INDIRECT(\"MonteCarlo!\"&CostCalculation!$N$10&3,TRUE):INDIRECT(\"MonteCarlo!\"&CostCalculation!$N$10&CostCalculation!$E$4+2,TRUE),\">\"&B129)-COUNTIF(INDIRECT(\"MonteCarlo!\"&CostCalculation!$N$10&3,TRUE):INDIRECT(\"MonteCarlo!\"&CostCalculation!$N$10&CostCalculation!$E$4+2,TRUE),\">\"&B130))/CostCalculation!$E$4=0,#N/A,(COUNTIF(INDIRECT(\"MonteCarlo!\"&CostCalculation!$N$10&3,TRUE):INDIRECT(\"MonteCarlo!\"&CostCalculation!$N$10&CostCalculation!$E$4+2,TRUE),\">\"&B129)-COUNTIF(INDIRECT(\"MonteCarlo!\"&CostCalculation!$N$10&3,TRUE):INDIRECT(\"MonteCarlo!\"&CostCalculation!$N$10&CostCalculation!$E$4+2,TRUE),\">\"&B130))/CostCalculation!$E$4)","v":{"$error":"#N/A"}}]
[0.36899999999999999,{"$f":"ROUND(INDIRECT(\"CostCalculation!D\"&CostCalculation!$O$10,TRUE)*A130,0)","v":180900},{"$f":"IF((COUNTIF(INDIRECT(\"MonteCarlo!\"&CostCalculation!$N$10&3,TRUE):INDIRECT(\"MonteCarlo!\"&CostCalculation!$N$10&CostCalculation!$E$4+2,TRUE),\"<=\"&B130))/CostCalculation!$E$4=0,#N/A,(COUNTIF(INDIRECT(\"MonteCarlo!\"&CostCalculation!$N$10&3,TRUE):INDIRECT(\"MonteCarlo!\"&CostCalculation!$N$10&CostCalculation!$E$4+2,TRUE),\"<=\"&B130))/CostCalculation!$E$4)","v":0.84399999999999997},180900,{"$f":"IF((COUNTIF(INDIRECT(\"MonteCarlo!\"&CostCalculation!$N$10&3,TRUE):INDIRECT(\"MonteCarlo!\"&CostCalculation!$N$10&CostCalculation!$E$4+2,TRUE),\">\"&B130)-COUNTIF(INDIRECT(\"MonteCarlo!\"&CostCalculation!$N$10&3,TRUE):INDIRECT(\"MonteCarlo!\"&CostCalculation!$N$10&CostCalculation!$E$4+2,TRUE),\">\"&B131))/CostCalculation!$E$4=0,#N/A,(COUNTIF(INDIRECT(\"MonteCarlo!\"&CostCalculation!$N$10&3,TRUE):INDIRECT(\"MonteCarlo!\"&CostCalculation!$N$10&CostCalculation!$E$4+2,TRUE),\">\"&B130)-COUNTIF(INDIRECT(\"MonteCarlo!\"&CostCalculation!$N$10&3,TRUE):INDIRECT(\"MonteCarlo!\"&CostCalculation!$N$10&CostCalculation!$E$4+2,TRUE),\">\"&B131))/CostCalculation!$E$4)","v":{"$error":"#N/A"}}]
[0.372,{"$f":"ROUND(INDIRECT(\"CostCalculation!D\"&CostCalculation!$O$10,TRUE)*A131,0)","v":182371},{"$f":"IF((COUNTIF(INDIRECT(\"MonteCarlo!\"&CostCalculation!$N$10&3,TRUE):INDIRECT(\"MonteCarlo!\"&CostCalculation!$N$10&CostCalculation!$E$4+2,TRUE),\"<=\"&B131))/CostCalculation!$E$4=0,#N/A,(COUNTIF(INDIRECT(\"MonteCarlo!\"&CostCalculation!$N$10&3,TRUE):INDIRECT(\"MonteCarlo!\"&CostCalculation!$N$10&CostCalculation!$E$4+2,TRUE),\"<=\"&B131))/CostCalculation!$E$4)","v":0.84399999999999997},182371,{"$f":"IF((COUNTIF(INDIRECT(\"MonteCarlo!\"&CostCalculation!$N$10&3,TRUE):INDIRECT(\"MonteCarlo!\"&CostCalculation!$N$10&CostCalculation!$E$4+2,TRUE),\">\"&B131)-COUNTIF(INDIRECT(\"MonteCarlo!\"&CostCalculation!$N$10&3,TRUE):INDIRECT(\"MonteCarlo!\"&CostCalculation!$N$10&CostCalculation!$E$4+2,TRUE),\">\"&B132))/CostCalculation!$E$4=0,#N/A,(COUNTIF(INDIRECT(\"MonteCarlo!\"&CostCalculation!$N$10&3,TRUE):INDIRECT(\"MonteCarlo!\"&CostCalculation!$N$10&CostCalculation!$E$4+2,TRUE),\">\"&B131)-COUNTIF(INDIRECT(\"MonteCarlo!\"&CostCalculation!$N$10&3,TRUE):INDIRECT(\"MonteCarlo!\"&CostCalculation!$N$10&CostCalculation!$E$4+2,TRUE),\">\"&B132))/CostCalculation!$E$4)","v":{"$error":"#N/A"}}]
[0.375,{"$f":"ROUND(INDIRECT(\"CostCalculation!D\"&CostCalculation!$O$10,TRUE)*A132,0)","v":183842},{"$f":"IF((COUNTIF(INDIRECT(\"MonteCarlo!\"&CostCalculation!$N$10&3,TRUE):INDIRECT(\"MonteCarlo!\"&CostCalculation!$N$10&CostCalculation!$E$4+2,TRUE),\"<=\"&B132))/CostCalculation!$E$4=0,#N/A,(COUNTIF(INDIRECT(\"MonteCarlo!\"&CostCalculation!$N$10&3,TRUE):INDIRECT(\"MonteCarlo!\"&CostCalculation!$N$10&CostCalculation!$E$4+2,TRUE),\"<=\"&B132))/CostCalculation!$E$4)","v":0.84399999999999997},183842,{"$f":"IF((COUNTIF(INDIRECT(\"MonteCarlo!\"&CostCalculation!$N$10&3,TRUE):INDIRECT(\"MonteCarlo!\"&CostCalculation!$N$10&CostCalculation!$E$4+2,TRUE),\">\"&B132)-COUNTIF(INDIRECT(\"MonteCarlo!\"&CostCalculation!$N$10&3,TRUE):INDIRECT(\"MonteCarlo!\"&CostCalculation!$N$10&CostCalculation!$E$4+2,TRUE),\">\"&B133))/CostCalculation!$E$4=0,#N/A,(COUNTIF(INDIRECT(\"MonteCarlo!\"&CostCalculation!$N$10&3,TRUE):INDIRECT(\"MonteCarlo!\"&CostCalculation!$N$10&CostCalculation!$E$4+2,TRUE),\">\"&B132)-COUNTIF(INDIRECT(\"MonteCarlo!\"&CostCalculation!$N$10&3,TRUE):INDIRECT(\"MonteCarlo!\"&CostCalculation!$N$10&CostCalculation!$E$4+2,TRUE),\">\"&B133))/CostCalculation!$E$4)","v":{"$error":"#N/A"}}]
[0.378,{"$f":"ROUND(INDIRECT(\"CostCalculation!D\"&CostCalculation!$O$10,TRUE)*A133,0)","v":185313},{"$f":"IF((COUNTIF(INDIRECT(\"MonteCarlo!\"&CostCalculation!$N$10&3,TRUE):INDIRECT(\"MonteCarlo!\"&CostCalculation!$N$10&CostCalculation!$E$4+2,TRUE),\"<=\"&B133))/CostCalculation!$E$4=0,#N/A,(COUNTIF(INDIRECT(\"MonteCarlo!\"&CostCalculation!$N$10&3,TRUE):INDIRECT(\"MonteCarlo!\"&CostCalculation!$N$10&CostCalculation!$E$4+2,TRUE),\"<=\"&B133))/CostCalculation!$E$4)","v":0.84399999999999997},185313,{"$f":"IF((COUNTIF(INDIRECT(\"MonteCarlo!\"&CostCalculation!$N$10&3,TRUE):INDIRECT(\"MonteCarlo!\"&CostCalculation!$N$10&CostCalculation!$E$4+2,TRUE),\">\"&B133)-COUNTIF(INDIRECT(\"MonteCarlo!\"&CostCalculation!$N$10&3,TRUE):INDIRECT(\"MonteCarlo!\"&CostCalculation!$N$10&CostCalculation!$E$4+2,TRUE),\">\"&B134))/CostCalculation!$E$4=0,#N/A,(COUNTIF(INDIRECT(\"MonteCarlo!\"&CostCalculation!$N$10&3,TRUE):INDIRECT(\"MonteCarlo!\"&CostCalculation!$N$10&CostCalculation!$E$4+2,TRUE),\">\"&B133)-COUNTIF(INDIRECT(\"MonteCarlo!\"&CostCalculation!$N$10&3,TRUE):INDIRECT(\"MonteCarlo!\"&CostCalculation!$N$10&CostCalculation!$E$4+2,TRUE),\">\"&B134))/CostCalculation!$E$4)","v":{"$error":"#N/A"}}]
[0.38100000000000001,{"$f":"ROUND(INDIRECT(\"CostCalculation!D\"&CostCalculation!$O$10,TRUE)*A134,0)","v":186783},{"$f":"IF((COUNTIF(INDIRECT(\"MonteCarlo!\"&CostCalculation!$N$10&3,TRUE):INDIRECT(\"MonteCarlo!\"&CostCalculation!$N$10&CostCalculation!$E$4+2,TRUE),\"<=\"&B134))/CostCalculation!$E$4=0,#N/A,(COUNTIF(INDIRECT(\"MonteCarlo!\"&CostCalculation!$N$10&3,TRUE):INDIRECT(\"MonteCarlo!\"&CostCalculation!$N$10&CostCalculation!$E$4+2,TRUE),\"<=\"&B134))/CostCalculation!$E$4)","v":0.84399999999999997},186783,{"$f":"IF((COUNTIF(INDIRECT(\"MonteCarlo!\"&CostCalculation!$N$10&3,TRUE):INDIRECT(\"MonteCarlo!\"&CostCalculation!$N$10&CostCalculation!$E$4+2,TRUE),\">\"&B134)-COUNTIF(INDIRECT(\"MonteCarlo!\"&CostCalculation!$N$10&3,TRUE):INDIRECT(\"MonteCarlo!\"&CostCalculation!$N$10&CostCalculation!$E$4+2,TRUE),\">\"&B135))/CostCalculation!$E$4=0,#N/A,(COUNTIF(INDIRECT(\"MonteCarlo!\"&CostCalculation!$N$10&3,TRUE):INDIRECT(\"MonteCarlo!\"&CostCalculation!$N$10&CostCalculation!$E$4+2,TRUE),\">\"&B134)-COUNTIF(INDIRECT(\"MonteCarlo!\"&CostCalculation!$N$10&3,TRUE):INDIRECT(\"MonteCarlo!\"&CostCalculation!$N$10&CostCalculation!$E$4+2,TRUE),\">\"&B135))/CostCalculation!$E$4)","v":{"$error":"#N/A"}}]
[0.38400000000000001,{"$f":"ROUND(INDIRECT(\"CostCalculation!D\"&CostCalculation!$O$10,TRUE)*A135,0)","v":188254},{"$f":"IF((COUNTIF(INDIRECT(\"MonteCarlo!\"&CostCalculation!$N$10&3,TRUE):INDIRECT(\"MonteCarlo!\"&CostCalculation!$N$10&CostCalculation!$E$4+2,TRUE),\"<=\"&B135))/CostCalculation!$E$4=0,#N/A,(COUNTIF(INDIRECT(\"MonteCarlo!\"&CostCalculation!$N$10&3,TRUE):INDIRECT(\"MonteCarlo!\"&CostCalculation!$N$10&CostCalculation!$E$4+2,TRUE),\"<=\"&B135))/CostCalculation!$E$4)","v":0.84399999999999997},188254,{"$f":"IF((COUNTIF(INDIRECT(\"MonteCarlo!\"&CostCalculation!$N$10&3,TRUE):INDIRECT(\"MonteCarlo!\"&CostCalculation!$N$10&CostCalculation!$E$4+2,TRUE),\">\"&B135)-COUNTIF(INDIRECT(\"MonteCarlo!\"&CostCalculation!$N$10&3,TRUE):INDIRECT(\"MonteCarlo!\"&CostCalculation!$N$10&CostCalculation!$E$4+2,TRUE),\">\"&B136))/CostCalculation!$E$4=0,#N/A,(COUNTIF(INDIRECT(\"MonteCarlo!\"&CostCalculation!$N$10&3,TRUE):INDIRECT(\"MonteCarlo!\"&CostCalculation!$N$10&CostCalculation!$E$4+2,TRUE),\">\"&B135)-COUNTIF(INDIRECT(\"MonteCarlo!\"&CostCalculation!$N$10&3,TRUE):INDIRECT(\"MonteCarlo!\"&CostCalculation!$N$10&CostCalculation!$E$4+2,TRUE),\">\"&B136))/CostCalculation!$E$4)","v":{"$error":"#N/A"}}]
[0.38700000000000001,{"$f":"ROUND(INDIRECT(\"CostCalculation!D\"&CostCalculation!$O$10,TRUE)*A136,0)","v":189725},{"$f":"IF((COUNTIF(INDIRECT(\"MonteCarlo!\"&CostCalculation!$N$10&3,TRUE):INDIRECT(\"MonteCarlo!\"&CostCalculation!$N$10&CostCalculation!$E$4+2,TRUE),\"<=\"&B136))/CostCalculation!$E$4=0,#N/A,(COUNTIF(INDIRECT(\"MonteCarlo!\"&CostCalculation!$N$10&3,TRUE):INDIRECT(\"MonteCarlo!\"&CostCalculation!$N$10&CostCalculation!$E$4+2,TRUE),\"<=\"&B136))/CostCalculation!$E$4)","v":0.84399999999999997},{"$f":"B136","v":189725},{"$f":"IF((COUNTIF(INDIRECT(\"MonteCarlo!\"&CostCalculation!$N$10&3,TRUE):INDIRECT(\"MonteCarlo!\"&CostCalculation!$N$10&CostCalculation!$E$4+2,TRUE),\">\"&B136)-COUNTIF(INDIRECT(\"MonteCarlo!\"&CostCalculation!$N$10&3,TRUE):INDIRECT(\"MonteCarlo!\"&CostCalculation!$N$10&CostCalculation!$E$4+2,TRUE),\">\"&B137))/CostCalculation!$E$4=0,#N/A,(COUNTIF(INDIRECT(\"MonteCarlo!\"&CostCalculation!$N$10&3,TRUE):INDIRECT(\"MonteCarlo!\"&CostCalculation!$N$10&CostCalculation!$E$4+2,TRUE),\">\"&B136)-COUNTIF(INDIRECT(\"MonteCarlo!\"&CostCalculation!$N$10&3,TRUE):INDIRECT(\"MonteCarlo!\"&CostCalculation!$N$10&CostCalculation!$E$4+2,TRUE),\">\"&B137))/CostCalculation!$E$4)","v":{"$error":"#N/A"}}]
[0.39,{"$f":"ROUND(INDIRECT(\"CostCalculation!D\"&CostCalculation!$O$10,TRUE)*A137,0)","v":191196},{"$f":"IF((COUNTIF(INDIRECT(\"MonteCarlo!\"&CostCalculation!$N$10&3,TRUE):INDIRECT(\"MonteCarlo!\"&CostCalculation!$N$10&CostCalculation!$E$4+2,TRUE),\"<=\"&B137))/CostCalculation!$E$4=0,#N/A,(COUNTIF(INDIRECT(\"MonteCarlo!\"&CostCalculation!$N$10&3,TRUE):INDIRECT(\"MonteCarlo!\"&CostCalculation!$N$10&CostCalculation!$E$4+2,TRUE),\"<=\"&B137))/CostCalculation!$E$4)","v":0.84399999999999997},191196,{"$f":"IF((COUNTIF(INDIRECT(\"MonteCarlo!\"&CostCalculation!$N$10&3,TRUE):INDIRECT(\"MonteCarlo!\"&CostCalculation!$N$10&CostCalculation!$E$4+2,TRUE),\">\"&B137)-COUNTIF(INDIRECT(\"MonteCarlo!\"&CostCalculation!$N$10&3,TRUE):INDIRECT(\"MonteCarlo!\"&CostCalculation!$N$10&CostCalculation!$E$4+2,TRUE),\">\"&B138))/CostCalculation!$E$4=0,#N/A,(COUNTIF(INDIRECT(\"MonteCarlo!\"&CostCalculation!$N$10&3,TRUE):INDIRECT(\"MonteCarlo!\"&CostCalculation!$N$10&CostCalculation!$E$4+2,TRUE),\">\"&B137)-COUNTIF(INDIRECT(\"MonteCarlo!\"&CostCalculation!$N$10&3,TRUE):INDIRECT(\"MonteCarlo!\"&CostCalculation!$N$10&CostCalculation!$E$4+2,TRUE),\">\"&B138))/CostCalculation!$E$4)","v":{"$error":"#N/A"}}]
[0.39300000000000002,{"$f":"ROUND(INDIRECT(\"CostCalculation!D\"&CostCalculation!$O$10,TRUE)*A138,0)","v":192666},{"$f":"IF((COUNTIF(INDIRECT(\"MonteCarlo!\"&CostCalculation!$N$10&3,TRUE):INDIRECT(\"MonteCarlo!\"&CostCalculation!$N$10&CostCalculation!$E$4+2,TRUE),\"<=\"&B138))/CostCalculation!$E$4=0,#N/A,(COUNTIF(INDIRECT(\"MonteCarlo!\"&CostCalculation!$N$10&3,TRUE):INDIRECT(\"MonteCarlo!\"&CostCalculation!$N$10&CostCalculation!$E$4+2,TRUE),\"<=\"&B138))/CostCalculation!$E$4)","v":0.84399999999999997},192666,{"$f":"IF((COUNTIF(INDIRECT(\"MonteCarlo!\"&CostCalculation!$N$10&3,TRUE):INDIRECT(\"MonteCarlo!\"&CostCalculation!$N$10&CostCalculation!$E$4+2,TRUE),\">\"&B138)-COUNTIF(INDIRECT(\"MonteCarlo!\"&CostCalculation!$N$10&3,TRUE):INDIRECT(\"MonteCarlo!\"&CostCalculation!$N$10&CostCalculation!$E$4+2,TRUE),\">\"&B139))/CostCalculation!$E$4=0,#N/A,(COUNTIF(INDIRECT(\"MonteCarlo!\"&CostCalculation!$N$10&3,TRUE):INDIRECT(\"MonteCarlo!\"&CostCalculation!$N$10&CostCalculation!$E$4+2,TRUE),\">\"&B138)-COUNTIF(INDIRECT(\"MonteCarlo!\"&CostCalculation!$N$10&3,TRUE):INDIRECT(\"MonteCarlo!\"&CostCalculation!$N$10&CostCalculation!$E$4+2,TRUE),\">\"&B139))/CostCalculation!$E$4)","v":{"$error":"#N/A"}}]
[0.39600000000000002,{"$f":"ROUND(INDIRECT(\"CostCalculation!D\"&CostCalculation!$O$10,TRUE)*A139,0)","v":194137},{"$f":"IF((COUNTIF(INDIRECT(\"MonteCarlo!\"&CostCalculation!$N$10&3,TRUE):INDIRECT(\"MonteCarlo!\"&CostCalculation!$N$10&CostCalculation!$E$4+2,TRUE),\"<=\"&B139))/CostCalculation!$E$4=0,#N/A,(COUNTIF(INDIRECT(\"MonteCarlo!\"&CostCalculation!$N$10&3,TRUE):INDIRECT(\"MonteCarlo!\"&CostCalculation!$N$10&CostCalculation!$E$4+2,TRUE),\"<=\"&B139))/CostCalculation!$E$4)","v":0.84399999999999997},194137,{"$f":"IF((COUNTIF(INDIRECT(\"MonteCarlo!\"&CostCalculation!$N$10&3,TRUE):INDIRECT(\"MonteCarlo!\"&CostCalculation!$N$10&CostCalculation!$E$4+2,TRUE),\">\"&B139)-COUNTIF(INDIRECT(\"MonteCarlo!\"&CostCalculation!$N$10&3,TRUE):INDIRECT(\"MonteCarlo!\"&CostCalculation!$N$10&CostCalculation!$E$4+2,TRUE),\">\"&B140))/CostCalculation!$E$4=0,#N/A,(COUNTIF(INDIRECT(\"MonteCarlo!\"&CostCalculation!$N$10&3,TRUE):INDIRECT(\"MonteCarlo!\"&CostCalculation!$N$10&CostCalculation!$E$4+2,TRUE),\">\"&B139)-COUNTIF(INDIRECT(\"MonteCarlo!\"&CostCalculation!$N$10&3,TRUE):INDIRECT(\"MonteCarlo!\"&CostCalculation!$N$10&CostCalculation!$E$4+2,TRUE),\">\"&B140))/CostCalculation!$E$4)","v":{"$error":"#N/A"}}]
[0.39900000000000002,{"$f":"ROUND(INDIRECT(\"CostCalculation!D\"&CostCalculation!$O$10,TRUE)*A140,0)","v":195608},{"$f":"IF((COUNTIF(INDIRECT(\"MonteCarlo!\"&CostCalculation!$N$10&3,TRUE):INDIRECT(\"MonteCarlo!\"&CostCalculation!$N$10&CostCalculation!$E$4+2,TRUE),\"<=\"&B140))/CostCalculation!$E$4=0,#N/A,(COUNTIF(INDIRECT(\"MonteCarlo!\"&CostCalculation!$N$10&3,TRUE):INDIRECT(\"MonteCarlo!\"&CostCalculation!$N$10&CostCalculation!$E$4+2,TRUE),\"<=\"&B140))/CostCalculation!$E$4)","v":0.84399999999999997},195608,{"$f":"IF((COUNTIF(INDIRECT(\"MonteCarlo!\"&CostCalculation!$N$10&3,TRUE):INDIRECT(\"MonteCarlo!\"&CostCalculation!$N$10&CostCalculation!$E$4+2,TRUE),\">\"&B140)-COUNTIF(INDIRECT(\"MonteCarlo!\"&CostCalculation!$N$10&3,TRUE):INDIRECT(\"MonteCarlo!\"&CostCalculation!$N$10&CostCalculation!$E$4+2,TRUE),\">\"&B141))/CostCalculation!$E$4=0,#N/A,(COUNTIF(INDIRECT(\"MonteCarlo!\"&CostCalculation!$N$10&3,TRUE):INDIRECT(\"MonteCarlo!\"&CostCalculation!$N$10&CostCalculation!$E$4+2,TRUE),\">\"&B140)-COUNTIF(INDIRECT(\"MonteCarlo!\"&CostCalculation!$N$10&3,TRUE):INDIRECT(\"MonteCarlo!\"&CostCalculation!$N$10&CostCalculation!$E$4+2,TRUE),\">\"&B141))/CostCalculation!$E$4)","v":5.8999999999999997E-2}]
[0.40200000000000002,{"$f":"ROUND(INDIRECT(\"CostCalculation!D\"&CostCalculation!$O$10,TRUE)*A141,0)","v":197078},{"$f":"IF((COUNTIF(INDIRECT(\"MonteCarlo!\"&CostCalculation!$N$10&3,TRUE):INDIRECT(\"MonteCarlo!\"&CostCalculation!$N$10&CostCalculation!$E$4+2,TRUE),\"<=\"&B141))/CostCalculation!$E$4=0,#N/A,(COUNTIF(INDIRECT(\"MonteCarlo!\"&CostCalculation!$N$10&3,TRUE):INDIRECT(\"MonteCarlo!\"&CostCalculation!$N$10&CostCalculation!$E$4+2,TRUE),\"<=\"&B141))/CostCalculation!$E$4)","v":0.90300000000000002},197078,{"$f":"IF((COUNTIF(INDIRECT(\"MonteCarlo!\"&CostCalculation!$N$10&3,TRUE):INDIRECT(\"MonteCarlo!\"&CostCalculation!$N$10&CostCalculation!$E$4+2,TRUE),\">\"&B141)-COUNTIF(INDIRECT(\"MonteCarlo!\"&CostCalculation!$N$10&3,TRUE):INDIRECT(\"MonteCarlo!\"&CostCalculation!$N$10&CostCalculation!$E$4+2,TRUE),\">\"&B142))/CostCalculation!$E$4=0,#N/A,(COUNTIF(INDIRECT(\"MonteCarlo!\"&CostCalculation!$N$10&3,TRUE):INDIRECT(\"MonteCarlo!\"&CostCalculation!$N$10&CostCalculation!$E$4+2,TRUE),\">\"&B141)-COUNTIF(INDIRECT(\"MonteCarlo!\"&CostCalculation!$N$10&3,TRUE):INDIRECT(\"MonteCarlo!\"&CostCalculation!$N$10&CostCalculation!$E$4+2,TRUE),\">\"&B142))/CostCalculation!$E$4)","v":{"$error":"#N/A"}}]
[0.40500000000000003,{"$f":"ROUND(INDIRECT(\"CostCalculation!D\"&CostCalculation!$O$10,TRUE)*A142,0)","v":198549},{"$f":"IF((COUNTIF(INDIRECT(\"MonteCarlo!\"&CostCalculation!$N$10&3,TRUE):INDIRECT(\"MonteCarlo!\"&CostCalculation!$N$10&CostCalculation!$E$4+2,TRUE),\"<=\"&B142))/CostCalculation!$E$4=0,#N/A,(COUNTIF(INDIRECT(\"MonteCarlo!\"&CostCalculation!$N$10&3,TRUE):INDIRECT(\"MonteCarlo!\"&CostCalculation!$N$10&CostCalculation!$E$4+2,TRUE),\"<=\"&B142))/CostCalculation!$E$4)","v":0.90300000000000002},198549,{"$f":"IF((COUNTIF(INDIRECT(\"MonteCarlo!\"&CostCalculation!$N$10&3,TRUE):INDIRECT(\"MonteCarlo!\"&CostCalculation!$N$10&CostCalculation!$E$4+2,TRUE),\">\"&B142)-COUNTIF(INDIRECT(\"MonteCarlo!\"&CostCalculation!$N$10&3,TRUE):INDIRECT(\"MonteCarlo!\"&CostCalculation!$N$10&CostCalculation!$E$4+2,TRUE),\">\"&B143))/CostCalculation!$E$4=0,#N/A,(COUNTIF(INDIRECT(\"MonteCarlo!\"&CostCalculation!$N$10&3,TRUE):INDIRECT(\"MonteCarlo!\"&CostCalculation!$N$10&CostCalculation!$E$4+2,TRUE),\">\"&B142)-COUNTIF(INDIRECT(\"MonteCarlo!\"&CostCalculation!$N$10&3,TRUE):INDIRECT(\"MonteCarlo!\"&CostCalculation!$N$10&CostCalculation!$E$4+2,TRUE),\">\"&B143))/CostCalculation!$E$4)","v":{"$error":"#N/A"}}]
[0.40799999999999997,{"$f":"ROUND(INDIRECT(\"CostCalculation!D\"&CostCalculation!$O$10,TRUE)*A143,0)","v":200020},{"$f":"IF((COUNTIF(INDIRECT(\"MonteCarlo!\"&CostCalculation!$N$10&3,TRUE):INDIRECT(\"MonteCarlo!\"&CostCalculation!$N$10&CostCalculation!$E$4+2,TRUE),\"<=\"&B143))/CostCalculation!$E$4=0,#N/A,(COUNTIF(INDIRECT(\"MonteCarlo!\"&CostCalculation!$N$10&3,TRUE):INDIRECT(\"MonteCarlo!\"&CostCalculation!$N$10&CostCalculation!$E$4+2,TRUE),\"<=\"&B143))/CostCalculation!$E$4)","v":0.90300000000000002},200020,{"$f":"IF((COUNTIF(INDIRECT(\"MonteCarlo!\"&CostCalculation!$N$10&3,TRUE):INDIRECT(\"MonteCarlo!\"&CostCalculation!$N$10&CostCalculation!$E$4+2,TRUE),\">\"&B143)-COUNTIF(INDIRECT(\"MonteCarlo!\"&CostCalculation!$N$10&3,TRUE):INDIRECT(\"MonteCarlo!\"&CostCalculation!$N$10&CostCalculation!$E$4+2,TRUE),\">\"&B144))/CostCalculation!$E$4=0,#N/A,(COUNTIF(INDIRECT(\"MonteCarlo!\"&CostCalculation!$N$10&3,TRUE):INDIRECT(\"MonteCarlo!\"&CostCalculation!$N$10&CostCalculation!$E$4+2,TRUE),\">\"&B143)-COUNTIF(INDIRECT(\"MonteCarlo!\"&CostCalculation!$N$10&3,TRUE):INDIRECT(\"MonteCarlo!\"&CostCalculation!$N$10&CostCalculation!$E$4+2,TRUE),\">\"&B144))/CostCalculation!$E$4)","v":{"$error":"#N/A"}}]
[0.41099999999999998,{"$f":"ROUND(INDIRECT(\"CostCalculation!D\"&CostCalculation!$O$10,TRUE)*A144,0)","v":201491},{"$f":"IF((COUNTIF(INDIRECT(\"MonteCarlo!\"&CostCalculation!$N$10&3,TRUE):INDIRECT(\"MonteCarlo!\"&CostCalculation!$N$10&CostCalculation!$E$4+2,TRUE),\"<=\"&B144))/CostCalculation!$E$4=0,#N/A,(COUNTIF(INDIRECT(\"MonteCarlo!\"&CostCalculation!$N$10&3,TRUE):INDIRECT(\"MonteCarlo!\"&CostCalculation!$N$10&CostCalculation!$E$4+2,TRUE),\"<=\"&B144))/CostCalculation!$E$4)","v":0.90300000000000002},201491,{"$f":"IF((COUNTIF(INDIRECT(\"MonteCarlo!\"&CostCalculation!$N$10&3,TRUE):INDIRECT(\"MonteCarlo!\"&CostCalculation!$N$10&CostCalculation!$E$4+2,TRUE),\">\"&B144)-COUNTIF(INDIRECT(\"MonteCarlo!\"&CostCalculation!$N$10&3,TRUE):INDIRECT(\"MonteCarlo!\"&CostCalculation!$N$10&CostCalculation!$E$4+2,TRUE),\">\"&B145))/CostCalculation!$E$4=0,#N/A,(COUNTIF(INDIRECT(\"MonteCarlo!\"&CostCalculation!$N$10&3,TRUE):INDIRECT(\"MonteCarlo!\"&CostCalculation!$N$10&CostCalculation!$E$4+2,TRUE),\">\"&B144)-COUNTIF(INDIRECT(\"MonteCarlo!\"&CostCalculation!$N$10&3,TRUE):INDIRECT(\"MonteCarlo!\"&CostCalculation!$N$10&CostCalculation!$E$4+2,TRUE),\">\"&B145))/CostCalculation!$E$4)","v":{"$error":"#N/A"}}]
[0.41399999999999998,{"$f":"ROUND(INDIRECT(\"CostCalculation!D\"&CostCalculation!$O$10,TRUE)*A145,0)","v":202961},{"$f":"IF((COUNTIF(INDIRECT(\"MonteCarlo!\"&CostCalculation!$N$10&3,TRUE):INDIRECT(\"MonteCarlo!\"&CostCalculation!$N$10&CostCalculation!$E$4+2,TRUE),\"<=\"&B145))/CostCalculation!$E$4=0,#N/A,(COUNTIF(INDIRECT(\"MonteCarlo!\"&CostCalculation!$N$10&3,TRUE):INDIRECT(\"MonteCarlo!\"&CostCalculation!$N$10&CostCalculation!$E$4+2,TRUE),\"<=\"&B145))/CostCalculation!$E$4)","v":0.90300000000000002},202961,{"$f":"IF((COUNTIF(INDIRECT(\"MonteCarlo!\"&CostCalculation!$N$10&3,TRUE):INDIRECT(\"MonteCarlo!\"&CostCalculation!$N$10&CostCalculation!$E$4+2,TRUE),\">\"&B145)-COUNTIF(INDIRECT(\"MonteCarlo!\"&CostCalculation!$N$10&3,TRUE):INDIRECT(\"MonteCarlo!\"&CostCalculation!$N$10&CostCalculation!$E$4+2,TRUE),\">\"&B146))/CostCalculation!$E$4=0,#N/A,(COUNTIF(INDIRECT(\"MonteCarlo!\"&CostCalculation!$N$10&3,TRUE):INDIRECT(\"MonteCarlo!\"&CostCalculation!$N$10&CostCalculation!$E$4+2,TRUE),\">\"&B145)-COUNTIF(INDIRECT(\"MonteCarlo!\"&CostCalculation!$N$10&3,TRUE):INDIRECT(\"MonteCarlo!\"&CostCalculation!$N$10&CostCalculation!$E$4+2,TRUE),\">\"&B146))/CostCalculation!$E$4)","v":{"$error":"#N/A"}}]
[0.41699999999999998,{"$f":"ROUND(INDIRECT(\"CostCalculation!D\"&CostCalculation!$O$10,TRUE)*A146,0)","v":204432},{"$f":"IF((COUNTIF(INDIRECT(\"MonteCarlo!\"&CostCalculation!$N$10&3,TRUE):INDIRECT(\"MonteCarlo!\"&CostCalculation!$N$10&CostCalculation!$E$4+2,TRUE),\"<=\"&B146))/CostCalculation!$E$4=0,#N/A,(COUNTIF(INDIRECT(\"MonteCarlo!\"&CostCalculation!$N$10&3,TRUE):INDIRECT(\"MonteCarlo!\"&CostCalculation!$N$10&CostCalculation!$E$4+2,TRUE),\"<=\"&B146))/CostCalculation!$E$4)","v":0.90300000000000002},204432,{"$f":"IF((COUNTIF(INDIRECT(\"MonteCarlo!\"&CostCalculation!$N$10&3,TRUE):INDIRECT(\"MonteCarlo!\"&CostCalculation!$N$10&CostCalculation!$E$4+2,TRUE),\">\"&B146)-COUNTIF(INDIRECT(\"MonteCarlo!\"&CostCalculation!$N$10&3,TRUE):INDIRECT(\"MonteCarlo!\"&CostCalculation!$N$10&CostCalculation!$E$4+2,TRUE),\">\"&B147))/CostCalculation!$E$4=0,#N/A,(COUNTIF(INDIRECT(\"MonteCarlo!\"&CostCalculation!$N$10&3,TRUE):INDIRECT(\"MonteCarlo!\"&CostCalculation!$N$10&CostCalculation!$E$4+2,TRUE),\">\"&B146)-COUNTIF(INDIRECT(\"MonteCarlo!\"&CostCalculation!$N$10&3,TRUE):INDIRECT(\"MonteCarlo!\"&CostCalculation!$N$10&CostCalculation!$E$4+2,TRUE),\">\"&B147))/CostCalculation!$E$4)","v":{"$error":"#N/A"}}]
[0.42,{"$f":"ROUND(INDIRECT(\"CostCalculation!D\"&CostCalculation!$O$10,TRUE)*A147,0)","v":205903},{"$f":"IF((COUNTIF(INDIRECT(\"MonteCarlo!\"&CostCalculation!$N$10&3,TRUE):INDIRECT(\"MonteCarlo!\"&CostCalculation!$N$10&CostCalculation!$E$4+2,TRUE),\"<=\"&B147))/CostCalculation!$E$4=0,#N/A,(COUNTIF(INDIRECT(\"MonteCarlo!\"&CostCalculation!$N$10&3,TRUE):INDIRECT(\"MonteCarlo!\"&CostCalculation!$N$10&CostCalculation!$E$4+2,TRUE),\"<=\"&B147))/CostCalculation!$E$4)","v":0.90300000000000002},205903,{"$f":"IF((COUNTIF(INDIRECT(\"MonteCarlo!\"&CostCalculation!$N$10&3,TRUE):INDIRECT(\"MonteCarlo!\"&CostCalculation!$N$10&CostCalculation!$E$4+2,TRUE),\">\"&B147)-COUNTIF(INDIRECT(\"MonteCarlo!\"&CostCalculation!$N$10&3,TRUE):INDIRECT(\"MonteCarlo!\"&CostCalculation!$N$10&CostCalculation!$E$4+2,TRUE),\">\"&B148))/CostCalculation!$E$4=0,#N/A,(COUNTIF(INDIRECT(\"MonteCarlo!\"&CostCalculation!$N$10&3,TRUE):INDIRECT(\"MonteCarlo!\"&CostCalculation!$N$10&CostCalculation!$E$4+2,TRUE),\">\"&B147)-COUNTIF(INDIRECT(\"MonteCarlo!\"&CostCalculation!$N$10&3,TRUE):INDIRECT(\"MonteCarlo!\"&CostCalculation!$N$10&CostCalculation!$E$4+2,TRUE),\">\"&B148))/CostCalculation!$E$4)","v":{"$error":"#N/A"}}]
[0.42299999999999999,{"$f":"ROUND(INDIRECT(\"CostCalculation!D\"&CostCalculation!$O$10,TRUE)*A148,0)","v":207374},{"$f":"IF((COUNTIF(INDIRECT(\"MonteCarlo!\"&CostCalculation!$N$10&3,TRUE):INDIRECT(\"MonteCarlo!\"&CostCalculation!$N$10&CostCalculation!$E$4+2,TRUE),\"<=\"&B148))/CostCalculation!$E$4=0,#N/A,(COUNTIF(INDIRECT(\"MonteCarlo!\"&CostCalculation!$N$10&3,TRUE):INDIRECT(\"MonteCarlo!\"&CostCalculation!$N$10&CostCalculation!$E$4+2,TRUE),\"<=\"&B148))/CostCalculation!$E$4)","v":0.90300000000000002},207374,{"$f":"IF((COUNTIF(INDIRECT(\"MonteCarlo!\"&CostCalculation!$N$10&3,TRUE):INDIRECT(\"MonteCarlo!\"&CostCalculation!$N$10&CostCalculation!$E$4+2,TRUE),\">\"&B148)-COUNTIF(INDIRECT(\"MonteCarlo!\"&CostCalculation!$N$10&3,TRUE):INDIRECT(\"MonteCarlo!\"&CostCalculation!$N$10&CostCalculation!$E$4+2,TRUE),\">\"&B149))/CostCalculation!$E$4=0,#N/A,(COUNTIF(INDIRECT(\"MonteCarlo!\"&CostCalculation!$N$10&3,TRUE):INDIRECT(\"MonteCarlo!\"&CostCalculation!$N$10&CostCalculation!$E$4+2,TRUE),\">\"&B148)-COUNTIF(INDIRECT(\"MonteCarlo!\"&CostCalculation!$N$10&3,TRUE):INDIRECT(\"MonteCarlo!\"&CostCalculation!$N$10&CostCalculation!$E$4+2,TRUE),\">\"&B149))/CostCalculation!$E$4)","v":{"$error":"#N/A"}}]
[0.42599999999999999,{"$f":"ROUND(INDIRECT(\"CostCalculation!D\"&CostCalculation!$O$10,TRUE)*A149,0)","v":208844},{"$f":"IF((COUNTIF(INDIRECT(\"MonteCarlo!\"&CostCalculation!$N$10&3,TRUE):INDIRECT(\"MonteCarlo!\"&CostCalculation!$N$10&CostCalculation!$E$4+2,TRUE),\"<=\"&B149))/CostCalculation!$E$4=0,#N/A,(COUNTIF(INDIRECT(\"MonteCarlo!\"&CostCalculation!$N$10&3,TRUE):INDIRECT(\"MonteCarlo!\"&CostCalculation!$N$10&CostCalculation!$E$4+2,TRUE),\"<=\"&B149))/CostCalculation!$E$4)","v":0.90300000000000002},208844,{"$f":"IF((COUNTIF(INDIRECT(\"MonteCarlo!\"&CostCalculation!$N$10&3,TRUE):INDIRECT(\"MonteCarlo!\"&CostCalculation!$N$10&CostCalculation!$E$4+2,TRUE),\">\"&B149)-COUNTIF(INDIRECT(\"MonteCarlo!\"&CostCalculation!$N$10&3,TRUE):INDIRECT(\"MonteCarlo!\"&CostCalculation!$N$10&CostCalculation!$E$4+2,TRUE),\">\"&B150))/CostCalculation!$E$4=0,#N/A,(COUNTIF(INDIRECT(\"MonteCarlo!\"&CostCalculation!$N$10&3,TRUE):INDIRECT(\"MonteCarlo!\"&CostCalculation!$N$10&CostCalculation!$E$4+2,TRUE),\">\"&B149)-COUNTIF(INDIRECT(\"MonteCarlo!\"&CostCalculation!$N$10&3,TRUE):INDIRECT(\"MonteCarlo!\"&CostCalculation!$N$10&CostCalculation!$E$4+2,TRUE),\">\"&B150))/CostCalculation!$E$4)","v":{"$error":"#N/A"}}]
[0.42899999999999999,{"$f":"ROUND(INDIRECT(\"CostCalculation!D\"&CostCalculation!$O$10,TRUE)*A150,0)","v":210315},{"$f":"IF((COUNTIF(INDIRECT(\"MonteCarlo!\"&CostCalculation!$N$10&3,TRUE):INDIRECT(\"MonteCarlo!\"&CostCalculation!$N$10&CostCalculation!$E$4+2,TRUE),\"<=\"&B150))/CostCalculation!$E$4=0,#N/A,(COUNTIF(INDIRECT(\"MonteCarlo!\"&CostCalculation!$N$10&3,TRUE):INDIRECT(\"MonteCarlo!\"&CostCalculation!$N$10&CostCalculation!$E$4+2,TRUE),\"<=\"&B150))/CostCalculation!$E$4)","v":0.90300000000000002},210315,{"$f":"IF((COUNTIF(INDIRECT(\"MonteCarlo!\"&CostCalculation!$N$10&3,TRUE):INDIRECT(\"MonteCarlo!\"&CostCalculation!$N$10&CostCalculation!$E$4+2,TRUE),\">\"&B150)-COUNTIF(INDIRECT(\"MonteCarlo!\"&CostCalculation!$N$10&3,TRUE):INDIRECT(\"MonteCarlo!\"&CostCalculation!$N$10&CostCalculation!$E$4+2,TRUE),\">\"&B151))/CostCalculation!$E$4=0,#N/A,(COUNTIF(INDIRECT(\"MonteCarlo!\"&CostCalculation!$N$10&3,TRUE):INDIRECT(\"MonteCarlo!\"&CostCalculation!$N$10&CostCalculation!$E$4+2,TRUE),\">\"&B150)-COUNTIF(INDIRECT(\"MonteCarlo!\"&CostCalculation!$N$10&3,TRUE):INDIRECT(\"MonteCarlo!\"&CostCalculation!$N$10&CostCalculation!$E$4+2,TRUE),\">\"&B151))/CostCalculation!$E$4)","v":{"$error":"#N/A"}}]
[0.432,{"$f":"ROUND(INDIRECT(\"CostCalculation!D\"&CostCalculation!$O$10,TRUE)*A151,0)","v":211786},{"$f":"IF((COUNTIF(INDIRECT(\"MonteCarlo!\"&CostCalculation!$N$10&3,TRUE):INDIRECT(\"MonteCarlo!\"&CostCalculation!$N$10&CostCalculation!$E$4+2,TRUE),\"<=\"&B151))/CostCalculation!$E$4=0,#N/A,(COUNTIF(INDIRECT(\"MonteCarlo!\"&CostCalculation!$N$10&3,TRUE):INDIRECT(\"MonteCarlo!\"&CostCalculation!$N$10&CostCalculation!$E$4+2,TRUE),\"<=\"&B151))/CostCalculation!$E$4)","v":0.90300000000000002},211786,{"$f":"IF((COUNTIF(INDIRECT(\"MonteCarlo!\"&CostCalculation!$N$10&3,TRUE):INDIRECT(\"MonteCarlo!\"&CostCalculation!$N$10&CostCalculation!$E$4+2,TRUE),\">\"&B151)-COUNTIF(INDIRECT(\"MonteCarlo!\"&CostCalculation!$N$10&3,TRUE):INDIRECT(\"MonteCarlo!\"&CostCalculation!$N$10&CostCalculation!$E$4+2,TRUE),\">\"&B152))/CostCalculation!$E$4=0,#N/A,(COUNTIF(INDIRECT(\"MonteCarlo!\"&CostCalculation!$N$10&3,TRUE):INDIRECT(\"MonteCarlo!\"&CostCalculation!$N$10&CostCalculation!$E$4+2,TRUE),\">\"&B151)-COUNTIF(INDIRECT(\"MonteCarlo!\"&CostCalculation!$N$10&3,TRUE):INDIRECT(\"MonteCarlo!\"&CostCalculation!$N$10&CostCalculation!$E$4+2,TRUE),\">\"&B152))/CostCalculation!$E$4)","v":{"$error":"#N/A"}}]
[0.435,{"$f":"ROUND(INDIRECT(\"CostCalculation!D\"&CostCalculation!$O$10,TRUE)*A152,0)","v":213257},{"$f":"IF((COUNTIF(INDIRECT(\"MonteCarlo!\"&CostCalculation!$N$10&3,TRUE):INDIRECT(\"MonteCarlo!\"&CostCalculation!$N$10&CostCalculation!$E$4+2,TRUE),\"<=\"&B152))/CostCalculation!$E$4=0,#N/A,(COUNTIF(INDIRECT(\"MonteCarlo!\"&CostCalculation!$N$10&3,TRUE):INDIRECT(\"MonteCarlo!\"&CostCalculation!$N$10&CostCalculation!$E$4+2,TRUE),\"<=\"&B152))/CostCalculation!$E$4)","v":0.90300000000000002},213257,{"$f":"IF((COUNTIF(INDIRECT(\"MonteCarlo!\"&CostCalculation!$N$10&3,TRUE):INDIRECT(\"MonteCarlo!\"&CostCalculation!$N$10&CostCalculation!$E$4+2,TRUE),\">\"&B152)-COUNTIF(INDIRECT(\"MonteCarlo!\"&CostCalculation!$N$10&3,TRUE):INDIRECT(\"MonteCarlo!\"&CostCalculation!$N$10&CostCalculation!$E$4+2,TRUE),\">\"&B153))/CostCalculation!$E$4=0,#N/A,(COUNTIF(INDIRECT(\"MonteCarlo!\"&CostCalculation!$N$10&3,TRUE):INDIRECT(\"MonteCarlo!\"&CostCalculation!$N$10&CostCalculation!$E$4+2,TRUE),\">\"&B152)-COUNTIF(INDIRECT(\"MonteCarlo!\"&CostCalculation!$N$10&3,TRUE):INDIRECT(\"MonteCarlo!\"&CostCalculation!$N$10&CostCalculation!$E$4+2,TRUE),\">\"&B153))/CostCalculation!$E$4)","v":{"$error":"#N/A"}}]
[0.438,{"$f":"ROUND(INDIRECT(\"CostCalculation!D\"&CostCalculation!$O$10,TRUE)*A153,0)","v":214727},{"$f":"IF((COUNTIF(INDIRECT(\"MonteCarlo!\"&CostCalculation!$N$10&3,TRUE):INDIRECT(\"MonteCarlo!\"&CostCalculation!$N$10&CostCalculation!$E$4+2,TRUE),\"<=\"&B153))/CostCalculation!$E$4=0,#N/A,(COUNTIF(INDIRECT(\"MonteCarlo!\"&CostCalculation!$N$10&3,TRUE):INDIRECT(\"MonteCarlo!\"&CostCalculation!$N$10&CostCalculation!$E$4+2,TRUE),\"<=\"&B153))/CostCalculation!$E$4)","v":0.90300000000000002},214727,{"$f":"IF((COUNTIF(INDIRECT(\"MonteCarlo!\"&CostCalculation!$N$10&3,TRUE):INDIRECT(\"MonteCarlo!\"&CostCalculation!$N$10&CostCalculation!$E$4+2,TRUE),\">\"&B153)-COUNTIF(INDIRECT(\"MonteCarlo!\"&CostCalculation!$N$10&3,TRUE):INDIRECT(\"MonteCarlo!\"&CostCalculation!$N$10&CostCalculation!$E$4+2,TRUE),\">\"&B154))/CostCalculation!$E$4=0,#N/A,(COUNTIF(INDIRECT(\"MonteCarlo!\"&CostCalculation!$N$10&3,TRUE):INDIRECT(\"MonteCarlo!\"&CostCalculation!$N$10&CostCalculation!$E$4+2,TRUE),\">\"&B153)-COUNTIF(INDIRECT(\"MonteCarlo!\"&CostCalculation!$N$10&3,TRUE):INDIRECT(\"MonteCarlo!\"&CostCalculation!$N$10&CostCalculation!$E$4+2,TRUE),\">\"&B154))/CostCalculation!$E$4)","v":{"$error":"#N/A"}}]
[0.441,{"$f":"ROUND(INDIRECT(\"CostCalculation!D\"&CostCalculation!$O$10,TRUE)*A154,0)","v":216198},{"$f":"IF((COUNTIF(INDIRECT(\"MonteCarlo!\"&CostCalculation!$N$10&3,TRUE):INDIRECT(\"MonteCarlo!\"&CostCalculation!$N$10&CostCalculation!$E$4+2,TRUE),\"<=\"&B154))/CostCalculation!$E$4=0,#N/A,(COUNTIF(INDIRECT(\"MonteCarlo!\"&CostCalculation!$N$10&3,TRUE):INDIRECT(\"MonteCarlo!\"&CostCalculation!$N$10&CostCalculation!$E$4+2,TRUE),\"<=\"&B154))/CostCalculation!$E$4)","v":0.90300000000000002},216198,{"$f":"IF((COUNTIF(INDIRECT(\"MonteCarlo!\"&CostCalculation!$N$10&3,TRUE):INDIRECT(\"MonteCarlo!\"&CostCalculation!$N$10&CostCalculation!$E$4+2,TRUE),\">\"&B154)-COUNTIF(INDIRECT(\"MonteCarlo!\"&CostCalculation!$N$10&3,TRUE):INDIRECT(\"MonteCarlo!\"&CostCalculation!$N$10&CostCalculation!$E$4+2,TRUE),\">\"&B155))/CostCalculation!$E$4=0,#N/A,(COUNTIF(INDIRECT(\"MonteCarlo!\"&CostCalculation!$N$10&3,TRUE):INDIRECT(\"MonteCarlo!\"&CostCalculation!$N$10&CostCalculation!$E$4+2,TRUE),\">\"&B154)-COUNTIF(INDIRECT(\"MonteCarlo!\"&CostCalculation!$N$10&3,TRUE):INDIRECT(\"MonteCarlo!\"&CostCalculation!$N$10&CostCalculation!$E$4+2,TRUE),\">\"&B155))/CostCalculation!$E$4)","v":{"$error":"#N/A"}}]
[0.44400000000000001,{"$f":"ROUND(INDIRECT(\"CostCalculation!D\"&CostCalculation!$O$10,TRUE)*A155,0)","v":217669},{"$f":"IF((COUNTIF(INDIRECT(\"MonteCarlo!\"&CostCalculation!$N$10&3,TRUE):INDIRECT(\"MonteCarlo!\"&CostCalculation!$N$10&CostCalculation!$E$4+2,TRUE),\"<=\"&B155))/CostCalculation!$E$4=0,#N/A,(COUNTIF(INDIRECT(\"MonteCarlo!\"&CostCalculation!$N$10&3,TRUE):INDIRECT(\"MonteCarlo!\"&CostCalculation!$N$10&CostCalculation!$E$4+2,TRUE),\"<=\"&B155))/CostCalculation!$E$4)","v":0.90300000000000002},217669,{"$f":"IF((COUNTIF(INDIRECT(\"MonteCarlo!\"&CostCalculation!$N$10&3,TRUE):INDIRECT(\"MonteCarlo!\"&CostCalculation!$N$10&CostCalculation!$E$4+2,TRUE),\">\"&B155)-COUNTIF(INDIRECT(\"MonteCarlo!\"&CostCalculation!$N$10&3,TRUE):INDIRECT(\"MonteCarlo!\"&CostCalculation!$N$10&CostCalculation!$E$4+2,TRUE),\">\"&B156))/CostCalculation!$E$4=0,#N/A,(COUNTIF(INDIRECT(\"MonteCarlo!\"&CostCalculation!$N$10&3,TRUE):INDIRECT(\"MonteCarlo!\"&CostCalculation!$N$10&CostCalculation!$E$4+2,TRUE),\">\"&B155)-COUNTIF(INDIRECT(\"MonteCarlo!\"&CostCalculation!$N$10&3,TRUE):INDIRECT(\"MonteCarlo!\"&CostCalculation!$N$10&CostCalculation!$E$4+2,TRUE),\">\"&B156))/CostCalculation!$E$4)","v":{"$error":"#N/A"}}]
[0.44700000000000001,{"$f":"ROUND(INDIRECT(\"CostCalculation!D\"&CostCalculation!$O$10,TRUE)*A156,0)","v":219140},{"$f":"IF((COUNTIF(INDIRECT(\"MonteCarlo!\"&CostCalculation!$N$10&3,TRUE):INDIRECT(\"MonteCarlo!\"&CostCalculation!$N$10&CostCalculation!$E$4+2,TRUE),\"<=\"&B156))/CostCalculation!$E$4=0,#N/A,(COUNTIF(INDIRECT(\"MonteCarlo!\"&CostCalculation!$N$10&3,TRUE):INDIRECT(\"MonteCarlo!\"&CostCalculation!$N$10&CostCalculation!$E$4+2,TRUE),\"<=\"&B156))/CostCalculation!$E$4)","v":0.90300000000000002},219140,{"$f":"IF((COUNTIF(INDIRECT(\"MonteCarlo!\"&CostCalculation!$N$10&3,TRUE):INDIRECT(\"MonteCarlo!\"&CostCalculation!$N$10&CostCalculation!$E$4+2,TRUE),\">\"&B156)-COUNTIF(INDIRECT(\"MonteCarlo!\"&CostCalculation!$N$10&3,TRUE):INDIRECT(\"MonteCarlo!\"&CostCalculation!$N$10&CostCalculation!$E$4+2,TRUE),\">\"&B157))/CostCalculation!$E$4=0,#N/A,(COUNTIF(INDIRECT(\"MonteCarlo!\"&CostCalculation!$N$10&3,TRUE):INDIRECT(\"MonteCarlo!\"&CostCalculation!$N$10&CostCalculation!$E$4+2,TRUE),\">\"&B156)-COUNTIF(INDIRECT(\"MonteCarlo!\"&CostCalculation!$N$10&3,TRUE):INDIRECT(\"MonteCarlo!\"&CostCalculation!$N$10&CostCalculation!$E$4+2,TRUE),\">\"&B157))/CostCalculation!$E$4)","v":{"$error":"#N/A"}}]
[0.45,{"$f":"ROUND(INDIRECT(\"CostCalculation!D\"&CostCalculation!$O$10,TRUE)*A157,0)","v":220610},{"$f":"IF((COUNTIF(INDIRECT(\"MonteCarlo!\"&CostCalculation!$N$10&3,TRUE):INDIRECT(\"MonteCarlo!\"&CostCalculation!$N$10&CostCalculation!$E$4+2,TRUE),\"<=\"&B157))/CostCalculation!$E$4=0,#N/A,(COUNTIF(INDIRECT(\"MonteCarlo!\"&CostCalculation!$N$10&3,TRUE):INDIRECT(\"MonteCarlo!\"&CostCalculation!$N$10&CostCalculation!$E$4+2,TRUE),\"<=\"&B157))/CostCalculation!$E$4)","v":0.90300000000000002},220610,{"$f":"IF((COUNTIF(INDIRECT(\"MonteCarlo!\"&CostCalculation!$N$10&3,TRUE):INDIRECT(\"MonteCarlo!\"&CostCalculation!$N$10&CostCalculation!$E$4+2,TRUE),\">\"&B157)-COUNTIF(INDIRECT(\"MonteCarlo!\"&CostCalculation!$N$10&3,TRUE):INDIRECT(\"MonteCarlo!\"&CostCalculation!$N$10&CostCalculation!$E$4+2,TRUE),\">\"&B158))/CostCalculation!$E$4=0,#N/A,(COUNTIF(INDIRECT(\"MonteCarlo!\"&CostCalculation!$N$10&3,TRUE):INDIRECT(\"MonteCarlo!\"&CostCalculation!$N$10&CostCalculation!$E$4+2,TRUE),\">\"&B157)-COUNTIF(INDIRECT(\"MonteCarlo!\"&CostCalculation!$N$10&3,TRUE):INDIRECT(\"MonteCarlo!\"&CostCalculation!$N$10&CostCalculation!$E$4+2,TRUE),\">\"&B158))/CostCalculation!$E$4)","v":{"$error":"#N/A"}}]
[0.45300000000000001,{"$f":"ROUND(INDIRECT(\"CostCalculation!D\"&CostCalculation!$O$10,TRUE)*A158,0)","v":222081},{"$f":"IF((COUNTIF(INDIRECT(\"MonteCarlo!\"&CostCalculation!$N$10&3,TRUE):INDIRECT(\"MonteCarlo!\"&CostCalculation!$N$10&CostCalculation!$E$4+2,TRUE),\"<=\"&B158))/CostCalculation!$E$4=0,#N/A,(COUNTIF(INDIRECT(\"MonteCarlo!\"&CostCalculation!$N$10&3,TRUE):INDIRECT(\"MonteCarlo!\"&CostCalculation!$N$10&CostCalculation!$E$4+2,TRUE),\"<=\"&B158))/CostCalculation!$E$4)","v":0.90300000000000002},222081,{"$f":"IF((COUNTIF(INDIRECT(\"MonteCarlo!\"&CostCalculation!$N$10&3,TRUE):INDIRECT(\"MonteCarlo!\"&CostCalculation!$N$10&CostCalculation!$E$4+2,TRUE),\">\"&B158)-COUNTIF(INDIRECT(\"MonteCarlo!\"&CostCalculation!$N$10&3,TRUE):INDIRECT(\"MonteCarlo!\"&CostCalculation!$N$10&CostCalculation!$E$4+2,TRUE),\">\"&B159))/CostCalculation!$E$4=0,#N/A,(COUNTIF(INDIRECT(\"MonteCarlo!\"&CostCalculation!$N$10&3,TRUE):INDIRECT(\"MonteCarlo!\"&CostCalculation!$N$10&CostCalculation!$E$4+2,TRUE),\">\"&B158)-COUNTIF(INDIRECT(\"MonteCarlo!\"&CostCalculation!$N$10&3,TRUE):INDIRECT(\"MonteCarlo!\"&CostCalculation!$N$10&CostCalculation!$E$4+2,TRUE),\">\"&B159))/CostCalculation!$E$4)","v":{"$error":"#N/A"}}]
[0.45600000000000002,{"$f":"ROUND(INDIRECT(\"CostCalculation!D\"&CostCalculation!$O$10,TRUE)*A159,0)","v":223552},{"$f":"IF((COUNTIF(INDIRECT(\"MonteCarlo!\"&CostCalculation!$N$10&3,TRUE):INDIRECT(\"MonteCarlo!\"&CostCalculation!$N$10&CostCalculation!$E$4+2,TRUE),\"<=\"&B159))/CostCalculation!$E$4=0,#N/A,(COUNTIF(INDIRECT(\"MonteCarlo!\"&CostCalculation!$N$10&3,TRUE):INDIRECT(\"MonteCarlo!\"&CostCalculation!$N$10&CostCalculation!$E$4+2,TRUE),\"<=\"&B159))/CostCalculation!$E$4)","v":0.90300000000000002},223552,{"$f":"IF((COUNTIF(INDIRECT(\"MonteCarlo!\"&CostCalculation!$N$10&3,TRUE):INDIRECT(\"MonteCarlo!\"&CostCalculation!$N$10&CostCalculation!$E$4+2,TRUE),\">\"&B159)-COUNTIF(INDIRECT(\"MonteCarlo!\"&CostCalculation!$N$10&3,TRUE):INDIRECT(\"MonteCarlo!\"&CostCalculation!$N$10&CostCalculation!$E$4+2,TRUE),\">\"&B160))/CostCalculation!$E$4=0,#N/A,(COUNTIF(INDIRECT(\"MonteCarlo!\"&CostCalculation!$N$10&3,TRUE):INDIRECT(\"MonteCarlo!\"&CostCalculation!$N$10&CostCalculation!$E$4+2,TRUE),\">\"&B159)-COUNTIF(INDIRECT(\"MonteCarlo!\"&CostCalculation!$N$10&3,TRUE):INDIRECT(\"MonteCarlo!\"&CostCalculation!$N$10&CostCalculation!$E$4+2,TRUE),\">\"&B160))/CostCalculation!$E$4)","v":{"$error":"#N/A"}}]
[0.45900000000000002,{"$f":"ROUND(INDIRECT(\"CostCalculation!D\"&CostCalculation!$O$10,TRUE)*A160,0)","v":225022},{"$f":"IF((COUNTIF(INDIRECT(\"MonteCarlo!\"&CostCalculation!$N$10&3,TRUE):INDIRECT(\"MonteCarlo!\"&CostCalculation!$N$10&CostCalculation!$E$4+2,TRUE),\"<=\"&B160))/CostCalculation!$E$4=0,#N/A,(COUNTIF(INDIRECT(\"MonteCarlo!\"&CostCalculation!$N$10&3,TRUE):INDIRECT(\"MonteCarlo!\"&CostCalculation!$N$10&CostCalculation!$E$4+2,TRUE),\"<=\"&B160))/CostCalculation!$E$4)","v":0.90300000000000002},225022,{"$f":"IF((COUNTIF(INDIRECT(\"MonteCarlo!\"&CostCalculation!$N$10&3,TRUE):INDIRECT(\"MonteCarlo!\"&CostCalculation!$N$10&CostCalculation!$E$4+2,TRUE),\">\"&B160)-COUNTIF(INDIRECT(\"MonteCarlo!\"&CostCalculation!$N$10&3,TRUE):INDIRECT(\"MonteCarlo!\"&CostCalculation!$N$10&CostCalculation!$E$4+2,TRUE),\">\"&B161))/CostCalculation!$E$4=0,#N/A,(COUNTIF(INDIRECT(\"MonteCarlo!\"&CostCalculation!$N$10&3,TRUE):INDIRECT(\"MonteCarlo!\"&CostCalculation!$N$10&CostCalculation!$E$4+2,TRUE),\">\"&B160)-COUNTIF(INDIRECT(\"MonteCarlo!\"&CostCalculation!$N$10&3,TRUE):INDIRECT(\"MonteCarlo!\"&CostCalculation!$N$10&CostCalculation!$E$4+2,TRUE),\">\"&B161))/CostCalculation!$E$4)","v":{"$error":"#N/A"}}]
[0.46200000000000002,{"$f":"ROUND(INDIRECT(\"CostCalculation!D\"&CostCalculation!$O$10,TRUE)*A161,0)","v":226493},{"$f":"IF((COUNTIF(INDIRECT(\"MonteCarlo!\"&CostCalculation!$N$10&3,TRUE):INDIRECT(\"MonteCarlo!\"&CostCalculation!$N$10&CostCalculation!$E$4+2,TRUE),\"<=\"&B161))/CostCalculation!$E$4=0,#N/A,(COUNTIF(INDIRECT(\"MonteCarlo!\"&CostCalculation!$N$10&3,TRUE):INDIRECT(\"MonteCarlo!\"&CostCalculation!$N$10&CostCalculation!$E$4+2,TRUE),\"<=\"&B161))/CostCalculation!$E$4)","v":0.90300000000000002},226493,{"$f":"IF((COUNTIF(INDIRECT(\"MonteCarlo!\"&CostCalculation!$N$10&3,TRUE):INDIRECT(\"MonteCarlo!\"&CostCalculation!$N$10&CostCalculation!$E$4+2,TRUE),\">\"&B161)-COUNTIF(INDIRECT(\"MonteCarlo!\"&CostCalculation!$N$10&3,TRUE):INDIRECT(\"MonteCarlo!\"&CostCalculation!$N$10&CostCalculation!$E$4+2,TRUE),\">\"&B162))/CostCalculation!$E$4=0,#N/A,(COUNTIF(INDIRECT(\"MonteCarlo!\"&CostCalculation!$N$10&3,TRUE):INDIRECT(\"MonteCarlo!\"&CostCalculation!$N$10&CostCalculation!$E$4+2,TRUE),\">\"&B161)-COUNTIF(INDIRECT(\"MonteCarlo!\"&CostCalculation!$N$10&3,TRUE):INDIRECT(\"MonteCarlo!\"&CostCalculation!$N$10&CostCalculation!$E$4+2,TRUE),\">\"&B162))/CostCalculation!$E$4)","v":{"$error":"#N/A"}}]
[0.46500000000000002,{"$f":"ROUND(INDIRECT(\"CostCalculation!D\"&CostCalculation!$O$10,TRUE)*A162,0)","v":227964},{"$f":"IF((COUNTIF(INDIRECT(\"MonteCarlo!\"&CostCalculation!$N$10&3,TRUE):INDIRECT(\"MonteCarlo!\"&CostCalculation!$N$10&CostCalculation!$E$4+2,TRUE),\"<=\"&B162))/CostCalculation!$E$4=0,#N/A,(COUNTIF(INDIRECT(\"MonteCarlo!\"&CostCalculation!$N$10&3,TRUE):INDIRECT(\"MonteCarlo!\"&CostCalculation!$N$10&CostCalculation!$E$4+2,TRUE),\"<=\"&B162))/CostCalculation!$E$4)","v":0.90300000000000002},227964,{"$f":"IF((COUNTIF(INDIRECT(\"MonteCarlo!\"&CostCalculation!$N$10&3,TRUE):INDIRECT(\"MonteCarlo!\"&CostCalculation!$N$10&CostCalculation!$E$4+2,TRUE),\">\"&B162)-COUNTIF(INDIRECT(\"MonteCarlo!\"&CostCalculation!$N$10&3,TRUE):INDIRECT(\"MonteCarlo!\"&CostCalculation!$N$10&CostCalculation!$E$4+2,TRUE),\">\"&B163))/CostCalculation!$E$4=0,#N/A,(COUNTIF(INDIRECT(\"MonteCarlo!\"&CostCalculation!$N$10&3,TRUE):INDIRECT(\"MonteCarlo!\"&CostCalculation!$N$10&CostCalculation!$E$4+2,TRUE),\">\"&B162)-COUNTIF(INDIRECT(\"MonteCarlo!\"&CostCalculation!$N$10&3,TRUE):INDIRECT(\"MonteCarlo!\"&CostCalculation!$N$10&CostCalculation!$E$4+2,TRUE),\">\"&B163))/CostCalculation!$E$4)","v":4.5499999999999999E-2}]
[0.46800000000000003,{"$f":"ROUND(INDIRECT(\"CostCalculation!D\"&CostCalculation!$O$10,TRUE)*A163,0)","v":229435},{"$f":"IF((COUNTIF(INDIRECT(\"MonteCarlo!\"&CostCalculation!$N$10&3,TRUE):INDIRECT(\"MonteCarlo!\"&CostCalculation!$N$10&CostCalculation!$E$4+2,TRUE),\"<=\"&B163))/CostCalculation!$E$4=0,#N/A,(COUNTIF(INDIRECT(\"MonteCarlo!\"&CostCalculation!$N$10&3,TRUE):INDIRECT(\"MonteCarlo!\"&CostCalculation!$N$10&CostCalculation!$E$4+2,TRUE),\"<=\"&B163))/CostCalculation!$E$4)","v":0.94850000000000001},229435,{"$f":"IF((COUNTIF(INDIRECT(\"MonteCarlo!\"&CostCalculation!$N$10&3,TRUE):INDIRECT(\"MonteCarlo!\"&CostCalculation!$N$10&CostCalculation!$E$4+2,TRUE),\">\"&B163)-COUNTIF(INDIRECT(\"MonteCarlo!\"&CostCalculation!$N$10&3,TRUE):INDIRECT(\"MonteCarlo!\"&CostCalculation!$N$10&CostCalculation!$E$4+2,TRUE),\">\"&B164))/CostCalculation!$E$4=0,#N/A,(COUNTIF(INDIRECT(\"MonteCarlo!\"&CostCalculation!$N$10&3,TRUE):INDIRECT(\"MonteCarlo!\"&CostCalculation!$N$10&CostCalculation!$E$4+2,TRUE),\">\"&B163)-COUNTIF(INDIRECT(\"MonteCarlo!\"&CostCalculation!$N$10&3,TRUE):INDIRECT(\"MonteCarlo!\"&CostCalculation!$N$10&CostCalculation!$E$4+2,TRUE),\">\"&B164))/CostCalculation!$E$4)","v":{"$error":"#N/A"}}]
[0.47099999999999997,{"$f":"ROUND(INDIRECT(\"CostCalculation!D\"&CostCalculation!$O$10,TRUE)*A164,0)","v":230905},{"$f":"IF((COUNTIF(INDIRECT(\"MonteCarlo!\"&CostCalculation!$N$10&3,TRUE):INDIRECT(\"MonteCarlo!\"&CostCalculation!$N$10&CostCalculation!$E$4+2,TRUE),\"<=\"&B164))/CostCalculation!$E$4=0,#N/A,(COUNTIF(INDIRECT(\"MonteCarlo!\"&CostCalculation!$N$10&3,TRUE):INDIRECT(\"MonteCarlo!\"&CostCalculation!$N$10&CostCalculation!$E$4+2,TRUE),\"<=\"&B164))/CostCalculation!$E$4)","v":0.94850000000000001},230905,{"$f":"IF((COUNTIF(INDIRECT(\"MonteCarlo!\"&CostCalculation!$N$10&3,TRUE):INDIRECT(\"MonteCarlo!\"&CostCalculation!$N$10&CostCalculation!$E$4+2,TRUE),\">\"&B164)-COUNTIF(INDIRECT(\"MonteCarlo!\"&CostCalculation!$N$10&3,TRUE):INDIRECT(\"MonteCarlo!\"&CostCalculation!$N$10&CostCalculation!$E$4+2,TRUE),\">\"&B165))/CostCalculation!$E$4=0,#N/A,(COUNTIF(INDIRECT(\"MonteCarlo!\"&CostCalculation!$N$10&3,TRUE):INDIRECT(\"MonteCarlo!\"&CostCalculation!$N$10&CostCalculation!$E$4+2,TRUE),\">\"&B164)-COUNTIF(INDIRECT(\"MonteCarlo!\"&CostCalculation!$N$10&3,TRUE):INDIRECT(\"MonteCarlo!\"&CostCalculation!$N$10&CostCalculation!$E$4+2,TRUE),\">\"&B165))/CostCalculation!$E$4)","v":{"$error":"#N/A"}}]
[0.47399999999999998,{"$f":"ROUND(INDIRECT(\"CostCalculation!D\"&CostCalculation!$O$10,TRUE)*A165,0)","v":232376},{"$f":"IF((COUNTIF(INDIRECT(\"MonteCarlo!\"&CostCalculation!$N$10&3,TRUE):INDIRECT(\"MonteCarlo!\"&CostCalculation!$N$10&CostCalculation!$E$4+2,TRUE),\"<=\"&B165))/CostCalculation!$E$4=0,#N/A,(COUNTIF(INDIRECT(\"MonteCarlo!\"&CostCalculation!$N$10&3,TRUE):INDIRECT(\"MonteCarlo!\"&CostCalculation!$N$10&CostCalculation!$E$4+2,TRUE),\"<=\"&B165))/CostCalculation!$E$4)","v":0.94850000000000001},232376,{"$f":"IF((COUNTIF(INDIRECT(\"MonteCarlo!\"&CostCalculation!$N$10&3,TRUE):INDIRECT(\"MonteCarlo!\"&CostCalculation!$N$10&CostCalculation!$E$4+2,TRUE),\">\"&B165)-COUNTIF(INDIRECT(\"MonteCarlo!\"&CostCalculation!$N$10&3,TRUE):INDIRECT(\"MonteCarlo!\"&CostCalculation!$N$10&CostCalculation!$E$4+2,TRUE),\">\"&B166))/CostCalculation!$E$4=0,#N/A,(COUNTIF(INDIRECT(\"MonteCarlo!\"&CostCalculation!$N$10&3,TRUE):INDIRECT(\"MonteCarlo!\"&CostCalculation!$N$10&CostCalculation!$E$4+2,TRUE),\">\"&B165)-COUNTIF(INDIRECT(\"MonteCarlo!\"&CostCalculation!$N$10&3,TRUE):INDIRECT(\"MonteCarlo!\"&CostCalculation!$N$10&CostCalculation!$E$4+2,TRUE),\">\"&B166))/CostCalculation!$E$4)","v":{"$error":"#N/A"}}]
[0.47699999999999998,{"$f":"ROUND(INDIRECT(\"CostCalculation!D\"&CostCalculation!$O$10,TRUE)*A166,0)","v":233847},{"$f":"IF((COUNTIF(INDIRECT(\"MonteCarlo!\"&CostCalculation!$N$10&3,TRUE):INDIRECT(\"MonteCarlo!\"&CostCalculation!$N$10&CostCalculation!$E$4+2,TRUE),\"<=\"&B166))/CostCalculation!$E$4=0,#N/A,(COUNTIF(INDIRECT(\"MonteCarlo!\"&CostCalculation!$N$10&3,TRUE):INDIRECT(\"MonteCarlo!\"&CostCalculation!$N$10&CostCalculation!$E$4+2,TRUE),\"<=\"&B166))/CostCalculation!$E$4)","v":0.94850000000000001},233847,{"$f":"IF((COUNTIF(INDIRECT(\"MonteCarlo!\"&CostCalculation!$N$10&3,TRUE):INDIRECT(\"MonteCarlo!\"&CostCalculation!$N$10&CostCalculation!$E$4+2,TRUE),\">\"&B166)-COUNTIF(INDIRECT(\"MonteCarlo!\"&CostCalculation!$N$10&3,TRUE):INDIRECT(\"MonteCarlo!\"&CostCalculation!$N$10&CostCalculation!$E$4+2,TRUE),\">\"&B167))/CostCalculation!$E$4=0,#N/A,(COUNTIF(INDIRECT(\"MonteCarlo!\"&CostCalculation!$N$10&3,TRUE):INDIRECT(\"MonteCarlo!\"&CostCalculation!$N$10&CostCalculation!$E$4+2,TRUE),\">\"&B166)-COUNTIF(INDIRECT(\"MonteCarlo!\"&CostCalculation!$N$10&3,TRUE):INDIRECT(\"MonteCarlo!\"&CostCalculation!$N$10&CostCalculation!$E$4+2,TRUE),\">\"&B167))/CostCalculation!$E$4)","v":{"$error":"#N/A"}}]
[0.48,{"$f":"ROUND(INDIRECT(\"CostCalculation!D\"&CostCalculation!$O$10,TRUE)*A167,0)","v":235318},{"$f":"IF((COUNTIF(INDIRECT(\"MonteCarlo!\"&CostCalculation!$N$10&3,TRUE):INDIRECT(\"MonteCarlo!\"&CostCalculation!$N$10&CostCalculation!$E$4+2,TRUE),\"<=\"&B167))/CostCalculation!$E$4=0,#N/A,(COUNTIF(INDIRECT(\"MonteCarlo!\"&CostCalculation!$N$10&3,TRUE):INDIRECT(\"MonteCarlo!\"&CostCalculation!$N$10&CostCalculation!$E$4+2,TRUE),\"<=\"&B167))/CostCalculation!$E$4)","v":0.94850000000000001},235318,{"$f":"IF((COUNTIF(INDIRECT(\"MonteCarlo!\"&CostCalculation!$N$10&3,TRUE):INDIRECT(\"MonteCarlo!\"&CostCalculation!$N$10&CostCalculation!$E$4+2,TRUE),\">\"&B167)-COUNTIF(INDIRECT(\"MonteCarlo!\"&CostCalculation!$N$10&3,TRUE):INDIRECT(\"MonteCarlo!\"&CostCalculation!$N$10&CostCalculation!$E$4+2,TRUE),\">\"&B168))/CostCalculation!$E$4=0,#N/A,(COUNTIF(INDIRECT(\"MonteCarlo!\"&CostCalculation!$N$10&3,TRUE):INDIRECT(\"MonteCarlo!\"&CostCalculation!$N$10&CostCalculation!$E$4+2,TRUE),\">\"&B167)-COUNTIF(INDIRECT(\"MonteCarlo!\"&CostCalculation!$N$10&3,TRUE):INDIRECT(\"MonteCarlo!\"&CostCalculation!$N$10&CostCalculation!$E$4+2,TRUE),\">\"&B168))/CostCalculation!$E$4)","v":{"$error":"#N/A"}}]
[0.48299999999999998,{"$f":"ROUND(INDIRECT(\"CostCalculation!D\"&CostCalculation!$O$10,TRUE)*A168,0)","v":236788},{"$f":"IF((COUNTIF(INDIRECT(\"MonteCarlo!\"&CostCalculation!$N$10&3,TRUE):INDIRECT(\"MonteCarlo!\"&CostCalculation!$N$10&CostCalculation!$E$4+2,TRUE),\"<=\"&B168))/CostCalculation!$E$4=0,#N/A,(COUNTIF(INDIRECT(\"MonteCarlo!\"&CostCalculation!$N$10&3,TRUE):INDIRECT(\"MonteCarlo!\"&CostCalculation!$N$10&CostCalculation!$E$4+2,TRUE),\"<=\"&B168))/CostCalculation!$E$4)","v":0.94850000000000001},236788,{"$f":"IF((COUNTIF(INDIRECT(\"MonteCarlo!\"&CostCalculation!$N$10&3,TRUE):INDIRECT(\"MonteCarlo!\"&CostCalculation!$N$10&CostCalculation!$E$4+2,TRUE),\">\"&B168)-COUNTIF(INDIRECT(\"MonteCarlo!\"&CostCalculation!$N$10&3,TRUE):INDIRECT(\"MonteCarlo!\"&CostCalculation!$N$10&CostCalculation!$E$4+2,TRUE),\">\"&B169))/CostCalculation!$E$4=0,#N/A,(COUNTIF(INDIRECT(\"MonteCarlo!\"&CostCalculation!$N$10&3,TRUE):INDIRECT(\"MonteCarlo!\"&CostCalculation!$N$10&CostCalculation!$E$4+2,TRUE),\">\"&B168)-COUNTIF(INDIRECT(\"MonteCarlo!\"&CostCalculation!$N$10&3,TRUE):INDIRECT(\"MonteCarlo!\"&CostCalculation!$N$10&CostCalculation!$E$4+2,TRUE),\">\"&B169))/CostCalculation!$E$4)","v":{"$error":"#N/A"}}]
[0.48599999999999999,{"$f":"ROUND(INDIRECT(\"CostCalculation!D\"&CostCalculation!$O$10,TRUE)*A169,0)","v":238259},{"$f":"IF((COUNTIF(INDIRECT(\"MonteCarlo!\"&CostCalculation!$N$10&3,TRUE):INDIRECT(\"MonteCarlo!\"&CostCalculation!$N$10&CostCalculation!$E$4+2,TRUE),\"<=\"&B169))/CostCalculation!$E$4=0,#N/A,(COUNTIF(INDIRECT(\"MonteCarlo!\"&CostCalculation!$N$10&3,TRUE):INDIRECT(\"MonteCarlo!\"&CostCalculation!$N$10&CostCalculation!$E$4+2,TRUE),\"<=\"&B169))/CostCalculation!$E$4)","v":0.94850000000000001},238259,{"$f":"IF((COUNTIF(INDIRECT(\"MonteCarlo!\"&CostCalculation!$N$10&3,TRUE):INDIRECT(\"MonteCarlo!\"&CostCalculation!$N$10&CostCalculation!$E$4+2,TRUE),\">\"&B169)-COUNTIF(INDIRECT(\"MonteCarlo!\"&CostCalculation!$N$10&3,TRUE):INDIRECT(\"MonteCarlo!\"&CostCalculation!$N$10&CostCalculation!$E$4+2,TRUE),\">\"&B170))/CostCalculation!$E$4=0,#N/A,(COUNTIF(INDIRECT(\"MonteCarlo!\"&CostCalculation!$N$10&3,TRUE):INDIRECT(\"MonteCarlo!\"&CostCalculation!$N$10&CostCalculation!$E$4+2,TRUE),\">\"&B169)-COUNTIF(INDIRECT(\"MonteCarlo!\"&CostCalculation!$N$10&3,TRUE):INDIRECT(\"MonteCarlo!\"&CostCalculation!$N$10&CostCalculation!$E$4+2,TRUE),\">\"&B170))/CostCalculation!$E$4)","v":{"$error":"#N/A"}}]
[0.48899999999999999,{"$f":"ROUND(INDIRECT(\"CostCalculation!D\"&CostCalculation!$O$10,TRUE)*A170,0)","v":239730},{"$f":"IF((COUNTIF(INDIRECT(\"MonteCarlo!\"&CostCalculation!$N$10&3,TRUE):INDIRECT(\"MonteCarlo!\"&CostCalculation!$N$10&CostCalculation!$E$4+2,TRUE),\"<=\"&B170))/CostCalculation!$E$4=0,#N/A,(COUNTIF(INDIRECT(\"MonteCarlo!\"&CostCalculation!$N$10&3,TRUE):INDIRECT(\"MonteCarlo!\"&CostCalculation!$N$10&CostCalculation!$E$4+2,TRUE),\"<=\"&B170))/CostCalculation!$E$4)","v":0.94850000000000001},239730,{"$f":"IF((COUNTIF(INDIRECT(\"MonteCarlo!\"&CostCalculation!$N$10&3,TRUE):INDIRECT(\"MonteCarlo!\"&CostCalculation!$N$10&CostCalculation!$E$4+2,TRUE),\">\"&B170)-COUNTIF(INDIRECT(\"MonteCarlo!\"&CostCalculation!$N$10&3,TRUE):INDIRECT(\"MonteCarlo!\"&CostCalculation!$N$10&CostCalculation!$E$4+2,TRUE),\">\"&B171))/CostCalculation!$E$4=0,#N/A,(COUNTIF(INDIRECT(\"MonteCarlo!\"&CostCalculation!$N$10&3,TRUE):INDIRECT(\"MonteCarlo!\"&CostCalculation!$N$10&CostCalculation!$E$4+2,TRUE),\">\"&B170)-COUNTIF(INDIRECT(\"MonteCarlo!\"&CostCalculation!$N$10&3,TRUE):INDIRECT(\"MonteCarlo!\"&CostCalculation!$N$10&CostCalculation!$E$4+2,TRUE),\">\"&B171))/CostCalculation!$E$4)","v":{"$error":"#N/A"}}]
[0.49199999999999999,{"$f":"ROUND(INDIRECT(\"CostCalculation!D\"&CostCalculation!$O$10,TRUE)*A171,0)","v":241201},{"$f":"IF((COUNTIF(INDIRECT(\"MonteCarlo!\"&CostCalculation!$N$10&3,TRUE):INDIRECT(\"MonteCarlo!\"&CostCalculation!$N$10&CostCalculation!$E$4+2,TRUE),\"<=\"&B171))/CostCalculation!$E$4=0,#N/A,(COUNTIF(INDIRECT(\"MonteCarlo!\"&CostCalculation!$N$10&3,TRUE):INDIRECT(\"MonteCarlo!\"&CostCalculation!$N$10&CostCalculation!$E$4+2,TRUE),\"<=\"&B171))/CostCalculation!$E$4)","v":0.94850000000000001},241201,{"$f":"IF((COUNTIF(INDIRECT(\"MonteCarlo!\"&CostCalculation!$N$10&3,TRUE):INDIRECT(\"MonteCarlo!\"&CostCalculation!$N$10&CostCalculation!$E$4+2,TRUE),\">\"&B171)-COUNTIF(INDIRECT(\"MonteCarlo!\"&CostCalculation!$N$10&3,TRUE):INDIRECT(\"MonteCarlo!\"&CostCalculation!$N$10&CostCalculation!$E$4+2,TRUE),\">\"&B172))/CostCalculation!$E$4=0,#N/A,(COUNTIF(INDIRECT(\"MonteCarlo!\"&CostCalculation!$N$10&3,TRUE):INDIRECT(\"MonteCarlo!\"&CostCalculation!$N$10&CostCalculation!$E$4+2,TRUE),\">\"&B171)-COUNTIF(INDIRECT(\"MonteCarlo!\"&CostCalculation!$N$10&3,TRUE):INDIRECT(\"MonteCarlo!\"&CostCalculation!$N$10&CostCalculation!$E$4+2,TRUE),\">\"&B172))/CostCalculation!$E$4)","v":{"$error":"#N/A"}}]
[0.495,{"$f":"ROUND(INDIRECT(\"CostCalculation!D\"&CostCalculation!$O$10,TRUE)*A172,0)","v":242671},{"$f":"IF((COUNTIF(INDIRECT(\"MonteCarlo!\"&CostCalculation!$N$10&3,TRUE):INDIRECT(\"MonteCarlo!\"&CostCalculation!$N$10&CostCalculation!$E$4+2,TRUE),\"<=\"&B172))/CostCalculation!$E$4=0,#N/A,(COUNTIF(INDIRECT(\"MonteCarlo!\"&CostCalculation!$N$10&3,TRUE):INDIRECT(\"MonteCarlo!\"&CostCalculation!$N$10&CostCalculation!$E$4+2,TRUE),\"<=\"&B172))/CostCalculation!$E$4)","v":0.94850000000000001},242671,{"$f":"IF((COUNTIF(INDIRECT(\"MonteCarlo!\"&CostCalculation!$N$10&3,TRUE):INDIRECT(\"MonteCarlo!\"&CostCalculation!$N$10&CostCalculation!$E$4+2,TRUE),\">\"&B172)-COUNTIF(INDIRECT(\"MonteCarlo!\"&CostCalculation!$N$10&3,TRUE):INDIRECT(\"MonteCarlo!\"&CostCalculation!$N$10&CostCalculation!$E$4+2,TRUE),\">\"&B173))/CostCalculation!$E$4=0,#N/A,(COUNTIF(INDIRECT(\"MonteCarlo!\"&CostCalculation!$N$10&3,TRUE):INDIRECT(\"MonteCarlo!\"&CostCalculation!$N$10&CostCalculation!$E$4+2,TRUE),\">\"&B172)-COUNTIF(INDIRECT(\"MonteCarlo!\"&CostCalculation!$N$10&3,TRUE):INDIRECT(\"MonteCarlo!\"&CostCalculation!$N$10&CostCalculation!$E$4+2,TRUE),\">\"&B173))/CostCalculation!$E$4)","v":{"$error":"#N/A"}}]
[0.498,{"$f":"ROUND(INDIRECT(\"CostCalculation!D\"&CostCalculation!$O$10,TRUE)*A173,0)","v":244142},{"$f":"IF((COUNTIF(INDIRECT(\"MonteCarlo!\"&CostCalculation!$N$10&3,TRUE):INDIRECT(\"MonteCarlo!\"&CostCalculation!$N$10&CostCalculation!$E$4+2,TRUE),\"<=\"&B173))/CostCalculation!$E$4=0,#N/A,(COUNTIF(INDIRECT(\"MonteCarlo!\"&CostCalculation!$N$10&3,TRUE):INDIRECT(\"MonteCarlo!\"&CostCalculation!$N$10&CostCalculation!$E$4+2,TRUE),\"<=\"&B173))/CostCalculation!$E$4)","v":0.94850000000000001},244142,{"$f":"IF((COUNTIF(INDIRECT(\"MonteCarlo!\"&CostCalculation!$N$10&3,TRUE):INDIRECT(\"MonteCarlo!\"&CostCalculation!$N$10&CostCalculation!$E$4+2,TRUE),\">\"&B173)-COUNTIF(INDIRECT(\"MonteCarlo!\"&CostCalculation!$N$10&3,TRUE):INDIRECT(\"MonteCarlo!\"&CostCalculation!$N$10&CostCalculation!$E$4+2,TRUE),\">\"&B174))/CostCalculation!$E$4=0,#N/A,(COUNTIF(INDIRECT(\"MonteCarlo!\"&CostCalculation!$N$10&3,TRUE):INDIRECT(\"MonteCarlo!\"&CostCalculation!$N$10&CostCalculation!$E$4+2,TRUE),\">\"&B173)-COUNTIF(INDIRECT(\"MonteCarlo!\"&CostCalculation!$N$10&3,TRUE):INDIRECT(\"MonteCarlo!\"&CostCalculation!$N$10&CostCalculation!$E$4+2,TRUE),\">\"&B174))/CostCalculation!$E$4)","v":{"$error":"#N/A"}}]
[0.501,{"$f":"ROUND(INDIRECT(\"CostCalculation!D\"&CostCalculation!$O$10,TRUE)*A174,0)","v":245613},{"$f":"IF((COUNTIF(INDIRECT(\"MonteCarlo!\"&CostCalculation!$N$10&3,TRUE):INDIRECT(\"MonteCarlo!\"&CostCalculation!$N$10&CostCalculation!$E$4+2,TRUE),\"<=\"&B174))/CostCalculation!$E$4=0,#N/A,(COUNTIF(INDIRECT(\"MonteCarlo!\"&CostCalculation!$N$10&3,TRUE):INDIRECT(\"MonteCarlo!\"&CostCalculation!$N$10&CostCalculation!$E$4+2,TRUE),\"<=\"&B174))/CostCalculation!$E$4)","v":0.94850000000000001},245613,{"$f":"IF((COUNTIF(INDIRECT(\"MonteCarlo!\"&CostCalculation!$N$10&3,TRUE):INDIRECT(\"MonteCarlo!\"&CostCalculation!$N$10&CostCalculation!$E$4+2,TRUE),\">\"&B174)-COUNTIF(INDIRECT(\"MonteCarlo!\"&CostCalculation!$N$10&3,TRUE):INDIRECT(\"MonteCarlo!\"&CostCalculation!$N$10&CostCalculation!$E$4+2,TRUE),\">\"&B175))/CostCalculation!$E$4=0,#N/A,(COUNTIF(INDIRECT(\"MonteCarlo!\"&CostCalculation!$N$10&3,TRUE):INDIRECT(\"MonteCarlo!\"&CostCalculation!$N$10&CostCalculation!$E$4+2,TRUE),\">\"&B174)-COUNTIF(INDIRECT(\"MonteCarlo!\"&CostCalculation!$N$10&3,TRUE):INDIRECT(\"MonteCarlo!\"&CostCalculation!$N$10&CostCalculation!$E$4+2,TRUE),\">\"&B175))/CostCalculation!$E$4)","v":{"$error":"#N/A"}}]
[0.504,{"$f":"ROUND(INDIRECT(\"CostCalculation!D\"&CostCalculation!$O$10,TRUE)*A175,0)","v":247083},{"$f":"IF((COUNTIF(INDIRECT(\"MonteCarlo!\"&CostCalculation!$N$10&3,TRUE):INDIRECT(\"MonteCarlo!\"&CostCalculation!$N$10&CostCalculation!$E$4+2,TRUE),\"<=\"&B175))/CostCalculation!$E$4=0,#N/A,(COUNTIF(INDIRECT(\"MonteCarlo!\"&CostCalculation!$N$10&3,TRUE):INDIRECT(\"MonteCarlo!\"&CostCalculation!$N$10&CostCalculation!$E$4+2,TRUE),\"<=\"&B175))/CostCalculation!$E$4)","v":0.94850000000000001},247083,{"$f":"IF((COUNTIF(INDIRECT(\"MonteCarlo!\"&CostCalculation!$N$10&3,TRUE):INDIRECT(\"MonteCarlo!\"&CostCalculation!$N$10&CostCalculation!$E$4+2,TRUE),\">\"&B175)-COUNTIF(INDIRECT(\"MonteCarlo!\"&CostCalculation!$N$10&3,TRUE):INDIRECT(\"MonteCarlo!\"&CostCalculation!$N$10&CostCalculation!$E$4+2,TRUE),\">\"&B176))/CostCalculation!$E$4=0,#N/A,(COUNTIF(INDIRECT(\"MonteCarlo!\"&CostCalculation!$N$10&3,TRUE):INDIRECT(\"MonteCarlo!\"&CostCalculation!$N$10&CostCalculation!$E$4+2,TRUE),\">\"&B175)-COUNTIF(INDIRECT(\"MonteCarlo!\"&CostCalculation!$N$10&3,TRUE):INDIRECT(\"MonteCarlo!\"&CostCalculation!$N$10&CostCalculation!$E$4+2,TRUE),\">\"&B176))/CostCalculation!$E$4)","v":{"$error":"#N/A"}}]
[0.50700000000000001,{"$f":"ROUND(INDIRECT(\"CostCalculation!D\"&CostCalculation!$O$10,TRUE)*A176,0)","v":248554},{"$f":"IF((COUNTIF(INDIRECT(\"MonteCarlo!\"&CostCalculation!$N$10&3,TRUE):INDIRECT(\"MonteCarlo!\"&CostCalculation!$N$10&CostCalculation!$E$4+2,TRUE),\"<=\"&B176))/CostCalculation!$E$4=0,#N/A,(COUNTIF(INDIRECT(\"MonteCarlo!\"&CostCalculation!$N$10&3,TRUE):INDIRECT(\"MonteCarlo!\"&CostCalculation!$N$10&CostCalculation!$E$4+2,TRUE),\"<=\"&B176))/CostCalculation!$E$4)","v":0.94850000000000001},248554,{"$f":"IF((COUNTIF(INDIRECT(\"MonteCarlo!\"&CostCalculation!$N$10&3,TRUE):INDIRECT(\"MonteCarlo!\"&CostCalculation!$N$10&CostCalculation!$E$4+2,TRUE),\">\"&B176)-COUNTIF(INDIRECT(\"MonteCarlo!\"&CostCalculation!$N$10&3,TRUE):INDIRECT(\"MonteCarlo!\"&CostCalculation!$N$10&CostCalculation!$E$4+2,TRUE),\">\"&B177))/CostCalculation!$E$4=0,#N/A,(COUNTIF(INDIRECT(\"MonteCarlo!\"&CostCalculation!$N$10&3,TRUE):INDIRECT(\"MonteCarlo!\"&CostCalculation!$N$10&CostCalculation!$E$4+2,TRUE),\">\"&B176)-COUNTIF(INDIRECT(\"MonteCarlo!\"&CostCalculation!$N$10&3,TRUE):INDIRECT(\"MonteCarlo!\"&CostCalculation!$N$10&CostCalculation!$E$4+2,TRUE),\">\"&B177))/CostCalculation!$E$4)","v":{"$error":"#N/A"}}]
[0.51,{"$f":"ROUND(INDIRECT(\"CostCalculation!D\"&CostCalculation!$O$10,TRUE)*A177,0)","v":250025},{"$f":"IF((COUNTIF(INDIRECT(\"MonteCarlo!\"&CostCalculation!$N$10&3,TRUE):INDIRECT(\"MonteCarlo!\"&CostCalculation!$N$10&CostCalculation!$E$4+2,TRUE),\"<=\"&B177))/CostCalculation!$E$4=0,#N/A,(COUNTIF(INDIRECT(\"MonteCarlo!\"&CostCalculation!$N$10&3,TRUE):INDIRECT(\"MonteCarlo!\"&CostCalculation!$N$10&CostCalculation!$E$4+2,TRUE),\"<=\"&B177))/CostCalculation!$E$4)","v":0.94850000000000001},250025,{"$f":"IF((COUNTIF(INDIRECT(\"MonteCarlo!\"&CostCalculation!$N$10&3,TRUE):INDIRECT(\"MonteCarlo!\"&CostCalculation!$N$10&CostCalculation!$E$4+2,TRUE),\">\"&B177)-COUNTIF(INDIRECT(\"MonteCarlo!\"&CostCalculation!$N$10&3,TRUE):INDIRECT(\"MonteCarlo!\"&CostCalculation!$N$10&CostCalculation!$E$4+2,TRUE),\">\"&B178))/CostCalculation!$E$4=0,#N/A,(COUNTIF(INDIRECT(\"MonteCarlo!\"&CostCalculation!$N$10&3,TRUE):INDIRECT(\"MonteCarlo!\"&CostCalculation!$N$10&CostCalculation!$E$4+2,TRUE),\">\"&B177)-COUNTIF(INDIRECT(\"MonteCarlo!\"&CostCalculation!$N$10&3,TRUE):INDIRECT(\"MonteCarlo!\"&CostCalculation!$N$10&CostCalculation!$E$4+2,TRUE),\">\"&B178))/CostCalculation!$E$4)","v":{"$error":"#N/A"}}]
[0.51300000000000001,{"$f":"ROUND(INDIRECT(\"CostCalculation!D\"&CostCalculation!$O$10,TRUE)*A178,0)","v":251496},{"$f":"IF((COUNTIF(INDIRECT(\"MonteCarlo!\"&CostCalculation!$N$10&3,TRUE):INDIRECT(\"MonteCarlo!\"&CostCalculation!$N$10&CostCalculation!$E$4+2,TRUE),\"<=\"&B178))/CostCalculation!$E$4=0,#N/A,(COUNTIF(INDIRECT(\"MonteCarlo!\"&CostCalculation!$N$10&3,TRUE):INDIRECT(\"MonteCarlo!\"&CostCalculation!$N$10&CostCalculation!$E$4+2,TRUE),\"<=\"&B178))/CostCalculation!$E$4)","v":0.94850000000000001},251496,{"$f":"IF((COUNTIF(INDIRECT(\"MonteCarlo!\"&CostCalculation!$N$10&3,TRUE):INDIRECT(\"MonteCarlo!\"&CostCalculation!$N$10&CostCalculation!$E$4+2,TRUE),\">\"&B178)-COUNTIF(INDIRECT(\"MonteCarlo!\"&CostCalculation!$N$10&3,TRUE):INDIRECT(\"MonteCarlo!\"&CostCalculation!$N$10&CostCalculation!$E$4+2,TRUE),\">\"&B179))/CostCalculation!$E$4=0,#N/A,(COUNTIF(INDIRECT(\"MonteCarlo!\"&CostCalculation!$N$10&3,TRUE):INDIRECT(\"MonteCarlo!\"&CostCalculation!$N$10&CostCalculation!$E$4+2,TRUE),\">\"&B178)-COUNTIF(INDIRECT(\"MonteCarlo!\"&CostCalculation!$N$10&3,TRUE):INDIRECT(\"MonteCarlo!\"&CostCalculation!$N$10&CostCalculation!$E$4+2,TRUE),\">\"&B179))/CostCalculation!$E$4)","v":{"$error":"#N/A"}}]
[0.51600000000000001,{"$f":"ROUND(INDIRECT(\"CostCalculation!D\"&CostCalculation!$O$10,TRUE)*A179,0)","v":252966},{"$f":"IF((COUNTIF(INDIRECT(\"MonteCarlo!\"&CostCalculation!$N$10&3,TRUE):INDIRECT(\"MonteCarlo!\"&CostCalculation!$N$10&CostCalculation!$E$4+2,TRUE),\"<=\"&B179))/CostCalculation!$E$4=0,#N/A,(COUNTIF(INDIRECT(\"MonteCarlo!\"&CostCalculation!$N$10&3,TRUE):INDIRECT(\"MonteCarlo!\"&CostCalculation!$N$10&CostCalculation!$E$4+2,TRUE),\"<=\"&B179))/CostCalculation!$E$4)","v":0.94850000000000001},252966,{"$f":"IF((COUNTIF(INDIRECT(\"MonteCarlo!\"&CostCalculation!$N$10&3,TRUE):INDIRECT(\"MonteCarlo!\"&CostCalculation!$N$10&CostCalculation!$E$4+2,TRUE),\">\"&B179)-COUNTIF(INDIRECT(\"MonteCarlo!\"&CostCalculation!$N$10&3,TRUE):INDIRECT(\"MonteCarlo!\"&CostCalculation!$N$10&CostCalculation!$E$4+2,TRUE),\">\"&B180))/CostCalculation!$E$4=0,#N/A,(COUNTIF(INDIRECT(\"MonteCarlo!\"&CostCalculation!$N$10&3,TRUE):INDIRECT(\"MonteCarlo!\"&CostCalculation!$N$10&CostCalculation!$E$4+2,TRUE),\">\"&B179)-COUNTIF(INDIRECT(\"MonteCarlo!\"&CostCalculation!$N$10&3,TRUE):INDIRECT(\"MonteCarlo!\"&CostCalculation!$N$10&CostCalculation!$E$4+2,TRUE),\">\"&B180))/CostCalculation!$E$4)","v":{"$error":"#N/A"}}]
[0.51900000000000002,{"$f":"ROUND(INDIRECT(\"CostCalculation!D\"&CostCalculation!$O$10,TRUE)*A180,0)","v":254437},{"$f":"IF((COUNTIF(INDIRECT(\"MonteCarlo!\"&CostCalculation!$N$10&3,TRUE):INDIRECT(\"MonteCarlo!\"&CostCalculation!$N$10&CostCalculation!$E$4+2,TRUE),\"<=\"&B180))/CostCalculation!$E$4=0,#N/A,(COUNTIF(INDIRECT(\"MonteCarlo!\"&CostCalculation!$N$10&3,TRUE):INDIRECT(\"MonteCarlo!\"&CostCalculation!$N$10&CostCalculation!$E$4+2,TRUE),\"<=\"&B180))/CostCalculation!$E$4)","v":0.94850000000000001},254437,{"$f":"IF((COUNTIF(INDIRECT(\"MonteCarlo!\"&CostCalculation!$N$10&3,TRUE):INDIRECT(\"MonteCarlo!\"&CostCalculation!$N$10&CostCalculation!$E$4+2,TRUE),\">\"&B180)-COUNTIF(INDIRECT(\"MonteCarlo!\"&CostCalculation!$N$10&3,TRUE):INDIRECT(\"MonteCarlo!\"&CostCalculation!$N$10&CostCalculation!$E$4+2,TRUE),\">\"&B181))/CostCalculation!$E$4=0,#N/A,(COUNTIF(INDIRECT(\"MonteCarlo!\"&CostCalculation!$N$10&3,TRUE):INDIRECT(\"MonteCarlo!\"&CostCalculation!$N$10&CostCalculation!$E$4+2,TRUE),\">\"&B180)-COUNTIF(INDIRECT(\"MonteCarlo!\"&CostCalculation!$N$10&3,TRUE):INDIRECT(\"MonteCarlo!\"&CostCalculation!$N$10&CostCalculation!$E$4+2,TRUE),\">\"&B181))/CostCalculation!$E$4)","v":{"$error":"#N/A"}}]
[0.52200000000000002,{"$f":"ROUND(INDIRECT(\"CostCalculation!D\"&CostCalculation!$O$10,TRUE)*A181,0)","v":255908},{"$f":"IF((COUNTIF(INDIRECT(\"MonteCarlo!\"&CostCalculation!$N$10&3,TRUE):INDIRECT(\"MonteCarlo!\"&CostCalculation!$N$10&CostCalculation!$E$4+2,TRUE),\"<=\"&B181))/CostCalculation!$E$4=0,#N/A,(COUNTIF(INDIRECT(\"MonteCarlo!\"&CostCalculation!$N$10&3,TRUE):INDIRECT(\"MonteCarlo!\"&CostCalculation!$N$10&CostCalculation!$E$4+2,TRUE),\"<=\"&B181))/CostCalculation!$E$4)","v":0.94850000000000001},255908,{"$f":"IF((COUNTIF(INDIRECT(\"MonteCarlo!\"&CostCalculation!$N$10&3,TRUE):INDIRECT(\"MonteCarlo!\"&CostCalculation!$N$10&CostCalculation!$E$4+2,TRUE),\">\"&B181)-COUNTIF(INDIRECT(\"MonteCarlo!\"&CostCalculation!$N$10&3,TRUE):INDIRECT(\"MonteCarlo!\"&CostCalculation!$N$10&CostCalculation!$E$4+2,TRUE),\">\"&B182))/CostCalculation!$E$4=0,#N/A,(COUNTIF(INDIRECT(\"MonteCarlo!\"&CostCalculation!$N$10&3,TRUE):INDIRECT(\"MonteCarlo!\"&CostCalculation!$N$10&CostCalculation!$E$4+2,TRUE),\">\"&B181)-COUNTIF(INDIRECT(\"MonteCarlo!\"&CostCalculation!$N$10&3,TRUE):INDIRECT(\"MonteCarlo!\"&CostCalculation!$N$10&CostCalculation!$E$4+2,TRUE),\">\"&B182))/CostCalculation!$E$4)","v":{"$error":"#N/A"}}]
[0.52500000000000002,{"$f":"ROUND(INDIRECT(\"CostCalculation!D\"&CostCalculation!$O$10,TRUE)*A182,0)","v":257379},{"$f":"IF((COUNTIF(INDIRECT(\"MonteCarlo!\"&CostCalculation!$N$10&3,TRUE):INDIRECT(\"MonteCarlo!\"&CostCalculation!$N$10&CostCalculation!$E$4+2,TRUE),\"<=\"&B182))/CostCalculation!$E$4=0,#N/A,(COUNTIF(INDIRECT(\"MonteCarlo!\"&CostCalculation!$N$10&3,TRUE):INDIRECT(\"MonteCarlo!\"&CostCalculation!$N$10&CostCalculation!$E$4+2,TRUE),\"<=\"&B182))/CostCalculation!$E$4)","v":0.94850000000000001},257379,{"$f":"IF((COUNTIF(INDIRECT(\"MonteCarlo!\"&CostCalculation!$N$10&3,TRUE):INDIRECT(\"MonteCarlo!\"&CostCalculation!$N$10&CostCalculation!$E$4+2,TRUE),\">\"&B182)-COUNTIF(INDIRECT(\"MonteCarlo!\"&CostCalculation!$N$10&3,TRUE):INDIRECT(\"MonteCarlo!\"&CostCalculation!$N$10&CostCalculation!$E$4+2,TRUE),\">\"&B183))/CostCalculation!$E$4=0,#N/A,(COUNTIF(INDIRECT(\"MonteCarlo!\"&CostCalculation!$N$10&3,TRUE):INDIRECT(\"MonteCarlo!\"&CostCalculation!$N$10&CostCalculation!$E$4+2,TRUE),\">\"&B182)-COUNTIF(INDIRECT(\"MonteCarlo!\"&CostCalculation!$N$10&3,TRUE):INDIRECT(\"MonteCarlo!\"&CostCalculation!$N$10&CostCalculation!$E$4+2,TRUE),\">\"&B183))/CostCalculation!$E$4)","v":{"$error":"#N/A"}}]
[0.52800000000000002,{"$f":"ROUND(INDIRECT(\"CostCalculation!D\"&CostCalculation!$O$10,TRUE)*A183,0)","v":258849},{"$f":"IF((COUNTIF(INDIRECT(\"MonteCarlo!\"&CostCalculation!$N$10&3,TRUE):INDIRECT(\"MonteCarlo!\"&CostCalculation!$N$10&CostCalculation!$E$4+2,TRUE),\"<=\"&B183))/CostCalculation!$E$4=0,#N/A,(COUNTIF(INDIRECT(\"MonteCarlo!\"&CostCalculation!$N$10&3,TRUE):INDIRECT(\"MonteCarlo!\"&CostCalculation!$N$10&CostCalculation!$E$4+2,TRUE),\"<=\"&B183))/CostCalculation!$E$4)","v":0.94850000000000001},258849,{"$f":"IF((COUNTIF(INDIRECT(\"MonteCarlo!\"&CostCalculation!$N$10&3,TRUE):INDIRECT(\"MonteCarlo!\"&CostCalculation!$N$10&CostCalculation!$E$4+2,TRUE),\">\"&B183)-COUNTIF(INDIRECT(\"MonteCarlo!\"&CostCalculation!$N$10&3,TRUE):INDIRECT(\"MonteCarlo!\"&CostCalculation!$N$10&CostCalculation!$E$4+2,TRUE),\">\"&B184))/CostCalculation!$E$4=0,#N/A,(COUNTIF(INDIRECT(\"MonteCarlo!\"&CostCalculation!$N$10&3,TRUE):INDIRECT(\"MonteCarlo!\"&CostCalculation!$N$10&CostCalculation!$E$4+2,TRUE),\">\"&B183)-COUNTIF(INDIRECT(\"MonteCarlo!\"&CostCalculation!$N$10&3,TRUE):INDIRECT(\"MonteCarlo!\"&CostCalculation!$N$10&CostCalculation!$E$4+2,TRUE),\">\"&B184))/CostCalculation!$E$4)","v":{"$error":"#N/A"}}]
[0.53100000000000003,{"$f":"ROUND(INDIRECT(\"CostCalculation!D\"&CostCalculation!$O$10,TRUE)*A184,0)","v":260320},{"$f":"IF((COUNTIF(INDIRECT(\"MonteCarlo!\"&CostCalculation!$N$10&3,TRUE):INDIRECT(\"MonteCarlo!\"&CostCalculation!$N$10&CostCalculation!$E$4+2,TRUE),\"<=\"&B184))/CostCalculation!$E$4=0,#N/A,(COUNTIF(INDIRECT(\"MonteCarlo!\"&CostCalculation!$N$10&3,TRUE):INDIRECT(\"MonteCarlo!\"&CostCalculation!$N$10&CostCalculation!$E$4+2,TRUE),\"<=\"&B184))/CostCalculation!$E$4)","v":0.94850000000000001},260320,{"$f":"IF((COUNTIF(INDIRECT(\"MonteCarlo!\"&CostCalculation!$N$10&3,TRUE):INDIRECT(\"MonteCarlo!\"&CostCalculation!$N$10&CostCalculation!$E$4+2,TRUE),\">\"&B184)-COUNTIF(INDIRECT(\"MonteCarlo!\"&CostCalculation!$N$10&3,TRUE):INDIRECT(\"MonteCarlo!\"&CostCalculation!$N$10&CostCalculation!$E$4+2,TRUE),\">\"&B185))/CostCalculation!$E$4=0,#N/A,(COUNTIF(INDIRECT(\"MonteCarlo!\"&CostCalculation!$N$10&3,TRUE):INDIRECT(\"MonteCarlo!\"&CostCalculation!$N$10&CostCalculation!$E$4+2,TRUE),\">\"&B184)-COUNTIF(INDIRECT(\"MonteCarlo!\"&CostCalculation!$N$10&3,TRUE):INDIRECT(\"MonteCarlo!\"&CostCalculation!$N$10&CostCalculation!$E$4+2,TRUE),\">\"&B185))/CostCalculation!$E$4)","v":2.9499999999999998E-2}]
[0.53400000000000003,{"$f":"ROUND(INDIRECT(\"CostCalculation!D\"&CostCalculation!$O$10,TRUE)*A185,0)","v":261791},{"$f":"IF((COUNTIF(INDIRECT(\"MonteCarlo!\"&CostCalculation!$N$10&3,TRUE):INDIRECT(\"MonteCarlo!\"&CostCalculation!$N$10&CostCalculation!$E$4+2,TRUE),\"<=\"&B185))/CostCalculation!$E$4=0,#N/A,(COUNTIF(INDIRECT(\"MonteCarlo!\"&CostCalculation!$N$10&3,TRUE):INDIRECT(\"MonteCarlo!\"&CostCalculation!$N$10&CostCalculation!$E$4+2,TRUE),\"<=\"&B185))/CostCalculation!$E$4)","v":0.97799999999999998},261791,{"$f":"IF((COUNTIF(INDIRECT(\"MonteCarlo!\"&CostCalculation!$N$10&3,TRUE):INDIRECT(\"MonteCarlo!\"&CostCalculation!$N$10&CostCalculation!$E$4+2,TRUE),\">\"&B185)-COUNTIF(INDIRECT(\"MonteCarlo!\"&CostCalculation!$N$10&3,TRUE):INDIRECT(\"MonteCarlo!\"&CostCalculation!$N$10&CostCalculation!$E$4+2,TRUE),\">\"&B186))/CostCalculation!$E$4=0,#N/A,(COUNTIF(INDIRECT(\"MonteCarlo!\"&CostCalculation!$N$10&3,TRUE):INDIRECT(\"MonteCarlo!\"&CostCalculation!$N$10&CostCalculation!$E$4+2,TRUE),\">\"&B185)-COUNTIF(INDIRECT(\"MonteCarlo!\"&CostCalculation!$N$10&3,TRUE):INDIRECT(\"MonteCarlo!\"&CostCalculation!$N$10&CostCalculation!$E$4+2,TRUE),\">\"&B186))/CostCalculation!$E$4)","v":{"$error":"#N/A"}}]
[0.53700000000000003,{"$f":"ROUND(INDIRECT(\"CostCalculation!D\"&CostCalculation!$O$10,TRUE)*A186,0)","v":263262},{"$f":"IF((COUNTIF(INDIRECT(\"MonteCarlo!\"&CostCalculation!$N$10&3,TRUE):INDIRECT(\"MonteCarlo!\"&CostCalculation!$N$10&CostCalculation!$E$4+2,TRUE),\"<=\"&B186))/CostCalculation!$E$4=0,#N/A,(COUNTIF(INDIRECT(\"MonteCarlo!\"&CostCalculation!$N$10&3,TRUE):INDIRECT(\"MonteCarlo!\"&CostCalculation!$N$10&CostCalculation!$E$4+2,TRUE),\"<=\"&B186))/CostCalculation!$E$4)","v":0.97799999999999998},263262,{"$f":"IF((COUNTIF(INDIRECT(\"MonteCarlo!\"&CostCalculation!$N$10&3,TRUE):INDIRECT(\"MonteCarlo!\"&CostCalculation!$N$10&CostCalculation!$E$4+2,TRUE),\">\"&B186)-COUNTIF(INDIRECT(\"MonteCarlo!\"&CostCalculation!$N$10&3,TRUE):INDIRECT(\"MonteCarlo!\"&CostCalculation!$N$10&CostCalculation!$E$4+2,TRUE),\">\"&B187))/CostCalculation!$E$4=0,#N/A,(COUNTIF(INDIRECT(\"MonteCarlo!\"&CostCalculation!$N$10&3,TRUE):INDIRECT(\"MonteCarlo!\"&CostCalculation!$N$10&CostCalculation!$E$4+2,TRUE),\">\"&B186)-COUNTIF(INDIRECT(\"MonteCarlo!\"&CostCalculation!$N$10&3,TRUE):INDIRECT(\"MonteCarlo!\"&CostCalculation!$N$10&CostCalculation!$E$4+2,TRUE),\">\"&B187))/CostCalculation!$E$4)","v":{"$error":"#N/A"}}]
[0.54,{"$f":"ROUND(INDIRECT(\"CostCalculation!D\"&CostCalculation!$O$10,TRUE)*A187,0)","v":264732},{"$f":"IF((COUNTIF(INDIRECT(\"MonteCarlo!\"&CostCalculation!$N$10&3,TRUE):INDIRECT(\"MonteCarlo!\"&CostCalculation!$N$10&CostCalculation!$E$4+2,TRUE),\"<=\"&B187))/CostCalculation!$E$4=0,#N/A,(COUNTIF(INDIRECT(\"MonteCarlo!\"&CostCalculation!$N$10&3,TRUE):INDIRECT(\"MonteCarlo!\"&CostCalculation!$N$10&CostCalculation!$E$4+2,TRUE),\"<=\"&B187))/CostCalculation!$E$4)","v":0.97799999999999998},264732,{"$f":"IF((COUNTIF(INDIRECT(\"MonteCarlo!\"&CostCalculation!$N$10&3,TRUE):INDIRECT(\"MonteCarlo!\"&CostCalculation!$N$10&CostCalculation!$E$4+2,TRUE),\">\"&B187)-COUNTIF(INDIRECT(\"MonteCarlo!\"&CostCalculation!$N$10&3,TRUE):INDIRECT(\"MonteCarlo!\"&CostCalculation!$N$10&CostCalculation!$E$4+2,TRUE),\">\"&B188))/CostCalculation!$E$4=0,#N/A,(COUNTIF(INDIRECT(\"MonteCarlo!\"&CostCalculation!$N$10&3,TRUE):INDIRECT(\"MonteCarlo!\"&CostCalculation!$N$10&CostCalculation!$E$4+2,TRUE),\">\"&B187)-COUNTIF(INDIRECT(\"MonteCarlo!\"&CostCalculation!$N$10&3,TRUE):INDIRECT(\"MonteCarlo!\"&CostCalculation!$N$10&CostCalculation!$E$4+2,TRUE),\">\"&B188))/CostCalculation!$E$4)","v":{"$error":"#N/A"}}]
[0.54300000000000004,{"$f":"ROUND(INDIRECT(\"CostCalculation!D\"&CostCalculation!$O$10,TRUE)*A188,0)","v":266203},{"$f":"IF((COUNTIF(INDIRECT(\"MonteCarlo!\"&CostCalculation!$N$10&3,TRUE):INDIRECT(\"MonteCarlo!\"&CostCalculation!$N$10&CostCalculation!$E$4+2,TRUE),\"<=\"&B188))/CostCalculation!$E$4=0,#N/A,(COUNTIF(INDIRECT(\"MonteCarlo!\"&CostCalculation!$N$10&3,TRUE):INDIRECT(\"MonteCarlo!\"&CostCalculation!$N$10&CostCalculation!$E$4+2,TRUE),\"<=\"&B188))/CostCalculation!$E$4)","v":0.97799999999999998},266203,{"$f":"IF((COUNTIF(INDIRECT(\"MonteCarlo!\"&CostCalculation!$N$10&3,TRUE):INDIRECT(\"MonteCarlo!\"&CostCalculation!$N$10&CostCalculation!$E$4+2,TRUE),\">\"&B188)-COUNTIF(INDIRECT(\"MonteCarlo!\"&CostCalculation!$N$10&3,TRUE):INDIRECT(\"MonteCarlo!\"&CostCalculation!$N$10&CostCalculation!$E$4+2,TRUE),\">\"&B189))/CostCalculation!$E$4=0,#N/A,(COUNTIF(INDIRECT(\"MonteCarlo!\"&CostCalculation!$N$10&3,TRUE):INDIRECT(\"MonteCarlo!\"&CostCalculation!$N$10&CostCalculation!$E$4+2,TRUE),\">\"&B188)-COUNTIF(INDIRECT(\"MonteCarlo!\"&CostCalculation!$N$10&3,TRUE):INDIRECT(\"MonteCarlo!\"&CostCalculation!$N$10&CostCalculation!$E$4+2,TRUE),\">\"&B189))/CostCalculation!$E$4)","v":{"$error":"#N/A"}}]
[0.54600000000000004,{"$f":"ROUND(INDIRECT(\"CostCalculation!D\"&CostCalculation!$O$10,TRUE)*A189,0)","v":267674},{"$f":"IF((COUNTIF(INDIRECT(\"MonteCarlo!\"&CostCalculation!$N$10&3,TRUE):INDIRECT(\"MonteCarlo!\"&CostCalculation!$N$10&CostCalculation!$E$4+2,TRUE),\"<=\"&B189))/CostCalculation!$E$4=0,#N/A,(COUNTIF(INDIRECT(\"MonteCarlo!\"&CostCalculation!$N$10&3,TRUE):INDIRECT(\"MonteCarlo!\"&CostCalculation!$N$10&CostCalculation!$E$4+2,TRUE),\"<=\"&B189))/CostCalculation!$E$4)","v":0.97799999999999998},267674,{"$f":"IF((COUNTIF(INDIRECT(\"MonteCarlo!\"&CostCalculation!$N$10&3,TRUE):INDIRECT(\"MonteCarlo!\"&CostCalculation!$N$10&CostCalculation!$E$4+2,TRUE),\">\"&B189)-COUNTIF(INDIRECT(\"MonteCarlo!\"&CostCalculation!$N$10&3,TRUE):INDIRECT(\"MonteCarlo!\"&CostCalculation!$N$10&CostCalculation!$E$4+2,TRUE),\">\"&B190))/CostCalculation!$E$4=0,#N/A,(COUNTIF(INDIRECT(\"MonteCarlo!\"&CostCalculation!$N$10&3,TRUE):INDIRECT(\"MonteCarlo!\"&CostCalculation!$N$10&CostCalculation!$E$4+2,TRUE),\">\"&B189)-COUNTIF(INDIRECT(\"MonteCarlo!\"&CostCalculation!$N$10&3,TRUE):INDIRECT(\"MonteCarlo!\"&CostCalculation!$N$10&CostCalculation!$E$4+2,TRUE),\">\"&B190))/CostCalculation!$E$4)","v":{"$error":"#N/A"}}]
[0.54900000000000004,{"$f":"ROUND(INDIRECT(\"CostCalculation!D\"&CostCalculation!$O$10,TRUE)*A190,0)","v":269145},{"$f":"IF((COUNTIF(INDIRECT(\"MonteCarlo!\"&CostCalculation!$N$10&3,TRUE):INDIRECT(\"MonteCarlo!\"&CostCalculation!$N$10&CostCalculation!$E$4+2,TRUE),\"<=\"&B190))/CostCalculation!$E$4=0,#N/A,(COUNTIF(INDIRECT(\"MonteCarlo!\"&CostCalculation!$N$10&3,TRUE):INDIRECT(\"MonteCarlo!\"&CostCalculation!$N$10&CostCalculation!$E$4+2,TRUE),\"<=\"&B190))/CostCalculation!$E$4)","v":0.97799999999999998},269145,{"$f":"IF((COUNTIF(INDIRECT(\"MonteCarlo!\"&CostCalculation!$N$10&3,TRUE):INDIRECT(\"MonteCarlo!\"&CostCalculation!$N$10&CostCalculation!$E$4+2,TRUE),\">\"&B190)-COUNTIF(INDIRECT(\"MonteCarlo!\"&CostCalculation!$N$10&3,TRUE):INDIRECT(\"MonteCarlo!\"&CostCalculation!$N$10&CostCalculation!$E$4+2,TRUE),\">\"&B191))/CostCalculation!$E$4=0,#N/A,(COUNTIF(INDIRECT(\"MonteCarlo!\"&CostCalculation!$N$10&3,TRUE):INDIRECT(\"MonteCarlo!\"&CostCalculation!$N$10&CostCalculation!$E$4+2,TRUE),\">\"&B190)-COUNTIF(INDIRECT(\"MonteCarlo!\"&CostCalculation!$N$10&3,TRUE):INDIRECT(\"MonteCarlo!\"&CostCalculation!$N$10&CostCalculation!$E$4+2,TRUE),\">\"&B191))/CostCalculation!$E$4)","v":{"$error":"#N/A"}}]
[0.55200000000000005,{"$f":"ROUND(INDIRECT(\"CostCalculation!D\"&CostCalculation!$O$10,TRUE)*A191,0)","v":270615},{"$f":"IF((COUNTIF(INDIRECT(\"MonteCarlo!\"&CostCalculation!$N$10&3,TRUE):INDIRECT(\"MonteCarlo!\"&CostCalculation!$N$10&CostCalculation!$E$4+2,TRUE),\"<=\"&B191))/CostCalculation!$E$4=0,#N/A,(COUNTIF(INDIRECT(\"MonteCarlo!\"&CostCalculation!$N$10&3,TRUE):INDIRECT(\"MonteCarlo!\"&CostCalculation!$N$10&CostCalculation!$E$4+2,TRUE),\"<=\"&B191))/CostCalculation!$E$4)","v":0.97799999999999998},270615,{"$f":"IF((COUNTIF(INDIRECT(\"MonteCarlo!\"&CostCalculation!$N$10&3,TRUE):INDIRECT(\"MonteCarlo!\"&CostCalculation!$N$10&CostCalculation!$E$4+2,TRUE),\">\"&B191)-COUNTIF(INDIRECT(\"MonteCarlo!\"&CostCalculation!$N$10&3,TRUE):INDIRECT(\"MonteCarlo!\"&CostCalculation!$N$10&CostCalculation!$E$4+2,TRUE),\">\"&B192))/CostCalculation!$E$4=0,#N/A,(COUNTIF(INDIRECT(\"MonteCarlo!\"&CostCalculation!$N$10&3,TRUE):INDIRECT(\"MonteCarlo!\"&CostCalculation!$N$10&CostCalculation!$E$4+2,TRUE),\">\"&B191)-COUNTIF(INDIRECT(\"MonteCarlo!\"&CostCalculation!$N$10&3,TRUE):INDIRECT(\"MonteCarlo!\"&CostCalculation!$N$10&CostCalculation!$E$4+2,TRUE),\">\"&B192))/CostCalculation!$E$4)","v":{"$error":"#N/A"}}]
[0.55500000000000005,{"$f":"ROUND(INDIRECT(\"CostCalculation!D\"&CostCalculation!$O$10,TRUE)*A192,0)","v":272086},{"$f":"IF((COUNTIF(INDIRECT(\"MonteCarlo!\"&CostCalculation!$N$10&3,TRUE):INDIRECT(\"MonteCarlo!\"&CostCalculation!$N$10&CostCalculation!$E$4+2,TRUE),\"<=\"&B192))/CostCalculation!$E$4=0,#N/A,(COUNTIF(INDIRECT(\"MonteCarlo!\"&CostCalculation!$N$10&3,TRUE):INDIRECT(\"MonteCarlo!\"&CostCalculation!$N$10&CostCalculation!$E$4+2,TRUE),\"<=\"&B192))/CostCalculation!$E$4)","v":0.97799999999999998},272086,{"$f":"IF((COUNTIF(INDIRECT(\"MonteCarlo!\"&CostCalculation!$N$10&3,TRUE):INDIRECT(\"MonteCarlo!\"&CostCalculation!$N$10&CostCalculation!$E$4+2,TRUE),\">\"&B192)-COUNTIF(INDIRECT(\"MonteCarlo!\"&CostCalculation!$N$10&3,TRUE):INDIRECT(\"MonteCarlo!\"&CostCalculation!$N$10&CostCalculation!$E$4+2,TRUE),\">\"&B193))/CostCalculation!$E$4=0,#N/A,(COUNTIF(INDIRECT(\"MonteCarlo!\"&CostCalculation!$N$10&3,TRUE):INDIRECT(\"MonteCarlo!\"&CostCalculation!$N$10&CostCalculation!$E$4+2,TRUE),\">\"&B192)-COUNTIF(INDIRECT(\"MonteCarlo!\"&CostCalculation!$N$10&3,TRUE):INDIRECT(\"MonteCarlo!\"&CostCalculation!$N$10&CostCalculation!$E$4+2,TRUE),\">\"&B193))/CostCalculation!$E$4)","v":{"$error":"#N/A"}}]
[0.55800000000000005,{"$f":"ROUND(INDIRECT(\"CostCalculation!D\"&CostCalculation!$O$10,TRUE)*A193,0)","v":273557},{"$f":"IF((COUNTIF(INDIRECT(\"MonteCarlo!\"&CostCalculation!$N$10&3,TRUE):INDIRECT(\"MonteCarlo!\"&CostCalculation!$N$10&CostCalculation!$E$4+2,TRUE),\"<=\"&B193))/CostCalculation!$E$4=0,#N/A,(COUNTIF(INDIRECT(\"MonteCarlo!\"&CostCalculation!$N$10&3,TRUE):INDIRECT(\"MonteCarlo!\"&CostCalculation!$N$10&CostCalculation!$E$4+2,TRUE),\"<=\"&B193))/CostCalculation!$E$4)","v":0.97799999999999998},273557,{"$f":"IF((COUNTIF(INDIRECT(\"MonteCarlo!\"&CostCalculation!$N$10&3,TRUE):INDIRECT(\"MonteCarlo!\"&CostCalculation!$N$10&CostCalculation!$E$4+2,TRUE),\">\"&B193)-COUNTIF(INDIRECT(\"MonteCarlo!\"&CostCalculation!$N$10&3,TRUE):INDIRECT(\"MonteCarlo!\"&CostCalculation!$N$10&CostCalculation!$E$4+2,TRUE),\">\"&B194))/CostCalculation!$E$4=0,#N/A,(COUNTIF(INDIRECT(\"MonteCarlo!\"&CostCalculation!$N$10&3,TRUE):INDIRECT(\"MonteCarlo!\"&CostCalculation!$N$10&CostCalculation!$E$4+2,TRUE),\">\"&B193)-COUNTIF(INDIRECT(\"MonteCarlo!\"&CostCalculation!$N$10&3,TRUE):INDIRECT(\"MonteCarlo!\"&CostCalculation!$N$10&CostCalculation!$E$4+2,TRUE),\">\"&B194))/CostCalculation!$E$4)","v":{"$error":"#N/A"}}]
[0.56100000000000005,{"$f":"ROUND(INDIRECT(\"CostCalculation!D\"&CostCalculation!$O$10,TRUE)*A194,0)","v":275027},{"$f":"IF((COUNTIF(INDIRECT(\"MonteCarlo!\"&CostCalculation!$N$10&3,TRUE):INDIRECT(\"MonteCarlo!\"&CostCalculation!$N$10&CostCalculation!$E$4+2,TRUE),\"<=\"&B194))/CostCalculation!$E$4=0,#N/A,(COUNTIF(INDIRECT(\"MonteCarlo!\"&CostCalculation!$N$10&3,TRUE):INDIRECT(\"MonteCarlo!\"&CostCalculation!$N$10&CostCalculation!$E$4+2,TRUE),\"<=\"&B194))/CostCalculation!$E$4)","v":0.97799999999999998},275027,{"$f":"IF((COUNTIF(INDIRECT(\"MonteCarlo!\"&CostCalculation!$N$10&3,TRUE):INDIRECT(\"MonteCarlo!\"&CostCalculation!$N$10&CostCalculation!$E$4+2,TRUE),\">\"&B194)-COUNTIF(INDIRECT(\"MonteCarlo!\"&CostCalculation!$N$10&3,TRUE):INDIRECT(\"MonteCarlo!\"&CostCalculation!$N$10&CostCalculation!$E$4+2,TRUE),\">\"&B195))/CostCalculation!$E$4=0,#N/A,(COUNTIF(INDIRECT(\"MonteCarlo!\"&CostCalculation!$N$10&3,TRUE):INDIRECT(\"MonteCarlo!\"&CostCalculation!$N$10&CostCalculation!$E$4+2,TRUE),\">\"&B194)-COUNTIF(INDIRECT(\"MonteCarlo!\"&CostCalculation!$N$10&3,TRUE):INDIRECT(\"MonteCarlo!\"&CostCalculation!$N$10&CostCalculation!$E$4+2,TRUE),\">\"&B195))/CostCalculation!$E$4)","v":{"$error":"#N/A"}}]
[0.56399999999999995,{"$f":"ROUND(INDIRECT(\"CostCalculation!D\"&CostCalculation!$O$10,TRUE)*A195,0)","v":276498},{"$f":"IF((COUNTIF(INDIRECT(\"MonteCarlo!\"&CostCalculation!$N$10&3,TRUE):INDIRECT(\"MonteCarlo!\"&CostCalculation!$N$10&CostCalculation!$E$4+2,TRUE),\"<=\"&B195))/CostCalculation!$E$4=0,#N/A,(COUNTIF(INDIRECT(\"MonteCarlo!\"&CostCalculation!$N$10&3,TRUE):INDIRECT(\"MonteCarlo!\"&CostCalculation!$N$10&CostCalculation!$E$4+2,TRUE),\"<=\"&B195))/CostCalculation!$E$4)","v":0.97799999999999998},276498,{"$f":"IF((COUNTIF(INDIRECT(\"MonteCarlo!\"&CostCalculation!$N$10&3,TRUE):INDIRECT(\"MonteCarlo!\"&CostCalculation!$N$10&CostCalculation!$E$4+2,TRUE),\">\"&B195)-COUNTIF(INDIRECT(\"MonteCarlo!\"&CostCalculation!$N$10&3,TRUE):INDIRECT(\"MonteCarlo!\"&CostCalculation!$N$10&CostCalculation!$E$4+2,TRUE),\">\"&B196))/CostCalculation!$E$4=0,#N/A,(COUNTIF(INDIRECT(\"MonteCarlo!\"&CostCalculation!$N$10&3,TRUE):INDIRECT(\"MonteCarlo!\"&CostCalculation!$N$10&CostCalculation!$E$4+2,TRUE),\">\"&B195)-COUNTIF(INDIRECT(\"MonteCarlo!\"&CostCalculation!$N$10&3,TRUE):INDIRECT(\"MonteCarlo!\"&CostCalculation!$N$10&CostCalculation!$E$4+2,TRUE),\">\"&B196))/CostCalculation!$E$4)","v":{"$error":"#N/A"}}]
[0.56699999999999995,{"$f":"ROUND(INDIRECT(\"CostCalculation!D\"&CostCalculation!$O$10,TRUE)*A196,0)","v":277969},{"$f":"IF((COUNTIF(INDIRECT(\"MonteCarlo!\"&CostCalculation!$N$10&3,TRUE):INDIRECT(\"MonteCarlo!\"&CostCalculation!$N$10&CostCalculation!$E$4+2,TRUE),\"<=\"&B196))/CostCalculation!$E$4=0,#N/A,(COUNTIF(INDIRECT(\"MonteCarlo!\"&CostCalculation!$N$10&3,TRUE):INDIRECT(\"MonteCarlo!\"&CostCalculation!$N$10&CostCalculation!$E$4+2,TRUE),\"<=\"&B196))/CostCalculation!$E$4)","v":0.97799999999999998},277969,{"$f":"IF((COUNTIF(INDIRECT(\"MonteCarlo!\"&CostCalculation!$N$10&3,TRUE):INDIRECT(\"MonteCarlo!\"&CostCalculation!$N$10&CostCalculation!$E$4+2,TRUE),\">\"&B196)-COUNTIF(INDIRECT(\"MonteCarlo!\"&CostCalculation!$N$10&3,TRUE):INDIRECT(\"MonteCarlo!\"&CostCalculation!$N$10&CostCalculation!$E$4+2,TRUE),\">\"&B197))/CostCalculation!$E$4=0,#N/A,(COUNTIF(INDIRECT(\"MonteCarlo!\"&CostCalculation!$N$10&3,TRUE):INDIRECT(\"MonteCarlo!\"&CostCalculation!$N$10&CostCalculation!$E$4+2,TRUE),\">\"&B196)-COUNTIF(INDIRECT(\"MonteCarlo!\"&CostCalculation!$N$10&3,TRUE):INDIRECT(\"MonteCarlo!\"&CostCalculation!$N$10&CostCalculation!$E$4+2,TRUE),\">\"&B197))/CostCalculation!$E$4)","v":{"$error":"#N/A"}}]
[0.56999999999999995,{"$f":"ROUND(INDIRECT(\"CostCalculation!D\"&CostCalculation!$O$10,TRUE)*A197,0)","v":279440},{"$f":"IF((COUNTIF(INDIRECT(\"MonteCarlo!\"&CostCalculation!$N$10&3,TRUE):INDIRECT(\"MonteCarlo!\"&CostCalculation!$N$10&CostCalculation!$E$4+2,TRUE),\"<=\"&B197))/CostCalculation!$E$4=0,#N/A,(COUNTIF(INDIRECT(\"MonteCarlo!\"&CostCalculation!$N$10&3,TRUE):INDIRECT(\"MonteCarlo!\"&CostCalculation!$N$10&CostCalculation!$E$4+2,TRUE),\"<=\"&B197))/CostCalculation!$E$4)","v":0.97799999999999998},279440,{"$f":"IF((COUNTIF(INDIRECT(\"MonteCarlo!\"&CostCalculation!$N$10&3,TRUE):INDIRECT(\"MonteCarlo!\"&CostCalculation!$N$10&CostCalculation!$E$4+2,TRUE),\">\"&B197)-COUNTIF(INDIRECT(\"MonteCarlo!\"&CostCalculation!$N$10&3,TRUE):INDIRECT(\"MonteCarlo!\"&CostCalculation!$N$10&CostCalculation!$E$4+2,TRUE),\">\"&B198))/CostCalculation!$E$4=0,#N/A,(COUNTIF(INDIRECT(\"MonteCarlo!\"&CostCalculation!$N$10&3,TRUE):INDIRECT(\"MonteCarlo!\"&CostCalculation!$N$10&CostCalculation!$E$4+2,TRUE),\">\"&B197)-COUNTIF(INDIRECT(\"MonteCarlo!\"&CostCalculation!$N$10&3,TRUE):INDIRECT(\"MonteCarlo!\"&CostCalculation!$N$10&CostCalculation!$E$4+2,TRUE),\">\"&B198))/CostCalculation!$E$4)","v":{"$error":"#N/A"}}]
[0.57299999999999995,{"$f":"ROUND(INDIRECT(\"CostCalculation!D\"&CostCalculation!$O$10,TRUE)*A198,0)","v":280910},{"$f":"IF((COUNTIF(INDIRECT(\"MonteCarlo!\"&CostCalculation!$N$10&3,TRUE):INDIRECT(\"MonteCarlo!\"&CostCalculation!$N$10&CostCalculation!$E$4+2,TRUE),\"<=\"&B198))/CostCalculation!$E$4=0,#N/A,(COUNTIF(INDIRECT(\"MonteCarlo!\"&CostCalculation!$N$10&3,TRUE):INDIRECT(\"MonteCarlo!\"&CostCalculation!$N$10&CostCalculation!$E$4+2,TRUE),\"<=\"&B198))/CostCalculation!$E$4)","v":0.97799999999999998},280910,{"$f":"IF((COUNTIF(INDIRECT(\"MonteCarlo!\"&CostCalculation!$N$10&3,TRUE):INDIRECT(\"MonteCarlo!\"&CostCalculation!$N$10&CostCalculation!$E$4+2,TRUE),\">\"&B198)-COUNTIF(INDIRECT(\"MonteCarlo!\"&CostCalculation!$N$10&3,TRUE):INDIRECT(\"MonteCarlo!\"&CostCalculation!$N$10&CostCalculation!$E$4+2,TRUE),\">\"&B199))/CostCalculation!$E$4=0,#N/A,(COUNTIF(INDIRECT(\"MonteCarlo!\"&CostCalculation!$N$10&3,TRUE):INDIRECT(\"MonteCarlo!\"&CostCalculation!$N$10&CostCalculation!$E$4+2,TRUE),\">\"&B198)-COUNTIF(INDIRECT(\"MonteCarlo!\"&CostCalculation!$N$10&3,TRUE):INDIRECT(\"MonteCarlo!\"&CostCalculation!$N$10&CostCalculation!$E$4+2,TRUE),\">\"&B199))/CostCalculation!$E$4)","v":{"$error":"#N/A"}}]
[0.57599999999999996,{"$f":"ROUND(INDIRECT(\"CostCalculation!D\"&CostCalculation!$O$10,TRUE)*A199,0)","v":282381},{"$f":"IF((COUNTIF(INDIRECT(\"MonteCarlo!\"&CostCalculation!$N$10&3,TRUE):INDIRECT(\"MonteCarlo!\"&CostCalculation!$N$10&CostCalculation!$E$4+2,TRUE),\"<=\"&B199))/CostCalculation!$E$4=0,#N/A,(COUNTIF(INDIRECT(\"MonteCarlo!\"&CostCalculation!$N$10&3,TRUE):INDIRECT(\"MonteCarlo!\"&CostCalculation!$N$10&CostCalculation!$E$4+2,TRUE),\"<=\"&B199))/CostCalculation!$E$4)","v":0.97799999999999998},282381,{"$f":"IF((COUNTIF(INDIRECT(\"MonteCarlo!\"&CostCalculation!$N$10&3,TRUE):INDIRECT(\"MonteCarlo!\"&CostCalculation!$N$10&CostCalculation!$E$4+2,TRUE),\">\"&B199)-COUNTIF(INDIRECT(\"MonteCarlo!\"&CostCalculation!$N$10&3,TRUE):INDIRECT(\"MonteCarlo!\"&CostCalculation!$N$10&CostCalculation!$E$4+2,TRUE),\">\"&B200))/CostCalculation!$E$4=0,#N/A,(COUNTIF(INDIRECT(\"MonteCarlo!\"&CostCalculation!$N$10&3,TRUE):INDIRECT(\"MonteCarlo!\"&CostCalculation!$N$10&CostCalculation!$E$4+2,TRUE),\">\"&B199)-COUNTIF(INDIRECT(\"MonteCarlo!\"&CostCalculation!$N$10&3,TRUE):INDIRECT(\"MonteCarlo!\"&CostCalculation!$N$10&CostCalculation!$E$4+2,TRUE),\">\"&B200))/CostCalculation!$E$4)","v":{"$error":"#N/A"}}]
[0.57899999999999996,{"$f":"ROUND(INDIRECT(\"CostCalculation!D\"&CostCalculation!$O$10,TRUE)*A200,0)","v":283852},{"$f":"IF((COUNTIF(INDIRECT(\"MonteCarlo!\"&CostCalculation!$N$10&3,TRUE):INDIRECT(\"MonteCarlo!\"&CostCalculation!$N$10&CostCalculation!$E$4+2,TRUE),\"<=\"&B200))/CostCalculation!$E$4=0,#N/A,(COUNTIF(INDIRECT(\"MonteCarlo!\"&CostCalculation!$N$10&3,TRUE):INDIRECT(\"MonteCarlo!\"&CostCalculation!$N$10&CostCalculation!$E$4+2,TRUE),\"<=\"&B200))/CostCalculation!$E$4)","v":0.97799999999999998},{"$f":"B200","v":283852},{"$f":"IF((COUNTIF(INDIRECT(\"MonteCarlo!\"&CostCalculation!$N$10&3,TRUE):INDIRECT(\"MonteCarlo!\"&CostCalculation!$N$10&CostCalculation!$E$4+2,TRUE),\">\"&B200)-COUNTIF(INDIRECT(\"MonteCarlo!\"&CostCalculation!$N$10&3,TRUE):INDIRECT(\"MonteCarlo!\"&CostCalculation!$N$10&CostCalculation!$E$4+2,TRUE),\">\"&B201))/CostCalculation!$E$4=0,#N/A,(COUNTIF(INDIRECT(\"MonteCarlo!\"&CostCalculation!$N$10&3,TRUE):INDIRECT(\"MonteCarlo!\"&CostCalculation!$N$10&CostCalculation!$E$4+2,TRUE),\">\"&B200)-COUNTIF(INDIRECT(\"MonteCarlo!\"&CostCalculation!$N$10&3,TRUE):INDIRECT(\"MonteCarlo!\"&CostCalculation!$N$10&CostCalculation!$E$4+2,TRUE),\">\"&B201))/CostCalculation!$E$4)","v":{"$error":"#N/A"}}]
[0.58199999999999996,{"$f":"ROUND(INDIRECT(\"CostCalculation!D\"&CostCalculation!$O$10,TRUE)*A201,0)","v":285323},{"$f":"IF((COUNTIF(INDIRECT(\"MonteCarlo!\"&CostCalculation!$N$10&3,TRUE):INDIRECT(\"MonteCarlo!\"&CostCalculation!$N$10&CostCalculation!$E$4+2,TRUE),\"<=\"&B201))/CostCalculation!$E$4=0,#N/A,(COUNTIF(INDIRECT(\"MonteCarlo!\"&CostCalculation!$N$10&3,TRUE):INDIRECT(\"MonteCarlo!\"&CostCalculation!$N$10&CostCalculation!$E$4+2,TRUE),\"<=\"&B201))/CostCalculation!$E$4)","v":0.97799999999999998},285323,{"$f":"IF((COUNTIF(INDIRECT(\"MonteCarlo!\"&CostCalculation!$N$10&3,TRUE):INDIRECT(\"MonteCarlo!\"&CostCalculation!$N$10&CostCalculation!$E$4+2,TRUE),\">\"&B201)-COUNTIF(INDIRECT(\"MonteCarlo!\"&CostCalculation!$N$10&3,TRUE):INDIRECT(\"MonteCarlo!\"&CostCalculation!$N$10&CostCalculation!$E$4+2,TRUE),\">\"&B202))/CostCalculation!$E$4=0,#N/A,(COUNTIF(INDIRECT(\"MonteCarlo!\"&CostCalculation!$N$10&3,TRUE):INDIRECT(\"MonteCarlo!\"&CostCalculation!$N$10&CostCalculation!$E$4+2,TRUE),\">\"&B201)-COUNTIF(INDIRECT(\"MonteCarlo!\"&CostCalculation!$N$10&3,TRUE):INDIRECT(\"MonteCarlo!\"&CostCalculation!$N$10&CostCalculation!$E$4+2,TRUE),\">\"&B202))/CostCalculation!$E$4)","v":{"$error":"#N/A"}}]
[0.58499999999999996,{"$f":"ROUND(INDIRECT(\"CostCalculation!D\"&CostCalculation!$O$10,TRUE)*A202,0)","v":286793},{"$f":"IF((COUNTIF(INDIRECT(\"MonteCarlo!\"&CostCalculation!$N$10&3,TRUE):INDIRECT(\"MonteCarlo!\"&CostCalculation!$N$10&CostCalculation!$E$4+2,TRUE),\"<=\"&B202))/CostCalculation!$E$4=0,#N/A,(COUNTIF(INDIRECT(\"MonteCarlo!\"&CostCalculation!$N$10&3,TRUE):INDIRECT(\"MonteCarlo!\"&CostCalculation!$N$10&CostCalculation!$E$4+2,TRUE),\"<=\"&B202))/CostCalculation!$E$4)","v":0.97799999999999998},286793,{"$f":"IF((COUNTIF(INDIRECT(\"MonteCarlo!\"&CostCalculation!$N$10&3,TRUE):INDIRECT(\"MonteCarlo!\"&CostCalculation!$N$10&CostCalculation!$E$4+2,TRUE),\">\"&B202)-COUNTIF(INDIRECT(\"MonteCarlo!\"&CostCalculation!$N$10&3,TRUE):INDIRECT(\"MonteCarlo!\"&CostCalculation!$N$10&CostCalculation!$E$4+2,TRUE),\">\"&B203))/CostCalculation!$E$4=0,#N/A,(COUNTIF(INDIRECT(\"MonteCarlo!\"&CostCalculation!$N$10&3,TRUE):INDIRECT(\"MonteCarlo!\"&CostCalculation!$N$10&CostCalculation!$E$4+2,TRUE),\">\"&B202)-COUNTIF(INDIRECT(\"MonteCarlo!\"&CostCalculation!$N$10&3,TRUE):INDIRECT(\"MonteCarlo!\"&CostCalculation!$N$10&CostCalculation!$E$4+2,TRUE),\">\"&B203))/CostCalculation!$E$4)","v":{"$error":"#N/A"}}]
[0.58799999999999997,{"$f":"ROUND(INDIRECT(\"CostCalculation!D\"&CostCalculation!$O$10,TRUE)*A203,0)","v":288264},{"$f":"IF((COUNTIF(INDIRECT(\"MonteCarlo!\"&CostCalculation!$N$10&3,TRUE):INDIRECT(\"MonteCarlo!\"&CostCalculation!$N$10&CostCalculation!$E$4+2,TRUE),\"<=\"&B203))/CostCalculation!$E$4=0,#N/A,(COUNTIF(INDIRECT(\"MonteCarlo!\"&CostCalculation!$N$10&3,TRUE):INDIRECT(\"MonteCarlo!\"&CostCalculation!$N$10&CostCalculation!$E$4+2,TRUE),\"<=\"&B203))/CostCalculation!$E$4)","v":0.97799999999999998},288264,{"$f":"IF((COUNTIF(INDIRECT(\"MonteCarlo!\"&CostCalculation!$N$10&3,TRUE):INDIRECT(\"MonteCarlo!\"&CostCalculation!$N$10&CostCalculation!$E$4+2,TRUE),\">\"&B203)-COUNTIF(INDIRECT(\"MonteCarlo!\"&CostCalculation!$N$10&3,TRUE):INDIRECT(\"MonteCarlo!\"&CostCalculation!$N$10&CostCalculation!$E$4+2,TRUE),\">\"&B204))/CostCalculation!$E$4=0,#N/A,(COUNTIF(INDIRECT(\"MonteCarlo!\"&CostCalculation!$N$10&3,TRUE):INDIRECT(\"MonteCarlo!\"&CostCalculation!$N$10&CostCalculation!$E$4+2,TRUE),\">\"&B203)-COUNTIF(INDIRECT(\"MonteCarlo!\"&CostCalculation!$N$10&3,TRUE):INDIRECT(\"MonteCarlo!\"&CostCalculation!$N$10&CostCalculation!$E$4+2,TRUE),\">\"&B204))/CostCalculation!$E$4)","v":{"$error":"#N/A"}}]
[0.59099999999999997,{"$f":"ROUND(INDIRECT(\"CostCalculation!D\"&CostCalculation!$O$10,TRUE)*A204,0)","v":289735},{"$f":"IF((COUNTIF(INDIRECT(\"MonteCarlo!\"&CostCalculation!$N$10&3,TRUE):INDIRECT(\"MonteCarlo!\"&CostCalculation!$N$10&CostCalculation!$E$4+2,TRUE),\"<=\"&B204))/CostCalculation!$E$4=0,#N/A,(COUNTIF(INDIRECT(\"MonteCarlo!\"&CostCalculation!$N$10&3,TRUE):INDIRECT(\"MonteCarlo!\"&CostCalculation!$N$10&CostCalculation!$E$4+2,TRUE),\"<=\"&B204))/CostCalculation!$E$4)","v":0.97799999999999998},289735,{"$f":"IF((COUNTIF(INDIRECT(\"MonteCarlo!\"&CostCalculation!$N$10&3,TRUE):INDIRECT(\"MonteCarlo!\"&CostCalculation!$N$10&CostCalculation!$E$4+2,TRUE),\">\"&B204)-COUNTIF(INDIRECT(\"MonteCarlo!\"&CostCalculation!$N$10&3,TRUE):INDIRECT(\"MonteCarlo!\"&CostCalculation!$N$10&CostCalculation!$E$4+2,TRUE),\">\"&B205))/CostCalculation!$E$4=0,#N/A,(COUNTIF(INDIRECT(\"MonteCarlo!\"&CostCalculation!$N$10&3,TRUE):INDIRECT(\"MonteCarlo!\"&CostCalculation!$N$10&CostCalculation!$E$4+2,TRUE),\">\"&B204)-COUNTIF(INDIRECT(\"MonteCarlo!\"&CostCalculation!$N$10&3,TRUE):INDIRECT(\"MonteCarlo!\"&CostCalculation!$N$10&CostCalculation!$E$4+2,TRUE),\">\"&B205))/CostCalculation!$E$4)","v":{"$error":"#N/A"}}]
[0.59399999999999997,{"$f":"ROUND(INDIRECT(\"CostCalculation!D\"&CostCalculation!$O$10,TRUE)*A205,0)","v":291206},{"$f":"IF((COUNTIF(INDIRECT(\"MonteCarlo!\"&CostCalculation!$N$10&3,TRUE):INDIRECT(\"MonteCarlo!\"&CostCalculation!$N$10&CostCalculation!$E$4+2,TRUE),\"<=\"&B205))/CostCalculation!$E$4=0,#N/A,(COUNTIF(INDIRECT(\"MonteCarlo!\"&CostCalculation!$N$10&3,TRUE):INDIRECT(\"MonteCarlo!\"&CostCalculation!$N$10&CostCalculation!$E$4+2,TRUE),\"<=\"&B205))/CostCalculation!$E$4)","v":0.97799999999999998},291206,{"$f":"IF((COUNTIF(INDIRECT(\"MonteCarlo!\"&CostCalculation!$N$10&3,TRUE):INDIRECT(\"MonteCarlo!\"&CostCalculation!$N$10&CostCalculation!$E$4+2,TRUE),\">\"&B205)-COUNTIF(INDIRECT(\"MonteCarlo!\"&CostCalculation!$N$10&3,TRUE):INDIRECT(\"MonteCarlo!\"&CostCalculation!$N$10&CostCalculation!$E$4+2,TRUE),\">\"&B206))/CostCalculation!$E$4=0,#N/A,(COUNTIF(INDIRECT(\"MonteCarlo!\"&CostCalculation!$N$10&3,TRUE):INDIRECT(\"MonteCarlo!\"&CostCalculation!$N$10&CostCalculation!$E$4+2,TRUE),\">\"&B205)-COUNTIF(INDIRECT(\"MonteCarlo!\"&CostCalculation!$N$10&3,TRUE):INDIRECT(\"MonteCarlo!\"&CostCalculation!$N$10&CostCalculation!$E$4+2,TRUE),\">\"&B206))/CostCalculation!$E$4)","v":{"$error":"#N/A"}}]
[0.59699999999999998,{"$f":"ROUND(INDIRECT(\"CostCalculation!D\"&CostCalculation!$O$10,TRUE)*A206,0)","v":292676},{"$f":"IF((COUNTIF(INDIRECT(\"MonteCarlo!\"&CostCalculation!$N$10&3,TRUE):INDIRECT(\"MonteCarlo!\"&CostCalculation!$N$10&CostCalculation!$E$4+2,TRUE),\"<=\"&B206))/CostCalculation!$E$4=0,#N/A,(COUNTIF(INDIRECT(\"MonteCarlo!\"&CostCalculation!$N$10&3,TRUE):INDIRECT(\"MonteCarlo!\"&CostCalculation!$N$10&CostCalculation!$E$4+2,TRUE),\"<=\"&B206))/CostCalculation!$E$4)","v":0.97799999999999998},292676,{"$f":"IF((COUNTIF(INDIRECT(\"MonteCarlo!\"&CostCalculation!$N$10&3,TRUE):INDIRECT(\"MonteCarlo!\"&CostCalculation!$N$10&CostCalculation!$E$4+2,TRUE),\">\"&B206)-COUNTIF(INDIRECT(\"MonteCarlo!\"&CostCalculation!$N$10&3,TRUE):INDIRECT(\"MonteCarlo!\"&CostCalculation!$N$10&CostCalculation!$E$4+2,TRUE),\">\"&B207))/CostCalculation!$E$4=0,#N/A,(COUNTIF(INDIRECT(\"MonteCarlo!\"&CostCalculation!$N$10&3,TRUE):INDIRECT(\"MonteCarlo!\"&CostCalculation!$N$10&CostCalculation!$E$4+2,TRUE),\">\"&B206)-COUNTIF(INDIRECT(\"MonteCarlo!\"&CostCalculation!$N$10&3,TRUE):INDIRECT(\"MonteCarlo!\"&CostCalculation!$N$10&CostCalculation!$E$4+2,TRUE),\">\"&B207))/CostCalculation!$E$4)","v":8.9999999999999993E-3}]
[0.6,{"$f":"ROUND(INDIRECT(\"CostCalculation!D\"&CostCalculation!$O$10,TRUE)*A207,0)","v":294147},{"$f":"IF((COUNTIF(INDIRECT(\"MonteCarlo!\"&CostCalculation!$N$10&3,TRUE):INDIRECT(\"MonteCarlo!\"&CostCalculation!$N$10&CostCalculation!$E$4+2,TRUE),\"<=\"&B207))/CostCalculation!$E$4=0,#N/A,(COUNTIF(INDIRECT(\"MonteCarlo!\"&CostCalculation!$N$10&3,TRUE):INDIRECT(\"MonteCarlo!\"&CostCalculation!$N$10&CostCalculation!$E$4+2,TRUE),\"<=\"&B207))/CostCalculation!$E$4)","v":0.98699999999999999},294147,{"$f":"IF((COUNTIF(INDIRECT(\"MonteCarlo!\"&CostCalculation!$N$10&3,TRUE):INDIRECT(\"MonteCarlo!\"&CostCalculation!$N$10&CostCalculation!$E$4+2,TRUE),\">\"&B207)-COUNTIF(INDIRECT(\"MonteCarlo!\"&CostCalculation!$N$10&3,TRUE):INDIRECT(\"MonteCarlo!\"&CostCalculation!$N$10&CostCalculation!$E$4+2,TRUE),\">\"&B208))/CostCalculation!$E$4=0,#N/A,(COUNTIF(INDIRECT(\"MonteCarlo!\"&CostCalculation!$N$10&3,TRUE):INDIRECT(\"MonteCarlo!\"&CostCalculation!$N$10&CostCalculation!$E$4+2,TRUE),\">\"&B207)-COUNTIF(INDIRECT(\"MonteCarlo!\"&CostCalculation!$N$10&3,TRUE):INDIRECT(\"MonteCarlo!\"&CostCalculation!$N$10&CostCalculation!$E$4+2,TRUE),\">\"&B208))/CostCalculation!$E$4)","v":{"$error":"#N/A"}}]
[0.60299999999999998,{"$f":"ROUND(INDIRECT(\"CostCalculation!D\"&CostCalculation!$O$10,TRUE)*A208,0)","v":295618},{"$f":"IF((COUNTIF(INDIRECT(\"MonteCarlo!\"&CostCalculation!$N$10&3,TRUE):INDIRECT(\"MonteCarlo!\"&CostCalculation!$N$10&CostCalculation!$E$4+2,TRUE),\"<=\"&B208))/CostCalculation!$E$4=0,#N/A,(COUNTIF(INDIRECT(\"MonteCarlo!\"&CostCalculation!$N$10&3,TRUE):INDIRECT(\"MonteCarlo!\"&CostCalculation!$N$10&CostCalculation!$E$4+2,TRUE),\"<=\"&B208))/CostCalculation!$E$4)","v":0.98699999999999999},295618,{"$f":"IF((COUNTIF(INDIRECT(\"MonteCarlo!\"&CostCalculation!$N$10&3,TRUE):INDIRECT(\"MonteCarlo!\"&CostCalculation!$N$10&CostCalculation!$E$4+2,TRUE),\">\"&B208)-COUNTIF(INDIRECT(\"MonteCarlo!\"&CostCalculation!$N$10&3,TRUE):INDIRECT(\"MonteCarlo!\"&CostCalculation!$N$10&CostCalculation!$E$4+2,TRUE),\">\"&B209))/CostCalculation!$E$4=0,#N/A,(COUNTIF(INDIRECT(\"MonteCarlo!\"&CostCalculation!$N$10&3,TRUE):INDIRECT(\"MonteCarlo!\"&CostCalculation!$N$10&CostCalculation!$E$4+2,TRUE),\">\"&B208)-COUNTIF(INDIRECT(\"MonteCarlo!\"&CostCalculation!$N$10&3,TRUE):INDIRECT(\"MonteCarlo!\"&CostCalculation!$N$10&CostCalculation!$E$4+2,TRUE),\">\"&B209))/CostCalculation!$E$4)","v":{"$error":"#N/A"}}]
[0.60599999999999998,{"$f":"ROUND(INDIRECT(\"CostCalculation!D\"&CostCalculation!$O$10,TRUE)*A209,0)","v":297088},{"$f":"IF((COUNTIF(INDIRECT(\"MonteCarlo!\"&CostCalculation!$N$10&3,TRUE):INDIRECT(\"MonteCarlo!\"&CostCalculation!$N$10&CostCalculation!$E$4+2,TRUE),\"<=\"&B209))/CostCalculation!$E$4=0,#N/A,(COUNTIF(INDIRECT(\"MonteCarlo!\"&CostCalculation!$N$10&3,TRUE):INDIRECT(\"MonteCarlo!\"&CostCalculation!$N$10&CostCalculation!$E$4+2,TRUE),\"<=\"&B209))/CostCalculation!$E$4)","v":0.98699999999999999},297088,{"$f":"IF((COUNTIF(INDIRECT(\"MonteCarlo!\"&CostCalculation!$N$10&3,TRUE):INDIRECT(\"MonteCarlo!\"&CostCalculation!$N$10&CostCalculation!$E$4+2,TRUE),\">\"&B209)-COUNTIF(INDIRECT(\"MonteCarlo!\"&CostCalculation!$N$10&3,TRUE):INDIRECT(\"MonteCarlo!\"&CostCalculation!$N$10&CostCalculation!$E$4+2,TRUE),\">\"&B210))/CostCalculation!$E$4=0,#N/A,(COUNTIF(INDIRECT(\"MonteCarlo!\"&CostCalculation!$N$10&3,TRUE):INDIRECT(\"MonteCarlo!\"&CostCalculation!$N$10&CostCalculation!$E$4+2,TRUE),\">\"&B209)-COUNTIF(INDIRECT(\"MonteCarlo!\"&CostCalculation!$N$10&3,TRUE):INDIRECT(\"MonteCarlo!\"&CostCalculation!$N$10&CostCalculation!$E$4+2,TRUE),\">\"&B210))/CostCalculation!$E$4)","v":{"$error":"#N/A"}}]
[0.60899999999999999,{"$f":"ROUND(INDIRECT(\"CostCalculation!D\"&CostCalculation!$O$10,TRUE)*A210,0)","v":298559},{"$f":"IF((COUNTIF(INDIRECT(\"MonteCarlo!\"&CostCalculation!$N$10&3,TRUE):INDIRECT(\"MonteCarlo!\"&CostCalculation!$N$10&CostCalculation!$E$4+2,TRUE),\"<=\"&B210))/CostCalculation!$E$4=0,#N/A,(COUNTIF(INDIRECT(\"MonteCarlo!\"&CostCalculation!$N$10&3,TRUE):INDIRECT(\"MonteCarlo!\"&CostCalculation!$N$10&CostCalculation!$E$4+2,TRUE),\"<=\"&B210))/CostCalculation!$E$4)","v":0.98699999999999999},298559,{"$f":"IF((COUNTIF(INDIRECT(\"MonteCarlo!\"&CostCalculation!$N$10&3,TRUE):INDIRECT(\"MonteCarlo!\"&CostCalculation!$N$10&CostCalculation!$E$4+2,TRUE),\">\"&B210)-COUNTIF(INDIRECT(\"MonteCarlo!\"&CostCalculation!$N$10&3,TRUE):INDIRECT(\"MonteCarlo!\"&CostCalculation!$N$10&CostCalculation!$E$4+2,TRUE),\">\"&B211))/CostCalculation!$E$4=0,#N/A,(COUNTIF(INDIRECT(\"MonteCarlo!\"&CostCalculation!$N$10&3,TRUE):INDIRECT(\"MonteCarlo!\"&CostCalculation!$N$10&CostCalculation!$E$4+2,TRUE),\">\"&B210)-COUNTIF(INDIRECT(\"MonteCarlo!\"&CostCalculation!$N$10&3,TRUE):INDIRECT(\"MonteCarlo!\"&CostCalculation!$N$10&CostCalculation!$E$4+2,TRUE),\">\"&B211))/CostCalculation!$E$4)","v":{"$error":"#N/A"}}]
[0.61199999999999999,{"$f":"ROUND(INDIRECT(\"CostCalculation!D\"&CostCalculation!$O$10,TRUE)*A211,0)","v":300030},{"$f":"IF((COUNTIF(INDIRECT(\"MonteCarlo!\"&CostCalculation!$N$10&3,TRUE):INDIRECT(\"MonteCarlo!\"&CostCalculation!$N$10&CostCalculation!$E$4+2,TRUE),\"<=\"&B211))/CostCalculation!$E$4=0,#N/A,(COUNTIF(INDIRECT(\"MonteCarlo!\"&CostCalculation!$N$10&3,TRUE):INDIRECT(\"MonteCarlo!\"&CostCalculation!$N$10&CostCalculation!$E$4+2,TRUE),\"<=\"&B211))/CostCalculation!$E$4)","v":0.98699999999999999},300030,{"$f":"IF((COUNTIF(INDIRECT(\"MonteCarlo!\"&CostCalculation!$N$10&3,TRUE):INDIRECT(\"MonteCarlo!\"&CostCalculation!$N$10&CostCalculation!$E$4+2,TRUE),\">\"&B211)-COUNTIF(INDIRECT(\"MonteCarlo!\"&CostCalculation!$N$10&3,TRUE):INDIRECT(\"MonteCarlo!\"&CostCalculation!$N$10&CostCalculation!$E$4+2,TRUE),\">\"&B212))/CostCalculation!$E$4=0,#N/A,(COUNTIF(INDIRECT(\"MonteCarlo!\"&CostCalculation!$N$10&3,TRUE):INDIRECT(\"MonteCarlo!\"&CostCalculation!$N$10&CostCalculation!$E$4+2,TRUE),\">\"&B211)-COUNTIF(INDIRECT(\"MonteCarlo!\"&CostCalculation!$N$10&3,TRUE):INDIRECT(\"MonteCarlo!\"&CostCalculation!$N$10&CostCalculation!$E$4+2,TRUE),\">\"&B212))/CostCalculation!$E$4)","v":{"$error":"#N/A"}}]
[0.61499999999999999,{"$f":"ROUND(INDIRECT(\"CostCalculation!D\"&CostCalculation!$O$10,TRUE)*A212,0)","v":301501},{"$f":"IF((COUNTIF(INDIRECT(\"MonteCarlo!\"&CostCalculation!$N$10&3,TRUE):INDIRECT(\"MonteCarlo!\"&CostCalculation!$N$10&CostCalculation!$E$4+2,TRUE),\"<=\"&B212))/CostCalculation!$E$4=0,#N/A,(COUNTIF(INDIRECT(\"MonteCarlo!\"&CostCalculation!$N$10&3,TRUE):INDIRECT(\"MonteCarlo!\"&CostCalculation!$N$10&CostCalculation!$E$4+2,TRUE),\"<=\"&B212))/CostCalculation!$E$4)","v":0.98699999999999999},301501,{"$f":"IF((COUNTIF(INDIRECT(\"MonteCarlo!\"&CostCalculation!$N$10&3,TRUE):INDIRECT(\"MonteCarlo!\"&CostCalculation!$N$10&CostCalculation!$E$4+2,TRUE),\">\"&B212)-COUNTIF(INDIRECT(\"MonteCarlo!\"&CostCalculation!$N$10&3,TRUE):INDIRECT(\"MonteCarlo!\"&CostCalculation!$N$10&CostCalculation!$E$4+2,TRUE),\">\"&B213))/CostCalculation!$E$4=0,#N/A,(COUNTIF(INDIRECT(\"MonteCarlo!\"&CostCalculation!$N$10&3,TRUE):INDIRECT(\"MonteCarlo!\"&CostCalculation!$N$10&CostCalculation!$E$4+2,TRUE),\">\"&B212)-COUNTIF(INDIRECT(\"MonteCarlo!\"&CostCalculation!$N$10&3,TRUE):INDIRECT(\"MonteCarlo!\"&CostCalculation!$N$10&CostCalculation!$E$4+2,TRUE),\">\"&B213))/CostCalculation!$E$4)","v":{"$error":"#N/A"}}]
[0.61799999999999999,{"$f":"ROUND(INDIRECT(\"CostCalculation!D\"&CostCalculation!$O$10,TRUE)*A213,0)","v":302971},{"$f":"IF((COUNTIF(INDIRECT(\"MonteCarlo!\"&CostCalculation!$N$10&3,TRUE):INDIRECT(\"MonteCarlo!\"&CostCalculation!$N$10&CostCalculation!$E$4+2,TRUE),\"<=\"&B213))/CostCalculation!$E$4=0,#N/A,(COUNTIF(INDIRECT(\"MonteCarlo!\"&CostCalculation!$N$10&3,TRUE):INDIRECT(\"MonteCarlo!\"&CostCalculation!$N$10&CostCalculation!$E$4+2,TRUE),\"<=\"&B213))/CostCalculation!$E$4)","v":0.98699999999999999},302971,{"$f":"IF((COUNTIF(INDIRECT(\"MonteCarlo!\"&CostCalculation!$N$10&3,TRUE):INDIRECT(\"MonteCarlo!\"&CostCalculation!$N$10&CostCalculation!$E$4+2,TRUE),\">\"&B213)-COUNTIF(INDIRECT(\"MonteCarlo!\"&CostCalculation!$N$10&3,TRUE):INDIRECT(\"MonteCarlo!\"&CostCalculation!$N$10&CostCalculation!$E$4+2,TRUE),\">\"&B214))/CostCalculation!$E$4=0,#N/A,(COUNTIF(INDIRECT(\"MonteCarlo!\"&CostCalculation!$N$10&3,TRUE):INDIRECT(\"MonteCarlo!\"&CostCalculation!$N$10&CostCalculation!$E$4+2,TRUE),\">\"&B213)-COUNTIF(INDIRECT(\"MonteCarlo!\"&CostCalculation!$N$10&3,TRUE):INDIRECT(\"MonteCarlo!\"&CostCalculation!$N$10&CostCalculation!$E$4+2,TRUE),\">\"&B214))/CostCalculation!$E$4)","v":{"$error":"#N/A"}}]
[0.621,{"$f":"ROUND(INDIRECT(\"CostCalculation!D\"&CostCalculation!$O$10,TRUE)*A214,0)","v":304442},{"$f":"IF((COUNTIF(INDIRECT(\"MonteCarlo!\"&CostCalculation!$N$10&3,TRUE):INDIRECT(\"MonteCarlo!\"&CostCalculation!$N$10&CostCalculation!$E$4+2,TRUE),\"<=\"&B214))/CostCalculation!$E$4=0,#N/A,(COUNTIF(INDIRECT(\"MonteCarlo!\"&CostCalculation!$N$10&3,TRUE):INDIRECT(\"MonteCarlo!\"&CostCalculation!$N$10&CostCalculation!$E$4+2,TRUE),\"<=\"&B214))/CostCalculation!$E$4)","v":0.98699999999999999},304442,{"$f":"IF((COUNTIF(INDIRECT(\"MonteCarlo!\"&CostCalculation!$N$10&3,TRUE):INDIRECT(\"MonteCarlo!\"&CostCalculation!$N$10&CostCalculation!$E$4+2,TRUE),\">\"&B214)-COUNTIF(INDIRECT(\"MonteCarlo!\"&CostCalculation!$N$10&3,TRUE):INDIRECT(\"MonteCarlo!\"&CostCalculation!$N$10&CostCalculation!$E$4+2,TRUE),\">\"&B215))/CostCalculation!$E$4=0,#N/A,(COUNTIF(INDIRECT(\"MonteCarlo!\"&CostCalculation!$N$10&3,TRUE):INDIRECT(\"MonteCarlo!\"&CostCalculation!$N$10&CostCalculation!$E$4+2,TRUE),\">\"&B214)-COUNTIF(INDIRECT(\"MonteCarlo!\"&CostCalculation!$N$10&3,TRUE):INDIRECT(\"MonteCarlo!\"&CostCalculation!$N$10&CostCalculation!$E$4+2,TRUE),\">\"&B215))/CostCalculation!$E$4)","v":{"$error":"#N/A"}}]
[0.624,{"$f":"ROUND(INDIRECT(\"CostCalculation!D\"&CostCalculation!$O$10,TRUE)*A215,0)","v":305913},{"$f":"IF((COUNTIF(INDIRECT(\"MonteCarlo!\"&CostCalculation!$N$10&3,TRUE):INDIRECT(\"MonteCarlo!\"&CostCalculation!$N$10&CostCalculation!$E$4+2,TRUE),\"<=\"&B215))/CostCalculation!$E$4=0,#N/A,(COUNTIF(INDIRECT(\"MonteCarlo!\"&CostCalculation!$N$10&3,TRUE):INDIRECT(\"MonteCarlo!\"&CostCalculation!$N$10&CostCalculation!$E$4+2,TRUE),\"<=\"&B215))/CostCalculation!$E$4)","v":0.98699999999999999},305913,{"$f":"IF((COUNTIF(INDIRECT(\"MonteCarlo!\"&CostCalculation!$N$10&3,TRUE):INDIRECT(\"MonteCarlo!\"&CostCalculation!$N$10&CostCalculation!$E$4+2,TRUE),\">\"&B215)-COUNTIF(INDIRECT(\"MonteCarlo!\"&CostCalculation!$N$10&3,TRUE):INDIRECT(\"MonteCarlo!\"&CostCalculation!$N$10&CostCalculation!$E$4+2,TRUE),\">\"&B216))/CostCalculation!$E$4=0,#N/A,(COUNTIF(INDIRECT(\"MonteCarlo!\"&CostCalculation!$N$10&3,TRUE):INDIRECT(\"MonteCarlo!\"&CostCalculation!$N$10&CostCalculation!$E$4+2,TRUE),\">\"&B215)-COUNTIF(INDIRECT(\"MonteCarlo!\"&CostCalculation!$N$10&3,TRUE):INDIRECT(\"MonteCarlo!\"&CostCalculation!$N$10&CostCalculation!$E$4+2,TRUE),\">\"&B216))/CostCalculation!$E$4)","v":{"$error":"#N/A"}}]
[0.627,{"$f":"ROUND(INDIRECT(\"CostCalculation!D\"&CostCalculation!$O$10,TRUE)*A216,0)","v":307384},{"$f":"IF((COUNTIF(INDIRECT(\"MonteCarlo!\"&CostCalculation!$N$10&3,TRUE):INDIRECT(\"MonteCarlo!\"&CostCalculation!$N$10&CostCalculation!$E$4+2,TRUE),\"<=\"&B216))/CostCalculation!$E$4=0,#N/A,(COUNTIF(INDIRECT(\"MonteCarlo!\"&CostCalculation!$N$10&3,TRUE):INDIRECT(\"MonteCarlo!\"&CostCalculation!$N$10&CostCalculation!$E$4+2,TRUE),\"<=\"&B216))/CostCalculation!$E$4)","v":0.98699999999999999},307384,{"$f":"IF((COUNTIF(INDIRECT(\"MonteCarlo!\"&CostCalculation!$N$10&3,TRUE):INDIRECT(\"MonteCarlo!\"&CostCalculation!$N$10&CostCalculation!$E$4+2,TRUE),\">\"&B216)-COUNTIF(INDIRECT(\"MonteCarlo!\"&CostCalculation!$N$10&3,TRUE):INDIRECT(\"MonteCarlo!\"&CostCalculation!$N$10&CostCalculation!$E$4+2,TRUE),\">\"&B217))/CostCalculation!$E$4=0,#N/A,(COUNTIF(INDIRECT(\"MonteCarlo!\"&CostCalculation!$N$10&3,TRUE):INDIRECT(\"MonteCarlo!\"&CostCalculation!$N$10&CostCalculation!$E$4+2,TRUE),\">\"&B216)-COUNTIF(INDIRECT(\"MonteCarlo!\"&CostCalculation!$N$10&3,TRUE):INDIRECT(\"MonteCarlo!\"&CostCalculation!$N$10&CostCalculation!$E$4+2,TRUE),\">\"&B217))/CostCalculation!$E$4)","v":{"$error":"#N/A"}}]
[0.63,{"$f":"ROUND(INDIRECT(\"CostCalculation!D\"&CostCalculation!$O$10,TRUE)*A217,0)","v":308854},{"$f":"IF((COUNTIF(INDIRECT(\"MonteCarlo!\"&CostCalculation!$N$10&3,TRUE):INDIRECT(\"MonteCarlo!\"&CostCalculation!$N$10&CostCalculation!$E$4+2,TRUE),\"<=\"&B217))/CostCalculation!$E$4=0,#N/A,(COUNTIF(INDIRECT(\"MonteCarlo!\"&CostCalculation!$N$10&3,TRUE):INDIRECT(\"MonteCarlo!\"&CostCalculation!$N$10&CostCalculation!$E$4+2,TRUE),\"<=\"&B217))/CostCalculation!$E$4)","v":0.98699999999999999},308854,{"$f":"IF((COUNTIF(INDIRECT(\"MonteCarlo!\"&CostCalculation!$N$10&3,TRUE):INDIRECT(\"MonteCarlo!\"&CostCalculation!$N$10&CostCalculation!$E$4+2,TRUE),\">\"&B217)-COUNTIF(INDIRECT(\"MonteCarlo!\"&CostCalculation!$N$10&3,TRUE):INDIRECT(\"MonteCarlo!\"&CostCalculation!$N$10&CostCalculation!$E$4+2,TRUE),\">\"&B218))/CostCalculation!$E$4=0,#N/A,(COUNTIF(INDIRECT(\"MonteCarlo!\"&CostCalculation!$N$10&3,TRUE):INDIRECT(\"MonteCarlo!\"&CostCalculation!$N$10&CostCalculation!$E$4+2,TRUE),\">\"&B217)-COUNTIF(INDIRECT(\"MonteCarlo!\"&CostCalculation!$N$10&3,TRUE):INDIRECT(\"MonteCarlo!\"&CostCalculation!$N$10&CostCalculation!$E$4+2,TRUE),\">\"&B218))/CostCalculation!$E$4)","v":{"$error":"#N/A"}}]
[0.63300000000000001,{"$f":"ROUND(INDIRECT(\"CostCalculation!D\"&CostCalculation!$O$10,TRUE)*A218,0)","v":310325},{"$f":"IF((COUNTIF(INDIRECT(\"MonteCarlo!\"&CostCalculation!$N$10&3,TRUE):INDIRECT(\"MonteCarlo!\"&CostCalculation!$N$10&CostCalculation!$E$4+2,TRUE),\"<=\"&B218))/CostCalculation!$E$4=0,#N/A,(COUNTIF(INDIRECT(\"MonteCarlo!\"&CostCalculation!$N$10&3,TRUE):INDIRECT(\"MonteCarlo!\"&CostCalculation!$N$10&CostCalculation!$E$4+2,TRUE),\"<=\"&B218))/CostCalculation!$E$4)","v":0.98699999999999999},310325,{"$f":"IF((COUNTIF(INDIRECT(\"MonteCarlo!\"&CostCalculation!$N$10&3,TRUE):INDIRECT(\"MonteCarlo!\"&CostCalculation!$N$10&CostCalculation!$E$4+2,TRUE),\">\"&B218)-COUNTIF(INDIRECT(\"MonteCarlo!\"&CostCalculation!$N$10&3,TRUE):INDIRECT(\"MonteCarlo!\"&CostCalculation!$N$10&CostCalculation!$E$4+2,TRUE),\">\"&B219))/CostCalculation!$E$4=0,#N/A,(COUNTIF(INDIRECT(\"MonteCarlo!\"&CostCalculation!$N$10&3,TRUE):INDIRECT(\"MonteCarlo!\"&CostCalculation!$N$10&CostCalculation!$E$4+2,TRUE),\">\"&B218)-COUNTIF(INDIRECT(\"MonteCarlo!\"&CostCalculation!$N$10&3,TRUE):INDIRECT(\"MonteCarlo!\"&CostCalculation!$N$10&CostCalculation!$E$4+2,TRUE),\">\"&B219))/CostCalculation!$E$4)","v":{"$error":"#N/A"}}]
[0.63600000000000001,{"$f":"ROUND(INDIRECT(\"CostCalculation!D\"&CostCalculation!$O$10,TRUE)*A219,0)","v":311796},{"$f":"IF((COUNTIF(INDIRECT(\"MonteCarlo!\"&CostCalculation!$N$10&3,TRUE):INDIRECT(\"MonteCarlo!\"&CostCalculation!$N$10&CostCalculation!$E$4+2,TRUE),\"<=\"&B219))/CostCalculation!$E$4=0,#N/A,(COUNTIF(INDIRECT(\"MonteCarlo!\"&CostCalculation!$N$10&3,TRUE):INDIRECT(\"MonteCarlo!\"&CostCalculation!$N$10&CostCalculation!$E$4+2,TRUE),\"<=\"&B219))/CostCalculation!$E$4)","v":0.98699999999999999},311796,{"$f":"IF((COUNTIF(INDIRECT(\"MonteCarlo!\"&CostCalculation!$N$10&3,TRUE):INDIRECT(\"MonteCarlo!\"&CostCalculation!$N$10&CostCalculation!$E$4+2,TRUE),\">\"&B219)-COUNTIF(INDIRECT(\"MonteCarlo!\"&CostCalculation!$N$10&3,TRUE):INDIRECT(\"MonteCarlo!\"&CostCalculation!$N$10&CostCalculation!$E$4+2,TRUE),\">\"&B220))/CostCalculation!$E$4=0,#N/A,(COUNTIF(INDIRECT(\"MonteCarlo!\"&CostCalculation!$N$10&3,TRUE):INDIRECT(\"MonteCarlo!\"&CostCalculation!$N$10&CostCalculation!$E$4+2,TRUE),\">\"&B219)-COUNTIF(INDIRECT(\"MonteCarlo!\"&CostCalculation!$N$10&3,TRUE):INDIRECT(\"MonteCarlo!\"&CostCalculation!$N$10&CostCalculation!$E$4+2,TRUE),\">\"&B220))/CostCalculation!$E$4)","v":{"$error":"#N/A"}}]
[0.63900000000000001,{"$f":"ROUND(INDIRECT(\"CostCalculation!D\"&CostCalculation!$O$10,TRUE)*A220,0)","v":313267},{"$f":"IF((COUNTIF(INDIRECT(\"MonteCarlo!\"&CostCalculation!$N$10&3,TRUE):INDIRECT(\"MonteCarlo!\"&CostCalculation!$N$10&CostCalculation!$E$4+2,TRUE),\"<=\"&B220))/CostCalculation!$E$4=0,#N/A,(COUNTIF(INDIRECT(\"MonteCarlo!\"&CostCalculation!$N$10&3,TRUE):INDIRECT(\"MonteCarlo!\"&CostCalculation!$N$10&CostCalculation!$E$4+2,TRUE),\"<=\"&B220))/CostCalculation!$E$4)","v":0.98699999999999999},313267,{"$f":"IF((COUNTIF(INDIRECT(\"MonteCarlo!\"&CostCalculation!$N$10&3,TRUE):INDIRECT(\"MonteCarlo!\"&CostCalculation!$N$10&CostCalculation!$E$4+2,TRUE),\">\"&B220)-COUNTIF(INDIRECT(\"MonteCarlo!\"&CostCalculation!$N$10&3,TRUE):INDIRECT(\"MonteCarlo!\"&CostCalculation!$N$10&CostCalculation!$E$4+2,TRUE),\">\"&B221))/CostCalculation!$E$4=0,#N/A,(COUNTIF(INDIRECT(\"MonteCarlo!\"&CostCalculation!$N$10&3,TRUE):INDIRECT(\"MonteCarlo!\"&CostCalculation!$N$10&CostCalculation!$E$4+2,TRUE),\">\"&B220)-COUNTIF(INDIRECT(\"MonteCarlo!\"&CostCalculation!$N$10&3,TRUE):INDIRECT(\"MonteCarlo!\"&CostCalculation!$N$10&CostCalculation!$E$4+2,TRUE),\">\"&B221))/CostCalculation!$E$4)","v":{"$error":"#N/A"}}]
[0.64200000000000002,{"$f":"ROUND(INDIRECT(\"CostCalculation!D\"&CostCalculation!$O$10,TRUE)*A221,0)","v":314737},{"$f":"IF((COUNTIF(INDIRECT(\"MonteCarlo!\"&CostCalculation!$N$10&3,TRUE):INDIRECT(\"MonteCarlo!\"&CostCalculation!$N$10&CostCalculation!$E$4+2,TRUE),\"<=\"&B221))/CostCalculation!$E$4=0,#N/A,(COUNTIF(INDIRECT(\"MonteCarlo!\"&CostCalculation!$N$10&3,TRUE):INDIRECT(\"MonteCarlo!\"&CostCalculation!$N$10&CostCalculation!$E$4+2,TRUE),\"<=\"&B221))/CostCalculation!$E$4)","v":0.98699999999999999},314737,{"$f":"IF((COUNTIF(INDIRECT(\"MonteCarlo!\"&CostCalculation!$N$10&3,TRUE):INDIRECT(\"MonteCarlo!\"&CostCalculation!$N$10&CostCalculation!$E$4+2,TRUE),\">\"&B221)-COUNTIF(INDIRECT(\"MonteCarlo!\"&CostCalculation!$N$10&3,TRUE):INDIRECT(\"MonteCarlo!\"&CostCalculation!$N$10&CostCalculation!$E$4+2,TRUE),\">\"&B222))/CostCalculation!$E$4=0,#N/A,(COUNTIF(INDIRECT(\"MonteCarlo!\"&CostCalculation!$N$10&3,TRUE):INDIRECT(\"MonteCarlo!\"&CostCalculation!$N$10&CostCalculation!$E$4+2,TRUE),\">\"&B221)-COUNTIF(INDIRECT(\"MonteCarlo!\"&CostCalculation!$N$10&3,TRUE):INDIRECT(\"MonteCarlo!\"&CostCalculation!$N$10&CostCalculation!$E$4+2,TRUE),\">\"&B222))/CostCalculation!$E$4)","v":{"$error":"#N/A"}}]
[0.64500000000000002,{"$f":"ROUND(INDIRECT(\"CostCalculation!D\"&CostCalculation!$O$10,TRUE)*A222,0)","v":316208},{"$f":"IF((COUNTIF(INDIRECT(\"MonteCarlo!\"&CostCalculation!$N$10&3,TRUE):INDIRECT(\"MonteCarlo!\"&CostCalculation!$N$10&CostCalculation!$E$4+2,TRUE),\"<=\"&B222))/CostCalculation!$E$4=0,#N/A,(COUNTIF(INDIRECT(\"MonteCarlo!\"&CostCalculation!$N$10&3,TRUE):INDIRECT(\"MonteCarlo!\"&CostCalculation!$N$10&CostCalculation!$E$4+2,TRUE),\"<=\"&B222))/CostCalculation!$E$4)","v":0.98699999999999999},316208,{"$f":"IF((COUNTIF(INDIRECT(\"MonteCarlo!\"&CostCalculation!$N$10&3,TRUE):INDIRECT(\"MonteCarlo!\"&CostCalculation!$N$10&CostCalculation!$E$4+2,TRUE),\">\"&B222)-COUNTIF(INDIRECT(\"MonteCarlo!\"&CostCalculation!$N$10&3,TRUE):INDIRECT(\"MonteCarlo!\"&CostCalculation!$N$10&CostCalculation!$E$4+2,TRUE),\">\"&B223))/CostCalculation!$E$4=0,#N/A,(COUNTIF(INDIRECT(\"MonteCarlo!\"&CostCalculation!$N$10&3,TRUE):INDIRECT(\"MonteCarlo!\"&CostCalculation!$N$10&CostCalculation!$E$4+2,TRUE),\">\"&B222)-COUNTIF(INDIRECT(\"MonteCarlo!\"&CostCalculation!$N$10&3,TRUE):INDIRECT(\"MonteCarlo!\"&CostCalculation!$N$10&CostCalculation!$E$4+2,TRUE),\">\"&B223))/CostCalculation!$E$4)","v":{"$error":"#N/A"}}]
[0.64800000000000002,{"$f":"ROUND(INDIRECT(\"CostCalculation!D\"&CostCalculation!$O$10,TRUE)*A223,0)","v":317679},{"$f":"IF((COUNTIF(INDIRECT(\"MonteCarlo!\"&CostCalculation!$N$10&3,TRUE):INDIRECT(\"MonteCarlo!\"&CostCalculation!$N$10&CostCalculation!$E$4+2,TRUE),\"<=\"&B223))/CostCalculation!$E$4=0,#N/A,(COUNTIF(INDIRECT(\"MonteCarlo!\"&CostCalculation!$N$10&3,TRUE):INDIRECT(\"MonteCarlo!\"&CostCalculation!$N$10&CostCalculation!$E$4+2,TRUE),\"<=\"&B223))/CostCalculation!$E$4)","v":0.98699999999999999},317679,{"$f":"IF((COUNTIF(INDIRECT(\"MonteCarlo!\"&CostCalculation!$N$10&3,TRUE):INDIRECT(\"MonteCarlo!\"&CostCalculation!$N$10&CostCalculation!$E$4+2,TRUE),\">\"&B223)-COUNTIF(INDIRECT(\"MonteCarlo!\"&CostCalculation!$N$10&3,TRUE):INDIRECT(\"MonteCarlo!\"&CostCalculation!$N$10&CostCalculation!$E$4+2,TRUE),\">\"&B224))/CostCalculation!$E$4=0,#N/A,(COUNTIF(INDIRECT(\"MonteCarlo!\"&CostCalculation!$N$10&3,TRUE):INDIRECT(\"MonteCarlo!\"&CostCalculation!$N$10&CostCalculation!$E$4+2,TRUE),\">\"&B223)-COUNTIF(INDIRECT(\"MonteCarlo!\"&CostCalculation!$N$10&3,TRUE):INDIRECT(\"MonteCarlo!\"&CostCalculation!$N$10&CostCalculation!$E$4+2,TRUE),\">\"&B224))/CostCalculation!$E$4)","v":{"$error":"#N/A"}}]
[0.65100000000000002,{"$f":"ROUND(INDIRECT(\"CostCalculation!D\"&CostCalculation!$O$10,TRUE)*A224,0)","v":319149},{"$f":"IF((COUNTIF(INDIRECT(\"MonteCarlo!\"&CostCalculation!$N$10&3,TRUE):INDIRECT(\"MonteCarlo!\"&CostCalculation!$N$10&CostCalculation!$E$4+2,TRUE),\"<=\"&B224))/CostCalculation!$E$4=0,#N/A,(COUNTIF(INDIRECT(\"MonteCarlo!\"&CostCalculation!$N$10&3,TRUE):INDIRECT(\"MonteCarlo!\"&CostCalculation!$N$10&CostCalculation!$E$4+2,TRUE),\"<=\"&B224))/CostCalculation!$E$4)","v":0.98699999999999999},319149,{"$f":"IF((COUNTIF(INDIRECT(\"MonteCarlo!\"&CostCalculation!$N$10&3,TRUE):INDIRECT(\"MonteCarlo!\"&CostCalculation!$N$10&CostCalculation!$E$4+2,TRUE),\">\"&B224)-COUNTIF(INDIRECT(\"MonteCarlo!\"&CostCalculation!$N$10&3,TRUE):INDIRECT(\"MonteCarlo!\"&CostCalculation!$N$10&CostCalculation!$E$4+2,TRUE),\">\"&B225))/CostCalculation!$E$4=0,#N/A,(COUNTIF(INDIRECT(\"MonteCarlo!\"&CostCalculation!$N$10&3,TRUE):INDIRECT(\"MonteCarlo!\"&CostCalculation!$N$10&CostCalculation!$E$4+2,TRUE),\">\"&B224)-COUNTIF(INDIRECT(\"MonteCarlo!\"&CostCalculation!$N$10&3,TRUE):INDIRECT(\"MonteCarlo!\"&CostCalculation!$N$10&CostCalculation!$E$4+2,TRUE),\">\"&B225))/CostCalculation!$E$4)","v":{"$error":"#N/A"}}]
[0.65400000000000003,{"$f":"ROUND(INDIRECT(\"CostCalculation!D\"&CostCalculation!$O$10,TRUE)*A225,0)","v":320620},{"$f":"IF((COUNTIF(INDIRECT(\"MonteCarlo!\"&CostCalculation!$N$10&3,TRUE):INDIRECT(\"MonteCarlo!\"&CostCalculation!$N$10&CostCalculation!$E$4+2,TRUE),\"<=\"&B225))/CostCalculation!$E$4=0,#N/A,(COUNTIF(INDIRECT(\"MonteCarlo!\"&CostCalculation!$N$10&3,TRUE):INDIRECT(\"MonteCarlo!\"&CostCalculation!$N$10&CostCalculation!$E$4+2,TRUE),\"<=\"&B225))/CostCalculation!$E$4)","v":0.98699999999999999},320620,{"$f":"IF((COUNTIF(INDIRECT(\"MonteCarlo!\"&CostCalculation!$N$10&3,TRUE):INDIRECT(\"MonteCarlo!\"&CostCalculation!$N$10&CostCalculation!$E$4+2,TRUE),\">\"&B225)-COUNTIF(INDIRECT(\"MonteCarlo!\"&CostCalculation!$N$10&3,TRUE):INDIRECT(\"MonteCarlo!\"&CostCalculation!$N$10&CostCalculation!$E$4+2,TRUE),\">\"&B226))/CostCalculation!$E$4=0,#N/A,(COUNTIF(INDIRECT(\"MonteCarlo!\"&CostCalculation!$N$10&3,TRUE):INDIRECT(\"MonteCarlo!\"&CostCalculation!$N$10&CostCalculation!$E$4+2,TRUE),\">\"&B225)-COUNTIF(INDIRECT(\"MonteCarlo!\"&CostCalculation!$N$10&3,TRUE):INDIRECT(\"MonteCarlo!\"&CostCalculation!$N$10&CostCalculation!$E$4+2,TRUE),\">\"&B226))/CostCalculation!$E$4)","v":{"$error":"#N/A"}}]
[0.65700000000000003,{"$f":"ROUND(INDIRECT(\"CostCalculation!D\"&CostCalculation!$O$10,TRUE)*A226,0)","v":322091},{"$f":"IF((COUNTIF(INDIRECT(\"MonteCarlo!\"&CostCalculation!$N$10&3,TRUE):INDIRECT(\"MonteCarlo!\"&CostCalculation!$N$10&CostCalculation!$E$4+2,TRUE),\"<=\"&B226))/CostCalculation!$E$4=0,#N/A,(COUNTIF(INDIRECT(\"MonteCarlo!\"&CostCalculation!$N$10&3,TRUE):INDIRECT(\"MonteCarlo!\"&CostCalculation!$N$10&CostCalculation!$E$4+2,TRUE),\"<=\"&B226))/CostCalculation!$E$4)","v":0.98699999999999999},322091,{"$f":"IF((COUNTIF(INDIRECT(\"MonteCarlo!\"&CostCalculation!$N$10&3,TRUE):INDIRECT(\"MonteCarlo!\"&CostCalculation!$N$10&CostCalculation!$E$4+2,TRUE),\">\"&B226)-COUNTIF(INDIRECT(\"MonteCarlo!\"&CostCalculation!$N$10&3,TRUE):INDIRECT(\"MonteCarlo!\"&CostCalculation!$N$10&CostCalculation!$E$4+2,TRUE),\">\"&B227))/CostCalculation!$E$4=0,#N/A,(COUNTIF(INDIRECT(\"MonteCarlo!\"&CostCalculation!$N$10&3,TRUE):INDIRECT(\"MonteCarlo!\"&CostCalculation!$N$10&CostCalculation!$E$4+2,TRUE),\">\"&B226)-COUNTIF(INDIRECT(\"MonteCarlo!\"&CostCalculation!$N$10&3,TRUE):INDIRECT(\"MonteCarlo!\"&CostCalculation!$N$10&CostCalculation!$E$4+2,TRUE),\">\"&B227))/CostCalculation!$E$4)","v":{"$error":"#N/A"}}]
[0.66,{"$f":"ROUND(INDIRECT(\"CostCalculation!D\"&CostCalculation!$O$10,TRUE)*A227,0)","v":323562},{"$f":"IF((COUNTIF(INDIRECT(\"MonteCarlo!\"&CostCalculation!$N$10&3,TRUE):INDIRECT(\"MonteCarlo!\"&CostCalculation!$N$10&CostCalculation!$E$4+2,TRUE),\"<=\"&B227))/CostCalculation!$E$4=0,#N/A,(COUNTIF(INDIRECT(\"MonteCarlo!\"&CostCalculation!$N$10&3,TRUE):INDIRECT(\"MonteCarlo!\"&CostCalculation!$N$10&CostCalculation!$E$4+2,TRUE),\"<=\"&B227))/CostCalculation!$E$4)","v":0.98699999999999999},323562,{"$f":"IF((COUNTIF(INDIRECT(\"MonteCarlo!\"&CostCalculation!$N$10&3,TRUE):INDIRECT(\"MonteCarlo!\"&CostCalculation!$N$10&CostCalculation!$E$4+2,TRUE),\">\"&B227)-COUNTIF(INDIRECT(\"MonteCarlo!\"&CostCalculation!$N$10&3,TRUE):INDIRECT(\"MonteCarlo!\"&CostCalculation!$N$10&CostCalculation!$E$4+2,TRUE),\">\"&B228))/CostCalculation!$E$4=0,#N/A,(COUNTIF(INDIRECT(\"MonteCarlo!\"&CostCalculation!$N$10&3,TRUE):INDIRECT(\"MonteCarlo!\"&CostCalculation!$N$10&CostCalculation!$E$4+2,TRUE),\">\"&B227)-COUNTIF(INDIRECT(\"MonteCarlo!\"&CostCalculation!$N$10&3,TRUE):INDIRECT(\"MonteCarlo!\"&CostCalculation!$N$10&CostCalculation!$E$4+2,TRUE),\">\"&B228))/CostCalculation!$E$4)","v":{"$error":"#N/A"}}]
[0.66300000000000003,{"$f":"ROUND(INDIRECT(\"CostCalculation!D\"&CostCalculation!$O$10,TRUE)*A228,0)","v":325032},{"$f":"IF((COUNTIF(INDIRECT(\"MonteCarlo!\"&CostCalculation!$N$10&3,TRUE):INDIRECT(\"MonteCarlo!\"&CostCalculation!$N$10&CostCalculation!$E$4+2,TRUE),\"<=\"&B228))/CostCalculation!$E$4=0,#N/A,(COUNTIF(INDIRECT(\"MonteCarlo!\"&CostCalculation!$N$10&3,TRUE):INDIRECT(\"MonteCarlo!\"&CostCalculation!$N$10&CostCalculation!$E$4+2,TRUE),\"<=\"&B228))/CostCalculation!$E$4)","v":0.98699999999999999},325032,{"$f":"IF((COUNTIF(INDIRECT(\"MonteCarlo!\"&CostCalculation!$N$10&3,TRUE):INDIRECT(\"MonteCarlo!\"&CostCalculation!$N$10&CostCalculation!$E$4+2,TRUE),\">\"&B228)-COUNTIF(INDIRECT(\"MonteCarlo!\"&CostCalculation!$N$10&3,TRUE):INDIRECT(\"MonteCarlo!\"&CostCalculation!$N$10&CostCalculation!$E$4+2,TRUE),\">\"&B229))/CostCalculation!$E$4=0,#N/A,(COUNTIF(INDIRECT(\"MonteCarlo!\"&CostCalculation!$N$10&3,TRUE):INDIRECT(\"MonteCarlo!\"&CostCalculation!$N$10&CostCalculation!$E$4+2,TRUE),\">\"&B228)-COUNTIF(INDIRECT(\"MonteCarlo!\"&CostCalculation!$N$10&3,TRUE):INDIRECT(\"MonteCarlo!\"&CostCalculation!$N$10&CostCalculation!$E$4+2,TRUE),\">\"&B229))/CostCalculation!$E$4)","v":{"$error":"#N/A"}}]
[0.66600000000000004,{"$f":"ROUND(INDIRECT(\"CostCalculation!D\"&CostCalculation!$O$10,TRUE)*A229,0)","v":326503},{"$f":"IF((COUNTIF(INDIRECT(\"MonteCarlo!\"&CostCalculation!$N$10&3,TRUE):INDIRECT(\"MonteCarlo!\"&CostCalculation!$N$10&CostCalculation!$E$4+2,TRUE),\"<=\"&B229))/CostCalculation!$E$4=0,#N/A,(COUNTIF(INDIRECT(\"MonteCarlo!\"&CostCalculation!$N$10&3,TRUE):INDIRECT(\"MonteCarlo!\"&CostCalculation!$N$10&CostCalculation!$E$4+2,TRUE),\"<=\"&B229))/CostCalculation!$E$4)","v":0.98699999999999999},326503,{"$f":"IF((COUNTIF(INDIRECT(\"MonteCarlo!\"&CostCalculation!$N$10&3,TRUE):INDIRECT(\"MonteCarlo!\"&CostCalculation!$N$10&CostCalculation!$E$4+2,TRUE),\">\"&B229)-COUNTIF(INDIRECT(\"MonteCarlo!\"&CostCalculation!$N$10&3,TRUE):INDIRECT(\"MonteCarlo!\"&CostCalculation!$N$10&CostCalculation!$E$4+2,TRUE),\">\"&B230))/CostCalculation!$E$4=0,#N/A,(COUNTIF(INDIRECT(\"MonteCarlo!\"&CostCalculation!$N$10&3,TRUE):INDIRECT(\"MonteCarlo!\"&CostCalculation!$N$10&CostCalculation!$E$4+2,TRUE),\">\"&B229)-COUNTIF(INDIRECT(\"MonteCarlo!\"&CostCalculation!$N$10&3,TRUE):INDIRECT(\"MonteCarlo!\"&CostCalculation!$N$10&CostCalculation!$E$4+2,TRUE),\">\"&B230))/CostCalculation!$E$4)","v":7.0000000000000001E-3}]
[0.66900000000000004,{"$f":"ROUND(INDIRECT(\"CostCalculation!D\"&CostCalculation!$O$10,TRUE)*A230,0)","v":327974},{"$f":"IF((COUNTIF(INDIRECT(\"MonteCarlo!\"&CostCalculation!$N$10&3,TRUE):INDIRECT(\"MonteCarlo!\"&CostCalculation!$N$10&CostCalculation!$E$4+2,TRUE),\"<=\"&B230))/CostCalculation!$E$4=0,#N/A,(COUNTIF(INDIRECT(\"MonteCarlo!\"&CostCalculation!$N$10&3,TRUE):INDIRECT(\"MonteCarlo!\"&CostCalculation!$N$10&CostCalculation!$E$4+2,TRUE),\"<=\"&B230))/CostCalculation!$E$4)","v":0.99399999999999999},327974,{"$f":"IF((COUNTIF(INDIRECT(\"MonteCarlo!\"&CostCalculation!$N$10&3,TRUE):INDIRECT(\"MonteCarlo!\"&CostCalculation!$N$10&CostCalculation!$E$4+2,TRUE),\">\"&B230)-COUNTIF(INDIRECT(\"MonteCarlo!\"&CostCalculation!$N$10&3,TRUE):INDIRECT(\"MonteCarlo!\"&CostCalculation!$N$10&CostCalculation!$E$4+2,TRUE),\">\"&B231))/CostCalculation!$E$4=0,#N/A,(COUNTIF(INDIRECT(\"MonteCarlo!\"&CostCalculation!$N$10&3,TRUE):INDIRECT(\"MonteCarlo!\"&CostCalculation!$N$10&CostCalculation!$E$4+2,TRUE),\">\"&B230)-COUNTIF(INDIRECT(\"MonteCarlo!\"&CostCalculation!$N$10&3,TRUE):INDIRECT(\"MonteCarlo!\"&CostCalculation!$N$10&CostCalculation!$E$4+2,TRUE),\">\"&B231))/CostCalculation!$E$4)","v":{"$error":"#N/A"}}]
[0.67200000000000004,{"$f":"ROUND(INDIRECT(\"CostCalculation!D\"&CostCalculation!$O$10,TRUE)*A231,0)","v":329445},{"$f":"IF((COUNTIF(INDIRECT(\"MonteCarlo!\"&CostCalculation!$N$10&3,TRUE):INDIRECT(\"MonteCarlo!\"&CostCalculation!$N$10&CostCalculation!$E$4+2,TRUE),\"<=\"&B231))/CostCalculation!$E$4=0,#N/A,(COUNTIF(INDIRECT(\"MonteCarlo!\"&CostCalculation!$N$10&3,TRUE):INDIRECT(\"MonteCarlo!\"&CostCalculation!$N$10&CostCalculation!$E$4+2,TRUE),\"<=\"&B231))/CostCalculation!$E$4)","v":0.99399999999999999},329445,{"$f":"IF((COUNTIF(INDIRECT(\"MonteCarlo!\"&CostCalculation!$N$10&3,TRUE):INDIRECT(\"MonteCarlo!\"&CostCalculation!$N$10&CostCalculation!$E$4+2,TRUE),\">\"&B231)-COUNTIF(INDIRECT(\"MonteCarlo!\"&CostCalculation!$N$10&3,TRUE):INDIRECT(\"MonteCarlo!\"&CostCalculation!$N$10&CostCalculation!$E$4+2,TRUE),\">\"&B232))/CostCalculation!$E$4=0,#N/A,(COUNTIF(INDIRECT(\"MonteCarlo!\"&CostCalculation!$N$10&3,TRUE):INDIRECT(\"MonteCarlo!\"&CostCalculation!$N$10&CostCalculation!$E$4+2,TRUE),\">\"&B231)-COUNTIF(INDIRECT(\"MonteCarlo!\"&CostCalculation!$N$10&3,TRUE):INDIRECT(\"MonteCarlo!\"&CostCalculation!$N$10&CostCalculation!$E$4+2,TRUE),\">\"&B232))/CostCalculation!$E$4)","v":{"$error":"#N/A"}}]
[0.67500000000000004,{"$f":"ROUND(INDIRECT(\"CostCalculation!D\"&CostCalculation!$O$10,TRUE)*A232,0)","v":330915},{"$f":"IF((COUNTIF(INDIRECT(\"MonteCarlo!\"&CostCalculation!$N$10&3,TRUE):INDIRECT(\"MonteCarlo!\"&CostCalculation!$N$10&CostCalculation!$E$4+2,TRUE),\"<=\"&B232))/CostCalculation!$E$4=0,#N/A,(COUNTIF(INDIRECT(\"MonteCarlo!\"&CostCalculation!$N$10&3,TRUE):INDIRECT(\"MonteCarlo!\"&CostCalculation!$N$10&CostCalculation!$E$4+2,TRUE),\"<=\"&B232))/CostCalculation!$E$4)","v":0.99399999999999999},330915,{"$f":"IF((COUNTIF(INDIRECT(\"MonteCarlo!\"&CostCalculation!$N$10&3,TRUE):INDIRECT(\"MonteCarlo!\"&CostCalculation!$N$10&CostCalculation!$E$4+2,TRUE),\">\"&B232)-COUNTIF(INDIRECT(\"MonteCarlo!\"&CostCalculation!$N$10&3,TRUE):INDIRECT(\"MonteCarlo!\"&CostCalculation!$N$10&CostCalculation!$E$4+2,TRUE),\">\"&B233))/CostCalculation!$E$4=0,#N/A,(COUNTIF(INDIRECT(\"MonteCarlo!\"&CostCalculation!$N$10&3,TRUE):INDIRECT(\"MonteCarlo!\"&CostCalculation!$N$10&CostCalculation!$E$4+2,TRUE),\">\"&B232)-COUNTIF(INDIRECT(\"MonteCarlo!\"&CostCalculation!$N$10&3,TRUE):INDIRECT(\"MonteCarlo!\"&CostCalculation!$N$10&CostCalculation!$E$4+2,TRUE),\">\"&B233))/CostCalculation!$E$4)","v":{"$error":"#N/A"}}]
[0.67800000000000005,{"$f":"ROUND(INDIRECT(\"CostCalculation!D\"&CostCalculation!$O$10,TRUE)*A233,0)","v":332386},{"$f":"IF((COUNTIF(INDIRECT(\"MonteCarlo!\"&CostCalculation!$N$10&3,TRUE):INDIRECT(\"MonteCarlo!\"&CostCalculation!$N$10&CostCalculation!$E$4+2,TRUE),\"<=\"&B233))/CostCalculation!$E$4=0,#N/A,(COUNTIF(INDIRECT(\"MonteCarlo!\"&CostCalculation!$N$10&3,TRUE):INDIRECT(\"MonteCarlo!\"&CostCalculation!$N$10&CostCalculation!$E$4+2,TRUE),\"<=\"&B233))/CostCalculation!$E$4)","v":0.99399999999999999},332386,{"$f":"IF((COUNTIF(INDIRECT(\"MonteCarlo!\"&CostCalculation!$N$10&3,TRUE):INDIRECT(\"MonteCarlo!\"&CostCalculation!$N$10&CostCalculation!$E$4+2,TRUE),\">\"&B233)-COUNTIF(INDIRECT(\"MonteCarlo!\"&CostCalculation!$N$10&3,TRUE):INDIRECT(\"MonteCarlo!\"&CostCalculation!$N$10&CostCalculation!$E$4+2,TRUE),\">\"&B234))/CostCalculation!$E$4=0,#N/A,(COUNTIF(INDIRECT(\"MonteCarlo!\"&CostCalculation!$N$10&3,TRUE):INDIRECT(\"MonteCarlo!\"&CostCalculation!$N$10&CostCalculation!$E$4+2,TRUE),\">\"&B233)-COUNTIF(INDIRECT(\"MonteCarlo!\"&CostCalculation!$N$10&3,TRUE):INDIRECT(\"MonteCarlo!\"&CostCalculation!$N$10&CostCalculation!$E$4+2,TRUE),\">\"&B234))/CostCalculation!$E$4)","v":{"$error":"#N/A"}}]
[0.68100000000000005,{"$f":"ROUND(INDIRECT(\"CostCalculation!D\"&CostCalculation!$O$10,TRUE)*A234,0)","v":333857},{"$f":"IF((COUNTIF(INDIRECT(\"MonteCarlo!\"&CostCalculation!$N$10&3,TRUE):INDIRECT(\"MonteCarlo!\"&CostCalculation!$N$10&CostCalculation!$E$4+2,TRUE),\"<=\"&B234))/CostCalculation!$E$4=0,#N/A,(COUNTIF(INDIRECT(\"MonteCarlo!\"&CostCalculation!$N$10&3,TRUE):INDIRECT(\"MonteCarlo!\"&CostCalculation!$N$10&CostCalculation!$E$4+2,TRUE),\"<=\"&B234))/CostCalculation!$E$4)","v":0.99399999999999999},333857,{"$f":"IF((COUNTIF(INDIRECT(\"MonteCarlo!\"&CostCalculation!$N$10&3,TRUE):INDIRECT(\"MonteCarlo!\"&CostCalculation!$N$10&CostCalculation!$E$4+2,TRUE),\">\"&B234)-COUNTIF(INDIRECT(\"MonteCarlo!\"&CostCalculation!$N$10&3,TRUE):INDIRECT(\"MonteCarlo!\"&CostCalculation!$N$10&CostCalculation!$E$4+2,TRUE),\">\"&B235))/CostCalculation!$E$4=0,#N/A,(COUNTIF(INDIRECT(\"MonteCarlo!\"&CostCalculation!$N$10&3,TRUE):INDIRECT(\"MonteCarlo!\"&CostCalculation!$N$10&CostCalculation!$E$4+2,TRUE),\">\"&B234)-COUNTIF(INDIRECT(\"MonteCarlo!\"&CostCalculation!$N$10&3,TRUE):INDIRECT(\"MonteCarlo!\"&CostCalculation!$N$10&CostCalculation!$E$4+2,TRUE),\">\"&B235))/CostCalculation!$E$4)","v":{"$error":"#N/A"}}]
[0.68400000000000005,{"$f":"ROUND(INDIRECT(\"CostCalculation!D\"&CostCalculation!$O$10,TRUE)*A235,0)","v":335328},{"$f":"IF((COUNTIF(INDIRECT(\"MonteCarlo!\"&CostCalculation!$N$10&3,TRUE):INDIRECT(\"MonteCarlo!\"&CostCalculation!$N$10&CostCalculation!$E$4+2,TRUE),\"<=\"&B235))/CostCalculation!$E$4=0,#N/A,(COUNTIF(INDIRECT(\"MonteCarlo!\"&CostCalculation!$N$10&3,TRUE):INDIRECT(\"MonteCarlo!\"&CostCalculation!$N$10&CostCalculation!$E$4+2,TRUE),\"<=\"&B235))/CostCalculation!$E$4)","v":0.99399999999999999},335328,{"$f":"IF((COUNTIF(INDIRECT(\"MonteCarlo!\"&CostCalculation!$N$10&3,TRUE):INDIRECT(\"MonteCarlo!\"&CostCalculation!$N$10&CostCalculation!$E$4+2,TRUE),\">\"&B235)-COUNTIF(INDIRECT(\"MonteCarlo!\"&CostCalculation!$N$10&3,TRUE):INDIRECT(\"MonteCarlo!\"&CostCalculation!$N$10&CostCalculation!$E$4+2,TRUE),\">\"&B236))/CostCalculation!$E$4=0,#N/A,(COUNTIF(INDIRECT(\"MonteCarlo!\"&CostCalculation!$N$10&3,TRUE):INDIRECT(\"MonteCarlo!\"&CostCalculation!$N$10&CostCalculation!$E$4+2,TRUE),\">\"&B235)-COUNTIF(INDIRECT(\"MonteCarlo!\"&CostCalculation!$N$10&3,TRUE):INDIRECT(\"MonteCarlo!\"&CostCalculation!$N$10&CostCalculation!$E$4+2,TRUE),\">\"&B236))/CostCalculation!$E$4)","v":{"$error":"#N/A"}}]
[0.68700000000000006,{"$f":"ROUND(INDIRECT(\"CostCalculation!D\"&CostCalculation!$O$10,TRUE)*A236,0)","v":336798},{"$f":"IF((COUNTIF(INDIRECT(\"MonteCarlo!\"&CostCalculation!$N$10&3,TRUE):INDIRECT(\"MonteCarlo!\"&CostCalculation!$N$10&CostCalculation!$E$4+2,TRUE),\"<=\"&B236))/CostCalculation!$E$4=0,#N/A,(COUNTIF(INDIRECT(\"MonteCarlo!\"&CostCalculation!$N$10&3,TRUE):INDIRECT(\"MonteCarlo!\"&CostCalculation!$N$10&CostCalculation!$E$4+2,TRUE),\"<=\"&B236))/CostCalculation!$E$4)","v":0.99399999999999999},336798,{"$f":"IF((COUNTIF(INDIRECT(\"MonteCarlo!\"&CostCalculation!$N$10&3,TRUE):INDIRECT(\"MonteCarlo!\"&CostCalculation!$N$10&CostCalculation!$E$4+2,TRUE),\">\"&B236)-COUNTIF(INDIRECT(\"MonteCarlo!\"&CostCalculation!$N$10&3,TRUE):INDIRECT(\"MonteCarlo!\"&CostCalculation!$N$10&CostCalculation!$E$4+2,TRUE),\">\"&B237))/CostCalculation!$E$4=0,#N/A,(COUNTIF(INDIRECT(\"MonteCarlo!\"&CostCalculation!$N$10&3,TRUE):INDIRECT(\"MonteCarlo!\"&CostCalculation!$N$10&CostCalculation!$E$4+2,TRUE),\">\"&B236)-COUNTIF(INDIRECT(\"MonteCarlo!\"&CostCalculation!$N$10&3,TRUE):INDIRECT(\"MonteCarlo!\"&CostCalculation!$N$10&CostCalculation!$E$4+2,TRUE),\">\"&B237))/CostCalculation!$E$4)","v":{"$error":"#N/A"}}]
[0.69,{"$f":"ROUND(INDIRECT(\"CostCalculation!D\"&CostCalculation!$O$10,TRUE)*A237,0)","v":338269},{"$f":"IF((COUNTIF(INDIRECT(\"MonteCarlo!\"&CostCalculation!$N$10&3,TRUE):INDIRECT(\"MonteCarlo!\"&CostCalculation!$N$10&CostCalculation!$E$4+2,TRUE),\"<=\"&B237))/CostCalculation!$E$4=0,#N/A,(COUNTIF(INDIRECT(\"MonteCarlo!\"&CostCalculation!$N$10&3,TRUE):INDIRECT(\"MonteCarlo!\"&CostCalculation!$N$10&CostCalculation!$E$4+2,TRUE),\"<=\"&B237))/CostCalculation!$E$4)","v":0.99399999999999999},338269,{"$f":"IF((COUNTIF(INDIRECT(\"MonteCarlo!\"&CostCalculation!$N$10&3,TRUE):INDIRECT(\"MonteCarlo!\"&CostCalculation!$N$10&CostCalculation!$E$4+2,TRUE),\">\"&B237)-COUNTIF(INDIRECT(\"MonteCarlo!\"&CostCalculation!$N$10&3,TRUE):INDIRECT(\"MonteCarlo!\"&CostCalculation!$N$10&CostCalculation!$E$4+2,TRUE),\">\"&B238))/CostCalculation!$E$4=0,#N/A,(COUNTIF(INDIRECT(\"MonteCarlo!\"&CostCalculation!$N$10&3,TRUE):INDIRECT(\"MonteCarlo!\"&CostCalculation!$N$10&CostCalculation!$E$4+2,TRUE),\">\"&B237)-COUNTIF(INDIRECT(\"MonteCarlo!\"&CostCalculation!$N$10&3,TRUE):INDIRECT(\"MonteCarlo!\"&CostCalculation!$N$10&CostCalculation!$E$4+2,TRUE),\">\"&B238))/CostCalculation!$E$4)","v":{"$error":"#N/A"}}]
[0.69299999999999995,{"$f":"ROUND(INDIRECT(\"CostCalculation!D\"&CostCalculation!$O$10,TRUE)*A238,0)","v":339740},{"$f":"IF((COUNTIF(INDIRECT(\"MonteCarlo!\"&CostCalculation!$N$10&3,TRUE):INDIRECT(\"MonteCarlo!\"&CostCalculation!$N$10&CostCalculation!$E$4+2,TRUE),\"<=\"&B238))/CostCalculation!$E$4=0,#N/A,(COUNTIF(INDIRECT(\"MonteCarlo!\"&CostCalculation!$N$10&3,TRUE):INDIRECT(\"MonteCarlo!\"&CostCalculation!$N$10&CostCalculation!$E$4+2,TRUE),\"<=\"&B238))/CostCalculation!$E$4)","v":0.99399999999999999},339740,{"$f":"IF((COUNTIF(INDIRECT(\"MonteCarlo!\"&CostCalculation!$N$10&3,TRUE):INDIRECT(\"MonteCarlo!\"&CostCalculation!$N$10&CostCalculation!$E$4+2,TRUE),\">\"&B238)-COUNTIF(INDIRECT(\"MonteCarlo!\"&CostCalculation!$N$10&3,TRUE):INDIRECT(\"MonteCarlo!\"&CostCalculation!$N$10&CostCalculation!$E$4+2,TRUE),\">\"&B239))/CostCalculation!$E$4=0,#N/A,(COUNTIF(INDIRECT(\"MonteCarlo!\"&CostCalculation!$N$10&3,TRUE):INDIRECT(\"MonteCarlo!\"&CostCalculation!$N$10&CostCalculation!$E$4+2,TRUE),\">\"&B238)-COUNTIF(INDIRECT(\"MonteCarlo!\"&CostCalculation!$N$10&3,TRUE):INDIRECT(\"MonteCarlo!\"&CostCalculation!$N$10&CostCalculation!$E$4+2,TRUE),\">\"&B239))/CostCalculation!$E$4)","v":{"$error":"#N/A"}}]
[0.69599999999999995,{"$f":"ROUND(INDIRECT(\"CostCalculation!D\"&CostCalculation!$O$10,TRUE)*A239,0)","v":341211},{"$f":"IF((COUNTIF(INDIRECT(\"MonteCarlo!\"&CostCalculation!$N$10&3,TRUE):INDIRECT(\"MonteCarlo!\"&CostCalculation!$N$10&CostCalculation!$E$4+2,TRUE),\"<=\"&B239))/CostCalculation!$E$4=0,#N/A,(COUNTIF(INDIRECT(\"MonteCarlo!\"&CostCalculation!$N$10&3,TRUE):INDIRECT(\"MonteCarlo!\"&CostCalculation!$N$10&CostCalculation!$E$4+2,TRUE),\"<=\"&B239))/CostCalculation!$E$4)","v":0.99399999999999999},341211,{"$f":"IF((COUNTIF(INDIRECT(\"MonteCarlo!\"&CostCalculation!$N$10&3,TRUE):INDIRECT(\"MonteCarlo!\"&CostCalculation!$N$10&CostCalculation!$E$4+2,TRUE),\">\"&B239)-COUNTIF(INDIRECT(\"MonteCarlo!\"&CostCalculation!$N$10&3,TRUE):INDIRECT(\"MonteCarlo!\"&CostCalculation!$N$10&CostCalculation!$E$4+2,TRUE),\">\"&B240))/CostCalculation!$E$4=0,#N/A,(COUNTIF(INDIRECT(\"MonteCarlo!\"&CostCalculation!$N$10&3,TRUE):INDIRECT(\"MonteCarlo!\"&CostCalculation!$N$10&CostCalculation!$E$4+2,TRUE),\">\"&B239)-COUNTIF(INDIRECT(\"MonteCarlo!\"&CostCalculation!$N$10&3,TRUE):INDIRECT(\"MonteCarlo!\"&CostCalculation!$N$10&CostCalculation!$E$4+2,TRUE),\">\"&B240))/CostCalculation!$E$4)","v":{"$error":"#N/A"}}]
[0.69899999999999995,{"$f":"ROUND(INDIRECT(\"CostCalculation!D\"&CostCalculation!$O$10,TRUE)*A240,0)","v":342681},{"$f":"IF((COUNTIF(INDIRECT(\"MonteCarlo!\"&CostCalculation!$N$10&3,TRUE):INDIRECT(\"MonteCarlo!\"&CostCalculation!$N$10&CostCalculation!$E$4+2,TRUE),\"<=\"&B240))/CostCalculation!$E$4=0,#N/A,(COUNTIF(INDIRECT(\"MonteCarlo!\"&CostCalculation!$N$10&3,TRUE):INDIRECT(\"MonteCarlo!\"&CostCalculation!$N$10&CostCalculation!$E$4+2,TRUE),\"<=\"&B240))/CostCalculation!$E$4)","v":0.99399999999999999},342681,{"$f":"IF((COUNTIF(INDIRECT(\"MonteCarlo!\"&CostCalculation!$N$10&3,TRUE):INDIRECT(\"MonteCarlo!\"&CostCalculation!$N$10&CostCalculation!$E$4+2,TRUE),\">\"&B240)-COUNTIF(INDIRECT(\"MonteCarlo!\"&CostCalculation!$N$10&3,TRUE):INDIRECT(\"MonteCarlo!\"&CostCalculation!$N$10&CostCalculation!$E$4+2,TRUE),\">\"&B241))/CostCalculation!$E$4=0,#N/A,(COUNTIF(INDIRECT(\"MonteCarlo!\"&CostCalculation!$N$10&3,TRUE):INDIRECT(\"MonteCarlo!\"&CostCalculation!$N$10&CostCalculation!$E$4+2,TRUE),\">\"&B240)-COUNTIF(INDIRECT(\"MonteCarlo!\"&CostCalculation!$N$10&3,TRUE):INDIRECT(\"MonteCarlo!\"&CostCalculation!$N$10&CostCalculation!$E$4+2,TRUE),\">\"&B241))/CostCalculation!$E$4)","v":{"$error":"#N/A"}}]
[0.70199999999999996,{"$f":"ROUND(INDIRECT(\"CostCalculation!D\"&CostCalculation!$O$10,TRUE)*A241,0)","v":344152},{"$f":"IF((COUNTIF(INDIRECT(\"MonteCarlo!\"&CostCalculation!$N$10&3,TRUE):INDIRECT(\"MonteCarlo!\"&CostCalculation!$N$10&CostCalculation!$E$4+2,TRUE),\"<=\"&B241))/CostCalculation!$E$4=0,#N/A,(COUNTIF(INDIRECT(\"MonteCarlo!\"&CostCalculation!$N$10&3,TRUE):INDIRECT(\"MonteCarlo!\"&CostCalculation!$N$10&CostCalculation!$E$4+2,TRUE),\"<=\"&B241))/CostCalculation!$E$4)","v":0.99399999999999999},344152,{"$f":"IF((COUNTIF(INDIRECT(\"MonteCarlo!\"&CostCalculation!$N$10&3,TRUE):INDIRECT(\"MonteCarlo!\"&CostCalculation!$N$10&CostCalculation!$E$4+2,TRUE),\">\"&B241)-COUNTIF(INDIRECT(\"MonteCarlo!\"&CostCalculation!$N$10&3,TRUE):INDIRECT(\"MonteCarlo!\"&CostCalculation!$N$10&CostCalculation!$E$4+2,TRUE),\">\"&B242))/CostCalculation!$E$4=0,#N/A,(COUNTIF(INDIRECT(\"MonteCarlo!\"&CostCalculation!$N$10&3,TRUE):INDIRECT(\"MonteCarlo!\"&CostCalculation!$N$10&CostCalculation!$E$4+2,TRUE),\">\"&B241)-COUNTIF(INDIRECT(\"MonteCarlo!\"&CostCalculation!$N$10&3,TRUE):INDIRECT(\"MonteCarlo!\"&CostCalculation!$N$10&CostCalculation!$E$4+2,TRUE),\">\"&B242))/CostCalculation!$E$4)","v":{"$error":"#N/A"}}]
[0.70499999999999996,{"$f":"ROUND(INDIRECT(\"CostCalculation!D\"&CostCalculation!$O$10,TRUE)*A242,0)","v":345623},{"$f":"IF((COUNTIF(INDIRECT(\"MonteCarlo!\"&CostCalculation!$N$10&3,TRUE):INDIRECT(\"MonteCarlo!\"&CostCalculation!$N$10&CostCalculation!$E$4+2,TRUE),\"<=\"&B242))/CostCalculation!$E$4=0,#N/A,(COUNTIF(INDIRECT(\"MonteCarlo!\"&CostCalculation!$N$10&3,TRUE):INDIRECT(\"MonteCarlo!\"&CostCalculation!$N$10&CostCalculation!$E$4+2,TRUE),\"<=\"&B242))/CostCalculation!$E$4)","v":0.99399999999999999},345623,{"$f":"IF((COUNTIF(INDIRECT(\"MonteCarlo!\"&CostCalculation!$N$10&3,TRUE):INDIRECT(\"MonteCarlo!\"&CostCalculation!$N$10&CostCalculation!$E$4+2,TRUE),\">\"&B242)-COUNTIF(INDIRECT(\"MonteCarlo!\"&CostCalculation!$N$10&3,TRUE):INDIRECT(\"MonteCarlo!\"&CostCalculation!$N$10&CostCalculation!$E$4+2,TRUE),\">\"&B243))/CostCalculation!$E$4=0,#N/A,(COUNTIF(INDIRECT(\"MonteCarlo!\"&CostCalculation!$N$10&3,TRUE):INDIRECT(\"MonteCarlo!\"&CostCalculation!$N$10&CostCalculation!$E$4+2,TRUE),\">\"&B242)-COUNTIF(INDIRECT(\"MonteCarlo!\"&CostCalculation!$N$10&3,TRUE):INDIRECT(\"MonteCarlo!\"&CostCalculation!$N$10&CostCalculation!$E$4+2,TRUE),\">\"&B243))/CostCalculation!$E$4)","v":{"$error":"#N/A"}}]
[0.70799999999999996,{"$f":"ROUND(INDIRECT(\"CostCalculation!D\"&CostCalculation!$O$10,TRUE)*A243,0)","v":347093},{"$f":"IF((COUNTIF(INDIRECT(\"MonteCarlo!\"&CostCalculation!$N$10&3,TRUE):INDIRECT(\"MonteCarlo!\"&CostCalculation!$N$10&CostCalculation!$E$4+2,TRUE),\"<=\"&B243))/CostCalculation!$E$4=0,#N/A,(COUNTIF(INDIRECT(\"MonteCarlo!\"&CostCalculation!$N$10&3,TRUE):INDIRECT(\"MonteCarlo!\"&CostCalculation!$N$10&CostCalculation!$E$4+2,TRUE),\"<=\"&B243))/CostCalculation!$E$4)","v":0.99399999999999999},347093,{"$f":"IF((COUNTIF(INDIRECT(\"MonteCarlo!\"&CostCalculation!$N$10&3,TRUE):INDIRECT(\"MonteCarlo!\"&CostCalculation!$N$10&CostCalculation!$E$4+2,TRUE),\">\"&B243)-COUNTIF(INDIRECT(\"MonteCarlo!\"&CostCalculation!$N$10&3,TRUE):INDIRECT(\"MonteCarlo!\"&CostCalculation!$N$10&CostCalculation!$E$4+2,TRUE),\">\"&B244))/CostCalculation!$E$4=0,#N/A,(COUNTIF(INDIRECT(\"MonteCarlo!\"&CostCalculation!$N$10&3,TRUE):INDIRECT(\"MonteCarlo!\"&CostCalculation!$N$10&CostCalculation!$E$4+2,TRUE),\">\"&B243)-COUNTIF(INDIRECT(\"MonteCarlo!\"&CostCalculation!$N$10&3,TRUE):INDIRECT(\"MonteCarlo!\"&CostCalculation!$N$10&CostCalculation!$E$4+2,TRUE),\">\"&B244))/CostCalculation!$E$4)","v":{"$error":"#N/A"}}]
[0.71099999999999997,{"$f":"ROUND(INDIRECT(\"CostCalculation!D\"&CostCalculation!$O$10,TRUE)*A244,0)","v":348564},{"$f":"IF((COUNTIF(INDIRECT(\"MonteCarlo!\"&CostCalculation!$N$10&3,TRUE):INDIRECT(\"MonteCarlo!\"&CostCalculation!$N$10&CostCalculation!$E$4+2,TRUE),\"<=\"&B244))/CostCalculation!$E$4=0,#N/A,(COUNTIF(INDIRECT(\"MonteCarlo!\"&CostCalculation!$N$10&3,TRUE):INDIRECT(\"MonteCarlo!\"&CostCalculation!$N$10&CostCalculation!$E$4+2,TRUE),\"<=\"&B244))/CostCalculation!$E$4)","v":0.99399999999999999},348564,{"$f":"IF((COUNTIF(INDIRECT(\"MonteCarlo!\"&CostCalculation!$N$10&3,TRUE):INDIRECT(\"MonteCarlo!\"&CostCalculation!$N$10&CostCalculation!$E$4+2,TRUE),\">\"&B244)-COUNTIF(INDIRECT(\"MonteCarlo!\"&CostCalculation!$N$10&3,TRUE):INDIRECT(\"MonteCarlo!\"&CostCalculation!$N$10&CostCalculation!$E$4+2,TRUE),\">\"&B245))/CostCalculation!$E$4=0,#N/A,(COUNTIF(INDIRECT(\"MonteCarlo!\"&CostCalculation!$N$10&3,TRUE):INDIRECT(\"MonteCarlo!\"&CostCalculation!$N$10&CostCalculation!$E$4+2,TRUE),\">\"&B244)-COUNTIF(INDIRECT(\"MonteCarlo!\"&CostCalculation!$N$10&3,TRUE):INDIRECT(\"MonteCarlo!\"&CostCalculation!$N$10&CostCalculation!$E$4+2,TRUE),\">\"&B245))/CostCalculation!$E$4)","v":{"$error":"#N/A"}}]
[0.71399999999999997,{"$f":"ROUND(INDIRECT(\"CostCalculation!D\"&CostCalculation!$O$10,TRUE)*A245,0)","v":350035},{"$f":"IF((COUNTIF(INDIRECT(\"MonteCarlo!\"&CostCalculation!$N$10&3,TRUE):INDIRECT(\"MonteCarlo!\"&CostCalculation!$N$10&CostCalculation!$E$4+2,TRUE),\"<=\"&B245))/CostCalculation!$E$4=0,#N/A,(COUNTIF(INDIRECT(\"MonteCarlo!\"&CostCalculation!$N$10&3,TRUE):INDIRECT(\"MonteCarlo!\"&CostCalculation!$N$10&CostCalculation!$E$4+2,TRUE),\"<=\"&B245))/CostCalculation!$E$4)","v":0.99399999999999999},350035,{"$f":"IF((COUNTIF(INDIRECT(\"MonteCarlo!\"&CostCalculation!$N$10&3,TRUE):INDIRECT(\"MonteCarlo!\"&CostCalculation!$N$10&CostCalculation!$E$4+2,TRUE),\">\"&B245)-COUNTIF(INDIRECT(\"MonteCarlo!\"&CostCalculation!$N$10&3,TRUE):INDIRECT(\"MonteCarlo!\"&CostCalculation!$N$10&CostCalculation!$E$4+2,TRUE),\">\"&B246))/CostCalculation!$E$4=0,#N/A,(COUNTIF(INDIRECT(\"MonteCarlo!\"&CostCalculation!$N$10&3,TRUE):INDIRECT(\"MonteCarlo!\"&CostCalculation!$N$10&CostCalculation!$E$4+2,TRUE),\">\"&B245)-COUNTIF(INDIRECT(\"MonteCarlo!\"&CostCalculation!$N$10&3,TRUE):INDIRECT(\"MonteCarlo!\"&CostCalculation!$N$10&CostCalculation!$E$4+2,TRUE),\">\"&B246))/CostCalculation!$E$4)","v":{"$error":"#N/A"}}]
[0.71699999999999997,{"$f":"ROUND(INDIRECT(\"CostCalculation!D\"&CostCalculation!$O$10,TRUE)*A246,0)","v":351506},{"$f":"IF((COUNTIF(INDIRECT(\"MonteCarlo!\"&CostCalculation!$N$10&3,TRUE):INDIRECT(\"MonteCarlo!\"&CostCalculation!$N$10&CostCalculation!$E$4+2,TRUE),\"<=\"&B246))/CostCalculation!$E$4=0,#N/A,(COUNTIF(INDIRECT(\"MonteCarlo!\"&CostCalculation!$N$10&3,TRUE):INDIRECT(\"MonteCarlo!\"&CostCalculation!$N$10&CostCalculation!$E$4+2,TRUE),\"<=\"&B246))/CostCalculation!$E$4)","v":0.99399999999999999},351506,{"$f":"IF((COUNTIF(INDIRECT(\"MonteCarlo!\"&CostCalculation!$N$10&3,TRUE):INDIRECT(\"MonteCarlo!\"&CostCalculation!$N$10&CostCalculation!$E$4+2,TRUE),\">\"&B246)-COUNTIF(INDIRECT(\"MonteCarlo!\"&CostCalculation!$N$10&3,TRUE):INDIRECT(\"MonteCarlo!\"&CostCalculation!$N$10&CostCalculation!$E$4+2,TRUE),\">\"&B247))/CostCalculation!$E$4=0,#N/A,(COUNTIF(INDIRECT(\"MonteCarlo!\"&CostCalculation!$N$10&3,TRUE):INDIRECT(\"MonteCarlo!\"&CostCalculation!$N$10&CostCalculation!$E$4+2,TRUE),\">\"&B246)-COUNTIF(INDIRECT(\"MonteCarlo!\"&CostCalculation!$N$10&3,TRUE):INDIRECT(\"MonteCarlo!\"&CostCalculation!$N$10&CostCalculation!$E$4+2,TRUE),\">\"&B247))/CostCalculation!$E$4)","v":{"$error":"#N/A"}}]
[0.72,{"$f":"ROUND(INDIRECT(\"CostCalculation!D\"&CostCalculation!$O$10,TRUE)*A247,0)","v":352976},{"$f":"IF((COUNTIF(INDIRECT(\"MonteCarlo!\"&CostCalculation!$N$10&3,TRUE):INDIRECT(\"MonteCarlo!\"&CostCalculation!$N$10&CostCalculation!$E$4+2,TRUE),\"<=\"&B247))/CostCalculation!$E$4=0,#N/A,(COUNTIF(INDIRECT(\"MonteCarlo!\"&CostCalculation!$N$10&3,TRUE):INDIRECT(\"MonteCarlo!\"&CostCalculation!$N$10&CostCalculation!$E$4+2,TRUE),\"<=\"&B247))/CostCalculation!$E$4)","v":0.99399999999999999},352976,{"$f":"IF((COUNTIF(INDIRECT(\"MonteCarlo!\"&CostCalculation!$N$10&3,TRUE):INDIRECT(\"MonteCarlo!\"&CostCalculation!$N$10&CostCalculation!$E$4+2,TRUE),\">\"&B247)-COUNTIF(INDIRECT(\"MonteCarlo!\"&CostCalculation!$N$10&3,TRUE):INDIRECT(\"MonteCarlo!\"&CostCalculation!$N$10&CostCalculation!$E$4+2,TRUE),\">\"&B248))/CostCalculation!$E$4=0,#N/A,(COUNTIF(INDIRECT(\"MonteCarlo!\"&CostCalculation!$N$10&3,TRUE):INDIRECT(\"MonteCarlo!\"&CostCalculation!$N$10&CostCalculation!$E$4+2,TRUE),\">\"&B247)-COUNTIF(INDIRECT(\"MonteCarlo!\"&CostCalculation!$N$10&3,TRUE):INDIRECT(\"MonteCarlo!\"&CostCalculation!$N$10&CostCalculation!$E$4+2,TRUE),\">\"&B248))/CostCalculation!$E$4)","v":{"$error":"#N/A"}}]
[0.72299999999999998,{"$f":"ROUND(INDIRECT(\"CostCalculation!D\"&CostCalculation!$O$10,TRUE)*A248,0)","v":354447},{"$f":"IF((COUNTIF(INDIRECT(\"MonteCarlo!\"&CostCalculation!$N$10&3,TRUE):INDIRECT(\"MonteCarlo!\"&CostCalculation!$N$10&CostCalculation!$E$4+2,TRUE),\"<=\"&B248))/CostCalculation!$E$4=0,#N/A,(COUNTIF(INDIRECT(\"MonteCarlo!\"&CostCalculation!$N$10&3,TRUE):INDIRECT(\"MonteCarlo!\"&CostCalculation!$N$10&CostCalculation!$E$4+2,TRUE),\"<=\"&B248))/CostCalculation!$E$4)","v":0.99399999999999999},354447,{"$f":"IF((COUNTIF(INDIRECT(\"MonteCarlo!\"&CostCalculation!$N$10&3,TRUE):INDIRECT(\"MonteCarlo!\"&CostCalculation!$N$10&CostCalculation!$E$4+2,TRUE),\">\"&B248)-COUNTIF(INDIRECT(\"MonteCarlo!\"&CostCalculation!$N$10&3,TRUE):INDIRECT(\"MonteCarlo!\"&CostCalculation!$N$10&CostCalculation!$E$4+2,TRUE),\">\"&B249))/CostCalculation!$E$4=0,#N/A,(COUNTIF(INDIRECT(\"MonteCarlo!\"&CostCalculation!$N$10&3,TRUE):INDIRECT(\"MonteCarlo!\"&CostCalculation!$N$10&CostCalculation!$E$4+2,TRUE),\">\"&B248)-COUNTIF(INDIRECT(\"MonteCarlo!\"&CostCalculation!$N$10&3,TRUE):INDIRECT(\"MonteCarlo!\"&CostCalculation!$N$10&CostCalculation!$E$4+2,TRUE),\">\"&B249))/CostCalculation!$E$4)","v":{"$error":"#N/A"}}]
[0.72599999999999998,{"$f":"ROUND(INDIRECT(\"CostCalculation!D\"&CostCalculation!$O$10,TRUE)*A249,0)","v":355918},{"$f":"IF((COUNTIF(INDIRECT(\"MonteCarlo!\"&CostCalculation!$N$10&3,TRUE):INDIRECT(\"MonteCarlo!\"&CostCalculation!$N$10&CostCalculation!$E$4+2,TRUE),\"<=\"&B249))/CostCalculation!$E$4=0,#N/A,(COUNTIF(INDIRECT(\"MonteCarlo!\"&CostCalculation!$N$10&3,TRUE):INDIRECT(\"MonteCarlo!\"&CostCalculation!$N$10&CostCalculation!$E$4+2,TRUE),\"<=\"&B249))/CostCalculation!$E$4)","v":0.99399999999999999},355918,{"$f":"IF((COUNTIF(INDIRECT(\"MonteCarlo!\"&CostCalculation!$N$10&3,TRUE):INDIRECT(\"MonteCarlo!\"&CostCalculation!$N$10&CostCalculation!$E$4+2,TRUE),\">\"&B249)-COUNTIF(INDIRECT(\"MonteCarlo!\"&CostCalculation!$N$10&3,TRUE):INDIRECT(\"MonteCarlo!\"&CostCalculation!$N$10&CostCalculation!$E$4+2,TRUE),\">\"&B250))/CostCalculation!$E$4=0,#N/A,(COUNTIF(INDIRECT(\"MonteCarlo!\"&CostCalculation!$N$10&3,TRUE):INDIRECT(\"MonteCarlo!\"&CostCalculation!$N$10&CostCalculation!$E$4+2,TRUE),\">\"&B249)-COUNTIF(INDIRECT(\"MonteCarlo!\"&CostCalculation!$N$10&3,TRUE):INDIRECT(\"MonteCarlo!\"&CostCalculation!$N$10&CostCalculation!$E$4+2,TRUE),\">\"&B250))/CostCalculation!$E$4)","v":{"$error":"#N/A"}}]
[0.72899999999999998,{"$f":"ROUND(INDIRECT(\"CostCalculation!D\"&CostCalculation!$O$10,TRUE)*A250,0)","v":357389},{"$f":"IF((COUNTIF(INDIRECT(\"MonteCarlo!\"&CostCalculation!$N$10&3,TRUE):INDIRECT(\"MonteCarlo!\"&CostCalculation!$N$10&CostCalculation!$E$4+2,TRUE),\"<=\"&B250))/CostCalculation!$E$4=0,#N/A,(COUNTIF(INDIRECT(\"MonteCarlo!\"&CostCalculation!$N$10&3,TRUE):INDIRECT(\"MonteCarlo!\"&CostCalculation!$N$10&CostCalculation!$E$4+2,TRUE),\"<=\"&B250))/CostCalculation!$E$4)","v":0.99399999999999999},357389,{"$f":"IF((COUNTIF(INDIRECT(\"MonteCarlo!\"&CostCalculation!$N$10&3,TRUE):INDIRECT(\"MonteCarlo!\"&CostCalculation!$N$10&CostCalculation!$E$4+2,TRUE),\">\"&B250)-COUNTIF(INDIRECT(\"MonteCarlo!\"&CostCalculation!$N$10&3,TRUE):INDIRECT(\"MonteCarlo!\"&CostCalculation!$N$10&CostCalculation!$E$4+2,TRUE),\">\"&B251))/CostCalculation!$E$4=0,#N/A,(COUNTIF(INDIRECT(\"MonteCarlo!\"&CostCalculation!$N$10&3,TRUE):INDIRECT(\"MonteCarlo!\"&CostCalculation!$N$10&CostCalculation!$E$4+2,TRUE),\">\"&B250)-COUNTIF(INDIRECT(\"MonteCarlo!\"&CostCalculation!$N$10&3,TRUE):INDIRECT(\"MonteCarlo!\"&CostCalculation!$N$10&CostCalculation!$E$4+2,TRUE),\">\"&B251))/CostCalculation!$E$4)","v":{"$error":"#N/A"}}]
[0.73199999999999998,{"$f":"ROUND(INDIRECT(\"CostCalculation!D\"&CostCalculation!$O$10,TRUE)*A251,0)","v":358859},{"$f":"IF((COUNTIF(INDIRECT(\"MonteCarlo!\"&CostCalculation!$N$10&3,TRUE):INDIRECT(\"MonteCarlo!\"&CostCalculation!$N$10&CostCalculation!$E$4+2,TRUE),\"<=\"&B251))/CostCalculation!$E$4=0,#N/A,(COUNTIF(INDIRECT(\"MonteCarlo!\"&CostCalculation!$N$10&3,TRUE):INDIRECT(\"MonteCarlo!\"&CostCalculation!$N$10&CostCalculation!$E$4+2,TRUE),\"<=\"&B251))/CostCalculation!$E$4)","v":0.99399999999999999},358859,{"$f":"IF((COUNTIF(INDIRECT(\"MonteCarlo!\"&CostCalculation!$N$10&3,TRUE):INDIRECT(\"MonteCarlo!\"&CostCalculation!$N$10&CostCalculation!$E$4+2,TRUE),\">\"&B251)-COUNTIF(INDIRECT(\"MonteCarlo!\"&CostCalculation!$N$10&3,TRUE):INDIRECT(\"MonteCarlo!\"&CostCalculation!$N$10&CostCalculation!$E$4+2,TRUE),\">\"&B252))/CostCalculation!$E$4=0,#N/A,(COUNTIF(INDIRECT(\"MonteCarlo!\"&CostCalculation!$N$10&3,TRUE):INDIRECT(\"MonteCarlo!\"&CostCalculation!$N$10&CostCalculation!$E$4+2,TRUE),\">\"&B251)-COUNTIF(INDIRECT(\"MonteCarlo!\"&CostCalculation!$N$10&3,TRUE):INDIRECT(\"MonteCarlo!\"&CostCalculation!$N$10&CostCalculation!$E$4+2,TRUE),\">\"&B252))/CostCalculation!$E$4)","v":2.5000000000000001E-3}]
[0.73499999999999999,{"$f":"ROUND(INDIRECT(\"CostCalculation!D\"&CostCalculation!$O$10,TRUE)*A252,0)","v":360330},{"$f":"IF((COUNTIF(INDIRECT(\"MonteCarlo!\"&CostCalculation!$N$10&3,TRUE):INDIRECT(\"MonteCarlo!\"&CostCalculation!$N$10&CostCalculation!$E$4+2,TRUE),\"<=\"&B252))/CostCalculation!$E$4=0,#N/A,(COUNTIF(INDIRECT(\"MonteCarlo!\"&CostCalculation!$N$10&3,TRUE):INDIRECT(\"MonteCarlo!\"&CostCalculation!$N$10&CostCalculation!$E$4+2,TRUE),\"<=\"&B252))/CostCalculation!$E$4)","v":0.99650000000000005},360330,{"$f":"IF((COUNTIF(INDIRECT(\"MonteCarlo!\"&CostCalculation!$N$10&3,TRUE):INDIRECT(\"MonteCarlo!\"&CostCalculation!$N$10&CostCalculation!$E$4+2,TRUE),\">\"&B252)-COUNTIF(INDIRECT(\"MonteCarlo!\"&CostCalculation!$N$10&3,TRUE):INDIRECT(\"MonteCarlo!\"&CostCalculation!$N$10&CostCalculation!$E$4+2,TRUE),\">\"&B253))/CostCalculation!$E$4=0,#N/A,(COUNTIF(INDIRECT(\"MonteCarlo!\"&CostCalculation!$N$10&3,TRUE):INDIRECT(\"MonteCarlo!\"&CostCalculation!$N$10&CostCalculation!$E$4+2,TRUE),\">\"&B252)-COUNTIF(INDIRECT(\"MonteCarlo!\"&CostCalculation!$N$10&3,TRUE):INDIRECT(\"MonteCarlo!\"&CostCalculation!$N$10&CostCalculation!$E$4+2,TRUE),\">\"&B253))/CostCalculation!$E$4)","v":{"$error":"#N/A"}}]
[0.73799999999999999,{"$f":"ROUND(INDIRECT(\"CostCalculation!D\"&CostCalculation!$O$10,TRUE)*A253,0)","v":361801},{"$f":"IF((COUNTIF(INDIRECT(\"MonteCarlo!\"&CostCalculation!$N$10&3,TRUE):INDIRECT(\"MonteCarlo!\"&CostCalculation!$N$10&CostCalculation!$E$4+2,TRUE),\"<=\"&B253))/CostCalculation!$E$4=0,#N/A,(COUNTIF(INDIRECT(\"MonteCarlo!\"&CostCalculation!$N$10&3,TRUE):INDIRECT(\"MonteCarlo!\"&CostCalculation!$N$10&CostCalculation!$E$4+2,TRUE),\"<=\"&B253))/CostCalculation!$E$4)","v":0.99650000000000005},361801,{"$f":"IF((COUNTIF(INDIRECT(\"MonteCarlo!\"&CostCalculation!$N$10&3,TRUE):INDIRECT(\"MonteCarlo!\"&CostCalculation!$N$10&CostCalculation!$E$4+2,TRUE),\">\"&B253)-COUNTIF(INDIRECT(\"MonteCarlo!\"&CostCalculation!$N$10&3,TRUE):INDIRECT(\"MonteCarlo!\"&CostCalculation!$N$10&CostCalculation!$E$4+2,TRUE),\">\"&B254))/CostCalculation!$E$4=0,#N/A,(COUNTIF(INDIRECT(\"MonteCarlo!\"&CostCalculation!$N$10&3,TRUE):INDIRECT(\"MonteCarlo!\"&CostCalculation!$N$10&CostCalculation!$E$4+2,TRUE),\">\"&B253)-COUNTIF(INDIRECT(\"MonteCarlo!\"&CostCalculation!$N$10&3,TRUE):INDIRECT(\"MonteCarlo!\"&CostCalculation!$N$10&CostCalculation!$E$4+2,TRUE),\">\"&B254))/CostCalculation!$E$4)","v":{"$error":"#N/A"}}]
[0.74099999999999999,{"$f":"ROUND(INDIRECT(\"CostCalculation!D\"&CostCalculation!$O$10,TRUE)*A254,0)","v":363272},{"$f":"IF((COUNTIF(INDIRECT(\"MonteCarlo!\"&CostCalculation!$N$10&3,TRUE):INDIRECT(\"MonteCarlo!\"&CostCalculation!$N$10&CostCalculation!$E$4+2,TRUE),\"<=\"&B254))/CostCalculation!$E$4=0,#N/A,(COUNTIF(INDIRECT(\"MonteCarlo!\"&CostCalculation!$N$10&3,TRUE):INDIRECT(\"MonteCarlo!\"&CostCalculation!$N$10&CostCalculation!$E$4+2,TRUE),\"<=\"&B254))/CostCalculation!$E$4)","v":0.99650000000000005},363272,{"$f":"IF((COUNTIF(INDIRECT(\"MonteCarlo!\"&CostCalculation!$N$10&3,TRUE):INDIRECT(\"MonteCarlo!\"&CostCalculation!$N$10&CostCalculation!$E$4+2,TRUE),\">\"&B254)-COUNTIF(INDIRECT(\"MonteCarlo!\"&CostCalculation!$N$10&3,TRUE):INDIRECT(\"MonteCarlo!\"&CostCalculation!$N$10&CostCalculation!$E$4+2,TRUE),\">\"&B255))/CostCalculation!$E$4=0,#N/A,(COUNTIF(INDIRECT(\"MonteCarlo!\"&CostCalculation!$N$10&3,TRUE):INDIRECT(\"MonteCarlo!\"&CostCalculation!$N$10&CostCalculation!$E$4+2,TRUE),\">\"&B254)-COUNTIF(INDIRECT(\"MonteCarlo!\"&CostCalculation!$N$10&3,TRUE):INDIRECT(\"MonteCarlo!\"&CostCalculation!$N$10&CostCalculation!$E$4+2,TRUE),\">\"&B255))/CostCalculation!$E$4)","v":{"$error":"#N/A"}}]
[0.74399999999999999,{"$f":"ROUND(INDIRECT(\"CostCalculation!D\"&CostCalculation!$O$10,TRUE)*A255,0)","v":364742},{"$f":"IF((COUNTIF(INDIRECT(\"MonteCarlo!\"&CostCalculation!$N$10&3,TRUE):INDIRECT(\"MonteCarlo!\"&CostCalculation!$N$10&CostCalculation!$E$4+2,TRUE),\"<=\"&B255))/CostCalculation!$E$4=0,#N/A,(COUNTIF(INDIRECT(\"MonteCarlo!\"&CostCalculation!$N$10&3,TRUE):INDIRECT(\"MonteCarlo!\"&CostCalculation!$N$10&CostCalculation!$E$4+2,TRUE),\"<=\"&B255))/CostCalculation!$E$4)","v":0.99650000000000005},364742,{"$f":"IF((COUNTIF(INDIRECT(\"MonteCarlo!\"&CostCalculation!$N$10&3,TRUE):INDIRECT(\"MonteCarlo!\"&CostCalculation!$N$10&CostCalculation!$E$4+2,TRUE),\">\"&B255)-COUNTIF(INDIRECT(\"MonteCarlo!\"&CostCalculation!$N$10&3,TRUE):INDIRECT(\"MonteCarlo!\"&CostCalculation!$N$10&CostCalculation!$E$4+2,TRUE),\">\"&B256))/CostCalculation!$E$4=0,#N/A,(COUNTIF(INDIRECT(\"MonteCarlo!\"&CostCalculation!$N$10&3,TRUE):INDIRECT(\"MonteCarlo!\"&CostCalculation!$N$10&CostCalculation!$E$4+2,TRUE),\">\"&B255)-COUNTIF(INDIRECT(\"MonteCarlo!\"&CostCalculation!$N$10&3,TRUE):INDIRECT(\"MonteCarlo!\"&CostCalculation!$N$10&CostCalculation!$E$4+2,TRUE),\">\"&B256))/CostCalculation!$E$4)","v":{"$error":"#N/A"}}]
[0.747,{"$f":"ROUND(INDIRECT(\"CostCalculation!D\"&CostCalculation!$O$10,TRUE)*A256,0)","v":366213},{"$f":"IF((COUNTIF(INDIRECT(\"MonteCarlo!\"&CostCalculation!$N$10&3,TRUE):INDIRECT(\"MonteCarlo!\"&CostCalculation!$N$10&CostCalculation!$E$4+2,TRUE),\"<=\"&B256))/CostCalculation!$E$4=0,#N/A,(COUNTIF(INDIRECT(\"MonteCarlo!\"&CostCalculation!$N$10&3,TRUE):INDIRECT(\"MonteCarlo!\"&CostCalculation!$N$10&CostCalculation!$E$4+2,TRUE),\"<=\"&B256))/CostCalculation!$E$4)","v":0.99650000000000005},366213,{"$f":"IF((COUNTIF(INDIRECT(\"MonteCarlo!\"&CostCalculation!$N$10&3,TRUE):INDIRECT(\"MonteCarlo!\"&CostCalculation!$N$10&CostCalculation!$E$4+2,TRUE),\">\"&B256)-COUNTIF(INDIRECT(\"MonteCarlo!\"&CostCalculation!$N$10&3,TRUE):INDIRECT(\"MonteCarlo!\"&CostCalculation!$N$10&CostCalculation!$E$4+2,TRUE),\">\"&B257))/CostCalculation!$E$4=0,#N/A,(COUNTIF(INDIRECT(\"MonteCarlo!\"&CostCalculation!$N$10&3,TRUE):INDIRECT(\"MonteCarlo!\"&CostCalculation!$N$10&CostCalculation!$E$4+2,TRUE),\">\"&B256)-COUNTIF(INDIRECT(\"MonteCarlo!\"&CostCalculation!$N$10&3,TRUE):INDIRECT(\"MonteCarlo!\"&CostCalculation!$N$10&CostCalculation!$E$4+2,TRUE),\">\"&B257))/CostCalculation!$E$4)","v":{"$error":"#N/A"}}]
[0.75,{"$f":"ROUND(INDIRECT(\"CostCalculation!D\"&CostCalculation!$O$10,TRUE)*A257,0)","v":367684},{"$f":"IF((COUNTIF(INDIRECT(\"MonteCarlo!\"&CostCalculation!$N$10&3,TRUE):INDIRECT(\"MonteCarlo!\"&CostCalculation!$N$10&CostCalculation!$E$4+2,TRUE),\"<=\"&B257))/CostCalculation!$E$4=0,#N/A,(COUNTIF(INDIRECT(\"MonteCarlo!\"&CostCalculation!$N$10&3,TRUE):INDIRECT(\"MonteCarlo!\"&CostCalculation!$N$10&CostCalculation!$E$4+2,TRUE),\"<=\"&B257))/CostCalculation!$E$4)","v":0.99650000000000005},367684,{"$f":"IF((COUNTIF(INDIRECT(\"MonteCarlo!\"&CostCalculation!$N$10&3,TRUE):INDIRECT(\"MonteCarlo!\"&CostCalculation!$N$10&CostCalculation!$E$4+2,TRUE),\">\"&B257)-COUNTIF(INDIRECT(\"MonteCarlo!\"&CostCalculation!$N$10&3,TRUE):INDIRECT(\"MonteCarlo!\"&CostCalculation!$N$10&CostCalculation!$E$4+2,TRUE),\">\"&B258))/CostCalculation!$E$4=0,#N/A,(COUNTIF(INDIRECT(\"MonteCarlo!\"&CostCalculation!$N$10&3,TRUE):INDIRECT(\"MonteCarlo!\"&CostCalculation!$N$10&CostCalculation!$E$4+2,TRUE),\">\"&B257)-COUNTIF(INDIRECT(\"MonteCarlo!\"&CostCalculation!$N$10&3,TRUE):INDIRECT(\"MonteCarlo!\"&CostCalculation!$N$10&CostCalculation!$E$4+2,TRUE),\">\"&B258))/CostCalculation!$E$4)","v":{"$error":"#N/A"}}]
[0.753,{"$f":"ROUND(INDIRECT(\"CostCalculation!D\"&CostCalculation!$O$10,TRUE)*A258,0)","v":369154},{"$f":"IF((COUNTIF(INDIRECT(\"MonteCarlo!\"&CostCalculation!$N$10&3,TRUE):INDIRECT(\"MonteCarlo!\"&CostCalculation!$N$10&CostCalculation!$E$4+2,TRUE),\"<=\"&B258))/CostCalculation!$E$4=0,#N/A,(COUNTIF(INDIRECT(\"MonteCarlo!\"&CostCalculation!$N$10&3,TRUE):INDIRECT(\"MonteCarlo!\"&CostCalculation!$N$10&CostCalculation!$E$4+2,TRUE),\"<=\"&B258))/CostCalculation!$E$4)","v":0.99650000000000005},369154,{"$f":"IF((COUNTIF(INDIRECT(\"MonteCarlo!\"&CostCalculation!$N$10&3,TRUE):INDIRECT(\"MonteCarlo!\"&CostCalculation!$N$10&CostCalculation!$E$4+2,TRUE),\">\"&B258)-COUNTIF(INDIRECT(\"MonteCarlo!\"&CostCalculation!$N$10&3,TRUE):INDIRECT(\"MonteCarlo!\"&CostCalculation!$N$10&CostCalculation!$E$4+2,TRUE),\">\"&B259))/CostCalculation!$E$4=0,#N/A,(COUNTIF(INDIRECT(\"MonteCarlo!\"&CostCalculation!$N$10&3,TRUE):INDIRECT(\"MonteCarlo!\"&CostCalculation!$N$10&CostCalculation!$E$4+2,TRUE),\">\"&B258)-COUNTIF(INDIRECT(\"MonteCarlo!\"&CostCalculation!$N$10&3,TRUE):INDIRECT(\"MonteCarlo!\"&CostCalculation!$N$10&CostCalculation!$E$4+2,TRUE),\">\"&B259))/CostCalculation!$E$4)","v":{"$error":"#N/A"}}]
[0.75600000000000001,{"$f":"ROUND(INDIRECT(\"CostCalculation!D\"&CostCalculation!$O$10,TRUE)*A259,0)","v":370625},{"$f":"IF((COUNTIF(INDIRECT(\"MonteCarlo!\"&CostCalculation!$N$10&3,TRUE):INDIRECT(\"MonteCarlo!\"&CostCalculation!$N$10&CostCalculation!$E$4+2,TRUE),\"<=\"&B259))/CostCalculation!$E$4=0,#N/A,(COUNTIF(INDIRECT(\"MonteCarlo!\"&CostCalculation!$N$10&3,TRUE):INDIRECT(\"MonteCarlo!\"&CostCalculation!$N$10&CostCalculation!$E$4+2,TRUE),\"<=\"&B259))/CostCalculation!$E$4)","v":0.99650000000000005},370625,{"$f":"IF((COUNTIF(INDIRECT(\"MonteCarlo!\"&CostCalculation!$N$10&3,TRUE):INDIRECT(\"MonteCarlo!\"&CostCalculation!$N$10&CostCalculation!$E$4+2,TRUE),\">\"&B259)-COUNTIF(INDIRECT(\"MonteCarlo!\"&CostCalculation!$N$10&3,TRUE):INDIRECT(\"MonteCarlo!\"&CostCalculation!$N$10&CostCalculation!$E$4+2,TRUE),\">\"&B260))/CostCalculation!$E$4=0,#N/A,(COUNTIF(INDIRECT(\"MonteCarlo!\"&CostCalculation!$N$10&3,TRUE):INDIRECT(\"MonteCarlo!\"&CostCalculation!$N$10&CostCalculation!$E$4+2,TRUE),\">\"&B259)-COUNTIF(INDIRECT(\"MonteCarlo!\"&CostCalculation!$N$10&3,TRUE):INDIRECT(\"MonteCarlo!\"&CostCalculation!$N$10&CostCalculation!$E$4+2,TRUE),\">\"&B260))/CostCalculation!$E$4)","v":{"$error":"#N/A"}}]
[0.75900000000000001,{"$f":"ROUND(INDIRECT(\"CostCalculation!D\"&CostCalculation!$O$10,TRUE)*A260,0)","v":372096},{"$f":"IF((COUNTIF(INDIRECT(\"MonteCarlo!\"&CostCalculation!$N$10&3,TRUE):INDIRECT(\"MonteCarlo!\"&CostCalculation!$N$10&CostCalculation!$E$4+2,TRUE),\"<=\"&B260))/CostCalculation!$E$4=0,#N/A,(COUNTIF(INDIRECT(\"MonteCarlo!\"&CostCalculation!$N$10&3,TRUE):INDIRECT(\"MonteCarlo!\"&CostCalculation!$N$10&CostCalculation!$E$4+2,TRUE),\"<=\"&B260))/CostCalculation!$E$4)","v":0.99650000000000005},372096,{"$f":"IF((COUNTIF(INDIRECT(\"MonteCarlo!\"&CostCalculation!$N$10&3,TRUE):INDIRECT(\"MonteCarlo!\"&CostCalculation!$N$10&CostCalculation!$E$4+2,TRUE),\">\"&B260)-COUNTIF(INDIRECT(\"MonteCarlo!\"&CostCalculation!$N$10&3,TRUE):INDIRECT(\"MonteCarlo!\"&CostCalculation!$N$10&CostCalculation!$E$4+2,TRUE),\">\"&B261))/CostCalculation!$E$4=0,#N/A,(COUNTIF(INDIRECT(\"MonteCarlo!\"&CostCalculation!$N$10&3,TRUE):INDIRECT(\"MonteCarlo!\"&CostCalculation!$N$10&CostCalculation!$E$4+2,TRUE),\">\"&B260)-COUNTIF(INDIRECT(\"MonteCarlo!\"&CostCalculation!$N$10&3,TRUE):INDIRECT(\"MonteCarlo!\"&CostCalculation!$N$10&CostCalculation!$E$4+2,TRUE),\">\"&B261))/CostCalculation!$E$4)","v":{"$error":"#N/A"}}]
[0.76200000000000001,{"$f":"ROUND(INDIRECT(\"CostCalculation!D\"&CostCalculation!$O$10,TRUE)*A261,0)","v":373567},{"$f":"IF((COUNTIF(INDIRECT(\"MonteCarlo!\"&CostCalculation!$N$10&3,TRUE):INDIRECT(\"MonteCarlo!\"&CostCalculation!$N$10&CostCalculation!$E$4+2,TRUE),\"<=\"&B261))/CostCalculation!$E$4=0,#N/A,(COUNTIF(INDIRECT(\"MonteCarlo!\"&CostCalculation!$N$10&3,TRUE):INDIRECT(\"MonteCarlo!\"&CostCalculation!$N$10&CostCalculation!$E$4+2,TRUE),\"<=\"&B261))/CostCalculation!$E$4)","v":0.99650000000000005},373567,{"$f":"IF((COUNTIF(INDIRECT(\"MonteCarlo!\"&CostCalculation!$N$10&3,TRUE):INDIRECT(\"MonteCarlo!\"&CostCalculation!$N$10&CostCalculation!$E$4+2,TRUE),\">\"&B261)-COUNTIF(INDIRECT(\"MonteCarlo!\"&CostCalculation!$N$10&3,TRUE):INDIRECT(\"MonteCarlo!\"&CostCalculation!$N$10&CostCalculation!$E$4+2,TRUE),\">\"&B262))/CostCalculation!$E$4=0,#N/A,(COUNTIF(INDIRECT(\"MonteCarlo!\"&CostCalculation!$N$10&3,TRUE):INDIRECT(\"MonteCarlo!\"&CostCalculation!$N$10&CostCalculation!$E$4+2,TRUE),\">\"&B261)-COUNTIF(INDIRECT(\"MonteCarlo!\"&CostCalculation!$N$10&3,TRUE):INDIRECT(\"MonteCarlo!\"&CostCalculation!$N$10&CostCalculation!$E$4+2,TRUE),\">\"&B262))/CostCalculation!$E$4)","v":{"$error":"#N/A"}}]
[0.76500000000000001,{"$f":"ROUND(INDIRECT(\"CostCalculation!D\"&CostCalculation!$O$10,TRUE)*A262,0)","v":375037},{"$f":"IF((COUNTIF(INDIRECT(\"MonteCarlo!\"&CostCalculation!$N$10&3,TRUE):INDIRECT(\"MonteCarlo!\"&CostCalculation!$N$10&CostCalculation!$E$4+2,TRUE),\"<=\"&B262))/CostCalculation!$E$4=0,#N/A,(COUNTIF(INDIRECT(\"MonteCarlo!\"&CostCalculation!$N$10&3,TRUE):INDIRECT(\"MonteCarlo!\"&CostCalculation!$N$10&CostCalculation!$E$4+2,TRUE),\"<=\"&B262))/CostCalculation!$E$4)","v":0.99650000000000005},375037,{"$f":"IF((COUNTIF(INDIRECT(\"MonteCarlo!\"&CostCalculation!$N$10&3,TRUE):INDIRECT(\"MonteCarlo!\"&CostCalculation!$N$10&CostCalculation!$E$4+2,TRUE),\">\"&B262)-COUNTIF(INDIRECT(\"MonteCarlo!\"&CostCalculation!$N$10&3,TRUE):INDIRECT(\"MonteCarlo!\"&CostCalculation!$N$10&CostCalculation!$E$4+2,TRUE),\">\"&B263))/CostCalculation!$E$4=0,#N/A,(COUNTIF(INDIRECT(\"MonteCarlo!\"&CostCalculation!$N$10&3,TRUE):INDIRECT(\"MonteCarlo!\"&CostCalculation!$N$10&CostCalculation!$E$4+2,TRUE),\">\"&B262)-COUNTIF(INDIRECT(\"MonteCarlo!\"&CostCalculation!$N$10&3,TRUE):INDIRECT(\"MonteCarlo!\"&CostCalculation!$N$10&CostCalculation!$E$4+2,TRUE),\">\"&B263))/CostCalculation!$E$4)","v":{"$error":"#N/A"}}]
[0.76800000000000002,{"$f":"ROUND(INDIRECT(\"CostCalculation!D\"&CostCalculation!$O$10,TRUE)*A263,0)","v":376508},{"$f":"IF((COUNTIF(INDIRECT(\"MonteCarlo!\"&CostCalculation!$N$10&3,TRUE):INDIRECT(\"MonteCarlo!\"&CostCalculation!$N$10&CostCalculation!$E$4+2,TRUE),\"<=\"&B263))/CostCalculation!$E$4=0,#N/A,(COUNTIF(INDIRECT(\"MonteCarlo!\"&CostCalculation!$N$10&3,TRUE):INDIRECT(\"MonteCarlo!\"&CostCalculation!$N$10&CostCalculation!$E$4+2,TRUE),\"<=\"&B263))/CostCalculation!$E$4)","v":0.99650000000000005},376508,{"$f":"IF((COUNTIF(INDIRECT(\"MonteCarlo!\"&CostCalculation!$N$10&3,TRUE):INDIRECT(\"MonteCarlo!\"&CostCalculation!$N$10&CostCalculation!$E$4+2,TRUE),\">\"&B263)-COUNTIF(INDIRECT(\"MonteCarlo!\"&CostCalculation!$N$10&3,TRUE):INDIRECT(\"MonteCarlo!\"&CostCalculation!$N$10&CostCalculation!$E$4+2,TRUE),\">\"&B264))/CostCalculation!$E$4=0,#N/A,(COUNTIF(INDIRECT(\"MonteCarlo!\"&CostCalculation!$N$10&3,TRUE):INDIRECT(\"MonteCarlo!\"&CostCalculation!$N$10&CostCalculation!$E$4+2,TRUE),\">\"&B263)-COUNTIF(INDIRECT(\"MonteCarlo!\"&CostCalculation!$N$10&3,TRUE):INDIRECT(\"MonteCarlo!\"&CostCalculation!$N$10&CostCalculation!$E$4+2,TRUE),\">\"&B264))/CostCalculation!$E$4)","v":{"$error":"#N/A"}}]
[0.77100000000000002,{"$f":"ROUND(INDIRECT(\"CostCalculation!D\"&CostCalculation!$O$10,TRUE)*A264,0)","v":377979},{"$f":"IF((COUNTIF(INDIRECT(\"MonteCarlo!\"&CostCalculation!$N$10&3,TRUE):INDIRECT(\"MonteCarlo!\"&CostCalculation!$N$10&CostCalculation!$E$4+2,TRUE),\"<=\"&B264))/CostCalculation!$E$4=0,#N/A,(COUNTIF(INDIRECT(\"MonteCarlo!\"&CostCalculation!$N$10&3,TRUE):INDIRECT(\"MonteCarlo!\"&CostCalculation!$N$10&CostCalculation!$E$4+2,TRUE),\"<=\"&B264))/CostCalculation!$E$4)","v":0.99650000000000005},{"$f":"B264","v":377979},{"$f":"IF((COUNTIF(INDIRECT(\"MonteCarlo!\"&CostCalculation!$N$10&3,TRUE):INDIRECT(\"MonteCarlo!\"&CostCalculation!$N$10&CostCalculation!$E$4+2,TRUE),\">\"&B264)-COUNTIF(INDIRECT(\"MonteCarlo!\"&CostCalculation!$N$10&3,TRUE):INDIRECT(\"MonteCarlo!\"&CostCalculation!$N$10&CostCalculation!$E$4+2,TRUE),\">\"&B265))/CostCalculation!$E$4=0,#N/A,(COUNTIF(INDIRECT(\"MonteCarlo!\"&CostCalculation!$N$10&3,TRUE):INDIRECT(\"MonteCarlo!\"&CostCalculation!$N$10&CostCalculation!$E$4+2,TRUE),\">\"&B264)-COUNTIF(INDIRECT(\"MonteCarlo!\"&CostCalculation!$N$10&3,TRUE):INDIRECT(\"MonteCarlo!\"&CostCalculation!$N$10&CostCalculation!$E$4+2,TRUE),\">\"&B265))/CostCalculation!$E$4)","v":{"$error":"#N/A"}}]
[0.77400000000000002,{"$f":"ROUND(INDIRECT(\"CostCalculation!D\"&CostCalculation!$O$10,TRUE)*A265,0)","v":379450},{"$f":"IF((COUNTIF(INDIRECT(\"MonteCarlo!\"&CostCalculation!$N$10&3,TRUE):INDIRECT(\"MonteCarlo!\"&CostCalculation!$N$10&CostCalculation!$E$4+2,TRUE),\"<=\"&B265))/CostCalculation!$E$4=0,#N/A,(COUNTIF(INDIRECT(\"MonteCarlo!\"&CostCalculation!$N$10&3,TRUE):INDIRECT(\"MonteCarlo!\"&CostCalculation!$N$10&CostCalculation!$E$4+2,TRUE),\"<=\"&B265))/CostCalculation!$E$4)","v":0.99650000000000005},379450,{"$f":"IF((COUNTIF(INDIRECT(\"MonteCarlo!\"&CostCalculation!$N$10&3,TRUE):INDIRECT(\"MonteCarlo!\"&CostCalculation!$N$10&CostCalculation!$E$4+2,TRUE),\">\"&B265)-COUNTIF(INDIRECT(\"MonteCarlo!\"&CostCalculation!$N$10&3,TRUE):INDIRECT(\"MonteCarlo!\"&CostCalculation!$N$10&CostCalculation!$E$4+2,TRUE),\">\"&B266))/CostCalculation!$E$4=0,#N/A,(COUNTIF(INDIRECT(\"MonteCarlo!\"&CostCalculation!$N$10&3,TRUE):INDIRECT(\"MonteCarlo!\"&CostCalculation!$N$10&CostCalculation!$E$4+2,TRUE),\">\"&B265)-COUNTIF(INDIRECT(\"MonteCarlo!\"&CostCalculation!$N$10&3,TRUE):INDIRECT(\"MonteCarlo!\"&CostCalculation!$N$10&CostCalculation!$E$4+2,TRUE),\">\"&B266))/CostCalculation!$E$4)","v":{"$error":"#N/A"}}]
[0.77700000000000002,{"$f":"ROUND(INDIRECT(\"CostCalculation!D\"&CostCalculation!$O$10,TRUE)*A266,0)","v":380920},{"$f":"IF((COUNTIF(INDIRECT(\"MonteCarlo!\"&CostCalculation!$N$10&3,TRUE):INDIRECT(\"MonteCarlo!\"&CostCalculation!$N$10&CostCalculation!$E$4+2,TRUE),\"<=\"&B266))/CostCalculation!$E$4=0,#N/A,(COUNTIF(INDIRECT(\"MonteCarlo!\"&CostCalculation!$N$10&3,TRUE):INDIRECT(\"MonteCarlo!\"&CostCalculation!$N$10&CostCalculation!$E$4+2,TRUE),\"<=\"&B266))/CostCalculation!$E$4)","v":0.99650000000000005},380920,{"$f":"IF((COUNTIF(INDIRECT(\"MonteCarlo!\"&CostCalculation!$N$10&3,TRUE):INDIRECT(\"MonteCarlo!\"&CostCalculation!$N$10&CostCalculation!$E$4+2,TRUE),\">\"&B266)-COUNTIF(INDIRECT(\"MonteCarlo!\"&CostCalculation!$N$10&3,TRUE):INDIRECT(\"MonteCarlo!\"&CostCalculation!$N$10&CostCalculation!$E$4+2,TRUE),\">\"&B267))/CostCalculation!$E$4=0,#N/A,(COUNTIF(INDIRECT(\"MonteCarlo!\"&CostCalculation!$N$10&3,TRUE):INDIRECT(\"MonteCarlo!\"&CostCalculation!$N$10&CostCalculation!$E$4+2,TRUE),\">\"&B266)-COUNTIF(INDIRECT(\"MonteCarlo!\"&CostCalculation!$N$10&3,TRUE):INDIRECT(\"MonteCarlo!\"&CostCalculation!$N$10&CostCalculation!$E$4+2,TRUE),\">\"&B267))/CostCalculation!$E$4)","v":{"$error":"#N/A"}}]
[0.78,{"$f":"ROUND(INDIRECT(\"CostCalculation!D\"&CostCalculation!$O$10,TRUE)*A267,0)","v":382391},{"$f":"IF((COUNTIF(INDIRECT(\"MonteCarlo!\"&CostCalculation!$N$10&3,TRUE):INDIRECT(\"MonteCarlo!\"&CostCalculation!$N$10&CostCalculation!$E$4+2,TRUE),\"<=\"&B267))/CostCalculation!$E$4=0,#N/A,(COUNTIF(INDIRECT(\"MonteCarlo!\"&CostCalculation!$N$10&3,TRUE):INDIRECT(\"MonteCarlo!\"&CostCalculation!$N$10&CostCalculation!$E$4+2,TRUE),\"<=\"&B267))/CostCalculation!$E$4)","v":0.99650000000000005},382391,{"$f":"IF((COUNTIF(INDIRECT(\"MonteCarlo!\"&CostCalculation!$N$10&3,TRUE):INDIRECT(\"MonteCarlo!\"&CostCalculation!$N$10&CostCalculation!$E$4+2,TRUE),\">\"&B267)-COUNTIF(INDIRECT(\"MonteCarlo!\"&CostCalculation!$N$10&3,TRUE):INDIRECT(\"MonteCarlo!\"&CostCalculation!$N$10&CostCalculation!$E$4+2,TRUE),\">\"&B268))/CostCalculation!$E$4=0,#N/A,(COUNTIF(INDIRECT(\"MonteCarlo!\"&CostCalculation!$N$10&3,TRUE):INDIRECT(\"MonteCarlo!\"&CostCalculation!$N$10&CostCalculation!$E$4+2,TRUE),\">\"&B267)-COUNTIF(INDIRECT(\"MonteCarlo!\"&CostCalculation!$N$10&3,TRUE):INDIRECT(\"MonteCarlo!\"&CostCalculation!$N$10&CostCalculation!$E$4+2,TRUE),\">\"&B268))/CostCalculation!$E$4)","v":{"$error":"#N/A"}}]
[0.78300000000000003,{"$f":"ROUND(INDIRECT(\"CostCalculation!D\"&CostCalculation!$O$10,TRUE)*A268,0)","v":383862},{"$f":"IF((COUNTIF(INDIRECT(\"MonteCarlo!\"&CostCalculation!$N$10&3,TRUE):INDIRECT(\"MonteCarlo!\"&CostCalculation!$N$10&CostCalculation!$E$4+2,TRUE),\"<=\"&B268))/CostCalculation!$E$4=0,#N/A,(COUNTIF(INDIRECT(\"MonteCarlo!\"&CostCalculation!$N$10&3,TRUE):INDIRECT(\"MonteCarlo!\"&CostCalculation!$N$10&CostCalculation!$E$4+2,TRUE),\"<=\"&B268))/CostCalculation!$E$4)","v":0.99650000000000005},383862,{"$f":"IF((COUNTIF(INDIRECT(\"MonteCarlo!\"&CostCalculation!$N$10&3,TRUE):INDIRECT(\"MonteCarlo!\"&CostCalculation!$N$10&CostCalculation!$E$4+2,TRUE),\">\"&B268)-COUNTIF(INDIRECT(\"MonteCarlo!\"&CostCalculation!$N$10&3,TRUE):INDIRECT(\"MonteCarlo!\"&CostCalculation!$N$10&CostCalculation!$E$4+2,TRUE),\">\"&B269))/CostCalculation!$E$4=0,#N/A,(COUNTIF(INDIRECT(\"MonteCarlo!\"&CostCalculation!$N$10&3,TRUE):INDIRECT(\"MonteCarlo!\"&CostCalculation!$N$10&CostCalculation!$E$4+2,TRUE),\">\"&B268)-COUNTIF(INDIRECT(\"MonteCarlo!\"&CostCalculation!$N$10&3,TRUE):INDIRECT(\"MonteCarlo!\"&CostCalculation!$N$10&CostCalculation!$E$4+2,TRUE),\">\"&B269))/CostCalculation!$E$4)","v":{"$error":"#N/A"}}]
[0.78600000000000003,{"$f":"ROUND(INDIRECT(\"CostCalculation!D\"&CostCalculation!$O$10,TRUE)*A269,0)","v":385333},{"$f":"IF((COUNTIF(INDIRECT(\"MonteCarlo!\"&CostCalculation!$N$10&3,TRUE):INDIRECT(\"MonteCarlo!\"&CostCalculation!$N$10&CostCalculation!$E$4+2,TRUE),\"<=\"&B269))/CostCalculation!$E$4=0,#N/A,(COUNTIF(INDIRECT(\"MonteCarlo!\"&CostCalculation!$N$10&3,TRUE):INDIRECT(\"MonteCarlo!\"&CostCalculation!$N$10&CostCalculation!$E$4+2,TRUE),\"<=\"&B269))/CostCalculation!$E$4)","v":0.99650000000000005},385333,{"$f":"IF((COUNTIF(INDIRECT(\"MonteCarlo!\"&CostCalculation!$N$10&3,TRUE):INDIRECT(\"MonteCarlo!\"&CostCalculation!$N$10&CostCalculation!$E$4+2,TRUE),\">\"&B269)-COUNTIF(INDIRECT(\"MonteCarlo!\"&CostCalculation!$N$10&3,TRUE):INDIRECT(\"MonteCarlo!\"&CostCalculation!$N$10&CostCalculation!$E$4+2,TRUE),\">\"&B270))/CostCalculation!$E$4=0,#N/A,(COUNTIF(INDIRECT(\"MonteCarlo!\"&CostCalculation!$N$10&3,TRUE):INDIRECT(\"MonteCarlo!\"&CostCalculation!$N$10&CostCalculation!$E$4+2,TRUE),\">\"&B269)-COUNTIF(INDIRECT(\"MonteCarlo!\"&CostCalculation!$N$10&3,TRUE):INDIRECT(\"MonteCarlo!\"&CostCalculation!$N$10&CostCalculation!$E$4+2,TRUE),\">\"&B270))/CostCalculation!$E$4)","v":{"$error":"#N/A"}}]
[0.78900000000000003,{"$f":"ROUND(INDIRECT(\"CostCalculation!D\"&CostCalculation!$O$10,TRUE)*A270,0)","v":386803},{"$f":"IF((COUNTIF(INDIRECT(\"MonteCarlo!\"&CostCalculation!$N$10&3,TRUE):INDIRECT(\"MonteCarlo!\"&CostCalculation!$N$10&CostCalculation!$E$4+2,TRUE),\"<=\"&B270))/CostCalculation!$E$4=0,#N/A,(COUNTIF(INDIRECT(\"MonteCarlo!\"&CostCalculation!$N$10&3,TRUE):INDIRECT(\"MonteCarlo!\"&CostCalculation!$N$10&CostCalculation!$E$4+2,TRUE),\"<=\"&B270))/CostCalculation!$E$4)","v":0.99650000000000005},386803,{"$f":"IF((COUNTIF(INDIRECT(\"MonteCarlo!\"&CostCalculation!$N$10&3,TRUE):INDIRECT(\"MonteCarlo!\"&CostCalculation!$N$10&CostCalculation!$E$4+2,TRUE),\">\"&B270)-COUNTIF(INDIRECT(\"MonteCarlo!\"&CostCalculation!$N$10&3,TRUE):INDIRECT(\"MonteCarlo!\"&CostCalculation!$N$10&CostCalculation!$E$4+2,TRUE),\">\"&B271))/CostCalculation!$E$4=0,#N/A,(COUNTIF(INDIRECT(\"MonteCarlo!\"&CostCalculation!$N$10&3,TRUE):INDIRECT(\"MonteCarlo!\"&CostCalculation!$N$10&CostCalculation!$E$4+2,TRUE),\">\"&B270)-COUNTIF(INDIRECT(\"MonteCarlo!\"&CostCalculation!$N$10&3,TRUE):INDIRECT(\"MonteCarlo!\"&CostCalculation!$N$10&CostCalculation!$E$4+2,TRUE),\">\"&B271))/CostCalculation!$E$4)","v":{"$error":"#N/A"}}]
[0.79200000000000004,{"$f":"ROUND(INDIRECT(\"CostCalculation!D\"&CostCalculation!$O$10,TRUE)*A271,0)","v":388274},{"$f":"IF((COUNTIF(INDIRECT(\"MonteCarlo!\"&CostCalculation!$N$10&3,TRUE):INDIRECT(\"MonteCarlo!\"&CostCalculation!$N$10&CostCalculation!$E$4+2,TRUE),\"<=\"&B271))/CostCalculation!$E$4=0,#N/A,(COUNTIF(INDIRECT(\"MonteCarlo!\"&CostCalculation!$N$10&3,TRUE):INDIRECT(\"MonteCarlo!\"&CostCalculation!$N$10&CostCalculation!$E$4+2,TRUE),\"<=\"&B271))/CostCalculation!$E$4)","v":0.99650000000000005},388274,{"$f":"IF((COUNTIF(INDIRECT(\"MonteCarlo!\"&CostCalculation!$N$10&3,TRUE):INDIRECT(\"MonteCarlo!\"&CostCalculation!$N$10&CostCalculation!$E$4+2,TRUE),\">\"&B271)-COUNTIF(INDIRECT(\"MonteCarlo!\"&CostCalculation!$N$10&3,TRUE):INDIRECT(\"MonteCarlo!\"&CostCalculation!$N$10&CostCalculation!$E$4+2,TRUE),\">\"&B272))/CostCalculation!$E$4=0,#N/A,(COUNTIF(INDIRECT(\"MonteCarlo!\"&CostCalculation!$N$10&3,TRUE):INDIRECT(\"MonteCarlo!\"&CostCalculation!$N$10&CostCalculation!$E$4+2,TRUE),\">\"&B271)-COUNTIF(INDIRECT(\"MonteCarlo!\"&CostCalculation!$N$10&3,TRUE):INDIRECT(\"MonteCarlo!\"&CostCalculation!$N$10&CostCalculation!$E$4+2,TRUE),\">\"&B272))/CostCalculation!$E$4)","v":{"$error":"#N/A"}}]
[0.79500000000000004,{"$f":"ROUND(INDIRECT(\"CostCalculation!D\"&CostCalculation!$O$10,TRUE)*A272,0)","v":389745},{"$f":"IF((COUNTIF(INDIRECT(\"MonteCarlo!\"&CostCalculation!$N$10&3,TRUE):INDIRECT(\"MonteCarlo!\"&CostCalculation!$N$10&CostCalculation!$E$4+2,TRUE),\"<=\"&B272))/CostCalculation!$E$4=0,#N/A,(COUNTIF(INDIRECT(\"MonteCarlo!\"&CostCalculation!$N$10&3,TRUE):INDIRECT(\"MonteCarlo!\"&CostCalculation!$N$10&CostCalculation!$E$4+2,TRUE),\"<=\"&B272))/CostCalculation!$E$4)","v":0.99650000000000005},389745,{"$f":"IF((COUNTIF(INDIRECT(\"MonteCarlo!\"&CostCalculation!$N$10&3,TRUE):INDIRECT(\"MonteCarlo!\"&CostCalculation!$N$10&CostCalculation!$E$4+2,TRUE),\">\"&B272)-COUNTIF(INDIRECT(\"MonteCarlo!\"&CostCalculation!$N$10&3,TRUE):INDIRECT(\"MonteCarlo!\"&CostCalculation!$N$10&CostCalculation!$E$4+2,TRUE),\">\"&B273))/CostCalculation!$E$4=0,#N/A,(COUNTIF(INDIRECT(\"MonteCarlo!\"&CostCalculation!$N$10&3,TRUE):INDIRECT(\"MonteCarlo!\"&CostCalculation!$N$10&CostCalculation!$E$4+2,TRUE),\">\"&B272)-COUNTIF(INDIRECT(\"MonteCarlo!\"&CostCalculation!$N$10&3,TRUE):INDIRECT(\"MonteCarlo!\"&CostCalculation!$N$10&CostCalculation!$E$4+2,TRUE),\">\"&B273))/CostCalculation!$E$4)","v":{"$error":"#N/A"}}]
[0.79800000000000004,{"$f":"ROUND(INDIRECT(\"CostCalculation!D\"&CostCalculation!$O$10,TRUE)*A273,0)","v":391216},{"$f":"IF((COUNTIF(INDIRECT(\"MonteCarlo!\"&CostCalculation!$N$10&3,TRUE):INDIRECT(\"MonteCarlo!\"&CostCalculation!$N$10&CostCalculation!$E$4+2,TRUE),\"<=\"&B273))/CostCalculation!$E$4=0,#N/A,(COUNTIF(INDIRECT(\"MonteCarlo!\"&CostCalculation!$N$10&3,TRUE):INDIRECT(\"MonteCarlo!\"&CostCalculation!$N$10&CostCalculation!$E$4+2,TRUE),\"<=\"&B273))/CostCalculation!$E$4)","v":0.99650000000000005},391216,{"$f":"IF((COUNTIF(INDIRECT(\"MonteCarlo!\"&CostCalculation!$N$10&3,TRUE):INDIRECT(\"MonteCarlo!\"&CostCalculation!$N$10&CostCalculation!$E$4+2,TRUE),\">\"&B273)-COUNTIF(INDIRECT(\"MonteCarlo!\"&CostCalculation!$N$10&3,TRUE):INDIRECT(\"MonteCarlo!\"&CostCalculation!$N$10&CostCalculation!$E$4+2,TRUE),\">\"&B274))/CostCalculation!$E$4=0,#N/A,(COUNTIF(INDIRECT(\"MonteCarlo!\"&CostCalculation!$N$10&3,TRUE):INDIRECT(\"MonteCarlo!\"&CostCalculation!$N$10&CostCalculation!$E$4+2,TRUE),\">\"&B273)-COUNTIF(INDIRECT(\"MonteCarlo!\"&CostCalculation!$N$10&3,TRUE):INDIRECT(\"MonteCarlo!\"&CostCalculation!$N$10&CostCalculation!$E$4+2,TRUE),\">\"&B274))/CostCalculation!$E$4)","v":3.0000000000000001E-3}]
[0.80100000000000005,{"$f":"ROUND(INDIRECT(\"CostCalculation!D\"&CostCalculation!$O$10,TRUE)*A274,0)","v":392686},{"$f":"IF((COUNTIF(INDIRECT(\"MonteCarlo!\"&CostCalculation!$N$10&3,TRUE):INDIRECT(\"MonteCarlo!\"&CostCalculation!$N$10&CostCalculation!$E$4+2,TRUE),\"<=\"&B274))/CostCalculation!$E$4=0,#N/A,(COUNTIF(INDIRECT(\"MonteCarlo!\"&CostCalculation!$N$10&3,TRUE):INDIRECT(\"MonteCarlo!\"&CostCalculation!$N$10&CostCalculation!$E$4+2,TRUE),\"<=\"&B274))/CostCalculation!$E$4)","v":0.99950000000000006},392686,{"$f":"IF((COUNTIF(INDIRECT(\"MonteCarlo!\"&CostCalculation!$N$10&3,TRUE):INDIRECT(\"MonteCarlo!\"&CostCalculation!$N$10&CostCalculation!$E$4+2,TRUE),\">\"&B274)-COUNTIF(INDIRECT(\"MonteCarlo!\"&CostCalculation!$N$10&3,TRUE):INDIRECT(\"MonteCarlo!\"&CostCalculation!$N$10&CostCalculation!$E$4+2,TRUE),\">\"&B275))/CostCalculation!$E$4=0,#N/A,(COUNTIF(INDIRECT(\"MonteCarlo!\"&CostCalculation!$N$10&3,TRUE):INDIRECT(\"MonteCarlo!\"&CostCalculation!$N$10&CostCalculation!$E$4+2,TRUE),\">\"&B274)-COUNTIF(INDIRECT(\"MonteCarlo!\"&CostCalculation!$N$10&3,TRUE):INDIRECT(\"MonteCarlo!\"&CostCalculation!$N$10&CostCalculation!$E$4+2,TRUE),\">\"&B275))/CostCalculation!$E$4)","v":{"$error":"#N/A"}}]
[0.80400000000000005,{"$f":"ROUND(INDIRECT(\"CostCalculation!D\"&CostCalculation!$O$10,TRUE)*A275,0)","v":394157},{"$f":"IF((COUNTIF(INDIRECT(\"MonteCarlo!\"&CostCalculation!$N$10&3,TRUE):INDIRECT(\"MonteCarlo!\"&CostCalculation!$N$10&CostCalculation!$E$4+2,TRUE),\"<=\"&B275))/CostCalculation!$E$4=0,#N/A,(COUNTIF(INDIRECT(\"MonteCarlo!\"&CostCalculation!$N$10&3,TRUE):INDIRECT(\"MonteCarlo!\"&CostCalculation!$N$10&CostCalculation!$E$4+2,TRUE),\"<=\"&B275))/CostCalculation!$E$4)","v":0.99950000000000006},394157,{"$f":"IF((COUNTIF(INDIRECT(\"MonteCarlo!\"&CostCalculation!$N$10&3,TRUE):INDIRECT(\"MonteCarlo!\"&CostCalculation!$N$10&CostCalculation!$E$4+2,TRUE),\">\"&B275)-COUNTIF(INDIRECT(\"MonteCarlo!\"&CostCalculation!$N$10&3,TRUE):INDIRECT(\"MonteCarlo!\"&CostCalculation!$N$10&CostCalculation!$E$4+2,TRUE),\">\"&B276))/CostCalculation!$E$4=0,#N/A,(COUNTIF(INDIRECT(\"MonteCarlo!\"&CostCalculation!$N$10&3,TRUE):INDIRECT(\"MonteCarlo!\"&CostCalculation!$N$10&CostCalculation!$E$4+2,TRUE),\">\"&B275)-COUNTIF(INDIRECT(\"MonteCarlo!\"&CostCalculation!$N$10&3,TRUE):INDIRECT(\"MonteCarlo!\"&CostCalculation!$N$10&CostCalculation!$E$4+2,TRUE),\">\"&B276))/CostCalculation!$E$4)","v":{"$error":"#N/A"}}]
[0.80700000000000005,{"$f":"ROUND(INDIRECT(\"CostCalculation!D\"&CostCalculation!$O$10,TRUE)*A276,0)","v":395628},{"$f":"IF((COUNTIF(INDIRECT(\"MonteCarlo!\"&CostCalculation!$N$10&3,TRUE):INDIRECT(\"MonteCarlo!\"&CostCalculation!$N$10&CostCalculation!$E$4+2,TRUE),\"<=\"&B276))/CostCalculation!$E$4=0,#N/A,(COUNTIF(INDIRECT(\"MonteCarlo!\"&CostCalculation!$N$10&3,TRUE):INDIRECT(\"MonteCarlo!\"&CostCalculation!$N$10&CostCalculation!$E$4+2,TRUE),\"<=\"&B276))/CostCalculation!$E$4)","v":0.99950000000000006},395628,{"$f":"IF((COUNTIF(INDIRECT(\"MonteCarlo!\"&CostCalculation!$N$10&3,TRUE):INDIRECT(\"MonteCarlo!\"&CostCalculation!$N$10&CostCalculation!$E$4+2,TRUE),\">\"&B276)-COUNTIF(INDIRECT(\"MonteCarlo!\"&CostCalculation!$N$10&3,TRUE):INDIRECT(\"MonteCarlo!\"&CostCalculation!$N$10&CostCalculation!$E$4+2,TRUE),\">\"&B277))/CostCalculation!$E$4=0,#N/A,(COUNTIF(INDIRECT(\"MonteCarlo!\"&CostCalculation!$N$10&3,TRUE):INDIRECT(\"MonteCarlo!\"&CostCalculation!$N$10&CostCalculation!$E$4+2,TRUE),\">\"&B276)-COUNTIF(INDIRECT(\"MonteCarlo!\"&CostCalculation!$N$10&3,TRUE):INDIRECT(\"MonteCarlo!\"&CostCalculation!$N$10&CostCalculation!$E$4+2,TRUE),\">\"&B277))/CostCalculation!$E$4)","v":{"$error":"#N/A"}}]
[0.81,{"$f":"ROUND(INDIRECT(\"CostCalculation!D\"&CostCalculation!$O$10,TRUE)*A277,0)","v":397098},{"$f":"IF((COUNTIF(INDIRECT(\"MonteCarlo!\"&CostCalculation!$N$10&3,TRUE):INDIRECT(\"MonteCarlo!\"&CostCalculation!$N$10&CostCalculation!$E$4+2,TRUE),\"<=\"&B277))/CostCalculation!$E$4=0,#N/A,(COUNTIF(INDIRECT(\"MonteCarlo!\"&CostCalculation!$N$10&3,TRUE):INDIRECT(\"MonteCarlo!\"&CostCalculation!$N$10&CostCalculation!$E$4+2,TRUE),\"<=\"&B277))/CostCalculation!$E$4)","v":0.99950000000000006},397098,{"$f":"IF((COUNTIF(INDIRECT(\"MonteCarlo!\"&CostCalculation!$N$10&3,TRUE):INDIRECT(\"MonteCarlo!\"&CostCalculation!$N$10&CostCalculation!$E$4+2,TRUE),\">\"&B277)-COUNTIF(INDIRECT(\"MonteCarlo!\"&CostCalculation!$N$10&3,TRUE):INDIRECT(\"MonteCarlo!\"&CostCalculation!$N$10&CostCalculation!$E$4+2,TRUE),\">\"&B278))/CostCalculation!$E$4=0,#N/A,(COUNTIF(INDIRECT(\"MonteCarlo!\"&CostCalculation!$N$10&3,TRUE):INDIRECT(\"MonteCarlo!\"&CostCalculation!$N$10&CostCalculation!$E$4+2,TRUE),\">\"&B277)-COUNTIF(INDIRECT(\"MonteCarlo!\"&CostCalculation!$N$10&3,TRUE):INDIRECT(\"MonteCarlo!\"&CostCalculation!$N$10&CostCalculation!$E$4+2,TRUE),\">\"&B278))/CostCalculation!$E$4)","v":{"$error":"#N/A"}}]
[0.81299999999999994,{"$f":"ROUND(INDIRECT(\"CostCalculation!D\"&CostCalculation!$O$10,TRUE)*A278,0)","v":398569},{"$f":"IF((COUNTIF(INDIRECT(\"MonteCarlo!\"&CostCalculation!$N$10&3,TRUE):INDIRECT(\"MonteCarlo!\"&CostCalculation!$N$10&CostCalculation!$E$4+2,TRUE),\"<=\"&B278))/CostCalculation!$E$4=0,#N/A,(COUNTIF(INDIRECT(\"MonteCarlo!\"&CostCalculation!$N$10&3,TRUE):INDIRECT(\"MonteCarlo!\"&CostCalculation!$N$10&CostCalculation!$E$4+2,TRUE),\"<=\"&B278))/CostCalculation!$E$4)","v":0.99950000000000006},398569,{"$f":"IF((COUNTIF(INDIRECT(\"MonteCarlo!\"&CostCalculation!$N$10&3,TRUE):INDIRECT(\"MonteCarlo!\"&CostCalculation!$N$10&CostCalculation!$E$4+2,TRUE),\">\"&B278)-COUNTIF(INDIRECT(\"MonteCarlo!\"&CostCalculation!$N$10&3,TRUE):INDIRECT(\"MonteCarlo!\"&CostCalculation!$N$10&CostCalculation!$E$4+2,TRUE),\">\"&B279))/CostCalculation!$E$4=0,#N/A,(COUNTIF(INDIRECT(\"MonteCarlo!\"&CostCalculation!$N$10&3,TRUE):INDIRECT(\"MonteCarlo!\"&CostCalculation!$N$10&CostCalculation!$E$4+2,TRUE),\">\"&B278)-COUNTIF(INDIRECT(\"MonteCarlo!\"&CostCalculation!$N$10&3,TRUE):INDIRECT(\"MonteCarlo!\"&CostCalculation!$N$10&CostCalculation!$E$4+2,TRUE),\">\"&B279))/CostCalculation!$E$4)","v":{"$error":"#N/A"}}]
[0.81599999999999995,{"$f":"ROUND(INDIRECT(\"CostCalculation!D\"&CostCalculation!$O$10,TRUE)*A279,0)","v":400040},{"$f":"IF((COUNTIF(INDIRECT(\"MonteCarlo!\"&CostCalculation!$N$10&3,TRUE):INDIRECT(\"MonteCarlo!\"&CostCalculation!$N$10&CostCalculation!$E$4+2,TRUE),\"<=\"&B279))/CostCalculation!$E$4=0,#N/A,(COUNTIF(INDIRECT(\"MonteCarlo!\"&CostCalculation!$N$10&3,TRUE):INDIRECT(\"MonteCarlo!\"&CostCalculation!$N$10&CostCalculation!$E$4+2,TRUE),\"<=\"&B279))/CostCalculation!$E$4)","v":0.99950000000000006},400040,{"$f":"IF((COUNTIF(INDIRECT(\"MonteCarlo!\"&CostCalculation!$N$10&3,TRUE):INDIRECT(\"MonteCarlo!\"&CostCalculation!$N$10&CostCalculation!$E$4+2,TRUE),\">\"&B279)-COUNTIF(INDIRECT(\"MonteCarlo!\"&CostCalculation!$N$10&3,TRUE):INDIRECT(\"MonteCarlo!\"&CostCalculation!$N$10&CostCalculation!$E$4+2,TRUE),\">\"&B280))/CostCalculation!$E$4=0,#N/A,(COUNTIF(INDIRECT(\"MonteCarlo!\"&CostCalculation!$N$10&3,TRUE):INDIRECT(\"MonteCarlo!\"&CostCalculation!$N$10&CostCalculation!$E$4+2,TRUE),\">\"&B279)-COUNTIF(INDIRECT(\"MonteCarlo!\"&CostCalculation!$N$10&3,TRUE):INDIRECT(\"MonteCarlo!\"&CostCalculation!$N$10&CostCalculation!$E$4+2,TRUE),\">\"&B280))/CostCalculation!$E$4)","v":{"$error":"#N/A"}}]
[0.81899999999999995,{"$f":"ROUND(INDIRECT(\"CostCalculation!D\"&CostCalculation!$O$10,TRUE)*A280,0)","v":401511},{"$f":"IF((COUNTIF(INDIRECT(\"MonteCarlo!\"&CostCalculation!$N$10&3,TRUE):INDIRECT(\"MonteCarlo!\"&CostCalculation!$N$10&CostCalculation!$E$4+2,TRUE),\"<=\"&B280))/CostCalculation!$E$4=0,#N/A,(COUNTIF(INDIRECT(\"MonteCarlo!\"&CostCalculation!$N$10&3,TRUE):INDIRECT(\"MonteCarlo!\"&CostCalculation!$N$10&CostCalculation!$E$4+2,TRUE),\"<=\"&B280))/CostCalculation!$E$4)","v":0.99950000000000006},401511,{"$f":"IF((COUNTIF(INDIRECT(\"MonteCarlo!\"&CostCalculation!$N$10&3,TRUE):INDIRECT(\"MonteCarlo!\"&CostCalculation!$N$10&CostCalculation!$E$4+2,TRUE),\">\"&B280)-COUNTIF(INDIRECT(\"MonteCarlo!\"&CostCalculation!$N$10&3,TRUE):INDIRECT(\"MonteCarlo!\"&CostCalculation!$N$10&CostCalculation!$E$4+2,TRUE),\">\"&B281))/CostCalculation!$E$4=0,#N/A,(COUNTIF(INDIRECT(\"MonteCarlo!\"&CostCalculation!$N$10&3,TRUE):INDIRECT(\"MonteCarlo!\"&CostCalculation!$N$10&CostCalculation!$E$4+2,TRUE),\">\"&B280)-COUNTIF(INDIRECT(\"MonteCarlo!\"&CostCalculation!$N$10&3,TRUE):INDIRECT(\"MonteCarlo!\"&CostCalculation!$N$10&CostCalculation!$E$4+2,TRUE),\">\"&B281))/CostCalculation!$E$4)","v":{"$error":"#N/A"}}]
[0.82199999999999995,{"$f":"ROUND(INDIRECT(\"CostCalculation!D\"&CostCalculation!$O$10,TRUE)*A281,0)","v":402981},{"$f":"IF((COUNTIF(INDIRECT(\"MonteCarlo!\"&CostCalculation!$N$10&3,TRUE):INDIRECT(\"MonteCarlo!\"&CostCalculation!$N$10&CostCalculation!$E$4+2,TRUE),\"<=\"&B281))/CostCalculation!$E$4=0,#N/A,(COUNTIF(INDIRECT(\"MonteCarlo!\"&CostCalculation!$N$10&3,TRUE):INDIRECT(\"MonteCarlo!\"&CostCalculation!$N$10&CostCalculation!$E$4+2,TRUE),\"<=\"&B281))/CostCalculation!$E$4)","v":0.99950000000000006},402981,{"$f":"IF((COUNTIF(INDIRECT(\"MonteCarlo!\"&CostCalculation!$N$10&3,TRUE):INDIRECT(\"MonteCarlo!\"&CostCalculation!$N$10&CostCalculation!$E$4+2,TRUE),\">\"&B281)-COUNTIF(INDIRECT(\"MonteCarlo!\"&CostCalculation!$N$10&3,TRUE):INDIRECT(\"MonteCarlo!\"&CostCalculation!$N$10&CostCalculation!$E$4+2,TRUE),\">\"&B282))/CostCalculation!$E$4=0,#N/A,(COUNTIF(INDIRECT(\"MonteCarlo!\"&CostCalculation!$N$10&3,TRUE):INDIRECT(\"MonteCarlo!\"&CostCalculation!$N$10&CostCalculation!$E$4+2,TRUE),\">\"&B281)-COUNTIF(INDIRECT(\"MonteCarlo!\"&CostCalculation!$N$10&3,TRUE):INDIRECT(\"MonteCarlo!\"&CostCalculation!$N$10&CostCalculation!$E$4+2,TRUE),\">\"&B282))/CostCalculation!$E$4)","v":{"$error":"#N/A"}}]
[0.82499999999999996,{"$f":"ROUND(INDIRECT(\"CostCalculation!D\"&CostCalculation!$O$10,TRUE)*A282,0)","v":404452},{"$f":"IF((COUNTIF(INDIRECT(\"MonteCarlo!\"&CostCalculation!$N$10&3,TRUE):INDIRECT(\"MonteCarlo!\"&CostCalculation!$N$10&CostCalculation!$E$4+2,TRUE),\"<=\"&B282))/CostCalculation!$E$4=0,#N/A,(COUNTIF(INDIRECT(\"MonteCarlo!\"&CostCalculation!$N$10&3,TRUE):INDIRECT(\"MonteCarlo!\"&CostCalculation!$N$10&CostCalculation!$E$4+2,TRUE),\"<=\"&B282))/CostCalculation!$E$4)","v":0.99950000000000006},404452,{"$f":"IF((COUNTIF(INDIRECT(\"MonteCarlo!\"&CostCalculation!$N$10&3,TRUE):INDIRECT(\"MonteCarlo!\"&CostCalculation!$N$10&CostCalculation!$E$4+2,TRUE),\">\"&B282)-COUNTIF(INDIRECT(\"MonteCarlo!\"&CostCalculation!$N$10&3,TRUE):INDIRECT(\"MonteCarlo!\"&CostCalculation!$N$10&CostCalculation!$E$4+2,TRUE),\">\"&B283))/CostCalculation!$E$4=0,#N/A,(COUNTIF(INDIRECT(\"MonteCarlo!\"&CostCalculation!$N$10&3,TRUE):INDIRECT(\"MonteCarlo!\"&CostCalculation!$N$10&CostCalculation!$E$4+2,TRUE),\">\"&B282)-COUNTIF(INDIRECT(\"MonteCarlo!\"&CostCalculation!$N$10&3,TRUE):INDIRECT(\"MonteCarlo!\"&CostCalculation!$N$10&CostCalculation!$E$4+2,TRUE),\">\"&B283))/CostCalculation!$E$4)","v":{"$error":"#N/A"}}]
[0.82799999999999996,{"$f":"ROUND(INDIRECT(\"CostCalculation!D\"&CostCalculation!$O$10,TRUE)*A283,0)","v":405923},{"$f":"IF((COUNTIF(INDIRECT(\"MonteCarlo!\"&CostCalculation!$N$10&3,TRUE):INDIRECT(\"MonteCarlo!\"&CostCalculation!$N$10&CostCalculation!$E$4+2,TRUE),\"<=\"&B283))/CostCalculation!$E$4=0,#N/A,(COUNTIF(INDIRECT(\"MonteCarlo!\"&CostCalculation!$N$10&3,TRUE):INDIRECT(\"MonteCarlo!\"&CostCalculation!$N$10&CostCalculation!$E$4+2,TRUE),\"<=\"&B283))/CostCalculation!$E$4)","v":0.99950000000000006},405923,{"$f":"IF((COUNTIF(INDIRECT(\"MonteCarlo!\"&CostCalculation!$N$10&3,TRUE):INDIRECT(\"MonteCarlo!\"&CostCalculation!$N$10&CostCalculation!$E$4+2,TRUE),\">\"&B283)-COUNTIF(INDIRECT(\"MonteCarlo!\"&CostCalculation!$N$10&3,TRUE):INDIRECT(\"MonteCarlo!\"&CostCalculation!$N$10&CostCalculation!$E$4+2,TRUE),\">\"&B284))/CostCalculation!$E$4=0,#N/A,(COUNTIF(INDIRECT(\"MonteCarlo!\"&CostCalculation!$N$10&3,TRUE):INDIRECT(\"MonteCarlo!\"&CostCalculation!$N$10&CostCalculation!$E$4+2,TRUE),\">\"&B283)-COUNTIF(INDIRECT(\"MonteCarlo!\"&CostCalculation!$N$10&3,TRUE):INDIRECT(\"MonteCarlo!\"&CostCalculation!$N$10&CostCalculation!$E$4+2,TRUE),\">\"&B284))/CostCalculation!$E$4)","v":{"$error":"#N/A"}}]
[0.83099999999999996,{"$f":"ROUND(INDIRECT(\"CostCalculation!D\"&CostCalculation!$O$10,TRUE)*A284,0)","v":407394},{"$f":"IF((COUNTIF(INDIRECT(\"MonteCarlo!\"&CostCalculation!$N$10&3,TRUE):INDIRECT(\"MonteCarlo!\"&CostCalculation!$N$10&CostCalculation!$E$4+2,TRUE),\"<=\"&B284))/CostCalculation!$E$4=0,#N/A,(COUNTIF(INDIRECT(\"MonteCarlo!\"&CostCalculation!$N$10&3,TRUE):INDIRECT(\"MonteCarlo!\"&CostCalculation!$N$10&CostCalculation!$E$4+2,TRUE),\"<=\"&B284))/CostCalculation!$E$4)","v":0.99950000000000006},407394,{"$f":"IF((COUNTIF(INDIRECT(\"MonteCarlo!\"&CostCalculation!$N$10&3,TRUE):INDIRECT(\"MonteCarlo!\"&CostCalculation!$N$10&CostCalculation!$E$4+2,TRUE),\">\"&B284)-COUNTIF(INDIRECT(\"MonteCarlo!\"&CostCalculation!$N$10&3,TRUE):INDIRECT(\"MonteCarlo!\"&CostCalculation!$N$10&CostCalculation!$E$4+2,TRUE),\">\"&B285))/CostCalculation!$E$4=0,#N/A,(COUNTIF(INDIRECT(\"MonteCarlo!\"&CostCalculation!$N$10&3,TRUE):INDIRECT(\"MonteCarlo!\"&CostCalculation!$N$10&CostCalculation!$E$4+2,TRUE),\">\"&B284)-COUNTIF(INDIRECT(\"MonteCarlo!\"&CostCalculation!$N$10&3,TRUE):INDIRECT(\"MonteCarlo!\"&CostCalculation!$N$10&CostCalculation!$E$4+2,TRUE),\">\"&B285))/CostCalculation!$E$4)","v":{"$error":"#N/A"}}]
[0.83399999999999996,{"$f":"ROUND(INDIRECT(\"CostCalculation!D\"&CostCalculation!$O$10,TRUE)*A285,0)","v":408864},{"$f":"IF((COUNTIF(INDIRECT(\"MonteCarlo!\"&CostCalculation!$N$10&3,TRUE):INDIRECT(\"MonteCarlo!\"&CostCalculation!$N$10&CostCalculation!$E$4+2,TRUE),\"<=\"&B285))/CostCalculation!$E$4=0,#N/A,(COUNTIF(INDIRECT(\"MonteCarlo!\"&CostCalculation!$N$10&3,TRUE):INDIRECT(\"MonteCarlo!\"&CostCalculation!$N$10&CostCalculation!$E$4+2,TRUE),\"<=\"&B285))/CostCalculation!$E$4)","v":0.99950000000000006},408864,{"$f":"IF((COUNTIF(INDIRECT(\"MonteCarlo!\"&CostCalculation!$N$10&3,TRUE):INDIRECT(\"MonteCarlo!\"&CostCalculation!$N$10&CostCalculation!$E$4+2,TRUE),\">\"&B285)-COUNTIF(INDIRECT(\"MonteCarlo!\"&CostCalculation!$N$10&3,TRUE):INDIRECT(\"MonteCarlo!\"&CostCalculation!$N$10&CostCalculation!$E$4+2,TRUE),\">\"&B286))/CostCalculation!$E$4=0,#N/A,(COUNTIF(INDIRECT(\"MonteCarlo!\"&CostCalculation!$N$10&3,TRUE):INDIRECT(\"MonteCarlo!\"&CostCalculation!$N$10&CostCalculation!$E$4+2,TRUE),\">\"&B285)-COUNTIF(INDIRECT(\"MonteCarlo!\"&CostCalculation!$N$10&3,TRUE):INDIRECT(\"MonteCarlo!\"&CostCalculation!$N$10&CostCalculation!$E$4+2,TRUE),\">\"&B286))/CostCalculation!$E$4)","v":{"$error":"#N/A"}}]
[0.83699999999999997,{"$f":"ROUND(INDIRECT(\"CostCalculation!D\"&CostCalculation!$O$10,TRUE)*A286,0)","v":410335},{"$f":"IF((COUNTIF(INDIRECT(\"MonteCarlo!\"&CostCalculation!$N$10&3,TRUE):INDIRECT(\"MonteCarlo!\"&CostCalculation!$N$10&CostCalculation!$E$4+2,TRUE),\"<=\"&B286))/CostCalculation!$E$4=0,#N/A,(COUNTIF(INDIRECT(\"MonteCarlo!\"&CostCalculation!$N$10&3,TRUE):INDIRECT(\"MonteCarlo!\"&CostCalculation!$N$10&CostCalculation!$E$4+2,TRUE),\"<=\"&B286))/CostCalculation!$E$4)","v":0.99950000000000006},410335,{"$f":"IF((COUNTIF(INDIRECT(\"MonteCarlo!\"&CostCalculation!$N$10&3,TRUE):INDIRECT(\"MonteCarlo!\"&CostCalculation!$N$10&CostCalculation!$E$4+2,TRUE),\">\"&B286)-COUNTIF(INDIRECT(\"MonteCarlo!\"&CostCalculation!$N$10&3,TRUE):INDIRECT(\"MonteCarlo!\"&CostCalculation!$N$10&CostCalculation!$E$4+2,TRUE),\">\"&B287))/CostCalculation!$E$4=0,#N/A,(COUNTIF(INDIRECT(\"MonteCarlo!\"&CostCalculation!$N$10&3,TRUE):INDIRECT(\"MonteCarlo!\"&CostCalculation!$N$10&CostCalculation!$E$4+2,TRUE),\">\"&B286)-COUNTIF(INDIRECT(\"MonteCarlo!\"&CostCalculation!$N$10&3,TRUE):INDIRECT(\"MonteCarlo!\"&CostCalculation!$N$10&CostCalculation!$E$4+2,TRUE),\">\"&B287))/CostCalculation!$E$4)","v":{"$error":"#N/A"}}]
[0.84,{"$f":"ROUND(INDIRECT(\"CostCalculation!D\"&CostCalculation!$O$10,TRUE)*A287,0)","v":411806},{"$f":"IF((COUNTIF(INDIRECT(\"MonteCarlo!\"&CostCalculation!$N$10&3,TRUE):INDIRECT(\"MonteCarlo!\"&CostCalculation!$N$10&CostCalculation!$E$4+2,TRUE),\"<=\"&B287))/CostCalculation!$E$4=0,#N/A,(COUNTIF(INDIRECT(\"MonteCarlo!\"&CostCalculation!$N$10&3,TRUE):INDIRECT(\"MonteCarlo!\"&CostCalculation!$N$10&CostCalculation!$E$4+2,TRUE),\"<=\"&B287))/CostCalculation!$E$4)","v":0.99950000000000006},411806,{"$f":"IF((COUNTIF(INDIRECT(\"MonteCarlo!\"&CostCalculation!$N$10&3,TRUE):INDIRECT(\"MonteCarlo!\"&CostCalculation!$N$10&CostCalculation!$E$4+2,TRUE),\">\"&B287)-COUNTIF(INDIRECT(\"MonteCarlo!\"&CostCalculation!$N$10&3,TRUE):INDIRECT(\"MonteCarlo!\"&CostCalculation!$N$10&CostCalculation!$E$4+2,TRUE),\">\"&B288))/CostCalculation!$E$4=0,#N/A,(COUNTIF(INDIRECT(\"MonteCarlo!\"&CostCalculation!$N$10&3,TRUE):INDIRECT(\"MonteCarlo!\"&CostCalculation!$N$10&CostCalculation!$E$4+2,TRUE),\">\"&B287)-COUNTIF(INDIRECT(\"MonteCarlo!\"&CostCalculation!$N$10&3,TRUE):INDIRECT(\"MonteCarlo!\"&CostCalculation!$N$10&CostCalculation!$E$4+2,TRUE),\">\"&B288))/CostCalculation!$E$4)","v":{"$error":"#N/A"}}]
[0.84299999999999997,{"$f":"ROUND(INDIRECT(\"CostCalculation!D\"&CostCalculation!$O$10,TRUE)*A288,0)","v":413277},{"$f":"IF((COUNTIF(INDIRECT(\"MonteCarlo!\"&CostCalculation!$N$10&3,TRUE):INDIRECT(\"MonteCarlo!\"&CostCalculation!$N$10&CostCalculation!$E$4+2,TRUE),\"<=\"&B288))/CostCalculation!$E$4=0,#N/A,(COUNTIF(INDIRECT(\"MonteCarlo!\"&CostCalculation!$N$10&3,TRUE):INDIRECT(\"MonteCarlo!\"&CostCalculation!$N$10&CostCalculation!$E$4+2,TRUE),\"<=\"&B288))/CostCalculation!$E$4)","v":0.99950000000000006},413277,{"$f":"IF((COUNTIF(INDIRECT(\"MonteCarlo!\"&CostCalculation!$N$10&3,TRUE):INDIRECT(\"MonteCarlo!\"&CostCalculation!$N$10&CostCalculation!$E$4+2,TRUE),\">\"&B288)-COUNTIF(INDIRECT(\"MonteCarlo!\"&CostCalculation!$N$10&3,TRUE):INDIRECT(\"MonteCarlo!\"&CostCalculation!$N$10&CostCalculation!$E$4+2,TRUE),\">\"&B289))/CostCalculation!$E$4=0,#N/A,(COUNTIF(INDIRECT(\"MonteCarlo!\"&CostCalculation!$N$10&3,TRUE):INDIRECT(\"MonteCarlo!\"&CostCalculation!$N$10&CostCalculation!$E$4+2,TRUE),\">\"&B288)-COUNTIF(INDIRECT(\"MonteCarlo!\"&CostCalculation!$N$10&3,TRUE):INDIRECT(\"MonteCarlo!\"&CostCalculation!$N$10&CostCalculation!$E$4+2,TRUE),\">\"&B289))/CostCalculation!$E$4)","v":{"$error":"#N/A"}}]
[0.84599999999999997,{"$f":"ROUND(INDIRECT(\"CostCalculation!D\"&CostCalculation!$O$10,TRUE)*A289,0)","v":414747},{"$f":"IF((COUNTIF(INDIRECT(\"MonteCarlo!\"&CostCalculation!$N$10&3,TRUE):INDIRECT(\"MonteCarlo!\"&CostCalculation!$N$10&CostCalculation!$E$4+2,TRUE),\"<=\"&B289))/CostCalculation!$E$4=0,#N/A,(COUNTIF(INDIRECT(\"MonteCarlo!\"&CostCalculation!$N$10&3,TRUE):INDIRECT(\"MonteCarlo!\"&CostCalculation!$N$10&CostCalculation!$E$4+2,TRUE),\"<=\"&B289))/CostCalculation!$E$4)","v":0.99950000000000006},414747,{"$f":"IF((COUNTIF(INDIRECT(\"MonteCarlo!\"&CostCalculation!$N$10&3,TRUE):INDIRECT(\"MonteCarlo!\"&CostCalculation!$N$10&CostCalculation!$E$4+2,TRUE),\">\"&B289)-COUNTIF(INDIRECT(\"MonteCarlo!\"&CostCalculation!$N$10&3,TRUE):INDIRECT(\"MonteCarlo!\"&CostCalculation!$N$10&CostCalculation!$E$4+2,TRUE),\">\"&B290))/CostCalculation!$E$4=0,#N/A,(COUNTIF(INDIRECT(\"MonteCarlo!\"&CostCalculation!$N$10&3,TRUE):INDIRECT(\"MonteCarlo!\"&CostCalculation!$N$10&CostCalculation!$E$4+2,TRUE),\">\"&B289)-COUNTIF(INDIRECT(\"MonteCarlo!\"&CostCalculation!$N$10&3,TRUE):INDIRECT(\"MonteCarlo!\"&CostCalculation!$N$10&CostCalculation!$E$4+2,TRUE),\">\"&B290))/CostCalculation!$E$4)","v":{"$error":"#N/A"}}]
[0.84899999999999998,{"$f":"ROUND(INDIRECT(\"CostCalculation!D\"&CostCalculation!$O$10,TRUE)*A290,0)","v":416218},{"$f":"IF((COUNTIF(INDIRECT(\"MonteCarlo!\"&CostCalculation!$N$10&3,TRUE):INDIRECT(\"MonteCarlo!\"&CostCalculation!$N$10&CostCalculation!$E$4+2,TRUE),\"<=\"&B290))/CostCalculation!$E$4=0,#N/A,(COUNTIF(INDIRECT(\"MonteCarlo!\"&CostCalculation!$N$10&3,TRUE):INDIRECT(\"MonteCarlo!\"&CostCalculation!$N$10&CostCalculation!$E$4+2,TRUE),\"<=\"&B290))/CostCalculation!$E$4)","v":0.99950000000000006},416218,{"$f":"IF((COUNTIF(INDIRECT(\"MonteCarlo!\"&CostCalculation!$N$10&3,TRUE):INDIRECT(\"MonteCarlo!\"&CostCalculation!$N$10&CostCalculation!$E$4+2,TRUE),\">\"&B290)-COUNTIF(INDIRECT(\"MonteCarlo!\"&CostCalculation!$N$10&3,TRUE):INDIRECT(\"MonteCarlo!\"&CostCalculation!$N$10&CostCalculation!$E$4+2,TRUE),\">\"&B291))/CostCalculation!$E$4=0,#N/A,(COUNTIF(INDIRECT(\"MonteCarlo!\"&CostCalculation!$N$10&3,TRUE):INDIRECT(\"MonteCarlo!\"&CostCalculation!$N$10&CostCalculation!$E$4+2,TRUE),\">\"&B290)-COUNTIF(INDIRECT(\"MonteCarlo!\"&CostCalculation!$N$10&3,TRUE):INDIRECT(\"MonteCarlo!\"&CostCalculation!$N$10&CostCalculation!$E$4+2,TRUE),\">\"&B291))/CostCalculation!$E$4)","v":{"$error":"#N/A"}}]
[0.85199999999999998,{"$f":"ROUND(INDIRECT(\"CostCalculation!D\"&CostCalculation!$O$10,TRUE)*A291,0)","v":417689},{"$f":"IF((COUNTIF(INDIRECT(\"MonteCarlo!\"&CostCalculation!$N$10&3,TRUE):INDIRECT(\"MonteCarlo!\"&CostCalculation!$N$10&CostCalculation!$E$4+2,TRUE),\"<=\"&B291))/CostCalculation!$E$4=0,#N/A,(COUNTIF(INDIRECT(\"MonteCarlo!\"&CostCalculation!$N$10&3,TRUE):INDIRECT(\"MonteCarlo!\"&CostCalculation!$N$10&CostCalculation!$E$4+2,TRUE),\"<=\"&B291))/CostCalculation!$E$4)","v":0.99950000000000006},417689,{"$f":"IF((COUNTIF(INDIRECT(\"MonteCarlo!\"&CostCalculation!$N$10&3,TRUE):INDIRECT(\"MonteCarlo!\"&CostCalculation!$N$10&CostCalculation!$E$4+2,TRUE),\">\"&B291)-COUNTIF(INDIRECT(\"MonteCarlo!\"&CostCalculation!$N$10&3,TRUE):INDIRECT(\"MonteCarlo!\"&CostCalculation!$N$10&CostCalculation!$E$4+2,TRUE),\">\"&B292))/CostCalculation!$E$4=0,#N/A,(COUNTIF(INDIRECT(\"MonteCarlo!\"&CostCalculation!$N$10&3,TRUE):INDIRECT(\"MonteCarlo!\"&CostCalculation!$N$10&CostCalculation!$E$4+2,TRUE),\">\"&B291)-COUNTIF(INDIRECT(\"MonteCarlo!\"&CostCalculation!$N$10&3,TRUE):INDIRECT(\"MonteCarlo!\"&CostCalculation!$N$10&CostCalculation!$E$4+2,TRUE),\">\"&B292))/CostCalculation!$E$4)","v":{"$error":"#N/A"}}]
[0.85499999999999998,{"$f":"ROUND(INDIRECT(\"CostCalculation!D\"&CostCalculation!$O$10,TRUE)*A292,0)","v":419159},{"$f":"IF((COUNTIF(INDIRECT(\"MonteCarlo!\"&CostCalculation!$N$10&3,TRUE):INDIRECT(\"MonteCarlo!\"&CostCalculation!$N$10&CostCalculation!$E$4+2,TRUE),\"<=\"&B292))/CostCalculation!$E$4=0,#N/A,(COUNTIF(INDIRECT(\"MonteCarlo!\"&CostCalculation!$N$10&3,TRUE):INDIRECT(\"MonteCarlo!\"&CostCalculation!$N$10&CostCalculation!$E$4+2,TRUE),\"<=\"&B292))/CostCalculation!$E$4)","v":0.99950000000000006},419159,{"$f":"IF((COUNTIF(INDIRECT(\"MonteCarlo!\"&CostCalculation!$N$10&3,TRUE):INDIRECT(\"MonteCarlo!\"&CostCalculation!$N$10&CostCalculation!$E$4+2,TRUE),\">\"&B292)-COUNTIF(INDIRECT(\"MonteCarlo!\"&CostCalculation!$N$10&3,TRUE):INDIRECT(\"MonteCarlo!\"&CostCalculation!$N$10&CostCalculation!$E$4+2,TRUE),\">\"&B293))/CostCalculation!$E$4=0,#N/A,(COUNTIF(INDIRECT(\"MonteCarlo!\"&CostCalculation!$N$10&3,TRUE):INDIRECT(\"MonteCarlo!\"&CostCalculation!$N$10&CostCalculation!$E$4+2,TRUE),\">\"&B292)-COUNTIF(INDIRECT(\"MonteCarlo!\"&CostCalculation!$N$10&3,TRUE):INDIRECT(\"MonteCarlo!\"&CostCalculation!$N$10&CostCalculation!$E$4+2,TRUE),\">\"&B293))/CostCalculation!$E$4)","v":{"$error":"#N/A"}}]
[0.85799999999999998,{"$f":"ROUND(INDIRECT(\"CostCalculation!D\"&CostCalculation!$O$10,TRUE)*A293,0)","v":420630},{"$f":"IF((COUNTIF(INDIRECT(\"MonteCarlo!\"&CostCalculation!$N$10&3,TRUE):INDIRECT(\"MonteCarlo!\"&CostCalculation!$N$10&CostCalculation!$E$4+2,TRUE),\"<=\"&B293))/CostCalculation!$E$4=0,#N/A,(COUNTIF(INDIRECT(\"MonteCarlo!\"&CostCalculation!$N$10&3,TRUE):INDIRECT(\"MonteCarlo!\"&CostCalculation!$N$10&CostCalculation!$E$4+2,TRUE),\"<=\"&B293))/CostCalculation!$E$4)","v":0.99950000000000006},420630,{"$f":"IF((COUNTIF(INDIRECT(\"MonteCarlo!\"&CostCalculation!$N$10&3,TRUE):INDIRECT(\"MonteCarlo!\"&CostCalculation!$N$10&CostCalculation!$E$4+2,TRUE),\">\"&B293)-COUNTIF(INDIRECT(\"MonteCarlo!\"&CostCalculation!$N$10&3,TRUE):INDIRECT(\"MonteCarlo!\"&CostCalculation!$N$10&CostCalculation!$E$4+2,TRUE),\">\"&B294))/CostCalculation!$E$4=0,#N/A,(COUNTIF(INDIRECT(\"MonteCarlo!\"&CostCalculation!$N$10&3,TRUE):INDIRECT(\"MonteCarlo!\"&CostCalculation!$N$10&CostCalculation!$E$4+2,TRUE),\">\"&B293)-COUNTIF(INDIRECT(\"MonteCarlo!\"&CostCalculation!$N$10&3,TRUE):INDIRECT(\"MonteCarlo!\"&CostCalculation!$N$10&CostCalculation!$E$4+2,TRUE),\">\"&B294))/CostCalculation!$E$4)","v":{"$error":"#N/A"}}]
[0.86099999999999999,{"$f":"ROUND(INDIRECT(\"CostCalculation!D\"&CostCalculation!$O$10,TRUE)*A294,0)","v":422101},{"$f":"IF((COUNTIF(INDIRECT(\"MonteCarlo!\"&CostCalculation!$N$10&3,TRUE):INDIRECT(\"MonteCarlo!\"&CostCalculation!$N$10&CostCalculation!$E$4+2,TRUE),\"<=\"&B294))/CostCalculation!$E$4=0,#N/A,(COUNTIF(INDIRECT(\"MonteCarlo!\"&CostCalculation!$N$10&3,TRUE):INDIRECT(\"MonteCarlo!\"&CostCalculation!$N$10&CostCalculation!$E$4+2,TRUE),\"<=\"&B294))/CostCalculation!$E$4)","v":0.99950000000000006},422101,{"$f":"IF((COUNTIF(INDIRECT(\"MonteCarlo!\"&CostCalculation!$N$10&3,TRUE):INDIRECT(\"MonteCarlo!\"&CostCalculation!$N$10&CostCalculation!$E$4+2,TRUE),\">\"&B294)-COUNTIF(INDIRECT(\"MonteCarlo!\"&CostCalculation!$N$10&3,TRUE):INDIRECT(\"MonteCarlo!\"&CostCalculation!$N$10&CostCalculation!$E$4+2,TRUE),\">\"&B295))/CostCalculation!$E$4=0,#N/A,(COUNTIF(INDIRECT(\"MonteCarlo!\"&CostCalculation!$N$10&3,TRUE):INDIRECT(\"MonteCarlo!\"&CostCalculation!$N$10&CostCalculation!$E$4+2,TRUE),\">\"&B294)-COUNTIF(INDIRECT(\"MonteCarlo!\"&CostCalculation!$N$10&3,TRUE):INDIRECT(\"MonteCarlo!\"&CostCalculation!$N$10&CostCalculation!$E$4+2,TRUE),\">\"&B295))/CostCalculation!$E$4)","v":{"$error":"#N/A"}}]
[0.86399999999999999,{"$f":"ROUND(INDIRECT(\"CostCalculation!D\"&CostCalculation!$O$10,TRUE)*A295,0)","v":423572},{"$f":"IF((COUNTIF(INDIRECT(\"MonteCarlo!\"&CostCalculation!$N$10&3,TRUE):INDIRECT(\"MonteCarlo!\"&CostCalculation!$N$10&CostCalculation!$E$4+2,TRUE),\"<=\"&B295))/CostCalculation!$E$4=0,#N/A,(COUNTIF(INDIRECT(\"MonteCarlo!\"&CostCalculation!$N$10&3,TRUE):INDIRECT(\"MonteCarlo!\"&CostCalculation!$N$10&CostCalculation!$E$4+2,TRUE),\"<=\"&B295))/CostCalculation!$E$4)","v":0.99950000000000006},423572,{"$f":"IF((COUNTIF(INDIRECT(\"MonteCarlo!\"&CostCalculation!$N$10&3,TRUE):INDIRECT(\"MonteCarlo!\"&CostCalculation!$N$10&CostCalculation!$E$4+2,TRUE),\">\"&B295)-COUNTIF(INDIRECT(\"MonteCarlo!\"&CostCalculation!$N$10&3,TRUE):INDIRECT(\"MonteCarlo!\"&CostCalculation!$N$10&CostCalculation!$E$4+2,TRUE),\">\"&B296))/CostCalculation!$E$4=0,#N/A,(COUNTIF(INDIRECT(\"MonteCarlo!\"&CostCalculation!$N$10&3,TRUE):INDIRECT(\"MonteCarlo!\"&CostCalculation!$N$10&CostCalculation!$E$4+2,TRUE),\">\"&B295)-COUNTIF(INDIRECT(\"MonteCarlo!\"&CostCalculation!$N$10&3,TRUE):INDIRECT(\"MonteCarlo!\"&CostCalculation!$N$10&CostCalculation!$E$4+2,TRUE),\">\"&B296))/CostCalculation!$E$4)","v":{"$error":"#N/A"}}]
[0.86699999999999999,{"$f":"ROUND(INDIRECT(\"CostCalculation!D\"&CostCalculation!$O$10,TRUE)*A296,0)","v":425042},{"$f":"IF((COUNTIF(INDIRECT(\"MonteCarlo!\"&CostCalculation!$N$10&3,TRUE):INDIRECT(\"MonteCarlo!\"&CostCalculation!$N$10&CostCalculation!$E$4+2,TRUE),\"<=\"&B296))/CostCalculation!$E$4=0,#N/A,(COUNTIF(INDIRECT(\"MonteCarlo!\"&CostCalculation!$N$10&3,TRUE):INDIRECT(\"MonteCarlo!\"&CostCalculation!$N$10&CostCalculation!$E$4+2,TRUE),\"<=\"&B296))/CostCalculation!$E$4)","v":0.99950000000000006},425042,{"$f":"IF((COUNTIF(INDIRECT(\"MonteCarlo!\"&CostCalculation!$N$10&3,TRUE):INDIRECT(\"MonteCarlo!\"&CostCalculation!$N$10&CostCalculation!$E$4+2,TRUE),\">\"&B296)-COUNTIF(INDIRECT(\"MonteCarlo!\"&CostCalculation!$N$10&3,TRUE):INDIRECT(\"MonteCarlo!\"&CostCalculation!$N$10&CostCalculation!$E$4+2,TRUE),\">\"&B297))/CostCalculation!$E$4=0,#N/A,(COUNTIF(INDIRECT(\"MonteCarlo!\"&CostCalculation!$N$10&3,TRUE):INDIRECT(\"MonteCarlo!\"&CostCalculation!$N$10&CostCalculation!$E$4+2,TRUE),\">\"&B296)-COUNTIF(INDIRECT(\"MonteCarlo!\"&CostCalculation!$N$10&3,TRUE):INDIRECT(\"MonteCarlo!\"&CostCalculation!$N$10&CostCalculation!$E$4+2,TRUE),\">\"&B297))/CostCalculation!$E$4)","v":{"$error":"#N/A"}}]
[0.87,{"$f":"ROUND(INDIRECT(\"CostCalculation!D\"&CostCalculation!$O$10,TRUE)*A297,0)","v":426513},{"$f":"IF((COUNTIF(INDIRECT(\"MonteCarlo!\"&CostCalculation!$N$10&3,TRUE):INDIRECT(\"MonteCarlo!\"&CostCalculation!$N$10&CostCalculation!$E$4+2,TRUE),\"<=\"&B297))/CostCalculation!$E$4=0,#N/A,(COUNTIF(INDIRECT(\"MonteCarlo!\"&CostCalculation!$N$10&3,TRUE):INDIRECT(\"MonteCarlo!\"&CostCalculation!$N$10&CostCalculation!$E$4+2,TRUE),\"<=\"&B297))/CostCalculation!$E$4)","v":0.99950000000000006},426513,{"$f":"IF((COUNTIF(INDIRECT(\"MonteCarlo!\"&CostCalculation!$N$10&3,TRUE):INDIRECT(\"MonteCarlo!\"&CostCalculation!$N$10&CostCalculation!$E$4+2,TRUE),\">\"&B297)-COUNTIF(INDIRECT(\"MonteCarlo!\"&CostCalculation!$N$10&3,TRUE):INDIRECT(\"MonteCarlo!\"&CostCalculation!$N$10&CostCalculation!$E$4+2,TRUE),\">\"&B298))/CostCalculation!$E$4=0,#N/A,(COUNTIF(INDIRECT(\"MonteCarlo!\"&CostCalculation!$N$10&3,TRUE):INDIRECT(\"MonteCarlo!\"&CostCalculation!$N$10&CostCalculation!$E$4+2,TRUE),\">\"&B297)-COUNTIF(INDIRECT(\"MonteCarlo!\"&CostCalculation!$N$10&3,TRUE):INDIRECT(\"MonteCarlo!\"&CostCalculation!$N$10&CostCalculation!$E$4+2,TRUE),\">\"&B298))/CostCalculation!$E$4)","v":{"$error":"#N/A"}}]
[0.873,{"$f":"ROUND(INDIRECT(\"CostCalculation!D\"&CostCalculation!$O$10,TRUE)*A298,0)","v":427984},{"$f":"IF((COUNTIF(INDIRECT(\"MonteCarlo!\"&CostCalculation!$N$10&3,TRUE):INDIRECT(\"MonteCarlo!\"&CostCalculation!$N$10&CostCalculation!$E$4+2,TRUE),\"<=\"&B298))/CostCalculation!$E$4=0,#N/A,(COUNTIF(INDIRECT(\"MonteCarlo!\"&CostCalculation!$N$10&3,TRUE):INDIRECT(\"MonteCarlo!\"&CostCalculation!$N$10&CostCalculation!$E$4+2,TRUE),\"<=\"&B298))/CostCalculation!$E$4)","v":0.99950000000000006},427984,{"$f":"IF((COUNTIF(INDIRECT(\"MonteCarlo!\"&CostCalculation!$N$10&3,TRUE):INDIRECT(\"MonteCarlo!\"&CostCalculation!$N$10&CostCalculation!$E$4+2,TRUE),\">\"&B298)-COUNTIF(INDIRECT(\"MonteCarlo!\"&CostCalculation!$N$10&3,TRUE):INDIRECT(\"MonteCarlo!\"&CostCalculation!$N$10&CostCalculation!$E$4+2,TRUE),\">\"&B299))/CostCalculation!$E$4=0,#N/A,(COUNTIF(INDIRECT(\"MonteCarlo!\"&CostCalculation!$N$10&3,TRUE):INDIRECT(\"MonteCarlo!\"&CostCalculation!$N$10&CostCalculation!$E$4+2,TRUE),\">\"&B298)-COUNTIF(INDIRECT(\"MonteCarlo!\"&CostCalculation!$N$10&3,TRUE):INDIRECT(\"MonteCarlo!\"&CostCalculation!$N$10&CostCalculation!$E$4+2,TRUE),\">\"&B299))/CostCalculation!$E$4)","v":{"$error":"#N/A"}}]
[0.876,{"$f":"ROUND(INDIRECT(\"CostCalculation!D\"&CostCalculation!$O$10,TRUE)*A299,0)","v":429455},{"$f":"IF((COUNTIF(INDIRECT(\"MonteCarlo!\"&CostCalculation!$N$10&3,TRUE):INDIRECT(\"MonteCarlo!\"&CostCalculation!$N$10&CostCalculation!$E$4+2,TRUE),\"<=\"&B299))/CostCalculation!$E$4=0,#N/A,(COUNTIF(INDIRECT(\"MonteCarlo!\"&CostCalculation!$N$10&3,TRUE):INDIRECT(\"MonteCarlo!\"&CostCalculation!$N$10&CostCalculation!$E$4+2,TRUE),\"<=\"&B299))/CostCalculation!$E$4)","v":0.99950000000000006},429455,{"$f":"IF((COUNTIF(INDIRECT(\"MonteCarlo!\"&CostCalculation!$N$10&3,TRUE):INDIRECT(\"MonteCarlo!\"&CostCalculation!$N$10&CostCalculation!$E$4+2,TRUE),\">\"&B299)-COUNTIF(INDIRECT(\"MonteCarlo!\"&CostCalculation!$N$10&3,TRUE):INDIRECT(\"MonteCarlo!\"&CostCalculation!$N$10&CostCalculation!$E$4+2,TRUE),\">\"&B300))/CostCalculation!$E$4=0,#N/A,(COUNTIF(INDIRECT(\"MonteCarlo!\"&CostCalculation!$N$10&3,TRUE):INDIRECT(\"MonteCarlo!\"&CostCalculation!$N$10&CostCalculation!$E$4+2,TRUE),\">\"&B299)-COUNTIF(INDIRECT(\"MonteCarlo!\"&CostCalculation!$N$10&3,TRUE):INDIRECT(\"MonteCarlo!\"&CostCalculation!$N$10&CostCalculation!$E$4+2,TRUE),\">\"&B300))/CostCalculation!$E$4)","v":{"$error":"#N/A"}}]
[0.879,{"$f":"ROUND(INDIRECT(\"CostCalculation!D\"&CostCalculation!$O$10,TRUE)*A300,0)","v":430925},{"$f":"IF((COUNTIF(INDIRECT(\"MonteCarlo!\"&CostCalculation!$N$10&3,TRUE):INDIRECT(\"MonteCarlo!\"&CostCalculation!$N$10&CostCalculation!$E$4+2,TRUE),\"<=\"&B300))/CostCalculation!$E$4=0,#N/A,(COUNTIF(INDIRECT(\"MonteCarlo!\"&CostCalculation!$N$10&3,TRUE):INDIRECT(\"MonteCarlo!\"&CostCalculation!$N$10&CostCalculation!$E$4+2,TRUE),\"<=\"&B300))/CostCalculation!$E$4)","v":0.99950000000000006},430925,{"$f":"IF((COUNTIF(INDIRECT(\"MonteCarlo!\"&CostCalculation!$N$10&3,TRUE):INDIRECT(\"MonteCarlo!\"&CostCalculation!$N$10&CostCalculation!$E$4+2,TRUE),\">\"&B300)-COUNTIF(INDIRECT(\"MonteCarlo!\"&CostCalculation!$N$10&3,TRUE):INDIRECT(\"MonteCarlo!\"&CostCalculation!$N$10&CostCalculation!$E$4+2,TRUE),\">\"&B301))/CostCalculation!$E$4=0,#N/A,(COUNTIF(INDIRECT(\"MonteCarlo!\"&CostCalculation!$N$10&3,TRUE):INDIRECT(\"MonteCarlo!\"&CostCalculation!$N$10&CostCalculation!$E$4+2,TRUE),\">\"&B300)-COUNTIF(INDIRECT(\"MonteCarlo!\"&CostCalculation!$N$10&3,TRUE):INDIRECT(\"MonteCarlo!\"&CostCalculation!$N$10&CostCalculation!$E$4+2,TRUE),\">\"&B301))/CostCalculation!$E$4)","v":{"$error":"#N/A"}}]
[0.88200000000000001,{"$f":"ROUND(INDIRECT(\"CostCalculation!D\"&CostCalculation!$O$10,TRUE)*A301,0)","v":432396},{"$f":"IF((COUNTIF(INDIRECT(\"MonteCarlo!\"&CostCalculation!$N$10&3,TRUE):INDIRECT(\"MonteCarlo!\"&CostCalculation!$N$10&CostCalculation!$E$4+2,TRUE),\"<=\"&B301))/CostCalculation!$E$4=0,#N/A,(COUNTIF(INDIRECT(\"MonteCarlo!\"&CostCalculation!$N$10&3,TRUE):INDIRECT(\"MonteCarlo!\"&CostCalculation!$N$10&CostCalculation!$E$4+2,TRUE),\"<=\"&B301))/CostCalculation!$E$4)","v":0.99950000000000006},432396,{"$f":"IF((COUNTIF(INDIRECT(\"MonteCarlo!\"&CostCalculation!$N$10&3,TRUE):INDIRECT(\"MonteCarlo!\"&CostCalculation!$N$10&CostCalculation!$E$4+2,TRUE),\">\"&B301)-COUNTIF(INDIRECT(\"MonteCarlo!\"&CostCalculation!$N$10&3,TRUE):INDIRECT(\"MonteCarlo!\"&CostCalculation!$N$10&CostCalculation!$E$4+2,TRUE),\">\"&B302))/CostCalculation!$E$4=0,#N/A,(COUNTIF(INDIRECT(\"MonteCarlo!\"&CostCalculation!$N$10&3,TRUE):INDIRECT(\"MonteCarlo!\"&CostCalculation!$N$10&CostCalculation!$E$4+2,TRUE),\">\"&B301)-COUNTIF(INDIRECT(\"MonteCarlo!\"&CostCalculation!$N$10&3,TRUE):INDIRECT(\"MonteCarlo!\"&CostCalculation!$N$10&CostCalculation!$E$4+2,TRUE),\">\"&B302))/CostCalculation!$E$4)","v":{"$error":"#N/A"}}]
[0.88500000000000001,{"$f":"ROUND(INDIRECT(\"CostCalculation!D\"&CostCalculation!$O$10,TRUE)*A302,0)","v":433867},{"$f":"IF((COUNTIF(INDIRECT(\"MonteCarlo!\"&CostCalculation!$N$10&3,TRUE):INDIRECT(\"MonteCarlo!\"&CostCalculation!$N$10&CostCalculation!$E$4+2,TRUE),\"<=\"&B302))/CostCalculation!$E$4=0,#N/A,(COUNTIF(INDIRECT(\"MonteCarlo!\"&CostCalculation!$N$10&3,TRUE):INDIRECT(\"MonteCarlo!\"&CostCalculation!$N$10&CostCalculation!$E$4+2,TRUE),\"<=\"&B302))/CostCalculation!$E$4)","v":0.99950000000000006},433867,{"$f":"IF((COUNTIF(INDIRECT(\"MonteCarlo!\"&CostCalculation!$N$10&3,TRUE):INDIRECT(\"MonteCarlo!\"&CostCalculation!$N$10&CostCalculation!$E$4+2,TRUE),\">\"&B302)-COUNTIF(INDIRECT(\"MonteCarlo!\"&CostCalculation!$N$10&3,TRUE):INDIRECT(\"MonteCarlo!\"&CostCalculation!$N$10&CostCalculation!$E$4+2,TRUE),\">\"&B303))/CostCalculation!$E$4=0,#N/A,(COUNTIF(INDIRECT(\"MonteCarlo!\"&CostCalculation!$N$10&3,TRUE):INDIRECT(\"MonteCarlo!\"&CostCalculation!$N$10&CostCalculation!$E$4+2,TRUE),\">\"&B302)-COUNTIF(INDIRECT(\"MonteCarlo!\"&CostCalculation!$N$10&3,TRUE):INDIRECT(\"MonteCarlo!\"&CostCalculation!$N$10&CostCalculation!$E$4+2,TRUE),\">\"&B303))/CostCalculation!$E$4)","v":{"$error":"#N/A"}}]
[0.88800000000000001,{"$f":"ROUND(INDIRECT(\"CostCalculation!D\"&CostCalculation!$O$10,TRUE)*A303,0)","v":435338},{"$f":"IF((COUNTIF(INDIRECT(\"MonteCarlo!\"&CostCalculation!$N$10&3,TRUE):INDIRECT(\"MonteCarlo!\"&CostCalculation!$N$10&CostCalculation!$E$4+2,TRUE),\"<=\"&B303))/CostCalculation!$E$4=0,#N/A,(COUNTIF(INDIRECT(\"MonteCarlo!\"&CostCalculation!$N$10&3,TRUE):INDIRECT(\"MonteCarlo!\"&CostCalculation!$N$10&CostCalculation!$E$4+2,TRUE),\"<=\"&B303))/CostCalculation!$E$4)","v":0.99950000000000006},435338,{"$f":"IF((COUNTIF(INDIRECT(\"MonteCarlo!\"&CostCalculation!$N$10&3,TRUE):INDIRECT(\"MonteCarlo!\"&CostCalculation!$N$10&CostCalculation!$E$4+2,TRUE),\">\"&B303)-COUNTIF(INDIRECT(\"MonteCarlo!\"&CostCalculation!$N$10&3,TRUE):INDIRECT(\"MonteCarlo!\"&CostCalculation!$N$10&CostCalculation!$E$4+2,TRUE),\">\"&B304))/CostCalculation!$E$4=0,#N/A,(COUNTIF(INDIRECT(\"MonteCarlo!\"&CostCalculation!$N$10&3,TRUE):INDIRECT(\"MonteCarlo!\"&CostCalculation!$N$10&CostCalculation!$E$4+2,TRUE),\">\"&B303)-COUNTIF(INDIRECT(\"MonteCarlo!\"&CostCalculation!$N$10&3,TRUE):INDIRECT(\"MonteCarlo!\"&CostCalculation!$N$10&CostCalculation!$E$4+2,TRUE),\">\"&B304))/CostCalculation!$E$4)","v":{"$error":"#N/A"}}]
[0.89100000000000001,{"$f":"ROUND(INDIRECT(\"CostCalculation!D\"&CostCalculation!$O$10,TRUE)*A304,0)","v":436808},{"$f":"IF((COUNTIF(INDIRECT(\"MonteCarlo!\"&CostCalculation!$N$10&3,TRUE):INDIRECT(\"MonteCarlo!\"&CostCalculation!$N$10&CostCalculation!$E$4+2,TRUE),\"<=\"&B304))/CostCalculation!$E$4=0,#N/A,(COUNTIF(INDIRECT(\"MonteCarlo!\"&CostCalculation!$N$10&3,TRUE):INDIRECT(\"MonteCarlo!\"&CostCalculation!$N$10&CostCalculation!$E$4+2,TRUE),\"<=\"&B304))/CostCalculation!$E$4)","v":0.99950000000000006},436808,{"$f":"IF((COUNTIF(INDIRECT(\"MonteCarlo!\"&CostCalculation!$N$10&3,TRUE):INDIRECT(\"MonteCarlo!\"&CostCalculation!$N$10&CostCalculation!$E$4+2,TRUE),\">\"&B304)-COUNTIF(INDIRECT(\"MonteCarlo!\"&CostCalculation!$N$10&3,TRUE):INDIRECT(\"MonteCarlo!\"&CostCalculation!$N$10&CostCalculation!$E$4+2,TRUE),\">\"&B305))/CostCalculation!$E$4=0,#N/A,(COUNTIF(INDIRECT(\"MonteCarlo!\"&CostCalculation!$N$10&3,TRUE):INDIRECT(\"MonteCarlo!\"&CostCalculation!$N$10&CostCalculation!$E$4+2,TRUE),\">\"&B304)-COUNTIF(INDIRECT(\"MonteCarlo!\"&CostCalculation!$N$10&3,TRUE):INDIRECT(\"MonteCarlo!\"&CostCalculation!$N$10&CostCalculation!$E$4+2,TRUE),\">\"&B305))/CostCalculation!$E$4)","v":{"$error":"#N/A"}}]
[0.89400000000000002,{"$f":"ROUND(INDIRECT(\"CostCalculation!D\"&CostCalculation!$O$10,TRUE)*A305,0)","v":438279},{"$f":"IF((COUNTIF(INDIRECT(\"MonteCarlo!\"&CostCalculation!$N$10&3,TRUE):INDIRECT(\"MonteCarlo!\"&CostCalculation!$N$10&CostCalculation!$E$4+2,TRUE),\"<=\"&B305))/CostCalculation!$E$4=0,#N/A,(COUNTIF(INDIRECT(\"MonteCarlo!\"&CostCalculation!$N$10&3,TRUE):INDIRECT(\"MonteCarlo!\"&CostCalculation!$N$10&CostCalculation!$E$4+2,TRUE),\"<=\"&B305))/CostCalculation!$E$4)","v":0.99950000000000006},438279,{"$f":"IF((COUNTIF(INDIRECT(\"MonteCarlo!\"&CostCalculation!$N$10&3,TRUE):INDIRECT(\"MonteCarlo!\"&CostCalculation!$N$10&CostCalculation!$E$4+2,TRUE),\">\"&B305)-COUNTIF(INDIRECT(\"MonteCarlo!\"&CostCalculation!$N$10&3,TRUE):INDIRECT(\"MonteCarlo!\"&CostCalculation!$N$10&CostCalculation!$E$4+2,TRUE),\">\"&B306))/CostCalculation!$E$4=0,#N/A,(COUNTIF(INDIRECT(\"MonteCarlo!\"&CostCalculation!$N$10&3,TRUE):INDIRECT(\"MonteCarlo!\"&CostCalculation!$N$10&CostCalculation!$E$4+2,TRUE),\">\"&B305)-COUNTIF(INDIRECT(\"MonteCarlo!\"&CostCalculation!$N$10&3,TRUE):INDIRECT(\"MonteCarlo!\"&CostCalculation!$N$10&CostCalculation!$E$4+2,TRUE),\">\"&B306))/CostCalculation!$E$4)","v":{"$error":"#N/A"}}]
[0.89700000000000002,{"$f":"ROUND(INDIRECT(\"CostCalculation!D\"&CostCalculation!$O$10,TRUE)*A306,0)","v":439750},{"$f":"IF((COUNTIF(INDIRECT(\"MonteCarlo!\"&CostCalculation!$N$10&3,TRUE):INDIRECT(\"MonteCarlo!\"&CostCalculation!$N$10&CostCalculation!$E$4+2,TRUE),\"<=\"&B306))/CostCalculation!$E$4=0,#N/A,(COUNTIF(INDIRECT(\"MonteCarlo!\"&CostCalculation!$N$10&3,TRUE):INDIRECT(\"MonteCarlo!\"&CostCalculation!$N$10&CostCalculation!$E$4+2,TRUE),\"<=\"&B306))/CostCalculation!$E$4)","v":0.99950000000000006},439750,{"$f":"IF((COUNTIF(INDIRECT(\"MonteCarlo!\"&CostCalculation!$N$10&3,TRUE):INDIRECT(\"MonteCarlo!\"&CostCalculation!$N$10&CostCalculation!$E$4+2,TRUE),\">\"&B306)-COUNTIF(INDIRECT(\"MonteCarlo!\"&CostCalculation!$N$10&3,TRUE):INDIRECT(\"MonteCarlo!\"&CostCalculation!$N$10&CostCalculation!$E$4+2,TRUE),\">\"&B307))/CostCalculation!$E$4=0,#N/A,(COUNTIF(INDIRECT(\"MonteCarlo!\"&CostCalculation!$N$10&3,TRUE):INDIRECT(\"MonteCarlo!\"&CostCalculation!$N$10&CostCalculation!$E$4+2,TRUE),\">\"&B306)-COUNTIF(INDIRECT(\"MonteCarlo!\"&CostCalculation!$N$10&3,TRUE):INDIRECT(\"MonteCarlo!\"&CostCalculation!$N$10&CostCalculation!$E$4+2,TRUE),\">\"&B307))/CostCalculation!$E$4)","v":{"$error":"#N/A"}}]
[0.9,{"$f":"ROUND(INDIRECT(\"CostCalculation!D\"&CostCalculation!$O$10,TRUE)*A307,0)","v":441221},{"$f":"IF((COUNTIF(INDIRECT(\"MonteCarlo!\"&CostCalculation!$N$10&3,TRUE):INDIRECT(\"MonteCarlo!\"&CostCalculation!$N$10&CostCalculation!$E$4+2,TRUE),\"<=\"&B307))/CostCalculation!$E$4=0,#N/A,(COUNTIF(INDIRECT(\"MonteCarlo!\"&CostCalculation!$N$10&3,TRUE):INDIRECT(\"MonteCarlo!\"&CostCalculation!$N$10&CostCalculation!$E$4+2,TRUE),\"<=\"&B307))/CostCalculation!$E$4)","v":0.99950000000000006},441221,{"$f":"IF((COUNTIF(INDIRECT(\"MonteCarlo!\"&CostCalculation!$N$10&3,TRUE):INDIRECT(\"MonteCarlo!\"&CostCalculation!$N$10&CostCalculation!$E$4+2,TRUE),\">\"&B307)-COUNTIF(INDIRECT(\"MonteCarlo!\"&CostCalculation!$N$10&3,TRUE):INDIRECT(\"MonteCarlo!\"&CostCalculation!$N$10&CostCalculation!$E$4+2,TRUE),\">\"&B308))/CostCalculation!$E$4=0,#N/A,(COUNTIF(INDIRECT(\"MonteCarlo!\"&CostCalculation!$N$10&3,TRUE):INDIRECT(\"MonteCarlo!\"&CostCalculation!$N$10&CostCalculation!$E$4+2,TRUE),\">\"&B307)-COUNTIF(INDIRECT(\"MonteCarlo!\"&CostCalculation!$N$10&3,TRUE):INDIRECT(\"MonteCarlo!\"&CostCalculation!$N$10&CostCalculation!$E$4+2,TRUE),\">\"&B308))/CostCalculation!$E$4)","v":{"$error":"#N/A"}}]
[0.90300000000000002,{"$f":"ROUND(INDIRECT(\"CostCalculation!D\"&CostCalculation!$O$10,TRUE)*A308,0)","v":442691},{"$f":"IF((COUNTIF(INDIRECT(\"MonteCarlo!\"&CostCalculation!$N$10&3,TRUE):INDIRECT(\"MonteCarlo!\"&CostCalculation!$N$10&CostCalculation!$E$4+2,TRUE),\"<=\"&B308))/CostCalculation!$E$4=0,#N/A,(COUNTIF(INDIRECT(\"MonteCarlo!\"&CostCalculation!$N$10&3,TRUE):INDIRECT(\"MonteCarlo!\"&CostCalculation!$N$10&CostCalculation!$E$4+2,TRUE),\"<=\"&B308))/CostCalculation!$E$4)","v":0.99950000000000006},442691,{"$f":"IF((COUNTIF(INDIRECT(\"MonteCarlo!\"&CostCalculation!$N$10&3,TRUE):INDIRECT(\"MonteCarlo!\"&CostCalculation!$N$10&CostCalculation!$E$4+2,TRUE),\">\"&B308)-COUNTIF(INDIRECT(\"MonteCarlo!\"&CostCalculation!$N$10&3,TRUE):INDIRECT(\"MonteCarlo!\"&CostCalculation!$N$10&CostCalculation!$E$4+2,TRUE),\">\"&B309))/CostCalculation!$E$4=0,#N/A,(COUNTIF(INDIRECT(\"MonteCarlo!\"&CostCalculation!$N$10&3,TRUE):INDIRECT(\"MonteCarlo!\"&CostCalculation!$N$10&CostCalculation!$E$4+2,TRUE),\">\"&B308)-COUNTIF(INDIRECT(\"MonteCarlo!\"&CostCalculation!$N$10&3,TRUE):INDIRECT(\"MonteCarlo!\"&CostCalculation!$N$10&CostCalculation!$E$4+2,TRUE),\">\"&B309))/CostCalculation!$E$4)","v":{"$error":"#N/A"}}]
[0.90600000000000003,{"$f":"ROUND(INDIRECT(\"CostCalculation!D\"&CostCalculation!$O$10,TRUE)*A309,0)","v":444162},{"$f":"IF((COUNTIF(INDIRECT(\"MonteCarlo!\"&CostCalculation!$N$10&3,TRUE):INDIRECT(\"MonteCarlo!\"&CostCalculation!$N$10&CostCalculation!$E$4+2,TRUE),\"<=\"&B309))/CostCalculation!$E$4=0,#N/A,(COUNTIF(INDIRECT(\"MonteCarlo!\"&CostCalculation!$N$10&3,TRUE):INDIRECT(\"MonteCarlo!\"&CostCalculation!$N$10&CostCalculation!$E$4+2,TRUE),\"<=\"&B309))/CostCalculation!$E$4)","v":0.99950000000000006},444162,{"$f":"IF((COUNTIF(INDIRECT(\"MonteCarlo!\"&CostCalculation!$N$10&3,TRUE):INDIRECT(\"MonteCarlo!\"&CostCalculation!$N$10&CostCalculation!$E$4+2,TRUE),\">\"&B309)-COUNTIF(INDIRECT(\"MonteCarlo!\"&CostCalculation!$N$10&3,TRUE):INDIRECT(\"MonteCarlo!\"&CostCalculation!$N$10&CostCalculation!$E$4+2,TRUE),\">\"&B310))/CostCalculation!$E$4=0,#N/A,(COUNTIF(INDIRECT(\"MonteCarlo!\"&CostCalculation!$N$10&3,TRUE):INDIRECT(\"MonteCarlo!\"&CostCalculation!$N$10&CostCalculation!$E$4+2,TRUE),\">\"&B309)-COUNTIF(INDIRECT(\"MonteCarlo!\"&CostCalculation!$N$10&3,TRUE):INDIRECT(\"MonteCarlo!\"&CostCalculation!$N$10&CostCalculation!$E$4+2,TRUE),\">\"&B310))/CostCalculation!$E$4)","v":{"$error":"#N/A"}}]
[0.90900000000000003,{"$f":"ROUND(INDIRECT(\"CostCalculation!D\"&CostCalculation!$O$10,TRUE)*A310,0)","v":445633},{"$f":"IF((COUNTIF(INDIRECT(\"MonteCarlo!\"&CostCalculation!$N$10&3,TRUE):INDIRECT(\"MonteCarlo!\"&CostCalculation!$N$10&CostCalculation!$E$4+2,TRUE),\"<=\"&B310))/CostCalculation!$E$4=0,#N/A,(COUNTIF(INDIRECT(\"MonteCarlo!\"&CostCalculation!$N$10&3,TRUE):INDIRECT(\"MonteCarlo!\"&CostCalculation!$N$10&CostCalculation!$E$4+2,TRUE),\"<=\"&B310))/CostCalculation!$E$4)","v":0.99950000000000006},445633,{"$f":"IF((COUNTIF(INDIRECT(\"MonteCarlo!\"&CostCalculation!$N$10&3,TRUE):INDIRECT(\"MonteCarlo!\"&CostCalculation!$N$10&CostCalculation!$E$4+2,TRUE),\">\"&B310)-COUNTIF(INDIRECT(\"MonteCarlo!\"&CostCalculation!$N$10&3,TRUE):INDIRECT(\"MonteCarlo!\"&CostCalculation!$N$10&CostCalculation!$E$4+2,TRUE),\">\"&B311))/CostCalculation!$E$4=0,#N/A,(COUNTIF(INDIRECT(\"MonteCarlo!\"&CostCalculation!$N$10&3,TRUE):INDIRECT(\"MonteCarlo!\"&CostCalculation!$N$10&CostCalculation!$E$4+2,TRUE),\">\"&B310)-COUNTIF(INDIRECT(\"MonteCarlo!\"&CostCalculation!$N$10&3,TRUE):INDIRECT(\"MonteCarlo!\"&CostCalculation!$N$10&CostCalculation!$E$4+2,TRUE),\">\"&B311))/CostCalculation!$E$4)","v":{"$error":"#N/A"}}]
[0.91200000000000003,{"$f":"ROUND(INDIRECT(\"CostCalculation!D\"&CostCalculation!$O$10,TRUE)*A311,0)","v":447103},{"$f":"IF((COUNTIF(INDIRECT(\"MonteCarlo!\"&CostCalculation!$N$10&3,TRUE):INDIRECT(\"MonteCarlo!\"&CostCalculation!$N$10&CostCalculation!$E$4+2,TRUE),\"<=\"&B311))/CostCalculation!$E$4=0,#N/A,(COUNTIF(INDIRECT(\"MonteCarlo!\"&CostCalculation!$N$10&3,TRUE):INDIRECT(\"MonteCarlo!\"&CostCalculation!$N$10&CostCalculation!$E$4+2,TRUE),\"<=\"&B311))/CostCalculation!$E$4)","v":0.99950000000000006},447103,{"$f":"IF((COUNTIF(INDIRECT(\"MonteCarlo!\"&CostCalculation!$N$10&3,TRUE):INDIRECT(\"MonteCarlo!\"&CostCalculation!$N$10&CostCalculation!$E$4+2,TRUE),\">\"&B311)-COUNTIF(INDIRECT(\"MonteCarlo!\"&CostCalculation!$N$10&3,TRUE):INDIRECT(\"MonteCarlo!\"&CostCalculation!$N$10&CostCalculation!$E$4+2,TRUE),\">\"&B312))/CostCalculation!$E$4=0,#N/A,(COUNTIF(INDIRECT(\"MonteCarlo!\"&CostCalculation!$N$10&3,TRUE):INDIRECT(\"MonteCarlo!\"&CostCalculation!$N$10&CostCalculation!$E$4+2,TRUE),\">\"&B311)-COUNTIF(INDIRECT(\"MonteCarlo!\"&CostCalculation!$N$10&3,TRUE):INDIRECT(\"MonteCarlo!\"&CostCalculation!$N$10&CostCalculation!$E$4+2,TRUE),\">\"&B312))/CostCalculation!$E$4)","v":{"$error":"#N/A"}}]
[0.91500000000000004,{"$f":"ROUND(INDIRECT(\"CostCalculation!D\"&CostCalculation!$O$10,TRUE)*A312,0)","v":448574},{"$f":"IF((COUNTIF(INDIRECT(\"MonteCarlo!\"&CostCalculation!$N$10&3,TRUE):INDIRECT(\"MonteCarlo!\"&CostCalculation!$N$10&CostCalculation!$E$4+2,TRUE),\"<=\"&B312))/CostCalculation!$E$4=0,#N/A,(COUNTIF(INDIRECT(\"MonteCarlo!\"&CostCalculation!$N$10&3,TRUE):INDIRECT(\"MonteCarlo!\"&CostCalculation!$N$10&CostCalculation!$E$4+2,TRUE),\"<=\"&B312))/CostCalculation!$E$4)","v":0.99950000000000006},448574,{"$f":"IF((COUNTIF(INDIRECT(\"MonteCarlo!\"&CostCalculation!$N$10&3,TRUE):INDIRECT(\"MonteCarlo!\"&CostCalculation!$N$10&CostCalculation!$E$4+2,TRUE),\">\"&B312)-COUNTIF(INDIRECT(\"MonteCarlo!\"&CostCalculation!$N$10&3,TRUE):INDIRECT(\"MonteCarlo!\"&CostCalculation!$N$10&CostCalculation!$E$4+2,TRUE),\">\"&B313))/CostCalculation!$E$4=0,#N/A,(COUNTIF(INDIRECT(\"MonteCarlo!\"&CostCalculation!$N$10&3,TRUE):INDIRECT(\"MonteCarlo!\"&CostCalculation!$N$10&CostCalculation!$E$4+2,TRUE),\">\"&B312)-COUNTIF(INDIRECT(\"MonteCarlo!\"&CostCalculation!$N$10&3,TRUE):INDIRECT(\"MonteCarlo!\"&CostCalculation!$N$10&CostCalculation!$E$4+2,TRUE),\">\"&B313))/CostCalculation!$E$4)","v":{"$error":"#N/A"}}]
[0.91800000000000004,{"$f":"ROUND(INDIRECT(\"CostCalculation!D\"&CostCalculation!$O$10,TRUE)*A313,0)","v":450045},{"$f":"IF((COUNTIF(INDIRECT(\"MonteCarlo!\"&CostCalculation!$N$10&3,TRUE):INDIRECT(\"MonteCarlo!\"&CostCalculation!$N$10&CostCalculation!$E$4+2,TRUE),\"<=\"&B313))/CostCalculation!$E$4=0,#N/A,(COUNTIF(INDIRECT(\"MonteCarlo!\"&CostCalculation!$N$10&3,TRUE):INDIRECT(\"MonteCarlo!\"&CostCalculation!$N$10&CostCalculation!$E$4+2,TRUE),\"<=\"&B313))/CostCalculation!$E$4)","v":0.99950000000000006},450045,{"$f":"IF((COUNTIF(INDIRECT(\"MonteCarlo!\"&CostCalculation!$N$10&3,TRUE):INDIRECT(\"MonteCarlo!\"&CostCalculation!$N$10&CostCalculation!$E$4+2,TRUE),\">\"&B313)-COUNTIF(INDIRECT(\"MonteCarlo!\"&CostCalculation!$N$10&3,TRUE):INDIRECT(\"MonteCarlo!\"&CostCalculation!$N$10&CostCalculation!$E$4+2,TRUE),\">\"&B314))/CostCalculation!$E$4=0,#N/A,(COUNTIF(INDIRECT(\"MonteCarlo!\"&CostCalculation!$N$10&3,TRUE):INDIRECT(\"MonteCarlo!\"&CostCalculation!$N$10&CostCalculation!$E$4+2,TRUE),\">\"&B313)-COUNTIF(INDIRECT(\"MonteCarlo!\"&CostCalculation!$N$10&3,TRUE):INDIRECT(\"MonteCarlo!\"&CostCalculation!$N$10&CostCalculation!$E$4+2,TRUE),\">\"&B314))/CostCalculation!$E$4)","v":{"$error":"#N/A"}}]
[0.92100000000000004,{"$f":"ROUND(INDIRECT(\"CostCalculation!D\"&CostCalculation!$O$10,TRUE)*A314,0)","v":451516},{"$f":"IF((COUNTIF(INDIRECT(\"MonteCarlo!\"&CostCalculation!$N$10&3,TRUE):INDIRECT(\"MonteCarlo!\"&CostCalculation!$N$10&CostCalculation!$E$4+2,TRUE),\"<=\"&B314))/CostCalculation!$E$4=0,#N/A,(COUNTIF(INDIRECT(\"MonteCarlo!\"&CostCalculation!$N$10&3,TRUE):INDIRECT(\"MonteCarlo!\"&CostCalculation!$N$10&CostCalculation!$E$4+2,TRUE),\"<=\"&B314))/CostCalculation!$E$4)","v":0.99950000000000006},451516,{"$f":"IF((COUNTIF(INDIRECT(\"MonteCarlo!\"&CostCalculation!$N$10&3,TRUE):INDIRECT(\"MonteCarlo!\"&CostCalculation!$N$10&CostCalculation!$E$4+2,TRUE),\">\"&B314)-COUNTIF(INDIRECT(\"MonteCarlo!\"&CostCalculation!$N$10&3,TRUE):INDIRECT(\"MonteCarlo!\"&CostCalculation!$N$10&CostCalculation!$E$4+2,TRUE),\">\"&B315))/CostCalculation!$E$4=0,#N/A,(COUNTIF(INDIRECT(\"MonteCarlo!\"&CostCalculation!$N$10&3,TRUE):INDIRECT(\"MonteCarlo!\"&CostCalculation!$N$10&CostCalculation!$E$4+2,TRUE),\">\"&B314)-COUNTIF(INDIRECT(\"MonteCarlo!\"&CostCalculation!$N$10&3,TRUE):INDIRECT(\"MonteCarlo!\"&CostCalculation!$N$10&CostCalculation!$E$4+2,TRUE),\">\"&B315))/CostCalculation!$E$4)","v":{"$error":"#N/A"}}]
[0.92400000000000004,{"$f":"ROUND(INDIRECT(\"CostCalculation!D\"&CostCalculation!$O$10,TRUE)*A315,0)","v":452986},{"$f":"IF((COUNTIF(INDIRECT(\"MonteCarlo!\"&CostCalculation!$N$10&3,TRUE):INDIRECT(\"MonteCarlo!\"&CostCalculation!$N$10&CostCalculation!$E$4+2,TRUE),\"<=\"&B315))/CostCalculation!$E$4=0,#N/A,(COUNTIF(INDIRECT(\"MonteCarlo!\"&CostCalculation!$N$10&3,TRUE):INDIRECT(\"MonteCarlo!\"&CostCalculation!$N$10&CostCalculation!$E$4+2,TRUE),\"<=\"&B315))/CostCalculation!$E$4)","v":0.99950000000000006},452986,{"$f":"IF((COUNTIF(INDIRECT(\"MonteCarlo!\"&CostCalculation!$N$10&3,TRUE):INDIRECT(\"MonteCarlo!\"&CostCalculation!$N$10&CostCalculation!$E$4+2,TRUE),\">\"&B315)-COUNTIF(INDIRECT(\"MonteCarlo!\"&CostCalculation!$N$10&3,TRUE):INDIRECT(\"MonteCarlo!\"&CostCalculation!$N$10&CostCalculation!$E$4+2,TRUE),\">\"&B316))/CostCalculation!$E$4=0,#N/A,(COUNTIF(INDIRECT(\"MonteCarlo!\"&CostCalculation!$N$10&3,TRUE):INDIRECT(\"MonteCarlo!\"&CostCalculation!$N$10&CostCalculation!$E$4+2,TRUE),\">\"&B315)-COUNTIF(INDIRECT(\"MonteCarlo!\"&CostCalculation!$N$10&3,TRUE):INDIRECT(\"MonteCarlo!\"&CostCalculation!$N$10&CostCalculation!$E$4+2,TRUE),\">\"&B316))/CostCalculation!$E$4)","v":{"$error":"#N/A"}}]
[0.92700000000000005,{"$f":"ROUND(INDIRECT(\"CostCalculation!D\"&CostCalculation!$O$10,TRUE)*A316,0)","v":454457},{"$f":"IF((COUNTIF(INDIRECT(\"MonteCarlo!\"&CostCalculation!$N$10&3,TRUE):INDIRECT(\"MonteCarlo!\"&CostCalculation!$N$10&CostCalculation!$E$4+2,TRUE),\"<=\"&B316))/CostCalculation!$E$4=0,#N/A,(COUNTIF(INDIRECT(\"MonteCarlo!\"&CostCalculation!$N$10&3,TRUE):INDIRECT(\"MonteCarlo!\"&CostCalculation!$N$10&CostCalculation!$E$4+2,TRUE),\"<=\"&B316))/CostCalculation!$E$4)","v":0.99950000000000006},454457,{"$f":"IF((COUNTIF(INDIRECT(\"MonteCarlo!\"&CostCalculation!$N$10&3,TRUE):INDIRECT(\"MonteCarlo!\"&CostCalculation!$N$10&CostCalculation!$E$4+2,TRUE),\">\"&B316)-COUNTIF(INDIRECT(\"MonteCarlo!\"&CostCalculation!$N$10&3,TRUE):INDIRECT(\"MonteCarlo!\"&CostCalculation!$N$10&CostCalculation!$E$4+2,TRUE),\">\"&B317))/CostCalculation!$E$4=0,#N/A,(COUNTIF(INDIRECT(\"MonteCarlo!\"&CostCalculation!$N$10&3,TRUE):INDIRECT(\"MonteCarlo!\"&CostCalculation!$N$10&CostCalculation!$E$4+2,TRUE),\">\"&B316)-COUNTIF(INDIRECT(\"MonteCarlo!\"&CostCalculation!$N$10&3,TRUE):INDIRECT(\"MonteCarlo!\"&CostCalculation!$N$10&CostCalculation!$E$4+2,TRUE),\">\"&B317))/CostCalculation!$E$4)","v":{"$error":"#N/A"}}]
[0.93,{"$f":"ROUND(INDIRECT(\"CostCalculation!D\"&CostCalculation!$O$10,TRUE)*A317,0)","v":455928},{"$f":"IF((COUNTIF(INDIRECT(\"MonteCarlo!\"&CostCalculation!$N$10&3,TRUE):INDIRECT(\"MonteCarlo!\"&CostCalculation!$N$10&CostCalculation!$E$4+2,TRUE),\"<=\"&B317))/CostCalculation!$E$4=0,#N/A,(COUNTIF(INDIRECT(\"MonteCarlo!\"&CostCalculation!$N$10&3,TRUE):INDIRECT(\"MonteCarlo!\"&CostCalculation!$N$10&CostCalculation!$E$4+2,TRUE),\"<=\"&B317))/CostCalculation!$E$4)","v":0.99950000000000006},455928,{"$f":"IF((COUNTIF(INDIRECT(\"MonteCarlo!\"&CostCalculation!$N$10&3,TRUE):INDIRECT(\"MonteCarlo!\"&CostCalculation!$N$10&CostCalculation!$E$4+2,TRUE),\">\"&B317)-COUNTIF(INDIRECT(\"MonteCarlo!\"&CostCalculation!$N$10&3,TRUE):INDIRECT(\"MonteCarlo!\"&CostCalculation!$N$10&CostCalculation!$E$4+2,TRUE),\">\"&B318))/CostCalculation!$E$4=0,#N/A,(COUNTIF(INDIRECT(\"MonteCarlo!\"&CostCalculation!$N$10&3,TRUE):INDIRECT(\"MonteCarlo!\"&CostCalculation!$N$10&CostCalculation!$E$4+2,TRUE),\">\"&B317)-COUNTIF(INDIRECT(\"MonteCarlo!\"&CostCalculation!$N$10&3,TRUE):INDIRECT(\"MonteCarlo!\"&CostCalculation!$N$10&CostCalculation!$E$4+2,TRUE),\">\"&B318))/CostCalculation!$E$4)","v":{"$error":"#N/A"}}]
[0.93300000000000005,{"$f":"ROUND(INDIRECT(\"CostCalculation!D\"&CostCalculation!$O$10,TRUE)*A318,0)","v":457399},{"$f":"IF((COUNTIF(INDIRECT(\"MonteCarlo!\"&CostCalculation!$N$10&3,TRUE):INDIRECT(\"MonteCarlo!\"&CostCalculation!$N$10&CostCalculation!$E$4+2,TRUE),\"<=\"&B318))/CostCalculation!$E$4=0,#N/A,(COUNTIF(INDIRECT(\"MonteCarlo!\"&CostCalculation!$N$10&3,TRUE):INDIRECT(\"MonteCarlo!\"&CostCalculation!$N$10&CostCalculation!$E$4+2,TRUE),\"<=\"&B318))/CostCalculation!$E$4)","v":0.99950000000000006},457399,{"$f":"IF((COUNTIF(INDIRECT(\"MonteCarlo!\"&CostCalculation!$N$10&3,TRUE):INDIRECT(\"MonteCarlo!\"&CostCalculation!$N$10&CostCalculation!$E$4+2,TRUE),\">\"&B318)-COUNTIF(INDIRECT(\"MonteCarlo!\"&CostCalculation!$N$10&3,TRUE):INDIRECT(\"MonteCarlo!\"&CostCalculation!$N$10&CostCalculation!$E$4+2,TRUE),\">\"&B319))/CostCalculation!$E$4=0,#N/A,(COUNTIF(INDIRECT(\"MonteCarlo!\"&CostCalculation!$N$10&3,TRUE):INDIRECT(\"MonteCarlo!\"&CostCalculation!$N$10&CostCalculation!$E$4+2,TRUE),\">\"&B318)-COUNTIF(INDIRECT(\"MonteCarlo!\"&CostCalculation!$N$10&3,TRUE):INDIRECT(\"MonteCarlo!\"&CostCalculation!$N$10&CostCalculation!$E$4+2,TRUE),\">\"&B319))/CostCalculation!$E$4)","v":{"$error":"#N/A"}}]
[0.93600000000000005,{"$f":"ROUND(INDIRECT(\"CostCalculation!D\"&CostCalculation!$O$10,TRUE)*A319,0)","v":458869},{"$f":"IF((COUNTIF(INDIRECT(\"MonteCarlo!\"&CostCalculation!$N$10&3,TRUE):INDIRECT(\"MonteCarlo!\"&CostCalculation!$N$10&CostCalculation!$E$4+2,TRUE),\"<=\"&B319))/CostCalculation!$E$4=0,#N/A,(COUNTIF(INDIRECT(\"MonteCarlo!\"&CostCalculation!$N$10&3,TRUE):INDIRECT(\"MonteCarlo!\"&CostCalculation!$N$10&CostCalculation!$E$4+2,TRUE),\"<=\"&B319))/CostCalculation!$E$4)","v":0.99950000000000006},458869,{"$f":"IF((COUNTIF(INDIRECT(\"MonteCarlo!\"&CostCalculation!$N$10&3,TRUE):INDIRECT(\"MonteCarlo!\"&CostCalculation!$N$10&CostCalculation!$E$4+2,TRUE),\">\"&B319)-COUNTIF(INDIRECT(\"MonteCarlo!\"&CostCalculation!$N$10&3,TRUE):INDIRECT(\"MonteCarlo!\"&CostCalculation!$N$10&CostCalculation!$E$4+2,TRUE),\">\"&B320))/CostCalculation!$E$4=0,#N/A,(COUNTIF(INDIRECT(\"MonteCarlo!\"&CostCalculation!$N$10&3,TRUE):INDIRECT(\"MonteCarlo!\"&CostCalculation!$N$10&CostCalculation!$E$4+2,TRUE),\">\"&B319)-COUNTIF(INDIRECT(\"MonteCarlo!\"&CostCalculation!$N$10&3,TRUE):INDIRECT(\"MonteCarlo!\"&CostCalculation!$N$10&CostCalculation!$E$4+2,TRUE),\">\"&B320))/CostCalculation!$E$4)","v":{"$error":"#N/A"}}]
[0.93899999999999995,{"$f":"ROUND(INDIRECT(\"CostCalculation!D\"&CostCalculation!$O$10,TRUE)*A320,0)","v":460340},{"$f":"IF((COUNTIF(INDIRECT(\"MonteCarlo!\"&CostCalculation!$N$10&3,TRUE):INDIRECT(\"MonteCarlo!\"&CostCalculation!$N$10&CostCalculation!$E$4+2,TRUE),\"<=\"&B320))/CostCalculation!$E$4=0,#N/A,(COUNTIF(INDIRECT(\"MonteCarlo!\"&CostCalculation!$N$10&3,TRUE):INDIRECT(\"MonteCarlo!\"&CostCalculation!$N$10&CostCalculation!$E$4+2,TRUE),\"<=\"&B320))/CostCalculation!$E$4)","v":0.99950000000000006},460340,{"$f":"IF((COUNTIF(INDIRECT(\"MonteCarlo!\"&CostCalculation!$N$10&3,TRUE):INDIRECT(\"MonteCarlo!\"&CostCalculation!$N$10&CostCalculation!$E$4+2,TRUE),\">\"&B320)-COUNTIF(INDIRECT(\"MonteCarlo!\"&CostCalculation!$N$10&3,TRUE):INDIRECT(\"MonteCarlo!\"&CostCalculation!$N$10&CostCalculation!$E$4+2,TRUE),\">\"&B321))/CostCalculation!$E$4=0,#N/A,(COUNTIF(INDIRECT(\"MonteCarlo!\"&CostCalculation!$N$10&3,TRUE):INDIRECT(\"MonteCarlo!\"&CostCalculation!$N$10&CostCalculation!$E$4+2,TRUE),\">\"&B320)-COUNTIF(INDIRECT(\"MonteCarlo!\"&CostCalculation!$N$10&3,TRUE):INDIRECT(\"MonteCarlo!\"&CostCalculation!$N$10&CostCalculation!$E$4+2,TRUE),\">\"&B321))/CostCalculation!$E$4)","v":{"$error":"#N/A"}}]
[0.94199999999999995,{"$f":"ROUND(INDIRECT(\"CostCalculation!D\"&CostCalculation!$O$10,TRUE)*A321,0)","v":461811},{"$f":"IF((COUNTIF(INDIRECT(\"MonteCarlo!\"&CostCalculation!$N$10&3,TRUE):INDIRECT(\"MonteCarlo!\"&CostCalculation!$N$10&CostCalculation!$E$4+2,TRUE),\"<=\"&B321))/CostCalculation!$E$4=0,#N/A,(COUNTIF(INDIRECT(\"MonteCarlo!\"&CostCalculation!$N$10&3,TRUE):INDIRECT(\"MonteCarlo!\"&CostCalculation!$N$10&CostCalculation!$E$4+2,TRUE),\"<=\"&B321))/CostCalculation!$E$4)","v":0.99950000000000006},461811,{"$f":"IF((COUNTIF(INDIRECT(\"MonteCarlo!\"&CostCalculation!$N$10&3,TRUE):INDIRECT(\"MonteCarlo!\"&CostCalculation!$N$10&CostCalculation!$E$4+2,TRUE),\">\"&B321)-COUNTIF(INDIRECT(\"MonteCarlo!\"&CostCalculation!$N$10&3,TRUE):INDIRECT(\"MonteCarlo!\"&CostCalculation!$N$10&CostCalculation!$E$4+2,TRUE),\">\"&B322))/CostCalculation!$E$4=0,#N/A,(COUNTIF(INDIRECT(\"MonteCarlo!\"&CostCalculation!$N$10&3,TRUE):INDIRECT(\"MonteCarlo!\"&CostCalculation!$N$10&CostCalculation!$E$4+2,TRUE),\">\"&B321)-COUNTIF(INDIRECT(\"MonteCarlo!\"&CostCalculation!$N$10&3,TRUE):INDIRECT(\"MonteCarlo!\"&CostCalculation!$N$10&CostCalculation!$E$4+2,TRUE),\">\"&B322))/CostCalculation!$E$4)","v":{"$error":"#N/A"}}]
[0.94499999999999995,{"$f":"ROUND(INDIRECT(\"CostCalculation!D\"&CostCalculation!$O$10,TRUE)*A322,0)","v":463282},{"$f":"IF((COUNTIF(INDIRECT(\"MonteCarlo!\"&CostCalculation!$N$10&3,TRUE):INDIRECT(\"MonteCarlo!\"&CostCalculation!$N$10&CostCalculation!$E$4+2,TRUE),\"<=\"&B322))/CostCalculation!$E$4=0,#N/A,(COUNTIF(INDIRECT(\"MonteCarlo!\"&CostCalculation!$N$10&3,TRUE):INDIRECT(\"MonteCarlo!\"&CostCalculation!$N$10&CostCalculation!$E$4+2,TRUE),\"<=\"&B322))/CostCalculation!$E$4)","v":0.99950000000000006},463282,{"$f":"IF((COUNTIF(INDIRECT(\"MonteCarlo!\"&CostCalculation!$N$10&3,TRUE):INDIRECT(\"MonteCarlo!\"&CostCalculation!$N$10&CostCalculation!$E$4+2,TRUE),\">\"&B322)-COUNTIF(INDIRECT(\"MonteCarlo!\"&CostCalculation!$N$10&3,TRUE):INDIRECT(\"MonteCarlo!\"&CostCalculation!$N$10&CostCalculation!$E$4+2,TRUE),\">\"&B323))/CostCalculation!$E$4=0,#N/A,(COUNTIF(INDIRECT(\"MonteCarlo!\"&CostCalculation!$N$10&3,TRUE):INDIRECT(\"MonteCarlo!\"&CostCalculation!$N$10&CostCalculation!$E$4+2,TRUE),\">\"&B322)-COUNTIF(INDIRECT(\"MonteCarlo!\"&CostCalculation!$N$10&3,TRUE):INDIRECT(\"MonteCarlo!\"&CostCalculation!$N$10&CostCalculation!$E$4+2,TRUE),\">\"&B323))/CostCalculation!$E$4)","v":{"$error":"#N/A"}}]
[0.94799999999999995,{"$f":"ROUND(INDIRECT(\"CostCalculation!D\"&CostCalculation!$O$10,TRUE)*A323,0)","v":464752},{"$f":"IF((COUNTIF(INDIRECT(\"MonteCarlo!\"&CostCalculation!$N$10&3,TRUE):INDIRECT(\"MonteCarlo!\"&CostCalculation!$N$10&CostCalculation!$E$4+2,TRUE),\"<=\"&B323))/CostCalculation!$E$4=0,#N/A,(COUNTIF(INDIRECT(\"MonteCarlo!\"&CostCalculation!$N$10&3,TRUE):INDIRECT(\"MonteCarlo!\"&CostCalculation!$N$10&CostCalculation!$E$4+2,TRUE),\"<=\"&B323))/CostCalculation!$E$4)","v":0.99950000000000006},464752,{"$f":"IF((COUNTIF(INDIRECT(\"MonteCarlo!\"&CostCalculation!$N$10&3,TRUE):INDIRECT(\"MonteCarlo!\"&CostCalculation!$N$10&CostCalculation!$E$4+2,TRUE),\">\"&B323)-COUNTIF(INDIRECT(\"MonteCarlo!\"&CostCalculation!$N$10&3,TRUE):INDIRECT(\"MonteCarlo!\"&CostCalculation!$N$10&CostCalculation!$E$4+2,TRUE),\">\"&B324))/CostCalculation!$E$4=0,#N/A,(COUNTIF(INDIRECT(\"MonteCarlo!\"&CostCalculation!$N$10&3,TRUE):INDIRECT(\"MonteCarlo!\"&CostCalculation!$N$10&CostCalculation!$E$4+2,TRUE),\">\"&B323)-COUNTIF(INDIRECT(\"MonteCarlo!\"&CostCalculation!$N$10&3,TRUE):INDIRECT(\"MonteCarlo!\"&CostCalculation!$N$10&CostCalculation!$E$4+2,TRUE),\">\"&B324))/CostCalculation!$E$4)","v":{"$error":"#N/A"}}]
[0.95099999999999996,{"$f":"ROUND(INDIRECT(\"CostCalculation!D\"&CostCalculation!$O$10,TRUE)*A324,0)","v":466223},{"$f":"IF((COUNTIF(INDIRECT(\"MonteCarlo!\"&CostCalculation!$N$10&3,TRUE):INDIRECT(\"MonteCarlo!\"&CostCalculation!$N$10&CostCalculation!$E$4+2,TRUE),\"<=\"&B324))/CostCalculation!$E$4=0,#N/A,(COUNTIF(INDIRECT(\"MonteCarlo!\"&CostCalculation!$N$10&3,TRUE):INDIRECT(\"MonteCarlo!\"&CostCalculation!$N$10&CostCalculation!$E$4+2,TRUE),\"<=\"&B324))/CostCalculation!$E$4)","v":0.99950000000000006},466223,{"$f":"IF((COUNTIF(INDIRECT(\"MonteCarlo!\"&CostCalculation!$N$10&3,TRUE):INDIRECT(\"MonteCarlo!\"&CostCalculation!$N$10&CostCalculation!$E$4+2,TRUE),\">\"&B324)-COUNTIF(INDIRECT(\"MonteCarlo!\"&CostCalculation!$N$10&3,TRUE):INDIRECT(\"MonteCarlo!\"&CostCalculation!$N$10&CostCalculation!$E$4+2,TRUE),\">\"&B325))/CostCalculation!$E$4=0,#N/A,(COUNTIF(INDIRECT(\"MonteCarlo!\"&CostCalculation!$N$10&3,TRUE):INDIRECT(\"MonteCarlo!\"&CostCalculation!$N$10&CostCalculation!$E$4+2,TRUE),\">\"&B324)-COUNTIF(INDIRECT(\"MonteCarlo!\"&CostCalculation!$N$10&3,TRUE):INDIRECT(\"MonteCarlo!\"&CostCalculation!$N$10&CostCalculation!$E$4+2,TRUE),\">\"&B325))/CostCalculation!$E$4)","v":{"$error":"#N/A"}}]
[0.95399999999999996,{"$f":"ROUND(INDIRECT(\"CostCalculation!D\"&CostCalculation!$O$10,TRUE)*A325,0)","v":467694},{"$f":"IF((COUNTIF(INDIRECT(\"MonteCarlo!\"&CostCalculation!$N$10&3,TRUE):INDIRECT(\"MonteCarlo!\"&CostCalculation!$N$10&CostCalculation!$E$4+2,TRUE),\"<=\"&B325))/CostCalculation!$E$4=0,#N/A,(COUNTIF(INDIRECT(\"MonteCarlo!\"&CostCalculation!$N$10&3,TRUE):INDIRECT(\"MonteCarlo!\"&CostCalculation!$N$10&CostCalculation!$E$4+2,TRUE),\"<=\"&B325))/CostCalculation!$E$4)","v":0.99950000000000006},467694,{"$f":"IF((COUNTIF(INDIRECT(\"MonteCarlo!\"&CostCalculation!$N$10&3,TRUE):INDIRECT(\"MonteCarlo!\"&CostCalculation!$N$10&CostCalculation!$E$4+2,TRUE),\">\"&B325)-COUNTIF(INDIRECT(\"MonteCarlo!\"&CostCalculation!$N$10&3,TRUE):INDIRECT(\"MonteCarlo!\"&CostCalculation!$N$10&CostCalculation!$E$4+2,TRUE),\">\"&B326))/CostCalculation!$E$4=0,#N/A,(COUNTIF(INDIRECT(\"MonteCarlo!\"&CostCalculation!$N$10&3,TRUE):INDIRECT(\"MonteCarlo!\"&CostCalculation!$N$10&CostCalculation!$E$4+2,TRUE),\">\"&B325)-COUNTIF(INDIRECT(\"MonteCarlo!\"&CostCalculation!$N$10&3,TRUE):INDIRECT(\"MonteCarlo!\"&CostCalculation!$N$10&CostCalculation!$E$4+2,TRUE),\">\"&B326))/CostCalculation!$E$4)","v":{"$error":"#N/A"}}]
[0.95699999999999996,{"$f":"ROUND(INDIRECT(\"CostCalculation!D\"&CostCalculation!$O$10,TRUE)*A326,0)","v":469164},{"$f":"IF((COUNTIF(INDIRECT(\"MonteCarlo!\"&CostCalculation!$N$10&3,TRUE):INDIRECT(\"MonteCarlo!\"&CostCalculation!$N$10&CostCalculation!$E$4+2,TRUE),\"<=\"&B326))/CostCalculation!$E$4=0,#N/A,(COUNTIF(INDIRECT(\"MonteCarlo!\"&CostCalculation!$N$10&3,TRUE):INDIRECT(\"MonteCarlo!\"&CostCalculation!$N$10&CostCalculation!$E$4+2,TRUE),\"<=\"&B326))/CostCalculation!$E$4)","v":0.99950000000000006},469164,{"$f":"IF((COUNTIF(INDIRECT(\"MonteCarlo!\"&CostCalculation!$N$10&3,TRUE):INDIRECT(\"MonteCarlo!\"&CostCalculation!$N$10&CostCalculation!$E$4+2,TRUE),\">\"&B326)-COUNTIF(INDIRECT(\"MonteCarlo!\"&CostCalculation!$N$10&3,TRUE):INDIRECT(\"MonteCarlo!\"&CostCalculation!$N$10&CostCalculation!$E$4+2,TRUE),\">\"&B327))/CostCalculation!$E$4=0,#N/A,(COUNTIF(INDIRECT(\"MonteCarlo!\"&CostCalculation!$N$10&3,TRUE):INDIRECT(\"MonteCarlo!\"&CostCalculation!$N$10&CostCalculation!$E$4+2,TRUE),\">\"&B326)-COUNTIF(INDIRECT(\"MonteCarlo!\"&CostCalculation!$N$10&3,TRUE):INDIRECT(\"MonteCarlo!\"&CostCalculation!$N$10&CostCalculation!$E$4+2,TRUE),\">\"&B327))/CostCalculation!$E$4)","v":{"$error":"#N/A"}}]
[0.96,{"$f":"ROUND(INDIRECT(\"CostCalculation!D\"&CostCalculation!$O$10,TRUE)*A327,0)","v":470635},{"$f":"IF((COUNTIF(INDIRECT(\"MonteCarlo!\"&CostCalculation!$N$10&3,TRUE):INDIRECT(\"MonteCarlo!\"&CostCalculation!$N$10&CostCalculation!$E$4+2,TRUE),\"<=\"&B327))/CostCalculation!$E$4=0,#N/A,(COUNTIF(INDIRECT(\"MonteCarlo!\"&CostCalculation!$N$10&3,TRUE):INDIRECT(\"MonteCarlo!\"&CostCalculation!$N$10&CostCalculation!$E$4+2,TRUE),\"<=\"&B327))/CostCalculation!$E$4)","v":0.99950000000000006},470635,{"$f":"IF((COUNTIF(INDIRECT(\"MonteCarlo!\"&CostCalculation!$N$10&3,TRUE):INDIRECT(\"MonteCarlo!\"&CostCalculation!$N$10&CostCalculation!$E$4+2,TRUE),\">\"&B327)-COUNTIF(INDIRECT(\"MonteCarlo!\"&CostCalculation!$N$10&3,TRUE):INDIRECT(\"MonteCarlo!\"&CostCalculation!$N$10&CostCalculation!$E$4+2,TRUE),\">\"&B328))/CostCalculation!$E$4=0,#N/A,(COUNTIF(INDIRECT(\"MonteCarlo!\"&CostCalculation!$N$10&3,TRUE):INDIRECT(\"MonteCarlo!\"&CostCalculation!$N$10&CostCalculation!$E$4+2,TRUE),\">\"&B327)-COUNTIF(INDIRECT(\"MonteCarlo!\"&CostCalculation!$N$10&3,TRUE):INDIRECT(\"MonteCarlo!\"&CostCalculation!$N$10&CostCalculation!$E$4+2,TRUE),\">\"&B328))/CostCalculation!$E$4)","v":{"$error":"#N/A"}}]
[0.96299999999999997,{"$f":"ROUND(INDIRECT(\"CostCalculation!D\"&CostCalculation!$O$10,TRUE)*A328,0)","v":472106},{"$f":"IF((COUNTIF(INDIRECT(\"MonteCarlo!\"&CostCalculation!$N$10&3,TRUE):INDIRECT(\"MonteCarlo!\"&CostCalculation!$N$10&CostCalculation!$E$4+2,TRUE),\"<=\"&B328))/CostCalculation!$E$4=0,#N/A,(COUNTIF(INDIRECT(\"MonteCarlo!\"&CostCalculation!$N$10&3,TRUE):INDIRECT(\"MonteCarlo!\"&CostCalculation!$N$10&CostCalculation!$E$4+2,TRUE),\"<=\"&B328))/CostCalculation!$E$4)","v":0.99950000000000006},{"$f":"B328","v":472106},{"$f":"IF((COUNTIF(INDIRECT(\"MonteCarlo!\"&CostCalculation!$N$10&3,TRUE):INDIRECT(\"MonteCarlo!\"&CostCalculation!$N$10&CostCalculation!$E$4+2,TRUE),\">\"&B328)-COUNTIF(INDIRECT(\"MonteCarlo!\"&CostCalculation!$N$10&3,TRUE):INDIRECT(\"MonteCarlo!\"&CostCalculation!$N$10&CostCalculation!$E$4+2,TRUE),\">\"&B329))/CostCalculation!$E$4=0,#N/A,(COUNTIF(INDIRECT(\"MonteCarlo!\"&CostCalculation!$N$10&3,TRUE):INDIRECT(\"MonteCarlo!\"&CostCalculation!$N$10&CostCalculation!$E$4+2,TRUE),\">\"&B328)-COUNTIF(INDIRECT(\"MonteCarlo!\"&CostCalculation!$N$10&3,TRUE):INDIRECT(\"MonteCarlo!\"&CostCalculation!$N$10&CostCalculation!$E$4+2,TRUE),\">\"&B329))/CostCalculation!$E$4)","v":{"$error":"#N/A"}}]
[0.96599999999999997,{"$f":"ROUND(INDIRECT(\"CostCalculation!D\"&CostCalculation!$O$10,TRUE)*A329,0)","v":473577},{"$f":"IF((COUNTIF(INDIRECT(\"MonteCarlo!\"&CostCalculation!$N$10&3,TRUE):INDIRECT(\"MonteCarlo!\"&CostCalculation!$N$10&CostCalculation!$E$4+2,TRUE),\"<=\"&B329))/CostCalculation!$E$4=0,#N/A,(COUNTIF(INDIRECT(\"MonteCarlo!\"&CostCalculation!$N$10&3,TRUE):INDIRECT(\"MonteCarlo!\"&CostCalculation!$N$10&CostCalculation!$E$4+2,TRUE),\"<=\"&B329))/CostCalculation!$E$4)","v":0.99950000000000006},473577,{"$f":"IF((COUNTIF(INDIRECT(\"MonteCarlo!\"&CostCalculation!$N$10&3,TRUE):INDIRECT(\"MonteCarlo!\"&CostCalculation!$N$10&CostCalculation!$E$4+2,TRUE),\">\"&B329)-COUNTIF(INDIRECT(\"MonteCarlo!\"&CostCalculation!$N$10&3,TRUE):INDIRECT(\"MonteCarlo!\"&CostCalculation!$N$10&CostCalculation!$E$4+2,TRUE),\">\"&B330))/CostCalculation!$E$4=0,#N/A,(COUNTIF(INDIRECT(\"MonteCarlo!\"&CostCalculation!$N$10&3,TRUE):INDIRECT(\"MonteCarlo!\"&CostCalculation!$N$10&CostCalculation!$E$4+2,TRUE),\">\"&B329)-COUNTIF(INDIRECT(\"MonteCarlo!\"&CostCalculation!$N$10&3,TRUE):INDIRECT(\"MonteCarlo!\"&CostCalculation!$N$10&CostCalculation!$E$4+2,TRUE),\">\"&B330))/CostCalculation!$E$4)","v":{"$error":"#N/A"}}]
[0.96899999999999997,{"$f":"ROUND(INDIRECT(\"CostCalculation!D\"&CostCalculation!$O$10,TRUE)*A330,0)","v":475047},{"$f":"IF((COUNTIF(INDIRECT(\"MonteCarlo!\"&CostCalculation!$N$10&3,TRUE):INDIRECT(\"MonteCarlo!\"&CostCalculation!$N$10&CostCalculation!$E$4+2,TRUE),\"<=\"&B330))/CostCalculation!$E$4=0,#N/A,(COUNTIF(INDIRECT(\"MonteCarlo!\"&CostCalculation!$N$10&3,TRUE):INDIRECT(\"MonteCarlo!\"&CostCalculation!$N$10&CostCalculation!$E$4+2,TRUE),\"<=\"&B330))/CostCalculation!$E$4)","v":0.99950000000000006},475047,{"$f":"IF((COUNTIF(INDIRECT(\"MonteCarlo!\"&CostCalculation!$N$10&3,TRUE):INDIRECT(\"MonteCarlo!\"&CostCalculation!$N$10&CostCalculation!$E$4+2,TRUE),\">\"&B330)-COUNTIF(INDIRECT(\"MonteCarlo!\"&CostCalculation!$N$10&3,TRUE):INDIRECT(\"MonteCarlo!\"&CostCalculation!$N$10&CostCalculation!$E$4+2,TRUE),\">\"&B331))/CostCalculation!$E$4=0,#N/A,(COUNTIF(INDIRECT(\"MonteCarlo!\"&CostCalculation!$N$10&3,TRUE):INDIRECT(\"MonteCarlo!\"&CostCalculation!$N$10&CostCalculation!$E$4+2,TRUE),\">\"&B330)-COUNTIF(INDIRECT(\"MonteCarlo!\"&CostCalculation!$N$10&3,TRUE):INDIRECT(\"MonteCarlo!\"&CostCalculation!$N$10&CostCalculation!$E$4+2,TRUE),\">\"&B331))/CostCalculation!$E$4)","v":{"$error":"#N/A"}}]
[0.97199999999999998,{"$f":"ROUND(INDIRECT(\"CostCalculation!D\"&CostCalculation!$O$10,TRUE)*A331,0)","v":476518},{"$f":"IF((COUNTIF(INDIRECT(\"MonteCarlo!\"&CostCalculation!$N$10&3,TRUE):INDIRECT(\"MonteCarlo!\"&CostCalculation!$N$10&CostCalculation!$E$4+2,TRUE),\"<=\"&B331))/CostCalculation!$E$4=0,#N/A,(COUNTIF(INDIRECT(\"MonteCarlo!\"&CostCalculation!$N$10&3,TRUE):INDIRECT(\"MonteCarlo!\"&CostCalculation!$N$10&CostCalculation!$E$4+2,TRUE),\"<=\"&B331))/CostCalculation!$E$4)","v":0.99950000000000006},476518,{"$f":"IF((COUNTIF(INDIRECT(\"MonteCarlo!\"&CostCalculation!$N$10&3,TRUE):INDIRECT(\"MonteCarlo!\"&CostCalculation!$N$10&CostCalculation!$E$4+2,TRUE),\">\"&B331)-COUNTIF(INDIRECT(\"MonteCarlo!\"&CostCalculation!$N$10&3,TRUE):INDIRECT(\"MonteCarlo!\"&CostCalculation!$N$10&CostCalculation!$E$4+2,TRUE),\">\"&B332))/CostCalculation!$E$4=0,#N/A,(COUNTIF(INDIRECT(\"MonteCarlo!\"&CostCalculation!$N$10&3,TRUE):INDIRECT(\"MonteCarlo!\"&CostCalculation!$N$10&CostCalculation!$E$4+2,TRUE),\">\"&B331)-COUNTIF(INDIRECT(\"MonteCarlo!\"&CostCalculation!$N$10&3,TRUE):INDIRECT(\"MonteCarlo!\"&CostCalculation!$N$10&CostCalculation!$E$4+2,TRUE),\">\"&B332))/CostCalculation!$E$4)","v":{"$error":"#N/A"}}]
[0.97499999999999998,{"$f":"ROUND(INDIRECT(\"CostCalculation!D\"&CostCalculation!$O$10,TRUE)*A332,0)","v":477989},{"$f":"IF((COUNTIF(INDIRECT(\"MonteCarlo!\"&CostCalculation!$N$10&3,TRUE):INDIRECT(\"MonteCarlo!\"&CostCalculation!$N$10&CostCalculation!$E$4+2,TRUE),\"<=\"&B332))/CostCalculation!$E$4=0,#N/A,(COUNTIF(INDIRECT(\"MonteCarlo!\"&CostCalculation!$N$10&3,TRUE):INDIRECT(\"MonteCarlo!\"&CostCalculation!$N$10&CostCalculation!$E$4+2,TRUE),\"<=\"&B332))/CostCalculation!$E$4)","v":0.99950000000000006},477989,{"$f":"IF((COUNTIF(INDIRECT(\"MonteCarlo!\"&CostCalculation!$N$10&3,TRUE):INDIRECT(\"MonteCarlo!\"&CostCalculation!$N$10&CostCalculation!$E$4+2,TRUE),\">\"&B332)-COUNTIF(INDIRECT(\"MonteCarlo!\"&CostCalculation!$N$10&3,TRUE):INDIRECT(\"MonteCarlo!\"&CostCalculation!$N$10&CostCalculation!$E$4+2,TRUE),\">\"&B333))/CostCalculation!$E$4=0,#N/A,(COUNTIF(INDIRECT(\"MonteCarlo!\"&CostCalculation!$N$10&3,TRUE):INDIRECT(\"MonteCarlo!\"&CostCalculation!$N$10&CostCalculation!$E$4+2,TRUE),\">\"&B332)-COUNTIF(INDIRECT(\"MonteCarlo!\"&CostCalculation!$N$10&3,TRUE):INDIRECT(\"MonteCarlo!\"&CostCalculation!$N$10&CostCalculation!$E$4+2,TRUE),\">\"&B333))/CostCalculation!$E$4)","v":{"$error":"#N/A"}}]
[0.97799999999999998,{"$f":"ROUND(INDIRECT(\"CostCalculation!D\"&CostCalculation!$O$10,TRUE)*A333,0)","v":479460},{"$f":"IF((COUNTIF(INDIRECT(\"MonteCarlo!\"&CostCalculation!$N$10&3,TRUE):INDIRECT(\"MonteCarlo!\"&CostCalculation!$N$10&CostCalculation!$E$4+2,TRUE),\"<=\"&B333))/CostCalculation!$E$4=0,#N/A,(COUNTIF(INDIRECT(\"MonteCarlo!\"&CostCalculation!$N$10&3,TRUE):INDIRECT(\"MonteCarlo!\"&CostCalculation!$N$10&CostCalculation!$E$4+2,TRUE),\"<=\"&B333))/CostCalculation!$E$4)","v":0.99950000000000006},479460,{"$f":"IF((COUNTIF(INDIRECT(\"MonteCarlo!\"&CostCalculation!$N$10&3,TRUE):INDIRECT(\"MonteCarlo!\"&CostCalculation!$N$10&CostCalculation!$E$4+2,TRUE),\">\"&B333)-COUNTIF(INDIRECT(\"MonteCarlo!\"&CostCalculation!$N$10&3,TRUE):INDIRECT(\"MonteCarlo!\"&CostCalculation!$N$10&CostCalculation!$E$4+2,TRUE),\">\"&B334))/CostCalculation!$E$4=0,#N/A,(COUNTIF(INDIRECT(\"MonteCarlo!\"&CostCalculation!$N$10&3,TRUE):INDIRECT(\"MonteCarlo!\"&CostCalculation!$N$10&CostCalculation!$E$4+2,TRUE),\">\"&B333)-COUNTIF(INDIRECT(\"MonteCarlo!\"&CostCalculation!$N$10&3,TRUE):INDIRECT(\"MonteCarlo!\"&CostCalculation!$N$10&CostCalculation!$E$4+2,TRUE),\">\"&B334))/CostCalculation!$E$4)","v":{"$error":"#N/A"}}]
[0.98099999999999998,{"$f":"ROUND(INDIRECT(\"CostCalculation!D\"&CostCalculation!$O$10,TRUE)*A334,0)","v":480930},{"$f":"IF((COUNTIF(INDIRECT(\"MonteCarlo!\"&CostCalculation!$N$10&3,TRUE):INDIRECT(\"MonteCarlo!\"&CostCalculation!$N$10&CostCalculation!$E$4+2,TRUE),\"<=\"&B334))/CostCalculation!$E$4=0,#N/A,(COUNTIF(INDIRECT(\"MonteCarlo!\"&CostCalculation!$N$10&3,TRUE):INDIRECT(\"MonteCarlo!\"&CostCalculation!$N$10&CostCalculation!$E$4+2,TRUE),\"<=\"&B334))/CostCalculation!$E$4)","v":0.99950000000000006},480930,{"$f":"IF((COUNTIF(INDIRECT(\"MonteCarlo!\"&CostCalculation!$N$10&3,TRUE):INDIRECT(\"MonteCarlo!\"&CostCalculation!$N$10&CostCalculation!$E$4+2,TRUE),\">\"&B334)-COUNTIF(INDIRECT(\"MonteCarlo!\"&CostCalculation!$N$10&3,TRUE):INDIRECT(\"MonteCarlo!\"&CostCalculation!$N$10&CostCalculation!$E$4+2,TRUE),\">\"&B335))/CostCalculation!$E$4=0,#N/A,(COUNTIF(INDIRECT(\"MonteCarlo!\"&CostCalculation!$N$10&3,TRUE):INDIRECT(\"MonteCarlo!\"&CostCalculation!$N$10&CostCalculation!$E$4+2,TRUE),\">\"&B334)-COUNTIF(INDIRECT(\"MonteCarlo!\"&CostCalculation!$N$10&3,TRUE):INDIRECT(\"MonteCarlo!\"&CostCalculation!$N$10&CostCalculation!$E$4+2,TRUE),\">\"&B335))/CostCalculation!$E$4)","v":{"$error":"#N/A"}}]
[0.98399999999999999,{"$f":"ROUND(INDIRECT(\"CostCalculation!D\"&CostCalculation!$O$10,TRUE)*A335,0)","v":482401},{"$f":"IF((COUNTIF(INDIRECT(\"MonteCarlo!\"&CostCalculation!$N$10&3,TRUE):INDIRECT(\"MonteCarlo!\"&CostCalculation!$N$10&CostCalculation!$E$4+2,TRUE),\"<=\"&B335))/CostCalculation!$E$4=0,#N/A,(COUNTIF(INDIRECT(\"MonteCarlo!\"&CostCalculation!$N$10&3,TRUE):INDIRECT(\"MonteCarlo!\"&CostCalculation!$N$10&CostCalculation!$E$4+2,TRUE),\"<=\"&B335))/CostCalculation!$E$4)","v":0.99950000000000006},482401,{"$f":"IF((COUNTIF(INDIRECT(\"MonteCarlo!\"&CostCalculation!$N$10&3,TRUE):INDIRECT(\"MonteCarlo!\"&CostCalculation!$N$10&CostCalculation!$E$4+2,TRUE),\">\"&B335)-COUNTIF(INDIRECT(\"MonteCarlo!\"&CostCalculation!$N$10&3,TRUE):INDIRECT(\"MonteCarlo!\"&CostCalculation!$N$10&CostCalculation!$E$4+2,TRUE),\">\"&B336))/CostCalculation!$E$4=0,#N/A,(COUNTIF(INDIRECT(\"MonteCarlo!\"&CostCalculation!$N$10&3,TRUE):INDIRECT(\"MonteCarlo!\"&CostCalculation!$N$10&CostCalculation!$E$4+2,TRUE),\">\"&B335)-COUNTIF(INDIRECT(\"MonteCarlo!\"&CostCalculation!$N$10&3,TRUE):INDIRECT(\"MonteCarlo!\"&CostCalculation!$N$10&CostCalculation!$E$4+2,TRUE),\">\"&B336))/CostCalculation!$E$4)","v":{"$error":"#N/A"}}]
[0.98699999999999999,{"$f":"ROUND(INDIRECT(\"CostCalculation!D\"&CostCalculation!$O$10,TRUE)*A336,0)","v":483872},{"$f":"IF((COUNTIF(INDIRECT(\"MonteCarlo!\"&CostCalculation!$N$10&3,TRUE):INDIRECT(\"MonteCarlo!\"&CostCalculation!$N$10&CostCalculation!$E$4+2,TRUE),\"<=\"&B336))/CostCalculation!$E$4=0,#N/A,(COUNTIF(INDIRECT(\"MonteCarlo!\"&CostCalculation!$N$10&3,TRUE):INDIRECT(\"MonteCarlo!\"&CostCalculation!$N$10&CostCalculation!$E$4+2,TRUE),\"<=\"&B336))/CostCalculation!$E$4)","v":0.99950000000000006},483872,{"$f":"IF((COUNTIF(INDIRECT(\"MonteCarlo!\"&CostCalculation!$N$10&3,TRUE):INDIRECT(\"MonteCarlo!\"&CostCalculation!$N$10&CostCalculation!$E$4+2,TRUE),\">\"&B336)-COUNTIF(INDIRECT(\"MonteCarlo!\"&CostCalculation!$N$10&3,TRUE):INDIRECT(\"MonteCarlo!\"&CostCalculation!$N$10&CostCalculation!$E$4+2,TRUE),\">\"&B337))/CostCalculation!$E$4=0,#N/A,(COUNTIF(INDIRECT(\"MonteCarlo!\"&CostCalculation!$N$10&3,TRUE):INDIRECT(\"MonteCarlo!\"&CostCalculation!$N$10&CostCalculation!$E$4+2,TRUE),\">\"&B336)-COUNTIF(INDIRECT(\"MonteCarlo!\"&CostCalculation!$N$10&3,TRUE):INDIRECT(\"MonteCarlo!\"&CostCalculation!$N$10&CostCalculation!$E$4+2,TRUE),\">\"&B337))/CostCalculation!$E$4)","v":{"$error":"#N/A"}}]
[0.99,{"$f":"ROUND(INDIRECT(\"CostCalculation!D\"&CostCalculation!$O$10,TRUE)*A337,0)","v":485343},{"$f":"IF((COUNTIF(INDIRECT(\"MonteCarlo!\"&CostCalculation!$N$10&3,TRUE):INDIRECT(\"MonteCarlo!\"&CostCalculation!$N$10&CostCalculation!$E$4+2,TRUE),\"<=\"&B337))/CostCalculation!$E$4=0,#N/A,(COUNTIF(INDIRECT(\"MonteCarlo!\"&CostCalculation!$N$10&3,TRUE):INDIRECT(\"MonteCarlo!\"&CostCalculation!$N$10&CostCalculation!$E$4+2,TRUE),\"<=\"&B337))/CostCalculation!$E$4)","v":0.99950000000000006},485343,{"$f":"IF((COUNTIF(INDIRECT(\"MonteCarlo!\"&CostCalculation!$N$10&3,TRUE):INDIRECT(\"MonteCarlo!\"&CostCalculation!$N$10&CostCalculation!$E$4+2,TRUE),\">\"&B337)-COUNTIF(INDIRECT(\"MonteCarlo!\"&CostCalculation!$N$10&3,TRUE):INDIRECT(\"MonteCarlo!\"&CostCalculation!$N$10&CostCalculation!$E$4+2,TRUE),\">\"&B338))/CostCalculation!$E$4=0,#N/A,(COUNTIF(INDIRECT(\"MonteCarlo!\"&CostCalculation!$N$10&3,TRUE):INDIRECT(\"MonteCarlo!\"&CostCalculation!$N$10&CostCalculation!$E$4+2,TRUE),\">\"&B337)-COUNTIF(INDIRECT(\"MonteCarlo!\"&CostCalculation!$N$10&3,TRUE):INDIRECT(\"MonteCarlo!\"&CostCalculation!$N$10&CostCalculation!$E$4+2,TRUE),\">\"&B338))/CostCalculation!$E$4)","v":5.0000000000000001E-4}]
[1,{"$f":"ROUND(INDIRECT(\"CostCalculation!D\"&CostCalculation!$O$10,TRUE)*A338,0)","v":490245},{"$f":"IF((COUNTIF(INDIRECT(\"MonteCarlo!\"&CostCalculation!$N$10&3,TRUE):INDIRECT(\"MonteCarlo!\"&CostCalculation!$N$10&CostCalculation!$E$4+2,TRUE),\"<=\"&B338))/CostCalculation!$E$4=0,#N/A,(COUNTIF(INDIRECT(\"MonteCarlo!\"&CostCalculation!$N$10&3,TRUE):INDIRECT(\"MonteCarlo!\"&CostCalculation!$N$10&CostCalculation!$E$4+2,TRUE),\"<=\"&B338))/CostCalculation!$E$4)","v":1},490245,{"$f":"IF((COUNTIF(INDIRECT(\"MonteCarlo!\"&CostCalculation!$N$10&3,TRUE):INDIRECT(\"MonteCarlo!\"&CostCalculation!$N$10&CostCalculation!$E$4+2,TRUE),\">\"&B338)-COUNTIF(INDIRECT(\"MonteCarlo!\"&CostCalculation!$N$10&3,TRUE):INDIRECT(\"MonteCarlo!\"&CostCalculation!$N$10&CostCalculation!$E$4+2,TRUE),\">\"&B339))/CostCalculation!$E$4=0,#N/A,(COUNTIF(INDIRECT(\"MonteCarlo!\"&CostCalculation!$N$10&3,TRUE):INDIRECT(\"MonteCarlo!\"&CostCalculation!$N$10&CostCalculation!$E$4+2,TRUE),\">\"&B338)-COUNTIF(INDIRECT(\"MonteCarlo!\"&CostCalculation!$N$10&3,TRUE):INDIRECT(\"MonteCarlo!\"&CostCalculation!$N$10&CostCalculation!$E$4+2,TRUE),\">\"&B339))/CostCalculation!$E$4)","v":{"$error":"#N/A"}}]